{"text_format":"1","workbook":"xlsx","n_sheets":4,"sheets":["Übersicht","Konditionen","Preisliste","Bestellliste"],"not_rendered":{"charts":0,"images":7,"macros":1,"external_links":0,"defined_names":8,"comments":0,"pivot_tables":0},"unopened":[],"bounds":{"document_bytes":16777216,"sheet_cells":100000,"rows_first":2000,"rows_last":500,"rows_between":2000,"halvings":0,"cell_chars":16384,"cell_head_chars":4096},"cells_cut":0,"cells_raw":0,"read":"whole","date_system":"1900"}

{"sheet":"Übersicht","index":0,"n_rows":44,"n_cols":9,"rows_kept":44,"cut":false,"hidden":false,"merged":[]}
[]
[]
[]
[null,"Lindab GmbH"]
[null,"Carl-Benz-Weg 18"]
[null,"22941 Bargteheide"]
[null,"Tel. 04532-28590"]
[null,"Fax: 04532-5666"]
[null,"email: lindab@lindab.de"]
[null,null,null,null,null,null,null,null,"gültig ab: 01.04.2023"]
[]
[null,null,"Lindab Preisliste 2023/24"]
[]
[]
[null,"Mit Hilfe dieser Datei möchten wir Ihnen, ergänzend zur Preisliste 2023/24 in gedruckter Form oder als PDF, die Möglichkeit bieten, Ihre Einkaufskonditionen bei der "]
[null,"Preisfindung mit zu berücksichtigen und so schneller Ihren Einkaufspreis für das ausgewählte Produkt zu erfahren. "]
[]
[null,"Zu Beginn müssen Sie einmalig Ihre Konditionen im Programm hinterlegen. Dazu wechseln Sie zum Tabellenblatt \"Konditionen\" und tragen dort die vereinbarten "]
[null,"Rabatte ein. ","Zum Tabellenblatt Konditionen wechseln"]
[]
[null,"Im Tabellenblatt Preisliste wird  dann zu jedem Artikel Ihr Einkaufspreis angezeigt. ",null,null,null,"Zur Preisliste"]
[]
[null,"Mit Hilfe der Filter können Sie die Artikel nach Kategorie, oder Artikelkurzbezeichnung filtern, oder nutzen Sie die Suche-Funktion von Excel, wenn Ihnen "]
[null,"die Artikelnummer bekannt ist."]
[]
[null,"Schaltfläche* \"Zur Bestelliste hinzufügen\": "]
[null,"Möchten Sie einen Artikel auswählen, markieren Sie bitte irgendeine Zelle in der Artikelzeile und drücken Sie die "]
[null,"Schaltfläche, Sie müssen nur noch  die gewünschte Stückzahl angeben und der Artikel wird in die Bestellliste\" übernommen."]
[null,"Sie können das Tabellenblatt direkt per Email als Bestellung zu Lindab senden. *"]
[]
[null,null,"zur Bestellliste wechseln"]
[]
[]
[]
[]
[]
[]
[null,null," "]
[]
[null,"* Um die Schaltflächen benutzen zu können, müssen die Sicherheitseinstellungen von Excel die Ausführung von Makros zulassen. Sie können dies über "]
[null,">Extras/Makro/Sicherheit/Sicherheitsstufe< \"mittel\" oder \"niedrig\" (nicht empfohlen) anpassen."]
[]
[null,"Bitte beachten Sie: Diese Excelpreisliste ist ein Werkzeug, dass bei einer einfachen Bestellung helfen soll. Die Datenbasis dient ausdrücklich nicht der Stammdatenpflege"]
[null,"in Ihrer EDV. Bitte nutzen Sie zu diesem Zweck die separat zur Verfügung gestellte Preisliste im Datanormformat. "]

{"sheet":"Konditionen","index":1,"n_rows":44,"n_cols":7,"rows_kept":44,"cut":false,"hidden":false,"merged":[]}
[]
[]
[]
[]
[]
[]
[]
[]
[]
[null,"Bitte tragen Sie in die nachfolgende Tabelle die Rabatte gemäß Ihrer aktuellen Konditionsbestätigung ein.  "]
[]
[null,"In der Preisliste werden Ihnen dann zu jedem Artikel Ihre Netto-Einkaufspreise direkt angezeigt."]
[]
[null,"zur Preisliste","zurück zur Übersicht"]
[]
[]
[null,"Preisgruppe","Preisgruppenbezeichnung","Rabatt 1","Zusatzrabatt 1","Zusatzrabatt 2","Rabatt gesamt"]
[null,10,"Rohre",0,0,0,{"$f":"1-(1-D18)*(1-E18)*(1-F18)","v":0}]
[null,11,"Flex",0,0,0,{"$f":"1-(1-D19)*(1-E19)*(1-F19)","v":0}]
[null,30,"LindabSafe Formteile",0,0,0,0]
[null,31,"Schalldämpfer flexibel",0,0,0,0]
[null,35,"Lindab Transfer",0,0,0,0]
[null,37,"Panelfilter und V-Zellen",0,0,0,0]
[null,3702,"Taschenfilter, Z-Linefilter, Rollenware",0,0,0,0]
[null,53,"Dachhauben",0,0,0,0]
[null,60,"Edelstahl",0,0,0,0]
[null,65,"Lindab Isol",0,0,0,0]
[null,70,"Lindab Comfort Luftauslässe",0,0,0,0]
[null,80,"Entrauchung",0,0,0,0]
[null,8006,"Brandschutzklappen und Zubehör",0,0,0,0]
[null,"Netto","Dienstleistungen & Zubehör",0,0,0,0]
[null,"7.SYS","Systemair Ventilatoren und  Zubehör",0,0,0,{"$f":"1-(1-D32)*(1-E32)*(1-F32)","v":0}]
[null,"7.K","Systemair MUB/T, RVK, REE,RTRD, RTRE",0,0,0,{"$f":"1-(1-D33)*(1-E33)*(1-F33)","v":0}]
[null,"14.MS","METU System",0,0,0,0]
[null,"14.REV","METU Revisionsdeckel",0,0,0,0]
[]
[null,null,"Ihre Daten"]
[null,null,"Kundennr.:"]
[null,null,"Name:"]
[null,null,"Ansprechpartner"]
[null,null,"Str.:"]
[null,null,"PLZ/Ort:"]
[null,null,"Tel.:"]
[null,null,"Fax:"]

{"sheet":"Preisliste","index":2,"n_rows":27679,"n_cols":8,"rows_kept":4500,"cut":true,"hidden":false,"merged":[],"bounds":{"rows_first":2000,"rows_last":500,"rows_between":2000,"halvings":0}}
[]
[]
[null,"Lindab Preisliste 2023/24",null,null,"gültig ab: 01.04.2023"]
[]
[]
[null,null,null,null,null,"wechseln zu:","Übersicht"]
[null,null,null,null,null,null,"Konditionen"]
[null,null,null,null,null,null,"Bestellliste"]
[]
[]
["Kategorie","Kurzbezeichnung","Artikelnummer","Beschreibung 1","Beschreibung 2","Preisgruppe","Preis brutto","Preis netto"]
["Rohre","SRDDIN","SRDDIN100","Lindabrohr dicht SRDDIN 100  Meter","nach DIN 24145",10,74.5,{"$f":"G12*(1-VLOOKUP(F12,Konditionen!$B:$G,6,0))","v":74.5}]
["Rohre","SRDDIN","SRDDIN1000","Lindabrohr dicht SRDDIN 1000 Meter","nach DIN 24145",10,1217,{"$f":"G13*(1-VLOOKUP(F13,Konditionen!$B:$G,6,0))","v":1217}]
["Rohre","SRDDIN","SRDDIN112","Lindabrohr dicht SRDDIN 112  Meter","nach DIN 24145",10,92.7,{"$f":"G14*(1-VLOOKUP(F14,Konditionen!$B:$G,6,0))","v":92.7}]
["Rohre","SRDDIN","SRDDIN1120","Lindabrohr dicht SRDDIN 1120 Meter","nach DIN 24145",10,1362,{"$f":"G15*(1-VLOOKUP(F15,Konditionen!$B:$G,6,0))","v":1362}]
["Rohre","SRDDIN","SRDDIN125","Lindabrohr dicht SRDDIN 125  Meter","nach DIN 24145",10,92.7,{"$f":"G16*(1-VLOOKUP(F16,Konditionen!$B:$G,6,0))","v":92.7}]
["Rohre","SRDDIN","SRDDIN1250","Lindabrohr dicht SRDDIN 1250 Meter","nach DIN 24145",10,1521,{"$f":"G17*(1-VLOOKUP(F17,Konditionen!$B:$G,6,0))","v":1521}]
["Rohre","SRDDIN","SRDDIN140","Lindabrohr dicht SRDDIN 140  Meter","nach DIN 24145",10,117.75,{"$f":"G18*(1-VLOOKUP(F18,Konditionen!$B:$G,6,0))","v":117.75}]
["Rohre","SRDDIN","SRDDIN150","Lindabrohr dicht SRDDIN 150  Meter","nach DIN 24145",10,117.75,{"$f":"G19*(1-VLOOKUP(F19,Konditionen!$B:$G,6,0))","v":117.75}]
["Rohre","SRDDIN","SRDDIN160","Lindabrohr dicht SRDDIN 160  Meter","nach DIN 24145",10,117.75,{"$f":"G20*(1-VLOOKUP(F20,Konditionen!$B:$G,6,0))","v":117.75}]
["Rohre","SRDDIN","SRDDIN180","Lindabrohr dicht SRDDIN 180  Meter","nach DIN 24145",10,147.5,{"$f":"G21*(1-VLOOKUP(F21,Konditionen!$B:$G,6,0))","v":147.5}]
["Rohre","SRDDIN","SRDDIN200","Lindabrohr dicht SRDDIN 200  Meter","nach DIN 24145",10,147.5,{"$f":"G22*(1-VLOOKUP(F22,Konditionen!$B:$G,6,0))","v":147.5}]
["Rohre","SRDDIN","SRDDIN224","Lindabrohr dicht SRDDIN 224  Meter","nach DIN 24145",10,184.15,{"$f":"G23*(1-VLOOKUP(F23,Konditionen!$B:$G,6,0))","v":184.15}]
["Rohre","SRDDIN","SRDDIN250","Lindabrohr dicht SRDDIN 250  Meter","nach DIN 24145",10,184.15,{"$f":"G24*(1-VLOOKUP(F24,Konditionen!$B:$G,6,0))","v":184.15}]
["Rohre","SRDDIN","SRDDIN280","Lindabrohr dicht SRDDIN 280  Meter","nach DIN 24145",10,219.95,{"$f":"G25*(1-VLOOKUP(F25,Konditionen!$B:$G,6,0))","v":219.95}]
["Rohre","SRDDIN","SRDDIN300","Lindabrohr dicht SRDDIN 300  Meter","nach DIN 24145",10,219.95,{"$f":"G26*(1-VLOOKUP(F26,Konditionen!$B:$G,6,0))","v":219.95}]
["Rohre","SRDDIN","SRDDIN315","Lindabrohr dicht SRDDIN 315  Meter","nach DIN 24145",10,279,{"$f":"G27*(1-VLOOKUP(F27,Konditionen!$B:$G,6,0))","v":279}]
["Rohre","SRDDIN","SRDDIN355","Lindabrohr dicht SRDDIN 355  Meter","nach DIN 24145",10,309.3,{"$f":"G28*(1-VLOOKUP(F28,Konditionen!$B:$G,6,0))","v":309.3}]
["Rohre","SRDDIN","SRDDIN400","Lindabrohr dicht SRDDIN 400  Meter","nach DIN 24145",10,347.35,{"$f":"G29*(1-VLOOKUP(F29,Konditionen!$B:$G,6,0))","v":347.35}]
["Rohre","SRDDIN","SRDDIN450","Lindabrohr dicht SRDDIN 450  Meter","nach DIN 24145",10,403.8,{"$f":"G30*(1-VLOOKUP(F30,Konditionen!$B:$G,6,0))","v":403.8}]
["Rohre","SRDDIN","SRDDIN500","Lindabrohr dicht SRDDIN 500  Meter","nach DIN 24145",10,447.05,{"$f":"G31*(1-VLOOKUP(F31,Konditionen!$B:$G,6,0))","v":447.05}]
["Rohre","SRDDIN","SRDDIN560","Lindabrohr dicht SRDDIN 560  Meter","nach DIN 24145",10,501.75,{"$f":"G32*(1-VLOOKUP(F32,Konditionen!$B:$G,6,0))","v":501.75}]
["Rohre","SRDDIN","SRDDIN600","Lindabrohr dicht SRDDIN 600  Meter","nach DIN 24145",10,538.25,{"$f":"G33*(1-VLOOKUP(F33,Konditionen!$B:$G,6,0))","v":538.25}]
["Rohre","SRDDIN","SRDDIN630","Lindabrohr dicht SRDDIN 630  Meter","nach DIN 24145",10,655.95,{"$f":"G34*(1-VLOOKUP(F34,Konditionen!$B:$G,6,0))","v":655.95}]
["Rohre","SRDDIN","SRDDIN710","Lindabrohr dicht SRDDIN 710  Meter","nach DIN 24145",10,739.3,{"$f":"G35*(1-VLOOKUP(F35,Konditionen!$B:$G,6,0))","v":739.3}]
["Rohre","SRDDIN","SRDDIN800","Lindabrohr dicht SRDDIN 800  Meter","nach DIN 24145",10,834.25,{"$f":"G36*(1-VLOOKUP(F36,Konditionen!$B:$G,6,0))","v":834.25}]
["Rohre","SRDDIN","SRDDIN900","Lindabrohr dicht SRDDIN 900  Meter","nach DIN 24145",10,938.45,{"$f":"G37*(1-VLOOKUP(F37,Konditionen!$B:$G,6,0))","v":938.45}]
["Rohre","SRDEN","SRDEN100","Lindabrohr dicht  SRD   100  Meter","gem.DIN EN 12237",10,69.7,{"$f":"G38*(1-VLOOKUP(F38,Konditionen!$B:$G,6,0))","v":69.7}]
["Rohre","SRDEN","SRDEN1000","Lindabrohr dicht  SRD   1000 Meter","gem.DIN EN 12237, mit Doppelsicke",10,1124,{"$f":"G39*(1-VLOOKUP(F39,Konditionen!$B:$G,6,0))","v":1124}]
["Rohre","SRDEN","SRDEN112","Lindabrohr dicht  SRD   112  Meter","gem.DIN EN 12237",10,85.7,{"$f":"G40*(1-VLOOKUP(F40,Konditionen!$B:$G,6,0))","v":85.7}]
["Rohre","SRDEN","SRDEN1120","Lindabrohr dicht  SRD   1120 Meter","gem.DIN EN 12237, mit Doppelsicke",10,1227,{"$f":"G41*(1-VLOOKUP(F41,Konditionen!$B:$G,6,0))","v":1227}]
["Rohre","SRDEN","SRDEN125","Lindabrohr dicht  SRD   125  Meter","gem.DIN EN 12237",10,85.7,{"$f":"G42*(1-VLOOKUP(F42,Konditionen!$B:$G,6,0))","v":85.7}]
["Rohre","SRDEN","SRDEN1250","Lindabrohr dicht  SRD   1250 Meter","gem.DIN EN 12237, mit Doppelsicke",10,1370,{"$f":"G43*(1-VLOOKUP(F43,Konditionen!$B:$G,6,0))","v":1370}]
["Rohre","SRDEN","SRDEN140","Lindabrohr dicht  SRD   140  Meter","gem.DIN EN 12237",10,109.65,{"$f":"G44*(1-VLOOKUP(F44,Konditionen!$B:$G,6,0))","v":109.65}]
["Rohre","SRDEN","SRDEN1400","Lindabrohr dicht  SRD   1400 Meter","gem.DIN EN 12237, mit Doppelsicke",10,1752,{"$f":"G45*(1-VLOOKUP(F45,Konditionen!$B:$G,6,0))","v":1752}]
["Rohre","SRDEN","SRDEN150","Lindabrohr dicht  SRD   150  Meter","gem.DIN EN 12237",10,109.65,{"$f":"G46*(1-VLOOKUP(F46,Konditionen!$B:$G,6,0))","v":109.65}]
["Rohre","SRDEN","SRDEN1500","Lindabrohr dicht  SRD   1500 Meter","gem.DIN EN 12237, mit Doppelsicke",10,1877,{"$f":"G47*(1-VLOOKUP(F47,Konditionen!$B:$G,6,0))","v":1877}]
["Rohre","SRDEN","SRDEN160","Lindabrohr dicht  SRD   160  Meter","gem.DIN EN 12237",10,109.65,{"$f":"G48*(1-VLOOKUP(F48,Konditionen!$B:$G,6,0))","v":109.65}]
["Rohre","SRDEN","SRDEN1600","Lindabrohr dicht  SRD   1600 Meter","gem.DIN EN 12237, mit Doppelsicke",10,2001,{"$f":"G49*(1-VLOOKUP(F49,Konditionen!$B:$G,6,0))","v":2001}]
["Rohre","SRDEN","SRDEN180","Lindabrohr dicht  SRD   180  Meter","gem.DIN EN 12237",10,138.19999999999999,{"$f":"G50*(1-VLOOKUP(F50,Konditionen!$B:$G,6,0))","v":138.19999999999999}]
["Rohre","SRDEN","SRDEN200","Lindabrohr dicht  SRD   200  Meter","gem.DIN EN 12237",10,138.19999999999999,{"$f":"G51*(1-VLOOKUP(F51,Konditionen!$B:$G,6,0))","v":138.19999999999999}]
["Rohre","SRDEN","SRDEN224","Lindabrohr dicht  SRD   224  Meter","gem.DIN EN 12237",10,173.65,{"$f":"G52*(1-VLOOKUP(F52,Konditionen!$B:$G,6,0))","v":173.65}]
["Rohre","SRDEN","SRDEN250","Lindabrohr dicht  SRD   250  Meter","gem.DIN EN 12237, mit Doppelsicke",10,173.65,{"$f":"G53*(1-VLOOKUP(F53,Konditionen!$B:$G,6,0))","v":173.65}]
["Rohre","SRDEN","SRDEN280","Lindabrohr dicht  SRD   280  Meter","gem.DIN EN 12237, mit Doppelsicke",10,206.95,{"$f":"G54*(1-VLOOKUP(F54,Konditionen!$B:$G,6,0))","v":206.95}]
["Rohre","SRDEN","SRDEN300","Lindabrohr dicht  SRD   300  Meter","gem.DIN EN 12237, mit Doppelsicke",10,206.95,{"$f":"G55*(1-VLOOKUP(F55,Konditionen!$B:$G,6,0))","v":206.95}]
["Rohre","SRDEN","SRDEN315","Lindabrohr dicht  SRD   315  Meter","gem.DIN EN 12237, mit Doppelsicke",10,256.85000000000002,{"$f":"G56*(1-VLOOKUP(F56,Konditionen!$B:$G,6,0))","v":256.85000000000002}]
["Rohre","SRDEN","SRDEN355","Lindabrohr dicht  SRD   355  Meter","gem.DIN EN 12237, mit Doppelsicke",10,285.05,{"$f":"G57*(1-VLOOKUP(F57,Konditionen!$B:$G,6,0))","v":285.05}]
["Rohre","SRDEN","SRDEN400","Lindabrohr dicht  SRD   400  Meter","gem.DIN EN 12237, mit Doppelsicke",10,319.3,{"$f":"G58*(1-VLOOKUP(F58,Konditionen!$B:$G,6,0))","v":319.3}]
["Rohre","SRDEN","SRDEN450","Lindabrohr dicht  SRD   450  Meter","gem.DIN EN 12237, mit Doppelsicke",10,359.9,{"$f":"G59*(1-VLOOKUP(F59,Konditionen!$B:$G,6,0))","v":359.9}]
["Rohre","SRDEN","SRDEN500","Lindabrohr dicht  SRD   500  Meter","gem.DIN EN 12237, mit Doppelsicke",10,399.65,{"$f":"G60*(1-VLOOKUP(F60,Konditionen!$B:$G,6,0))","v":399.65}]
["Rohre","SRDEN","SRDEN560","Lindabrohr dicht  SRD   560  Meter","gem.DIN EN 12237, mit Doppelsicke",10,448.25,{"$f":"G61*(1-VLOOKUP(F61,Konditionen!$B:$G,6,0))","v":448.25}]
["Rohre","SRDEN","SRDEN600","Lindabrohr dicht  SRD   600  Meter","gem.DIN EN 12237, mit Doppelsicke",10,468.75,{"$f":"G62*(1-VLOOKUP(F62,Konditionen!$B:$G,6,0))","v":468.75}]
["Rohre","SRDEN","SRDEN630","Lindabrohr dicht  SRD   630  Meter","gem.DIN EN 12237, mit Doppelsicke",10,606.75,{"$f":"G63*(1-VLOOKUP(F63,Konditionen!$B:$G,6,0))","v":606.75}]
["Rohre","SRDEN","SRDEN71","Lindabrohr dicht  SRD   71   Meter","gem.DIN EN 12237",10,56.35,{"$f":"G64*(1-VLOOKUP(F64,Konditionen!$B:$G,6,0))","v":56.35}]
["Rohre","SRDEN","SRDEN710","Lindabrohr dicht  SRD   710  Meter","gem.DIN EN 12237, mit Doppelsicke",10,684.9,{"$f":"G65*(1-VLOOKUP(F65,Konditionen!$B:$G,6,0))","v":684.9}]
["Rohre","SRDEN","SRDEN80","Lindabrohr dicht  SRD   80   Meter","gem.DIN EN 12237",10,56.35,{"$f":"G66*(1-VLOOKUP(F66,Konditionen!$B:$G,6,0))","v":56.35}]
["Rohre","SRDEN","SRDEN800","Lindabrohr dicht  SRD   800  Meter","gem.DIN EN 12237, mit Doppelsicke",10,753.6,{"$f":"G67*(1-VLOOKUP(F67,Konditionen!$B:$G,6,0))","v":753.6}]
["Rohre","SRDEN","SRDEN90","Lindabrohr dicht  SRD   90   Meter","gem.DIN EN 12237",10,68.650000000000006,{"$f":"G68*(1-VLOOKUP(F68,Konditionen!$B:$G,6,0))","v":68.650000000000006}]
["Rohre","SRDEN","SRDEN900","Lindabrohr dicht  SRD   900  Meter","gem.DIN EN 12237, mit Doppelsicke",10,853.9,{"$f":"G69*(1-VLOOKUP(F69,Konditionen!$B:$G,6,0))","v":853.9}]
["Rohre","SRDIN","SRDIN100","Lindabrohr   SRDIN 100       Meter","nach DIN 24145",10,43.9,{"$f":"G70*(1-VLOOKUP(F70,Konditionen!$B:$G,6,0))","v":43.9}]
["Rohre","SRDIN","SRDIN1000","Lindabrohr   SRDIN 1000      Meter","nach DIN 24145",10,811.6,{"$f":"G71*(1-VLOOKUP(F71,Konditionen!$B:$G,6,0))","v":811.6}]
["Rohre","SRDIN","SRDIN112","Lindabrohr   SRDIN 112       Meter","nach DIN 24145",10,54.25,{"$f":"G72*(1-VLOOKUP(F72,Konditionen!$B:$G,6,0))","v":54.25}]
["Rohre","SRDIN","SRDIN1120","Lindabrohr   SRDIN 1120      Meter","nach DIN 24145",10,908.35,{"$f":"G73*(1-VLOOKUP(F73,Konditionen!$B:$G,6,0))","v":908.35}]
["Rohre","SRDIN","SRDIN125","Lindabrohr   SRDIN 125       Meter","nach DIN 24145",10,54.25,{"$f":"G74*(1-VLOOKUP(F74,Konditionen!$B:$G,6,0))","v":54.25}]
["Rohre","SRDIN","SRDIN1250","Lindabrohr   SRDIN 1250      Meter","nach DIN 24145",10,1014,{"$f":"G75*(1-VLOOKUP(F75,Konditionen!$B:$G,6,0))","v":1014}]
["Rohre","SRDIN","SRDIN140","Lindabrohr   SRDIN 140       Meter","nach DIN 24145",10,69.5,{"$f":"G76*(1-VLOOKUP(F76,Konditionen!$B:$G,6,0))","v":69.5}]
["Rohre","SRDIN","SRDIN150","Lindabrohr   SRDIN 150       Meter","nach DIN 24145",10,69.5,{"$f":"G77*(1-VLOOKUP(F77,Konditionen!$B:$G,6,0))","v":69.5}]
["Rohre","SRDIN","SRDIN160","Lindabrohr   SRDIN 160       Meter","nach DIN 24145",10,69.5,{"$f":"G78*(1-VLOOKUP(F78,Konditionen!$B:$G,6,0))","v":69.5}]
["Rohre","SRDIN","SRDIN180","Lindabrohr   SRDIN 180       Meter","nach DIN 24145",10,86.55,{"$f":"G79*(1-VLOOKUP(F79,Konditionen!$B:$G,6,0))","v":86.55}]
["Rohre","SRDIN","SRDIN200","Lindabrohr   SRDIN 200       Meter","nach DIN 24145",10,86.55,{"$f":"G80*(1-VLOOKUP(F80,Konditionen!$B:$G,6,0))","v":86.55}]
["Rohre","SRDIN","SRDIN224","Lindabrohr   SRDIN 224       Meter","nach DIN 24145",10,108.15,{"$f":"G81*(1-VLOOKUP(F81,Konditionen!$B:$G,6,0))","v":108.15}]
["Rohre","SRDIN","SRDIN250","Lindabrohr   SRDIN 250       Meter","nach DIN 24145",10,108.15,{"$f":"G82*(1-VLOOKUP(F82,Konditionen!$B:$G,6,0))","v":108.15}]
["Rohre","SRDIN","SRDIN280","Lindabrohr   SRDIN 280       Meter","nach DIN 24145",10,129.30000000000001,{"$f":"G83*(1-VLOOKUP(F83,Konditionen!$B:$G,6,0))","v":129.30000000000001}]
["Rohre","SRDIN","SRDIN300","Lindabrohr   SRDIN 300       Meter","nach DIN 24145",10,129.30000000000001,{"$f":"G84*(1-VLOOKUP(F84,Konditionen!$B:$G,6,0))","v":129.30000000000001}]
["Rohre","SRDIN","SRDIN315","Lindabrohr   SRDIN 315       Meter","nach DIN 24145",10,174.5,{"$f":"G85*(1-VLOOKUP(F85,Konditionen!$B:$G,6,0))","v":174.5}]
["Rohre","SRDIN","SRDIN355","Lindabrohr   SRDIN 355       Meter","nach DIN 24145",10,193.45,{"$f":"G86*(1-VLOOKUP(F86,Konditionen!$B:$G,6,0))","v":193.45}]
["Rohre","SRDIN","SRDIN400","Lindabrohr   SRDIN 400       Meter","nach DIN 24145",10,216.9,{"$f":"G87*(1-VLOOKUP(F87,Konditionen!$B:$G,6,0))","v":216.9}]
["Rohre","SRDIN","SRDIN450","Lindabrohr   SRDIN 450       Meter","nach DIN 24145",10,252.15,{"$f":"G88*(1-VLOOKUP(F88,Konditionen!$B:$G,6,0))","v":252.15}]
["Rohre","SRDIN","SRDIN500","Lindabrohr   SRDIN 500       Meter","nach DIN 24145",10,279.14999999999998,{"$f":"G89*(1-VLOOKUP(F89,Konditionen!$B:$G,6,0))","v":279.14999999999998}]
["Rohre","SRDIN","SRDIN560","Lindabrohr   SRDIN 560       Meter","nach DIN 24145",10,313.64999999999998,{"$f":"G90*(1-VLOOKUP(F90,Konditionen!$B:$G,6,0))","v":313.64999999999998}]
["Rohre","SRDIN","SRDIN600","Lindabrohr   SRDIN 600       Meter","nach DIN 24145",10,336.15,{"$f":"G91*(1-VLOOKUP(F91,Konditionen!$B:$G,6,0))","v":336.15}]
["Rohre","SRDIN","SRDIN630","Lindabrohr   SRDIN 630       Meter","nach DIN 24145",10,423.55,{"$f":"G92*(1-VLOOKUP(F92,Konditionen!$B:$G,6,0))","v":423.55}]
["Rohre","SRDIN","SRDIN710","Lindabrohr   SRDIN 710       Meter","nach DIN 24145",10,476.65,{"$f":"G93*(1-VLOOKUP(F93,Konditionen!$B:$G,6,0))","v":476.65}]
["Rohre","SRDIN","SRDIN800","Lindabrohr   SRDIN 800       Meter","nach DIN 24145",10,537.75,{"$f":"G94*(1-VLOOKUP(F94,Konditionen!$B:$G,6,0))","v":537.75}]
["Rohre","SRDIN","SRDIN900","Lindabrohr   SRDIN 900       Meter","nach DIN 24145",10,605.25,{"$f":"G95*(1-VLOOKUP(F95,Konditionen!$B:$G,6,0))","v":605.25}]
["Rohre","SRENC","SRENC100","Lindabrohr SR CLICK 100       Meter","gem.DIN EN 12237",10,40.299999999999997,{"$f":"G96*(1-VLOOKUP(F96,Konditionen!$B:$G,6,0))","v":40.299999999999997}]
["Rohre","SRENC","SRENC1001200","Lindabrohr SR CLICK 100.1200  Stück","gem.DIN EN 12237",10,48.35,{"$f":"G97*(1-VLOOKUP(F97,Konditionen!$B:$G,6,0))","v":48.35}]
["Rohre","SRENC","SRENC1002400","Lindabrohr SR CLICK 100.2400  Stück","gem.DIN EN 12237",10,96.7,{"$f":"G98*(1-VLOOKUP(F98,Konditionen!$B:$G,6,0))","v":96.7}]
["Rohre","SRENC","SRENC1003000","Lindabrohr SR CLICK 100.3000  Stück","gem.DIN EN 12237",10,120.9,{"$f":"G99*(1-VLOOKUP(F99,Konditionen!$B:$G,6,0))","v":120.9}]
["Rohre","SRENC","SRENC1006000","Lindabrohr SR CLICK 100.6000  Stück","gem.DIN EN 12237",10,241.8,{"$f":"G100*(1-VLOOKUP(F100,Konditionen!$B:$G,6,0))","v":241.8}]
["Rohre","SRENC","SRENC112","Lindabrohr SR CLICK 112       Meter","gem.DIN EN 12237",10,50.5,{"$f":"G101*(1-VLOOKUP(F101,Konditionen!$B:$G,6,0))","v":50.5}]
["Rohre","SRENC","SRENC1121200","Lindabrohr SR CLICK 112.1200  Stück","gem.DIN EN 12237",10,60.6,{"$f":"G102*(1-VLOOKUP(F102,Konditionen!$B:$G,6,0))","v":60.6}]
["Rohre","SRENC","SRENC1122400","Lindabrohr SR CLICK 112.2400  Stück","gem.DIN EN 12237",10,121.2,{"$f":"G103*(1-VLOOKUP(F103,Konditionen!$B:$G,6,0))","v":121.2}]
["Rohre","SRENC","SRENC1123000","Lindabrohr SR CLICK 112.3000  Stück","gem.DIN EN 12237",10,151.5,{"$f":"G104*(1-VLOOKUP(F104,Konditionen!$B:$G,6,0))","v":151.5}]
["Rohre","SRENC","SRENC1126000","Lindabrohr SR CLICK 112.6000  Stück","gem.DIN EN 12237",10,303,{"$f":"G105*(1-VLOOKUP(F105,Konditionen!$B:$G,6,0))","v":303}]
["Rohre","SRENC","SRENC125","Lindabrohr SR CLICK 125       Meter","gem.DIN EN 12237",10,50.5,{"$f":"G106*(1-VLOOKUP(F106,Konditionen!$B:$G,6,0))","v":50.5}]
["Rohre","SRENC","SRENC1251200","Lindabrohr SR CLICK 125.1200  Stück","gem.DIN EN 12237",10,60.6,{"$f":"G107*(1-VLOOKUP(F107,Konditionen!$B:$G,6,0))","v":60.6}]
["Rohre","SRENC","SRENC1252400","Lindabrohr SR CLICK 125.2400  Stück","gem.DIN EN 12237",10,121.2,{"$f":"G108*(1-VLOOKUP(F108,Konditionen!$B:$G,6,0))","v":121.2}]
["Rohre","SRENC","SRENC1253000","Lindabrohr SR CLICK 125.3000  Stück","gem.DIN EN 12237",10,151.5,{"$f":"G109*(1-VLOOKUP(F109,Konditionen!$B:$G,6,0))","v":151.5}]
["Rohre","SRENC","SRENC1256000","Lindabrohr SR CLICK 125.6000  Stück","gem.DIN EN 12237",10,303,{"$f":"G110*(1-VLOOKUP(F110,Konditionen!$B:$G,6,0))","v":303}]
["Rohre","SRENC","SRENC140","Lindabrohr SR CLICK 140       Meter","gem.DIN EN 12237",10,64.2,{"$f":"G111*(1-VLOOKUP(F111,Konditionen!$B:$G,6,0))","v":64.2}]
["Rohre","SRENC","SRENC1401200","Lindabrohr SR CLICK 140.1200  Stück","gem.DIN EN 12237",10,77.05,{"$f":"G112*(1-VLOOKUP(F112,Konditionen!$B:$G,6,0))","v":77.05}]
["Rohre","SRENC","SRENC1402400","Lindabrohr SR CLICK 140.2400  Stück","gem.DIN EN 12237",10,154.1,{"$f":"G113*(1-VLOOKUP(F113,Konditionen!$B:$G,6,0))","v":154.1}]
["Rohre","SRENC","SRENC1403000","Lindabrohr SR CLICK 140.3000  Stück","gem.DIN EN 12237",10,192.6,{"$f":"G114*(1-VLOOKUP(F114,Konditionen!$B:$G,6,0))","v":192.6}]
["Rohre","SRENC","SRENC1406000","Lindabrohr SR CLICK 140.6000  Stück","gem.DIN EN 12237",10,385.2,{"$f":"G115*(1-VLOOKUP(F115,Konditionen!$B:$G,6,0))","v":385.2}]
["Rohre","SRENC","SRENC150","Lindabrohr SR CLICK 150       Meter","gem.DIN EN 12237",10,64.2,{"$f":"G116*(1-VLOOKUP(F116,Konditionen!$B:$G,6,0))","v":64.2}]
["Rohre","SRENC","SRENC1501200","Lindabrohr SR CLICK 150.1200  Stück","gem.DIN EN 12237",10,77.05,{"$f":"G117*(1-VLOOKUP(F117,Konditionen!$B:$G,6,0))","v":77.05}]
["Rohre","SRENC","SRENC1502400","Lindabrohr SR CLICK 150.2400  Stück","gem.DIN EN 12237",10,154.1,{"$f":"G118*(1-VLOOKUP(F118,Konditionen!$B:$G,6,0))","v":154.1}]
["Rohre","SRENC","SRENC1503000","Lindabrohr SR CLICK 150.3000  Stück","gem.DIN EN 12237",10,192.6,{"$f":"G119*(1-VLOOKUP(F119,Konditionen!$B:$G,6,0))","v":192.6}]
["Rohre","SRENC","SRENC1506000","Lindabrohr SR CLICK 150.6000  Stück","gem.DIN EN 12237",10,385.2,{"$f":"G120*(1-VLOOKUP(F120,Konditionen!$B:$G,6,0))","v":385.2}]
["Rohre","SRENC","SRENC160","Lindabrohr SR CLICK 160       Meter","gem.DIN EN 12237",10,64.2,{"$f":"G121*(1-VLOOKUP(F121,Konditionen!$B:$G,6,0))","v":64.2}]
["Rohre","SRENC","SRENC1601200","Lindabrohr SR CLICK 160.1200  Stück","gem.DIN EN 12237",10,77.05,{"$f":"G122*(1-VLOOKUP(F122,Konditionen!$B:$G,6,0))","v":77.05}]
["Rohre","SRENC","SRENC1602400","Lindabrohr SR CLICK 160.2400  Stück","gem.DIN EN 12237",10,154.1,{"$f":"G123*(1-VLOOKUP(F123,Konditionen!$B:$G,6,0))","v":154.1}]
["Rohre","SRENC","SRENC1603000","Lindabrohr SR CLICK 160.3000  Stück","gem.DIN EN 12237",10,192.6,{"$f":"G124*(1-VLOOKUP(F124,Konditionen!$B:$G,6,0))","v":192.6}]
["Rohre","SRENC","SRENC1606000","Lindabrohr SR CLICK 160.6000  Stück","gem.DIN EN 12237",10,385.2,{"$f":"G125*(1-VLOOKUP(F125,Konditionen!$B:$G,6,0))","v":385.2}]
["Rohre","SRENC","SRENC180","Lindabrohr SR CLICK 180       Meter","gem.DIN EN 12237",10,81.25,{"$f":"G126*(1-VLOOKUP(F126,Konditionen!$B:$G,6,0))","v":81.25}]
["Rohre","SRENC","SRENC1801200","Lindabrohr SR CLICK 180.1200  Stück","gem.DIN EN 12237",10,97.5,{"$f":"G127*(1-VLOOKUP(F127,Konditionen!$B:$G,6,0))","v":97.5}]
["Rohre","SRENC","SRENC1802400","Lindabrohr SR CLICK 180.2400  Stück","gem.DIN EN 12237",10,195,{"$f":"G128*(1-VLOOKUP(F128,Konditionen!$B:$G,6,0))","v":195}]
["Rohre","SRENC","SRENC1803000","Lindabrohr SR CLICK 180.3000  Stück","gem.DIN EN 12237",10,243.75,{"$f":"G129*(1-VLOOKUP(F129,Konditionen!$B:$G,6,0))","v":243.75}]
["Rohre","SRENC","SRENC1806000","Lindabrohr SR CLICK 180.6000  Stück","gem.DIN EN 12237",10,487.5,{"$f":"G130*(1-VLOOKUP(F130,Konditionen!$B:$G,6,0))","v":487.5}]
["Rohre","SRENC","SRENC200","Lindabrohr SR CLICK 200       Meter","gem.DIN EN 12237",10,81.25,{"$f":"G131*(1-VLOOKUP(F131,Konditionen!$B:$G,6,0))","v":81.25}]
["Rohre","SRENC","SRENC2001200","Lindabrohr SR CLICK 200.1200  Stück","gem.DIN EN 12237",10,97.5,{"$f":"G132*(1-VLOOKUP(F132,Konditionen!$B:$G,6,0))","v":97.5}]
["Rohre","SRENC","SRENC2002400","Lindabrohr SR CLICK 200.2400  Stück","gem.DIN EN 12237",10,195,{"$f":"G133*(1-VLOOKUP(F133,Konditionen!$B:$G,6,0))","v":195}]
["Rohre","SRENC","SRENC2003000","Lindabrohr SR CLICK 200.3000  Stück","gem.DIN EN 12237",10,243.75,{"$f":"G134*(1-VLOOKUP(F134,Konditionen!$B:$G,6,0))","v":243.75}]
["Rohre","SRENC","SRENC2006000","Lindabrohr SR CLICK 200.6000  Stück","gem.DIN EN 12237",10,487.5,{"$f":"G135*(1-VLOOKUP(F135,Konditionen!$B:$G,6,0))","v":487.5}]
["Rohre","SRENC","SRENC224","Lindabrohr SR CLICK 224       Meter","gem.DIN EN 12237",10,102.1,{"$f":"G136*(1-VLOOKUP(F136,Konditionen!$B:$G,6,0))","v":102.1}]
["Rohre","SRENC","SRENC2241200","Lindabrohr SR CLICK 224.1200  Stück","gem.DIN EN 12237",10,122.5,{"$f":"G137*(1-VLOOKUP(F137,Konditionen!$B:$G,6,0))","v":122.5}]
["Rohre","SRENC","SRENC2242400","Lindabrohr SR CLICK 224.2400  Stück","gem.DIN EN 12237",10,245.05,{"$f":"G138*(1-VLOOKUP(F138,Konditionen!$B:$G,6,0))","v":245.05}]
["Rohre","SRENC","SRENC2243000","Lindabrohr SR CLICK 224.3000  Stück","gem.DIN EN 12237",10,306.3,{"$f":"G139*(1-VLOOKUP(F139,Konditionen!$B:$G,6,0))","v":306.3}]
["Rohre","SRENC","SRENC2246000","Lindabrohr SR CLICK 224.6000  Stück","gem.DIN EN 12237",10,612.6,{"$f":"G140*(1-VLOOKUP(F140,Konditionen!$B:$G,6,0))","v":612.6}]
["Rohre","SRENC","SRENC250","Lindabrohr SR CLICK 250       Meter","gem.DIN EN 12237 mit Doppelsicke",10,102.1,{"$f":"G141*(1-VLOOKUP(F141,Konditionen!$B:$G,6,0))","v":102.1}]
["Rohre","SRENC","SRENC2501200","Lindabrohr SR CLICK 250.1200  Stück","gem.DIN EN 12237 mit Doppelsicke",10,122.5,{"$f":"G142*(1-VLOOKUP(F142,Konditionen!$B:$G,6,0))","v":122.5}]
["Rohre","SRENC","SRENC2502400","Lindabrohr SR CLICK 250.2400  Stück","gem.DIN EN 12237 mit Doppelsicke",10,245.05,{"$f":"G143*(1-VLOOKUP(F143,Konditionen!$B:$G,6,0))","v":245.05}]
["Rohre","SRENC","SRENC2503000","Lindabrohr SR CLICK 250.3000  Stück","gem.DIN EN 12237 mit Doppelsicke",10,306.3,{"$f":"G144*(1-VLOOKUP(F144,Konditionen!$B:$G,6,0))","v":306.3}]
["Rohre","SRENC","SRENC2506000","Lindabrohr SR CLICK 250.6000  Stück","gem.DIN EN 12237 mit Doppelsicke",10,612.6,{"$f":"G145*(1-VLOOKUP(F145,Konditionen!$B:$G,6,0))","v":612.6}]
["Rohre","SRENC","SRENC280","Lindabrohr SR CLICK 280       Meter","gem.DIN EN 12237 mit Doppelsicke",10,122,{"$f":"G146*(1-VLOOKUP(F146,Konditionen!$B:$G,6,0))","v":122}]
["Rohre","SRENC","SRENC2801200","Lindabrohr SR CLICK 280.1200  Stück","gem.DIN EN 12237 mit Doppelsicke",10,146.4,{"$f":"G147*(1-VLOOKUP(F147,Konditionen!$B:$G,6,0))","v":146.4}]
["Rohre","SRENC","SRENC2802400","Lindabrohr SR CLICK 280.2400  Stück","gem.DIN EN 12237 mit Doppelsicke",10,292.8,{"$f":"G148*(1-VLOOKUP(F148,Konditionen!$B:$G,6,0))","v":292.8}]
["Rohre","SRENC","SRENC2803000","Lindabrohr SR CLICK 280.3000  Stück","gem.DIN EN 12237 mit Doppelsicke",10,366,{"$f":"G149*(1-VLOOKUP(F149,Konditionen!$B:$G,6,0))","v":366}]
["Rohre","SRENC","SRENC2806000","Lindabrohr SR CLICK 280.6000  Stück","gem.DIN EN 12237 mit Doppelsicke",10,732,{"$f":"G150*(1-VLOOKUP(F150,Konditionen!$B:$G,6,0))","v":732}]
["Rohre","SRENC","SRENC300","Lindabrohr SR CLICK 300       Meter","gem.DIN EN 12237 mit Doppelsicke",10,122,{"$f":"G151*(1-VLOOKUP(F151,Konditionen!$B:$G,6,0))","v":122}]
["Rohre","SRENC","SRENC3001200","Lindabrohr SR CLICK 300.1200  Stück","gem.DIN EN 12237 mit Doppelsicke",10,146.4,{"$f":"G152*(1-VLOOKUP(F152,Konditionen!$B:$G,6,0))","v":146.4}]
["Rohre","SRENC","SRENC3002400","Lindabrohr SR CLICK 300.2400  Stück","gem.DIN EN 12237 mit Doppelsicke",10,292.8,{"$f":"G153*(1-VLOOKUP(F153,Konditionen!$B:$G,6,0))","v":292.8}]
["Rohre","SRENC","SRENC3003000","Lindabrohr SR CLICK 300.3000  Stück","gem.DIN EN 12237 mit Doppelsicke",10,366,{"$f":"G154*(1-VLOOKUP(F154,Konditionen!$B:$G,6,0))","v":366}]
["Rohre","SRENC","SRENC3006000","Lindabrohr SR CLICK 300.6000  Stück","gem.DIN EN 12237 mit Doppelsicke",10,732,{"$f":"G155*(1-VLOOKUP(F155,Konditionen!$B:$G,6,0))","v":732}]
["Rohre","SRENC","SRENC315","Lindabrohr SR CLICK 315       Meter","gem.DIN EN 12237 mit Doppelsicke",10,151.15,{"$f":"G156*(1-VLOOKUP(F156,Konditionen!$B:$G,6,0))","v":151.15}]
["Rohre","SRENC","SRENC3151200","Lindabrohr SR CLICK 315.1200  Stück","gem.DIN EN 12237 mit Doppelsicke",10,181.4,{"$f":"G157*(1-VLOOKUP(F157,Konditionen!$B:$G,6,0))","v":181.4}]
["Rohre","SRENC","SRENC3152400","Lindabrohr SR CLICK 315.2400  Stück","gem.DIN EN 12237 mit Doppelsicke",10,362.75,{"$f":"G158*(1-VLOOKUP(F158,Konditionen!$B:$G,6,0))","v":362.75}]
["Rohre","SRENC","SRENC3153000","Lindabrohr SR CLICK 315.3000  Stück","gem.DIN EN 12237 mit Doppelsicke",10,453.45,{"$f":"G159*(1-VLOOKUP(F159,Konditionen!$B:$G,6,0))","v":453.45}]
["Rohre","SRENC","SRENC3156000","Lindabrohr SR CLICK 315.6000  Stück","gem.DIN EN 12237 mit Doppelsicke",10,906.9,{"$f":"G160*(1-VLOOKUP(F160,Konditionen!$B:$G,6,0))","v":906.9}]
["Rohre","SREN","SREN100","Lindabrohr   SR    100       Meter","gem.DIN EN 12237",10,40.299999999999997,{"$f":"G161*(1-VLOOKUP(F161,Konditionen!$B:$G,6,0))","v":40.299999999999997}]
["Rohre","SREN","SREN1000","Lindabrohr   SR    1000      Meter","gem.DIN EN 12237, mit Doppelsicke",10,725.35,{"$f":"G162*(1-VLOOKUP(F162,Konditionen!$B:$G,6,0))","v":725.35}]
["Rohre","SREN","SREN10003000","Lindabrohr   SR    1000.3000 Stück","gem.DIN EN 12237, mit Doppelsicke",10,2176,{"$f":"G163*(1-VLOOKUP(F163,Konditionen!$B:$G,6,0))","v":2176}]
["Rohre","SREN","SREN10006000","Lindabrohr   SR    1000.6000 Stück","gem.DIN EN 12237, mit Doppelsicke",10,4352,{"$f":"G164*(1-VLOOKUP(F164,Konditionen!$B:$G,6,0))","v":4352}]
["Rohre","SREN","SREN1001200","Lindabrohr   SR    100.1200  Stück","gem.DIN EN 12237",10,48.35,{"$f":"G165*(1-VLOOKUP(F165,Konditionen!$B:$G,6,0))","v":48.35}]
["Rohre","SREN","SREN1002400","Lindabrohr   SR    100.2400  Stück","gem.DIN EN 12237",10,96.7,{"$f":"G166*(1-VLOOKUP(F166,Konditionen!$B:$G,6,0))","v":96.7}]
["Rohre","SREN","SREN1003000","Lindabrohr   SR    100.3000  Stück","gem.DIN EN 12237",10,120.9,{"$f":"G167*(1-VLOOKUP(F167,Konditionen!$B:$G,6,0))","v":120.9}]
["Rohre","SREN","SREN1006000","Lindabrohr   SR    100.6000  Stück","gem.DIN EN 12237",10,241.8,{"$f":"G168*(1-VLOOKUP(F168,Konditionen!$B:$G,6,0))","v":241.8}]
["Rohre","SREN","SREN112","Lindabrohr   SR    112       Meter","gem.DIN EN 12237",10,50.5,{"$f":"G169*(1-VLOOKUP(F169,Konditionen!$B:$G,6,0))","v":50.5}]
["Rohre","SREN","SREN1120","Lindabrohr   SR    1120      Meter","gem.DIN EN 12237, mit Doppelsicke",10,791.3,{"$f":"G170*(1-VLOOKUP(F170,Konditionen!$B:$G,6,0))","v":791.3}]
["Rohre","SREN","SREN11203000","Lindabrohr   SR    1120.3000 Stück","gem.DIN EN 12237, mit Doppelsicke",10,2374,{"$f":"G171*(1-VLOOKUP(F171,Konditionen!$B:$G,6,0))","v":2374}]
["Rohre","SREN","SREN11206000","Lindabrohr   SR    1120.6000 Stück","gem.DIN EN 12237, mit Doppelsicke",10,4748,{"$f":"G172*(1-VLOOKUP(F172,Konditionen!$B:$G,6,0))","v":4748}]
["Rohre","SREN","SREN1121200","Lindabrohr   SR    112.1200  Stück","gem.DIN EN 12237",10,60.6,{"$f":"G173*(1-VLOOKUP(F173,Konditionen!$B:$G,6,0))","v":60.6}]
["Rohre","SREN","SREN1122400","Lindabrohr   SR    112.2400  Stück","gem.DIN EN 12237",10,121.2,{"$f":"G174*(1-VLOOKUP(F174,Konditionen!$B:$G,6,0))","v":121.2}]
["Rohre","SREN","SREN1123000","Lindabrohr   SR    112.3000  Stück","gem.DIN EN 12237",10,151.5,{"$f":"G175*(1-VLOOKUP(F175,Konditionen!$B:$G,6,0))","v":151.5}]
["Rohre","SREN","SREN1126000","Lindabrohr   SR    112.6000  Stück","gem.DIN EN 12237",10,303,{"$f":"G176*(1-VLOOKUP(F176,Konditionen!$B:$G,6,0))","v":303}]
["Rohre","SREN","SREN125","Lindabrohr   SR    125       Meter","gem.DIN EN 12237",10,50.5,{"$f":"G177*(1-VLOOKUP(F177,Konditionen!$B:$G,6,0))","v":50.5}]
["Rohre","SREN","SREN1250","Lindabrohr   SR    1250      Meter","gem.DIN EN 12237, mit Doppelsicke",10,883.45,{"$f":"G178*(1-VLOOKUP(F178,Konditionen!$B:$G,6,0))","v":883.45}]
["Rohre","SREN","SREN12503000","Lindabrohr   SR    1250.3000 Stück","gem.DIN EN 12237, mit Doppelsicke",10,2650,{"$f":"G179*(1-VLOOKUP(F179,Konditionen!$B:$G,6,0))","v":2650}]
["Rohre","SREN","SREN12506000","Lindabrohr   SR    1250.6000 Stück","gem.DIN EN 12237, mit Doppelsicke",10,5301,{"$f":"G180*(1-VLOOKUP(F180,Konditionen!$B:$G,6,0))","v":5301}]
["Rohre","SREN","SREN1251200","Lindabrohr   SR    125.1200  Stück","gem.DIN EN 12237",10,60.6,{"$f":"G181*(1-VLOOKUP(F181,Konditionen!$B:$G,6,0))","v":60.6}]
["Rohre","SREN","SREN1252400","Lindabrohr   SR    125.2400  Stück","gem.DIN EN 12237",10,121.2,{"$f":"G182*(1-VLOOKUP(F182,Konditionen!$B:$G,6,0))","v":121.2}]
["Rohre","SREN","SREN1253000","Lindabrohr   SR    125.3000  Stück","gem.DIN EN 12237",10,151.5,{"$f":"G183*(1-VLOOKUP(F183,Konditionen!$B:$G,6,0))","v":151.5}]
["Rohre","SREN","SREN1256000","Lindabrohr   SR    125.6000  Stück","gem.DIN EN 12237",10,303,{"$f":"G184*(1-VLOOKUP(F184,Konditionen!$B:$G,6,0))","v":303}]
["Rohre","SREN","SREN140","Lindabrohr   SR    140       Meter","gem.DIN EN 12237",10,64.2,{"$f":"G185*(1-VLOOKUP(F185,Konditionen!$B:$G,6,0))","v":64.2}]
["Rohre","SREN","SREN1400","Lindabrohr   SR    1400      Meter","gem.DIN EN 12237, mit Doppelsicke",10,1168,{"$f":"G186*(1-VLOOKUP(F186,Konditionen!$B:$G,6,0))","v":1168}]
["Rohre","SREN","SREN1401200","Lindabrohr   SR    140.1200  Stück","gem.DIN EN 12237",10,77.05,{"$f":"G187*(1-VLOOKUP(F187,Konditionen!$B:$G,6,0))","v":77.05}]
["Rohre","SREN","SREN1402400","Lindabrohr   SR    140.2400  Stück","gem.DIN EN 12237",10,154.1,{"$f":"G188*(1-VLOOKUP(F188,Konditionen!$B:$G,6,0))","v":154.1}]
["Rohre","SREN","SREN1403000","Lindabrohr   SR    140.3000  Stück","gem.DIN EN 12237",10,192.6,{"$f":"G189*(1-VLOOKUP(F189,Konditionen!$B:$G,6,0))","v":192.6}]
["Rohre","SREN","SREN1406000","Lindabrohr   SR    140.6000  Stück","gem.DIN EN 12237",10,385.2,{"$f":"G190*(1-VLOOKUP(F190,Konditionen!$B:$G,6,0))","v":385.2}]
["Rohre","SREN","SREN150","Lindabrohr   SR    150       Meter","gem.DIN EN 12237",10,64.2,{"$f":"G191*(1-VLOOKUP(F191,Konditionen!$B:$G,6,0))","v":64.2}]
["Rohre","SREN","SREN1500","Lindabrohr   SR    1500      Meter","gem.DIN EN 12237, mit Doppelsicke",10,1251,{"$f":"G192*(1-VLOOKUP(F192,Konditionen!$B:$G,6,0))","v":1251}]
["Rohre","SREN","SREN1501200","Lindabrohr   SR    150.1200  Stück","gem.DIN EN 12237",10,77.05,{"$f":"G193*(1-VLOOKUP(F193,Konditionen!$B:$G,6,0))","v":77.05}]
["Rohre","SREN","SREN1502400","Lindabrohr   SR    150.2400  Stück","gem.DIN EN 12237",10,154.1,{"$f":"G194*(1-VLOOKUP(F194,Konditionen!$B:$G,6,0))","v":154.1}]
["Rohre","SREN","SREN1503000","Lindabrohr   SR    150.3000  Stück","gem.DIN EN 12237",10,192.6,{"$f":"G195*(1-VLOOKUP(F195,Konditionen!$B:$G,6,0))","v":192.6}]
["Rohre","SREN","SREN1506000","Lindabrohr   SR    150.6000  Stück","gem.DIN EN 12237",10,385.2,{"$f":"G196*(1-VLOOKUP(F196,Konditionen!$B:$G,6,0))","v":385.2}]
["Rohre","SREN","SREN160","Lindabrohr   SR    160       Meter","gem.DIN EN 12237",10,64.2,{"$f":"G197*(1-VLOOKUP(F197,Konditionen!$B:$G,6,0))","v":64.2}]
["Rohre","SREN","SREN1600","Lindabrohr   SR    1600      Meter","gem.DIN EN 12237, mit Doppelsicke",10,1334,{"$f":"G198*(1-VLOOKUP(F198,Konditionen!$B:$G,6,0))","v":1334}]
["Rohre","SREN","SREN1601200","Lindabrohr   SR    160.1200  Stück","gem.DIN EN 12237",10,77.05,{"$f":"G199*(1-VLOOKUP(F199,Konditionen!$B:$G,6,0))","v":77.05}]
["Rohre","SREN","SREN1602400","Lindabrohr   SR    160.2400  Stück","gem.DIN EN 12237",10,154.1,{"$f":"G200*(1-VLOOKUP(F200,Konditionen!$B:$G,6,0))","v":154.1}]
["Rohre","SREN","SREN1603000","Lindabrohr   SR    160.3000  Stück","gem.DIN EN 12237",10,192.6,{"$f":"G201*(1-VLOOKUP(F201,Konditionen!$B:$G,6,0))","v":192.6}]
["Rohre","SREN","SREN1606000","Lindabrohr   SR    160.6000  Stück","gem.DIN EN 12237",10,385.2,{"$f":"G202*(1-VLOOKUP(F202,Konditionen!$B:$G,6,0))","v":385.2}]
["Rohre","SREN","SREN180","Lindabrohr   SR    180       Meter","gem.DIN EN 12237",10,81.25,{"$f":"G203*(1-VLOOKUP(F203,Konditionen!$B:$G,6,0))","v":81.25}]
["Rohre","SREN","SREN1801200","Lindabrohr   SR    180.1200  Stück","gem.DIN EN 12237",10,97.5,{"$f":"G204*(1-VLOOKUP(F204,Konditionen!$B:$G,6,0))","v":97.5}]
["Rohre","SREN","SREN1802400","Lindabrohr   SR    180.2400  Stück","gem.DIN EN 12237",10,195,{"$f":"G205*(1-VLOOKUP(F205,Konditionen!$B:$G,6,0))","v":195}]
["Rohre","SREN","SREN1803000","Lindabrohr   SR    180.3000  Stück","gem.DIN EN 12237",10,243.75,{"$f":"G206*(1-VLOOKUP(F206,Konditionen!$B:$G,6,0))","v":243.75}]
["Rohre","SREN","SREN1806000","Lindabrohr   SR    180.6000  Stück","gem.DIN EN 12237",10,487.5,{"$f":"G207*(1-VLOOKUP(F207,Konditionen!$B:$G,6,0))","v":487.5}]
["Rohre","SREN","SREN200","Lindabrohr   SR    200       Meter","gem.DIN EN 12237",10,81.25,{"$f":"G208*(1-VLOOKUP(F208,Konditionen!$B:$G,6,0))","v":81.25}]
["Rohre","SREN","SREN2001200","Lindabrohr   SR    200.1200  Stück","gem.DIN EN 12237",10,97.5,{"$f":"G209*(1-VLOOKUP(F209,Konditionen!$B:$G,6,0))","v":97.5}]
["Rohre","SREN","SREN2002400","Lindabrohr   SR    200.2400  Stück","gem.DIN EN 12237",10,195,{"$f":"G210*(1-VLOOKUP(F210,Konditionen!$B:$G,6,0))","v":195}]
["Rohre","SREN","SREN2003000","Lindabrohr   SR    200.3000  Stück","gem.DIN EN 12237",10,243.75,{"$f":"G211*(1-VLOOKUP(F211,Konditionen!$B:$G,6,0))","v":243.75}]
["Rohre","SREN","SREN2006000","Lindabrohr   SR    200.6000  Stück","gem.DIN EN 12237",10,487.5,{"$f":"G212*(1-VLOOKUP(F212,Konditionen!$B:$G,6,0))","v":487.5}]
["Rohre","SREN","SREN224","Lindabrohr   SR    224       Meter","gem.DIN EN 12237",10,102.1,{"$f":"G213*(1-VLOOKUP(F213,Konditionen!$B:$G,6,0))","v":102.1}]
["Rohre","SREN","SREN2241200","Lindabrohr   SR    224.1200  Stück","gem.DIN EN 12237",10,122.5,{"$f":"G214*(1-VLOOKUP(F214,Konditionen!$B:$G,6,0))","v":122.5}]
["Rohre","SREN","SREN2242400","Lindabrohr   SR    224.2400  Stück","gem.DIN EN 12237",10,245.05,{"$f":"G215*(1-VLOOKUP(F215,Konditionen!$B:$G,6,0))","v":245.05}]
["Rohre","SREN","SREN2243000","Lindabrohr   SR    224.3000  Stück","gem.DIN EN 12237",10,306.3,{"$f":"G216*(1-VLOOKUP(F216,Konditionen!$B:$G,6,0))","v":306.3}]
["Rohre","SREN","SREN2246000","Lindabrohr   SR    224.6000  Stück","gem.DIN EN 12237",10,612.6,{"$f":"G217*(1-VLOOKUP(F217,Konditionen!$B:$G,6,0))","v":612.6}]
["Rohre","SREN","SREN250","Lindabrohr   SR    250       Meter","gem.DIN EN 12237, mit Doppelsicke",10,102.1,{"$f":"G218*(1-VLOOKUP(F218,Konditionen!$B:$G,6,0))","v":102.1}]
["Rohre","SREN","SREN2501200","Lindabrohr   SR    250.1200  Stück","gem.DIN EN 12237, mit Doppelsicke",10,122.5,{"$f":"G219*(1-VLOOKUP(F219,Konditionen!$B:$G,6,0))","v":122.5}]
["Rohre","SREN","SREN2502400","Lindabrohr   SR    250.2400  Stück","gem.DIN EN 12237, mit Doppelsicke",10,245.05,{"$f":"G220*(1-VLOOKUP(F220,Konditionen!$B:$G,6,0))","v":245.05}]
["Rohre","SREN","SREN2503000","Lindabrohr   SR    250.3000  Stück","gem.DIN EN 12237, mit Doppelsicke",10,306.3,{"$f":"G221*(1-VLOOKUP(F221,Konditionen!$B:$G,6,0))","v":306.3}]
["Rohre","SREN","SREN2506000","Lindabrohr   SR    250.6000  Stück","gem.DIN EN 12237, mit Doppelsicke",10,612.6,{"$f":"G222*(1-VLOOKUP(F222,Konditionen!$B:$G,6,0))","v":612.6}]
["Rohre","SREN","SREN280","Lindabrohr   SR    280       Meter","gem.DIN EN 12237, mit Doppelsicke",10,122,{"$f":"G223*(1-VLOOKUP(F223,Konditionen!$B:$G,6,0))","v":122}]
["Rohre","SREN","SREN2801200","Lindabrohr   SR    280.1200  Stück","gem.DIN EN 12237, mit Doppelsicke",10,146.4,{"$f":"G224*(1-VLOOKUP(F224,Konditionen!$B:$G,6,0))","v":146.4}]
["Rohre","SREN","SREN2802400","Lindabrohr   SR    280.2400  Stück","gem.DIN EN 12237, mit Doppelsicke",10,292.8,{"$f":"G225*(1-VLOOKUP(F225,Konditionen!$B:$G,6,0))","v":292.8}]
["Rohre","SREN","SREN2803000","Lindabrohr   SR    280.3000  Stück","gem.DIN EN 12237, mit Doppelsicke",10,366,{"$f":"G226*(1-VLOOKUP(F226,Konditionen!$B:$G,6,0))","v":366}]
["Rohre","SREN","SREN2806000","Lindabrohr   SR    280.6000  Stück","gem.DIN EN 12237, mit Doppelsicke",10,732,{"$f":"G227*(1-VLOOKUP(F227,Konditionen!$B:$G,6,0))","v":732}]
["Rohre","SREN","SREN300","Lindabrohr   SR    300       Meter","gem.DIN EN 12237, mit Doppelsicke",10,122,{"$f":"G228*(1-VLOOKUP(F228,Konditionen!$B:$G,6,0))","v":122}]
["Rohre","SREN","SREN3001200","Lindabrohr   SR    300.1200  Stück","gem.DIN EN 12237, mit Doppelsicke",10,146.4,{"$f":"G229*(1-VLOOKUP(F229,Konditionen!$B:$G,6,0))","v":146.4}]
["Rohre","SREN","SREN3002400","Lindabrohr   SR    300.2400  Stück","gem.DIN EN 12237, mit Doppelsicke",10,292.8,{"$f":"G230*(1-VLOOKUP(F230,Konditionen!$B:$G,6,0))","v":292.8}]
["Rohre","SREN","SREN3003000","Lindabrohr   SR    300.3000  Stück","gem.DIN EN 12237, mit Doppelsicke",10,366,{"$f":"G231*(1-VLOOKUP(F231,Konditionen!$B:$G,6,0))","v":366}]
["Rohre","SREN","SREN3006000","Lindabrohr   SR    300.6000  Stück","gem.DIN EN 12237, mit Doppelsicke",10,732,{"$f":"G232*(1-VLOOKUP(F232,Konditionen!$B:$G,6,0))","v":732}]
["Rohre","SREN","SREN315","Lindabrohr   SR    315       Meter","gem.DIN EN 12237, mit Doppelsicke",10,151.15,{"$f":"G233*(1-VLOOKUP(F233,Konditionen!$B:$G,6,0))","v":151.15}]
["Rohre","SREN","SREN3151200","Lindabrohr   SR    315.1200  Stück","gem.DIN EN 12237, mit Doppelsicke",10,181.4,{"$f":"G234*(1-VLOOKUP(F234,Konditionen!$B:$G,6,0))","v":181.4}]
["Rohre","SREN","SREN3152400","Lindabrohr   SR    315.2400  Stück","gem.DIN EN 12237, mit Doppelsicke",10,362.75,{"$f":"G235*(1-VLOOKUP(F235,Konditionen!$B:$G,6,0))","v":362.75}]
["Rohre","SREN","SREN3153000","Lindabrohr   SR    315.3000  Stück","gem.DIN EN 12237, mit Doppelsicke",10,453.45,{"$f":"G236*(1-VLOOKUP(F236,Konditionen!$B:$G,6,0))","v":453.45}]
["Rohre","SREN","SREN3156000","Lindabrohr   SR    315.6000  Stück","gem.DIN EN 12237, mit Doppelsicke",10,906.9,{"$f":"G237*(1-VLOOKUP(F237,Konditionen!$B:$G,6,0))","v":906.9}]
["Rohre","SREN","SREN355","Lindabrohr   SR    355       Meter","gem.DIN EN 12237, mit Doppelsicke",10,168,{"$f":"G238*(1-VLOOKUP(F238,Konditionen!$B:$G,6,0))","v":168}]
["Rohre","SREN","SREN3551200","Lindabrohr   SR    355.1200  Stück","gem.DIN EN 12237, mit Doppelsicke",10,201.6,{"$f":"G239*(1-VLOOKUP(F239,Konditionen!$B:$G,6,0))","v":201.6}]
["Rohre","SREN","SREN3552400","Lindabrohr   SR    355.2400  Stück","gem.DIN EN 12237, mit Doppelsicke",10,403.2,{"$f":"G240*(1-VLOOKUP(F240,Konditionen!$B:$G,6,0))","v":403.2}]
["Rohre","SREN","SREN3553000","Lindabrohr   SR    355.3000  Stück","gem.DIN EN 12237, mit Doppelsicke",10,504,{"$f":"G241*(1-VLOOKUP(F241,Konditionen!$B:$G,6,0))","v":504}]
["Rohre","SREN","SREN3556000","Lindabrohr   SR    355.6000  Stück","gem.DIN EN 12237, mit Doppelsicke",10,1008,{"$f":"G242*(1-VLOOKUP(F242,Konditionen!$B:$G,6,0))","v":1008}]
["Rohre","SREN","SREN400","Lindabrohr   SR    400       Meter","gem.DIN EN 12237, mit Doppelsicke",10,187.95,{"$f":"G243*(1-VLOOKUP(F243,Konditionen!$B:$G,6,0))","v":187.95}]
["Rohre","SREN","SREN4002400","Lindabrohr   SR    400.2400","gem.DIN EN 12237, mit Doppelsicke",10,451.1,{"$f":"G244*(1-VLOOKUP(F244,Konditionen!$B:$G,6,0))","v":451.1}]
["Rohre","SREN","SREN4003000","Lindabrohr   SR    400.3000  Stück","gem.DIN EN 12237, mit Doppelsicke",10,563.85,{"$f":"G245*(1-VLOOKUP(F245,Konditionen!$B:$G,6,0))","v":563.85}]
["Rohre","SREN","SREN4006000","Lindabrohr   SR    400.6000  Stück","gem.DIN EN 12237, mit Doppelsicke",10,1128,{"$f":"G246*(1-VLOOKUP(F246,Konditionen!$B:$G,6,0))","v":1128}]
["Rohre","SREN","SREN450","Lindabrohr   SR    450       Meter","gem.DIN EN 12237, mit Doppelsicke",10,211.5,{"$f":"G247*(1-VLOOKUP(F247,Konditionen!$B:$G,6,0))","v":211.5}]
["Rohre","SREN","SREN4502400","Lindabrohr   SR    450.2400","gem.DIN EN 12237, mit Doppelsicke",10,507.6,{"$f":"G248*(1-VLOOKUP(F248,Konditionen!$B:$G,6,0))","v":507.6}]
["Rohre","SREN","SREN4503000","Lindabrohr   SR    450.3000  Stück","gem.DIN EN 12237, mit Doppelsicke",10,634.5,{"$f":"G249*(1-VLOOKUP(F249,Konditionen!$B:$G,6,0))","v":634.5}]
["Rohre","SREN","SREN4506000","Lindabrohr   SR    450.6000  Stück","gem.DIN EN 12237, mit Doppelsicke",10,1269,{"$f":"G250*(1-VLOOKUP(F250,Konditionen!$B:$G,6,0))","v":1269}]
["Rohre","SREN","SREN500","Lindabrohr   SR    500       Meter","gem.DIN EN 12237, mit Doppelsicke",10,234.6,{"$f":"G251*(1-VLOOKUP(F251,Konditionen!$B:$G,6,0))","v":234.6}]
["Rohre","SREN","SREN5003000","Lindabrohr   SR    500.3000  Stück","gem.DIN EN 12237, mit Doppelsicke",10,703.8,{"$f":"G252*(1-VLOOKUP(F252,Konditionen!$B:$G,6,0))","v":703.8}]
["Rohre","SREN","SREN5006000","Lindabrohr   SR    500.6000  Stück","gem.DIN EN 12237, mit Doppelsicke",10,1408,{"$f":"G253*(1-VLOOKUP(F253,Konditionen!$B:$G,6,0))","v":1408}]
["Rohre","SREN","SREN560","Lindabrohr   SR    560       Meter","gem.DIN EN 12237, mit Doppelsicke",10,263.3,{"$f":"G254*(1-VLOOKUP(F254,Konditionen!$B:$G,6,0))","v":263.3}]
["Rohre","SREN","SREN5603000","Lindabrohr   SR    560.3000  Stück","gem.DIN EN 12237, mit Doppelsicke",10,789.9,{"$f":"G255*(1-VLOOKUP(F255,Konditionen!$B:$G,6,0))","v":789.9}]
["Rohre","SREN","SREN5606000","Lindabrohr   SR    560.6000  Stück","gem.DIN EN 12237, mit Doppelsicke",10,1580,{"$f":"G256*(1-VLOOKUP(F256,Konditionen!$B:$G,6,0))","v":1580}]
["Rohre","SREN","SREN600","Lindabrohr   SR    600       Meter","gem.DIN EN 12237, mit Doppelsicke",10,275.55,{"$f":"G257*(1-VLOOKUP(F257,Konditionen!$B:$G,6,0))","v":275.55}]
["Rohre","SREN","SREN6003000","Lindabrohr   SR    600.3000  Stück","gem.DIN EN 12237, mit Doppelsicke",10,826.65,{"$f":"G258*(1-VLOOKUP(F258,Konditionen!$B:$G,6,0))","v":826.65}]
["Rohre","SREN","SREN6006000","Lindabrohr   SR    600.6000  Stück","gem.DIN EN 12237, mit Doppelsicke",10,1653,{"$f":"G259*(1-VLOOKUP(F259,Konditionen!$B:$G,6,0))","v":1653}]
["Rohre","SREN","SREN630","Lindabrohr   SR    630       Meter","gem.DIN EN 12237, mit Doppelsicke",10,379.4,{"$f":"G260*(1-VLOOKUP(F260,Konditionen!$B:$G,6,0))","v":379.4}]
["Rohre","SREN","SREN6303000","Lindabrohr   SR    630.3000  Stück","gem.DIN EN 12237, mit Doppelsicke",10,1138,{"$f":"G261*(1-VLOOKUP(F261,Konditionen!$B:$G,6,0))","v":1138}]
["Rohre","SREN","SREN6306000","Lindabrohr   SR    630.6000  Stück","gem.DIN EN 12237, mit Doppelsicke",10,2276,{"$f":"G262*(1-VLOOKUP(F262,Konditionen!$B:$G,6,0))","v":2276}]
["Rohre","SREN","SREN71","Lindabrohr   SR    71        Meter","gem.DIN EN 12237",10,33.200000000000003,{"$f":"G263*(1-VLOOKUP(F263,Konditionen!$B:$G,6,0))","v":33.200000000000003}]
["Rohre","SREN","SREN710","Lindabrohr   SR    710       Meter","gem.DIN EN 12237, mit Doppelsicke",10,428.6,{"$f":"G264*(1-VLOOKUP(F264,Konditionen!$B:$G,6,0))","v":428.6}]
["Rohre","SREN","SREN7103000","Lindabrohr   SR    710.3000  Stück","gem.DIN EN 12237, mit Doppelsicke",10,1286,{"$f":"G265*(1-VLOOKUP(F265,Konditionen!$B:$G,6,0))","v":1286}]
["Rohre","SREN","SREN7106000","Lindabrohr   SR    710.6000  Stück","gem.DIN EN 12237, mit Doppelsicke",10,2572,{"$f":"G266*(1-VLOOKUP(F266,Konditionen!$B:$G,6,0))","v":2572}]
["Rohre","SREN","SREN711200","Lindabrohr   SR     71.1200  Stück","gem.DIN EN 12237",10,39.85,{"$f":"G267*(1-VLOOKUP(F267,Konditionen!$B:$G,6,0))","v":39.85}]
["Rohre","SREN","SREN712400","Lindabrohr   SR     71.2400  Stück","gem.DIN EN 12237",10,79.7,{"$f":"G268*(1-VLOOKUP(F268,Konditionen!$B:$G,6,0))","v":79.7}]
["Rohre","SREN","SREN713000","Lindabrohr   SR     71.3000  Stück","gem.DIN EN 12237",10,99.6,{"$f":"G269*(1-VLOOKUP(F269,Konditionen!$B:$G,6,0))","v":99.6}]
["Rohre","SREN","SREN716000","Lindabrohr   SR     71.6000  Stück","gem.DIN EN 12237",10,199.2,{"$f":"G270*(1-VLOOKUP(F270,Konditionen!$B:$G,6,0))","v":199.2}]
["Rohre","SREN","SREN80","Lindabrohr   SR    80        Meter","gem.DIN EN 12237",10,33.200000000000003,{"$f":"G271*(1-VLOOKUP(F271,Konditionen!$B:$G,6,0))","v":33.200000000000003}]
["Rohre","SREN","SREN800","Lindabrohr   SR    800       Meter","gem.DIN EN 12237, mit Doppelsicke",10,470.8,{"$f":"G272*(1-VLOOKUP(F272,Konditionen!$B:$G,6,0))","v":470.8}]
["Rohre","SREN","SREN8003000","Lindabrohr   SR    800.3000  Stück","gem.DIN EN 12237, mit Doppelsicke",10,1412,{"$f":"G273*(1-VLOOKUP(F273,Konditionen!$B:$G,6,0))","v":1412}]
["Rohre","SREN","SREN8006000","Lindabrohr   SR    800.6000  Stück","gem.DIN EN 12237, mit Doppelsicke",10,2825,{"$f":"G274*(1-VLOOKUP(F274,Konditionen!$B:$G,6,0))","v":2825}]
["Rohre","SREN","SREN801200","Lindabrohr   SR     80.1200  Stück","gem.DIN EN 12237",10,39.85,{"$f":"G275*(1-VLOOKUP(F275,Konditionen!$B:$G,6,0))","v":39.85}]
["Rohre","SREN","SREN802400","Lindabrohr   SR     80.2400  Stück","gem.DIN EN 12237",10,79.7,{"$f":"G276*(1-VLOOKUP(F276,Konditionen!$B:$G,6,0))","v":79.7}]
["Rohre","SREN","SREN803000","Lindabrohr   SR     80.3000  Stück","gem.DIN EN 12237",10,99.6,{"$f":"G277*(1-VLOOKUP(F277,Konditionen!$B:$G,6,0))","v":99.6}]
["Rohre","SREN","SREN806000","Lindabrohr   SR     80.6000  Stück","gem.DIN EN 12237",10,199.2,{"$f":"G278*(1-VLOOKUP(F278,Konditionen!$B:$G,6,0))","v":199.2}]
["Rohre","SREN","SREN90","Lindabrohr   SR    90        Meter","gem.DIN EN 12237",10,40.299999999999997,{"$f":"G279*(1-VLOOKUP(F279,Konditionen!$B:$G,6,0))","v":40.299999999999997}]
["Rohre","SREN","SREN900","Lindabrohr   SR    900       Meter","gem.DIN EN 12237, mit Doppelsicke",10,533.79999999999995,{"$f":"G280*(1-VLOOKUP(F280,Konditionen!$B:$G,6,0))","v":533.79999999999995}]
["Rohre","SREN","SREN9003000","Lindabrohr   SR    900.3000  Stück","gem.DIN EN 12237, mit Doppelsicke",10,1601,{"$f":"G281*(1-VLOOKUP(F281,Konditionen!$B:$G,6,0))","v":1601}]
["Rohre","SREN","SREN9006000","Lindabrohr   SR    900.6000  Stück","gem. DIN EN 12237, mit Doppelsicke",10,3203,{"$f":"G282*(1-VLOOKUP(F282,Konditionen!$B:$G,6,0))","v":3203}]
["Rohre","SREN","SREN901200","Lindabrohr   SR     90.1200  Stück","gem.DIN EN 12237",10,48.35,{"$f":"G283*(1-VLOOKUP(F283,Konditionen!$B:$G,6,0))","v":48.35}]
["Rohre","SREN","SREN902400","Lindabrohr   SR     90.2400  Stück","gem.DIN EN 12237",10,96.7,{"$f":"G284*(1-VLOOKUP(F284,Konditionen!$B:$G,6,0))","v":96.7}]
["Rohre","SREN","SREN903000","Lindabrohr   SR     90.3000  Stück","gem.DIN EN 12237",10,120.9,{"$f":"G285*(1-VLOOKUP(F285,Konditionen!$B:$G,6,0))","v":120.9}]
["Rohre","SREN","SREN906000","Lindabrohr   SR     90.6000  Stück","gem.DIN EN 12237",10,241.8,{"$f":"G286*(1-VLOOKUP(F286,Konditionen!$B:$G,6,0))","v":241.8}]
["Rohre","SRPERF","SRPERF1002400","perforiert. Rohr SRP 0,6  100.2400","freier Querschnitt 33 %",10,431.65,{"$f":"G287*(1-VLOOKUP(F287,Konditionen!$B:$G,6,0))","v":431.65}]
["Rohre","SRPERF","SRPERF1122400","perforiert. Rohr SRP 0,6  112.2400","freier Querschnitt 33 %",10,541.5,{"$f":"G288*(1-VLOOKUP(F288,Konditionen!$B:$G,6,0))","v":541.5}]
["Rohre","SRPERF","SRPERF1252400","perforiert. Rohr SRP 0,6  125.2400","freier Querschnitt 33 %",10,541.5,{"$f":"G289*(1-VLOOKUP(F289,Konditionen!$B:$G,6,0))","v":541.5}]
["Rohre","SRPERF","SRPERF1402400","perforiert. Rohr SRP 0,6  140.2400","freier Querschnitt 33 %",10,687.1,{"$f":"G290*(1-VLOOKUP(F290,Konditionen!$B:$G,6,0))","v":687.1}]
["Rohre","SRPERF","SRPERF1502400","perforiert. Rohr SRP 0,6  150.2400","freier Querschnitt 33 %",10,687.1,{"$f":"G291*(1-VLOOKUP(F291,Konditionen!$B:$G,6,0))","v":687.1}]
["Rohre","SRPERF","SRPERF1602400","perforiert. Rohr SRP 0,6  160.2400","freier Querschnitt 33 %",10,687.1,{"$f":"G292*(1-VLOOKUP(F292,Konditionen!$B:$G,6,0))","v":687.1}]
["Rohre","SRPERF","SRPERF1802400","perforiert. Rohr SRP 0,6  180.2400","freier Querschnitt 33 %",10,858.5,{"$f":"G293*(1-VLOOKUP(F293,Konditionen!$B:$G,6,0))","v":858.5}]
["Rohre","SRPERF","SRPERF2002400","perforiert. Rohr SRP 0,6  200.2400","freier Querschnitt 33 %",10,858.5,{"$f":"G294*(1-VLOOKUP(F294,Konditionen!$B:$G,6,0))","v":858.5}]
["Rohre","SRPERF","SRPERF2242400","perforiert. Rohr SRP 0,6  224.2400","freier Querschnitt 33 %",10,1074,{"$f":"G295*(1-VLOOKUP(F295,Konditionen!$B:$G,6,0))","v":1074}]
["Rohre","SRPERF","SRPERF2502400","perforiert. Rohr SRP 0,6  250.2400","freier Querschnitt 33 %",10,1074,{"$f":"G296*(1-VLOOKUP(F296,Konditionen!$B:$G,6,0))","v":1074}]
["Rohre","SRPERF","SRPERF2802400","perforiert. Rohr SRP 0,6  280.2400","freier Querschnitt 33 %",10,1288,{"$f":"G297*(1-VLOOKUP(F297,Konditionen!$B:$G,6,0))","v":1288}]
["Rohre","SRPERF","SRPERF3002400","perforiert. Rohr SRP 0,6  300.2400","freier Querschnitt 33 %",10,1288,{"$f":"G298*(1-VLOOKUP(F298,Konditionen!$B:$G,6,0))","v":1288}]
["Rohre","SRPERF","SRPERF3152400","perforiert. Rohr SRP 0,6  315.2400","freier Querschnitt 33 %",10,1353,{"$f":"G299*(1-VLOOKUP(F299,Konditionen!$B:$G,6,0))","v":1353}]
["Rohre","SRPERF","SRPERF3552400","perforiert. Rohr SRP 0,6  355.2400","freier Querschnitt 33 %",10,1525,{"$f":"G300*(1-VLOOKUP(F300,Konditionen!$B:$G,6,0))","v":1525}]
["Rohre","SRPERF","SRPERF4002400","perforiert. Rohr SRP 0,6  400.2400","freier Querschnitt 33 %",10,1718,{"$f":"G301*(1-VLOOKUP(F301,Konditionen!$B:$G,6,0))","v":1718}]
["Rohre","SRPERF","SRPERF4502400","perforiert. Rohr SRP 0,6  450.2400","freier Querschnitt 33 %",10,1932,{"$f":"G302*(1-VLOOKUP(F302,Konditionen!$B:$G,6,0))","v":1932}]
["Rohre","SRPERF","SRPERF5002400","perforiert. Rohr SRP 0,6  500.2400","freier Querschnitt 33 %",10,2146,{"$f":"G303*(1-VLOOKUP(F303,Konditionen!$B:$G,6,0))","v":2146}]
["Rohre","SRPERF","SRPERF5602400","perforiert. Rohr SRP 0,6  560.2400","freier Querschnitt 33 %",10,2406,{"$f":"G304*(1-VLOOKUP(F304,Konditionen!$B:$G,6,0))","v":2406}]
["Rohre","SRPERF","SRPERF6002400","perforiert. Rohr SRP 0,6  600.2400","freier Querschnitt 33 %",10,2706,{"$f":"G305*(1-VLOOKUP(F305,Konditionen!$B:$G,6,0))","v":2706}]
["Rohre","SRPERF","SRPERF6302400","perforiert. Rohr SRP 0,6  630.2400","freier Querschnitt 33 %",10,2706,{"$f":"G306*(1-VLOOKUP(F306,Konditionen!$B:$G,6,0))","v":2706}]
["Rohre","SRPERF","SRPERF7102400","perforiert. Rohr SRP 0,6  710.2400","freier Querschnitt 33 %",10,3050,{"$f":"G307*(1-VLOOKUP(F307,Konditionen!$B:$G,6,0))","v":3050}]
["Rohre","SRPERF","SRPERF8002400","perforiert. Rohr SRP 0,6  800.2400","freier Querschnitt 33 %",10,3435,{"$f":"G308*(1-VLOOKUP(F308,Konditionen!$B:$G,6,0))","v":3435}]
["Rohre","SRPERF","SRPERF9002400","perforiert. Rohr SRP 0,6  900.2400","freier Querschnitt 33 %",10,3865,{"$f":"G309*(1-VLOOKUP(F309,Konditionen!$B:$G,6,0))","v":3865}]
["Rohre","SRENC","SRENC803000","Lindabrohr SR CLICK  80.3000  Stück","gem.DIN EN 12237",10,99.6,{"$f":"G310*(1-VLOOKUP(F310,Konditionen!$B:$G,6,0))","v":99.6}]
["Rohre","SRENC","SRENC80","Lindabrohr   SR CLICK 80     Meter","gem.DIN EN 12237",10,33.200000000000003,{"$f":"G311*(1-VLOOKUP(F311,Konditionen!$B:$G,6,0))","v":33.200000000000003}]
["Rohre","LNR","LNR1001000","Längsnahtrohr    LNR     100.1000","",10,112.15,{"$f":"G312*(1-VLOOKUP(F312,Konditionen!$B:$G,6,0))","v":112.15}]
["Rohre","LNR","LNR100500","Längsnahtrohr    LNR     100.500","",10,69.849999999999994,{"$f":"G313*(1-VLOOKUP(F313,Konditionen!$B:$G,6,0))","v":69.849999999999994}]
["Rohre","LNR","LNR1121000","Längsnahtrohr    LNR     112.1000","",10,127.4,{"$f":"G314*(1-VLOOKUP(F314,Konditionen!$B:$G,6,0))","v":127.4}]
["Rohre","LNR","LNR112500","Längsnahtrohr    LNR     112.500","",10,82.6,{"$f":"G315*(1-VLOOKUP(F315,Konditionen!$B:$G,6,0))","v":82.6}]
["Rohre","LNR","LNR1251000","Längsnahtrohr    LNR     125.1000","",10,127.4,{"$f":"G316*(1-VLOOKUP(F316,Konditionen!$B:$G,6,0))","v":127.4}]
["Rohre","LNR","LNR125500","Längsnahtrohr    LNR     125.500","",10,82.6,{"$f":"G317*(1-VLOOKUP(F317,Konditionen!$B:$G,6,0))","v":82.6}]
["Rohre","LNR","LNR1401000","Längsnahtrohr    LNR     140.1000","",10,152.5,{"$f":"G318*(1-VLOOKUP(F318,Konditionen!$B:$G,6,0))","v":152.5}]
["Rohre","LNR","LNR140500","Längsnahtrohr    LNR     140.500","",10,92.2,{"$f":"G319*(1-VLOOKUP(F319,Konditionen!$B:$G,6,0))","v":92.2}]
["Rohre","LNR","LNR1501000","Längsnahtrohr    LNR     150.1000","",10,152.5,{"$f":"G320*(1-VLOOKUP(F320,Konditionen!$B:$G,6,0))","v":152.5}]
["Rohre","LNR","LNR150500","Längsnahtrohr    LNR     150.500","",10,92.2,{"$f":"G321*(1-VLOOKUP(F321,Konditionen!$B:$G,6,0))","v":92.2}]
["Rohre","LNR","LNR1601000","Längsnahtrohr    LNR     160.1000","",10,152.5,{"$f":"G322*(1-VLOOKUP(F322,Konditionen!$B:$G,6,0))","v":152.5}]
["Rohre","LNR","LNR1601500","Längsnahtrohr    LNR     160.1500","",10,233.4,{"$f":"G323*(1-VLOOKUP(F323,Konditionen!$B:$G,6,0))","v":233.4}]
["Rohre","LNR","LNR1602000","Längsnahtrohr    LNR     160.2000","",10,313.8,{"$f":"G324*(1-VLOOKUP(F324,Konditionen!$B:$G,6,0))","v":313.8}]
["Rohre","LNR","LNR160500","Längsnahtrohr    LNR     160.500","",10,92.2,{"$f":"G325*(1-VLOOKUP(F325,Konditionen!$B:$G,6,0))","v":92.2}]
["Rohre","LNR","LNR1801000","Längsnahtrohr    LNR     180.1000","",10,179.65,{"$f":"G326*(1-VLOOKUP(F326,Konditionen!$B:$G,6,0))","v":179.65}]
["Rohre","LNR","LNR1801500","Längsnahtrohr    LNR     180.1500","",10,269.7,{"$f":"G327*(1-VLOOKUP(F327,Konditionen!$B:$G,6,0))","v":269.7}]
["Rohre","LNR","LNR1802000","Längsnahtrohr    LNR     180.2000","",10,366.25,{"$f":"G328*(1-VLOOKUP(F328,Konditionen!$B:$G,6,0))","v":366.25}]
["Rohre","LNR","LNR180500","Längsnahtrohr    LNR     180.500","",10,112.15,{"$f":"G329*(1-VLOOKUP(F329,Konditionen!$B:$G,6,0))","v":112.15}]
["Rohre","LNR","LNR2001000","Längsnahtrohr    LNR     200.1000","",10,179.65,{"$f":"G330*(1-VLOOKUP(F330,Konditionen!$B:$G,6,0))","v":179.65}]
["Rohre","LNR","LNR2001500","Längsnahtrohr    LNR     200.1500","",10,269.7,{"$f":"G331*(1-VLOOKUP(F331,Konditionen!$B:$G,6,0))","v":269.7}]
["Rohre","LNR","LNR2002000","Längsnahtrohr    LNR     200.2000","",10,366.25,{"$f":"G332*(1-VLOOKUP(F332,Konditionen!$B:$G,6,0))","v":366.25}]
["Rohre","LNR","LNR200500","Längsnahtrohr    LNR     200.500","",10,112.15,{"$f":"G333*(1-VLOOKUP(F333,Konditionen!$B:$G,6,0))","v":112.15}]
["Rohre","LNR","LNR2241000","Längsnahtrohr    LNR     224.1000","",10,212.6,{"$f":"G334*(1-VLOOKUP(F334,Konditionen!$B:$G,6,0))","v":212.6}]
["Rohre","LNR","LNR2241500","Längsnahtrohr    LNR     224.1500","in 0,7mm",10,329.8,{"$f":"G335*(1-VLOOKUP(F335,Konditionen!$B:$G,6,0))","v":329.8}]
["Rohre","LNR","LNR2242000","Längsnahtrohr    LNR     224.2000","in 0,7mm",10,450.8,{"$f":"G336*(1-VLOOKUP(F336,Konditionen!$B:$G,6,0))","v":450.8}]
["Rohre","LNR","LNR224500","Längsnahtrohr    LNR     224.500","",10,127.4,{"$f":"G337*(1-VLOOKUP(F337,Konditionen!$B:$G,6,0))","v":127.4}]
["Rohre","LNR","LNR2501000","Längsnahtrohr    LNR     250.1000","",10,212.6,{"$f":"G338*(1-VLOOKUP(F338,Konditionen!$B:$G,6,0))","v":212.6}]
["Rohre","LNR","LNR2501500","Längsnahtrohr    LNR     250.1500","",10,329.8,{"$f":"G339*(1-VLOOKUP(F339,Konditionen!$B:$G,6,0))","v":329.8}]
["Rohre","LNR","LNR2502000","Längsnahtrohr    LNR     250.2000","",10,450.8,{"$f":"G340*(1-VLOOKUP(F340,Konditionen!$B:$G,6,0))","v":450.8}]
["Rohre","LNR","LNR250500","Längsnahtrohr    LNR     250.500","",10,127.4,{"$f":"G341*(1-VLOOKUP(F341,Konditionen!$B:$G,6,0))","v":127.4}]
["Rohre","LNR","LNR2801000","Längsnahtrohr    LNR     280.1000","",10,245.05,{"$f":"G342*(1-VLOOKUP(F342,Konditionen!$B:$G,6,0))","v":245.05}]
["Rohre","LNR","LNR2801500","Längsnahtrohr    LNR     280.1500","",10,366.25,{"$f":"G343*(1-VLOOKUP(F343,Konditionen!$B:$G,6,0))","v":366.25}]
["Rohre","LNR","LNR2802000","Längsnahtrohr    LNR     280.2000","",10,514.95000000000005,{"$f":"G344*(1-VLOOKUP(F344,Konditionen!$B:$G,6,0))","v":514.95000000000005}]
["Rohre","LNR","LNR280500","Längsnahtrohr    LNR      280.500","",10,152.5,{"$f":"G345*(1-VLOOKUP(F345,Konditionen!$B:$G,6,0))","v":152.5}]
["Rohre","LNR","LNR3001000","Längsnahtrohr    LNR     300.1000","",10,245.05,{"$f":"G346*(1-VLOOKUP(F346,Konditionen!$B:$G,6,0))","v":245.05}]
["Rohre","LNR","LNR3001500","Längsnahtrohr    LNR     300.1500","",10,366.25,{"$f":"G347*(1-VLOOKUP(F347,Konditionen!$B:$G,6,0))","v":366.25}]
["Rohre","LNR","LNR3002000","Längsnahtrohr    LNR     300.2000","",10,514.95000000000005,{"$f":"G348*(1-VLOOKUP(F348,Konditionen!$B:$G,6,0))","v":514.95000000000005}]
["Rohre","LNR","LNR300500","Längsnahtrohr    LNR     300.500","",10,152.5,{"$f":"G349*(1-VLOOKUP(F349,Konditionen!$B:$G,6,0))","v":152.5}]
["Rohre","LNR","LNR3151000","Längsnahtrohr    LNR     315.1000","",10,315.85000000000002,{"$f":"G350*(1-VLOOKUP(F350,Konditionen!$B:$G,6,0))","v":315.85000000000002}]
["Rohre","LNR","LNR3151500","Längsnahtrohr    LNR     315.1500","",10,386.95,{"$f":"G351*(1-VLOOKUP(F351,Konditionen!$B:$G,6,0))","v":386.95}]
["Rohre","LNR","LNR3152000","Längsnahtrohr    LNR     315.2000","",10,540,{"$f":"G352*(1-VLOOKUP(F352,Konditionen!$B:$G,6,0))","v":540}]
["Rohre","LNR","LNR315500","Längsnahtrohr    LNR     315.500","",10,179.65,{"$f":"G353*(1-VLOOKUP(F353,Konditionen!$B:$G,6,0))","v":179.65}]
["Rohre","LNR","LNR3551000","Längsnahtrohr    LNR     355.1000","",10,332.35,{"$f":"G354*(1-VLOOKUP(F354,Konditionen!$B:$G,6,0))","v":332.35}]
["Rohre","LNR","LNR3551500","Längsnahtrohr    LNR     355.1500","",10,442.35,{"$f":"G355*(1-VLOOKUP(F355,Konditionen!$B:$G,6,0))","v":442.35}]
["Rohre","LNR","LNR3552000","Längsnahtrohr    LNR     355.2000","",10,619.5,{"$f":"G356*(1-VLOOKUP(F356,Konditionen!$B:$G,6,0))","v":619.5}]
["Rohre","LNR","LNR355500","Längsnahtrohr    LNR     355.500","",10,201.3,{"$f":"G357*(1-VLOOKUP(F357,Konditionen!$B:$G,6,0))","v":201.3}]
["Rohre","LNR","LNR4001000","Längsnahtrohr    LNR     400.1000","",10,395.25,{"$f":"G358*(1-VLOOKUP(F358,Konditionen!$B:$G,6,0))","v":395.25}]
["Rohre","LNR","LNR4001500","Längsnahtrohr    LNR     400.1500","",10,575.25,{"$f":"G359*(1-VLOOKUP(F359,Konditionen!$B:$G,6,0))","v":575.25}]
["Rohre","LNR","LNR4002000","Längsnahtrohr    LNR     400.2000","",10,799.4,{"$f":"G360*(1-VLOOKUP(F360,Konditionen!$B:$G,6,0))","v":799.4}]
["Rohre","LNR","LNR400500","Längsnahtrohr    LNR     400.500","",10,235.95,{"$f":"G361*(1-VLOOKUP(F361,Konditionen!$B:$G,6,0))","v":235.95}]
["Rohre","LNR","LNR4501000","Längsnahtrohr    LNR     450.1000","",10,448.95,{"$f":"G362*(1-VLOOKUP(F362,Konditionen!$B:$G,6,0))","v":448.95}]
["Rohre","LNR","LNR4501500","Längsnahtrohr    LNR     450.1500","",10,653.70000000000005,{"$f":"G363*(1-VLOOKUP(F363,Konditionen!$B:$G,6,0))","v":653.70000000000005}]
["Rohre","LNR","LNR4502000","Längsnahtrohr    LNR     450.2000","",10,906.95,{"$f":"G364*(1-VLOOKUP(F364,Konditionen!$B:$G,6,0))","v":906.95}]
["Rohre","LNR","LNR450500","Längsnahtrohr    LNR     450.500","",10,264.75,{"$f":"G365*(1-VLOOKUP(F365,Konditionen!$B:$G,6,0))","v":264.75}]
["Rohre","LNR","LNR5001000","Längsnahtrohr    LNR     500.1000","mit 2 Falzen",10,501.05,{"$f":"G366*(1-VLOOKUP(F366,Konditionen!$B:$G,6,0))","v":501.05}]
["Rohre","LNR","LNR5001500","Längsnahtrohr    LNR     500.1500","mit 2 Falzen",10,722.45,{"$f":"G367*(1-VLOOKUP(F367,Konditionen!$B:$G,6,0))","v":722.45}]
["Rohre","LNR","LNR5002000","Längsnahtrohr    LNR     500.2000","mit 2 Falzen",10,999,{"$f":"G368*(1-VLOOKUP(F368,Konditionen!$B:$G,6,0))","v":999}]
["Rohre","LNR","LNR500500","Längsnahtrohr    LNR     500.500","mit 2 Falzen",10,295.89999999999998,{"$f":"G369*(1-VLOOKUP(F369,Konditionen!$B:$G,6,0))","v":295.89999999999998}]
["Rohre","LNR","LNR5601000","Längsnahtrohr    LNR     560.1000","mit 2 Falzen",10,807.3,{"$f":"G370*(1-VLOOKUP(F370,Konditionen!$B:$G,6,0))","v":807.3}]
["Rohre","LNR","LNR5601500","Längsnahtrohr    LNR     560.1500","in 0,9mm, mit 2 Falzen",10,1231,{"$f":"G371*(1-VLOOKUP(F371,Konditionen!$B:$G,6,0))","v":1231}]
["Rohre","LNR","LNR5602000","Längsnahtrohr    LNR     560.2000","in 0,9mm, mit 2 Falzen",10,1641,{"$f":"G372*(1-VLOOKUP(F372,Konditionen!$B:$G,6,0))","v":1641}]
["Rohre","LNR","LNR560500","Längsnahtrohr    LNR     560.500","in 0,9mm, mit 2 Falzen",10,492.1,{"$f":"G373*(1-VLOOKUP(F373,Konditionen!$B:$G,6,0))","v":492.1}]
["Rohre","LNR","LNR6001500","Längsnahtrohr    LNR     600.1500","in 0,9mm, mit 2 Falzen",10,1322,{"$f":"G374*(1-VLOOKUP(F374,Konditionen!$B:$G,6,0))","v":1322}]
["Rohre","LNR","LNR6002000","Längsnahtrohr    LNR     600.2000","in 0,9mm, mit 2 Falzen",10,1819,{"$f":"G375*(1-VLOOKUP(F375,Konditionen!$B:$G,6,0))","v":1819}]
["Rohre","LNR","LNR600500","Längsnahtrohr    LNR     600.500","in 0,9mm, mit 2 Falzen",10,529.85,{"$f":"G376*(1-VLOOKUP(F376,Konditionen!$B:$G,6,0))","v":529.85}]
["Rohre","LNR","LNR6301500","Längsnahtrohr    LNR     630.1500","in 0,9mm, mit 2 Falzen",10,1637,{"$f":"G377*(1-VLOOKUP(F377,Konditionen!$B:$G,6,0))","v":1637}]
["Rohre","LNR","LNR6302000","Längsnahtrohr    LNR     630.2000","in 0,9mm, mit 2 Falzen",10,1841,{"$f":"G378*(1-VLOOKUP(F378,Konditionen!$B:$G,6,0))","v":1841}]
["Rohre","LNR","LNR630500","Längsnahtrohr    LNR     630.500","in 0,9mm, mit 2 Falzen",10,546.20000000000005,{"$f":"G379*(1-VLOOKUP(F379,Konditionen!$B:$G,6,0))","v":546.20000000000005}]
["Rohre","LNR","LNR6001000","Längsnahtrohr    LNR     600.1000","in 0,9mm, mit 2 Falzen",10,909.7,{"$f":"G380*(1-VLOOKUP(F380,Konditionen!$B:$G,6,0))","v":909.7}]
["Rohre","LNR","LNR6301000","Längsnahtrohr    LNR     630.1000","in 0,9mm, mit 2 Falzen",10,997.65,{"$f":"G381*(1-VLOOKUP(F381,Konditionen!$B:$G,6,0))","v":997.65}]
["Flex","DRATMFU","DRATMFU1001000","Flex-Verbinder DRATMFU     100.1000","",11,71.25,{"$f":"G382*(1-VLOOKUP(F382,Konditionen!$B:$G,6,0))","v":71.25}]
["Flex","DRATMFU","DRATMFU1001500","Flex-Verbinder DRATMFU     100.1500","",11,86.45,{"$f":"G383*(1-VLOOKUP(F383,Konditionen!$B:$G,6,0))","v":86.45}]
["Flex","DRATMFU","DRATMFU100500","Flex-Verbinder DRATMFU     100.500","",11,57.5,{"$f":"G384*(1-VLOOKUP(F384,Konditionen!$B:$G,6,0))","v":57.5}]
["Flex","DRATMFU","DRATMFU1251000","Flex-Verbinder DRATMFU     125.1000","",11,89.55,{"$f":"G385*(1-VLOOKUP(F385,Konditionen!$B:$G,6,0))","v":89.55}]
["Flex","DRATMFU","DRATMFU1251500","Flex-Verbinder DRATMFU     125.1500","",11,103.9,{"$f":"G386*(1-VLOOKUP(F386,Konditionen!$B:$G,6,0))","v":103.9}]
["Flex","DRATMFU","DRATMFU125500","Flex-Verbinder DRATMFU     125.500","",11,61.25,{"$f":"G387*(1-VLOOKUP(F387,Konditionen!$B:$G,6,0))","v":61.25}]
["Flex","DRATMFU","DRATMFU1601000","Flex-Verbinder DRATMFU     160.1000","",11,104.25,{"$f":"G388*(1-VLOOKUP(F388,Konditionen!$B:$G,6,0))","v":104.25}]
["Flex","DRATMFU","DRATMFU1601500","Flex-Verbinder DRATMFU     160.1500","",11,121.25,{"$f":"G389*(1-VLOOKUP(F389,Konditionen!$B:$G,6,0))","v":121.25}]
["Flex","DRATMFU","DRATMFU160500","Flex-Verbinder DRATMFU     160.500","",11,72.3,{"$f":"G390*(1-VLOOKUP(F390,Konditionen!$B:$G,6,0))","v":72.3}]
["Flex","DRATMFU","DRATMFU2001000","Flex-Verbinder DRATMFU     200.1000","",11,107.7,{"$f":"G391*(1-VLOOKUP(F391,Konditionen!$B:$G,6,0))","v":107.7}]
["Flex","DRATMFU","DRATMFU2001500","Flex-Verbinder DRATMFU     200.1500","",11,121.95,{"$f":"G392*(1-VLOOKUP(F392,Konditionen!$B:$G,6,0))","v":121.95}]
["Flex","DRATMFU","DRATMFU200500","Flex-Verbinder DRATMFU     200.500","",11,94.2,{"$f":"G393*(1-VLOOKUP(F393,Konditionen!$B:$G,6,0))","v":94.2}]
["Flex","DRATMFU","DRATMFU2501000","Flex-Verbinder DRATMFU     250.1000","",11,147.55000000000001,{"$f":"G394*(1-VLOOKUP(F394,Konditionen!$B:$G,6,0))","v":147.55000000000001}]
["Flex","DRATMFU","DRATMFU2501500","Flex-Verbinder DRATMFU     250.1500","",11,166.2,{"$f":"G395*(1-VLOOKUP(F395,Konditionen!$B:$G,6,0))","v":166.2}]
["Flex","DRATMFU","DRATMFU250500","Flex-Verbinder DRATMFU     250.500","",11,122.2,{"$f":"G396*(1-VLOOKUP(F396,Konditionen!$B:$G,6,0))","v":122.2}]
["Flex","DRATMFU","DRATMFU3151000","Flex-Verbinder DRATMFU     315.1000","",11,173.15,{"$f":"G397*(1-VLOOKUP(F397,Konditionen!$B:$G,6,0))","v":173.15}]
["Flex","DRATMFU","DRATMFU3151500","Flex-Verbinder DRATMFU     315.1500","",11,204.95,{"$f":"G398*(1-VLOOKUP(F398,Konditionen!$B:$G,6,0))","v":204.95}]
["Flex","DRATMFU","DRATMFU315500","Flex-Verbinder DRATMFU     315.500","",11,141.6,{"$f":"G399*(1-VLOOKUP(F399,Konditionen!$B:$G,6,0))","v":141.6}]
["Flex","DRATMFU","DRATMFU801000","Flex-Verbinder DRATMFU      80.1000","",11,71.25,{"$f":"G400*(1-VLOOKUP(F400,Konditionen!$B:$G,6,0))","v":71.25}]
["Flex","DRATMFU","DRATMFU801500","Flex-Verbinder DRATMFU      80.1500","",11,87.4,{"$f":"G401*(1-VLOOKUP(F401,Konditionen!$B:$G,6,0))","v":87.4}]
["Flex","DRATMFU","DRATMFU80500","Flex-Verbinder DRATMFU      80.500","",11,52.9,{"$f":"G402*(1-VLOOKUP(F402,Konditionen!$B:$G,6,0))","v":52.9}]
["Flex","SLFS","SLFS252B1003000","s-isol-Flexr.SLF-S25-2B/2B 100.3000","",11,269.25,{"$f":"G403*(1-VLOOKUP(F403,Konditionen!$B:$G,6,0))","v":269.25}]
["Flex","SLFS","SLFS252B1253000","s-isol-Flexr.SLF-S25-2B/2B 125.3000","",11,290.89999999999998,{"$f":"G404*(1-VLOOKUP(F404,Konditionen!$B:$G,6,0))","v":290.89999999999998}]
["Flex","SLFS","SLFS252B1403000","s-isol-Flexr.SLF-S25-2B/2B 140.3000","",11,296.25,{"$f":"G405*(1-VLOOKUP(F405,Konditionen!$B:$G,6,0))","v":296.25}]
["Flex","SLFS","SLFS252B1503000","s-isol-Flexr.SLF-S25-2B/2B 150.3000","",11,346.4,{"$f":"G406*(1-VLOOKUP(F406,Konditionen!$B:$G,6,0))","v":346.4}]
["Flex","SLFS","SLFS252B1603000","s-isol-Flexr.SLF-S25-2B/2B 160.3000","",11,348.25,{"$f":"G407*(1-VLOOKUP(F407,Konditionen!$B:$G,6,0))","v":348.25}]
["Flex","SLFS","SLFS252B1803000","s-isol-Flexr.SLF-S25-2B/2B 180.3000","",11,375.5,{"$f":"G408*(1-VLOOKUP(F408,Konditionen!$B:$G,6,0))","v":375.5}]
["Flex","SLFS","SLFS252B2003000","s-isol-Flexr.SLF-S25-2B/2B 200.3000","",11,424.3,{"$f":"G409*(1-VLOOKUP(F409,Konditionen!$B:$G,6,0))","v":424.3}]
["Flex","SLFS","SLFS252B2243000","s-isol-Flexr.SLF.S25-2B/2B 224.3000","",11,525.9,{"$f":"G410*(1-VLOOKUP(F410,Konditionen!$B:$G,6,0))","v":525.9}]
["Flex","SLFS","SLFS252B803000","s-isol-Flexr.SLF-S25-2B/2B  80.3000","",11,204.05,{"$f":"G411*(1-VLOOKUP(F411,Konditionen!$B:$G,6,0))","v":204.05}]
["Flex","SLFS","SLFS502B1003000","s-isol.Flexr.SLF-S50-2B/2B 100.3000","",11,336.35,{"$f":"G412*(1-VLOOKUP(F412,Konditionen!$B:$G,6,0))","v":336.35}]
["Flex","SLFS","SLFS502B1253000","s-isol-Flexr.SLF-S50-2B/2B 125.3000","",11,355.65,{"$f":"G413*(1-VLOOKUP(F413,Konditionen!$B:$G,6,0))","v":355.65}]
["Flex","SLFS","SLFS502B1403000","s-isol-Flexr.SLF-S50-2B/2B 140.3000","",11,391.85,{"$f":"G414*(1-VLOOKUP(F414,Konditionen!$B:$G,6,0))","v":391.85}]
["Flex","SLFS","SLFS502B1503000","s-isol-Flexr.SLF-S50-2B/2B 150.3000","",11,400.3,{"$f":"G415*(1-VLOOKUP(F415,Konditionen!$B:$G,6,0))","v":400.3}]
["Flex","SLFS","SLFS502B1603000","s-isol-Flexr.SLF-S50-2B/2B 160.3000","",11,407,{"$f":"G416*(1-VLOOKUP(F416,Konditionen!$B:$G,6,0))","v":407}]
["Flex","SLFS","SLFS502B1803000","s-isol-Flexr.SLF-S50-2B/2B 180.3000","",11,512.35,{"$f":"G417*(1-VLOOKUP(F417,Konditionen!$B:$G,6,0))","v":512.35}]
["Flex","SLFS","SLFS502B2003000","s-isol-Flexr.SLF-S50-2B/2B 200.3000","",11,553.15,{"$f":"G418*(1-VLOOKUP(F418,Konditionen!$B:$G,6,0))","v":553.15}]
["Flex","SLFS","SLFS502B2243000","s-isol-Flexr.SLF-S50-2B/2B 224.3000","",11,577.70000000000005,{"$f":"G419*(1-VLOOKUP(F419,Konditionen!$B:$G,6,0))","v":577.70000000000005}]
["Flex","SLFS","SLFS502B803000","s-isol.Flexr.SLF-S50-2B/2B  80.3000","",11,274.3,{"$f":"G420*(1-VLOOKUP(F420,Konditionen!$B:$G,6,0))","v":274.3}]
["Flex","SRFC","SRFC1005000","Flexrohr         SRF-C     100.5000","",11,64.8,{"$f":"G421*(1-VLOOKUP(F421,Konditionen!$B:$G,6,0))","v":64.8}]
["Flex","SRFC","SRFC1125000","Flexrohr         SRF-C     112.5000","",11,81.55,{"$f":"G422*(1-VLOOKUP(F422,Konditionen!$B:$G,6,0))","v":81.55}]
["Flex","SRFC","SRFC1255000","Flexrohr         SRF-C     125.5000","",11,81.55,{"$f":"G423*(1-VLOOKUP(F423,Konditionen!$B:$G,6,0))","v":81.55}]
["Flex","SRFC","SRFC1405000","Flexrohr         SRF-C     140.5000","",11,104.25,{"$f":"G424*(1-VLOOKUP(F424,Konditionen!$B:$G,6,0))","v":104.25}]
["Flex","SRFC","SRFC1505000","Flexrohr         SRF-C     150.5000","",11,104.25,{"$f":"G425*(1-VLOOKUP(F425,Konditionen!$B:$G,6,0))","v":104.25}]
["Flex","SRFC","SRFC1605000","Flexrohr         SRF-C     160.5000","",11,104.25,{"$f":"G426*(1-VLOOKUP(F426,Konditionen!$B:$G,6,0))","v":104.25}]
["Flex","SRFC","SRFC1805000","Flexrohr         SRF-C     180.5000","",11,134.55000000000001,{"$f":"G427*(1-VLOOKUP(F427,Konditionen!$B:$G,6,0))","v":134.55000000000001}]
["Flex","SRFC","SRFC2005000","Flexrohr         SRF-C     200.5000","",11,134.55000000000001,{"$f":"G428*(1-VLOOKUP(F428,Konditionen!$B:$G,6,0))","v":134.55000000000001}]
["Flex","SRFC","SRFC2245000","Flexrohr         SRF-C     224.5000","",11,171.7,{"$f":"G429*(1-VLOOKUP(F429,Konditionen!$B:$G,6,0))","v":171.7}]
["Flex","SRFC","SRFC2505000","Flexrohr         SRF-C     250.5000","",11,171.7,{"$f":"G430*(1-VLOOKUP(F430,Konditionen!$B:$G,6,0))","v":171.7}]
["Flex","SRFC","SRFC2805000","Flexrohr         SRF-C     280.5000","",11,208.1,{"$f":"G431*(1-VLOOKUP(F431,Konditionen!$B:$G,6,0))","v":208.1}]
["Flex","SRFC","SRFC3005000","Flexrohr         SRF-C     300.5000","",11,208.1,{"$f":"G432*(1-VLOOKUP(F432,Konditionen!$B:$G,6,0))","v":208.1}]
["Flex","SRFC","SRFC3155000","Flexrohr         SRF-C     315.5000","",11,217.8,{"$f":"G433*(1-VLOOKUP(F433,Konditionen!$B:$G,6,0))","v":217.8}]
["Flex","SRFC","SRFC3553000","Flexrohr         SRF-C     355.3000","",11,161,{"$f":"G434*(1-VLOOKUP(F434,Konditionen!$B:$G,6,0))","v":161}]
["Flex","SRFC","SRFC4003000","Flexrohr         SRF-C     400.3000","",11,177.5,{"$f":"G435*(1-VLOOKUP(F435,Konditionen!$B:$G,6,0))","v":177.5}]
["Flex","SRFC","SRFC4503000","Flexrohr         SRF-C     450.3000","",11,249.45,{"$f":"G436*(1-VLOOKUP(F436,Konditionen!$B:$G,6,0))","v":249.45}]
["Flex","SRFC","SRFC5003000","Flexrohr         SRF-C     500.3000","",11,278.60000000000002,{"$f":"G437*(1-VLOOKUP(F437,Konditionen!$B:$G,6,0))","v":278.60000000000002}]
["Flex","SRFC","SRFC505000","Flexrohr         SRF-C      50.5000","",11,38,{"$f":"G438*(1-VLOOKUP(F438,Konditionen!$B:$G,6,0))","v":38}]
["Flex","SRFC","SRFC635000","Flexrohr         SRF-C      63.5000","",11,54.9,{"$f":"G439*(1-VLOOKUP(F439,Konditionen!$B:$G,6,0))","v":54.9}]
["Flex","SRFC","SRFC715000","Flexrohr         SRF-C      71.5000","",11,54.9,{"$f":"G440*(1-VLOOKUP(F440,Konditionen!$B:$G,6,0))","v":54.9}]
["Flex","SRFC","SRFC755000","Flexrohr         SRF-C      75.5000","",11,54.9,{"$f":"G441*(1-VLOOKUP(F441,Konditionen!$B:$G,6,0))","v":54.9}]
["Flex","SRFC","SRFC805000","Flexrohr         SRF-C      80.5000","",11,54.9,{"$f":"G442*(1-VLOOKUP(F442,Konditionen!$B:$G,6,0))","v":54.9}]
["Flex","SRFV","SRFV1005000","Flexrohr Stahl verz. SRF-V 100.5000","in Bunden",11,222.55,{"$f":"G443*(1-VLOOKUP(F443,Konditionen!$B:$G,6,0))","v":222.55}]
["Flex","SRFV","SRFV1405000","Flexrohr Stahl verz. SRF-V 140.5000","in Stangen",11,353.65,{"$f":"G444*(1-VLOOKUP(F444,Konditionen!$B:$G,6,0))","v":353.65}]
["Flex","SRFV","SRFV1505000","Flexrohr Stahl verz. SRF-V 150.5000","in Stangen",11,394.7,{"$f":"G445*(1-VLOOKUP(F445,Konditionen!$B:$G,6,0))","v":394.7}]
["Flex","SRFV","SRFV1605000","Flexrohr Stahl verz. SRF-V 160.5000","in Bunden",11,420.8,{"$f":"G446*(1-VLOOKUP(F446,Konditionen!$B:$G,6,0))","v":420.8}]
["Flex","SRFV","SRFV1805000","Flexrohr Stahl verz. SRF-V 180.5000","in Bunden",11,487.95,{"$f":"G447*(1-VLOOKUP(F447,Konditionen!$B:$G,6,0))","v":487.95}]
["Flex","SRFV","SRFV2005000","Flexrohr Stahl verz. SRF-V 200.5000","in Bunden",11,553.6,{"$f":"G448*(1-VLOOKUP(F448,Konditionen!$B:$G,6,0))","v":553.6}]
["Flex","SRFV","SRFV2245000","Flexrohr Stahl verz. SRF-V 224.5000","in Stangen",11,586.20000000000005,{"$f":"G449*(1-VLOOKUP(F449,Konditionen!$B:$G,6,0))","v":586.20000000000005}]
["Flex","SRFV","SRFV2505000","Flexrohr Stahl verz. SRF-V 250.5000","in Stangen",11,644.54999999999995,{"$f":"G450*(1-VLOOKUP(F450,Konditionen!$B:$G,6,0))","v":644.54999999999995}]
["Flex","SRFV","SRFV2805000","Flexrohr Stahl verz. SRF-V 280.5000","in Stangen",11,775.95,{"$f":"G451*(1-VLOOKUP(F451,Konditionen!$B:$G,6,0))","v":775.95}]
["Flex","SRFV","SRFV805000","Flexrohr Stahl verz. SRF-V  80.5000","in Bunden",11,186.05,{"$f":"G452*(1-VLOOKUP(F452,Konditionen!$B:$G,6,0))","v":186.05}]
["Flex","SRFW","SRFW252B1003000","w-isol.Flexr.SRF-W25-2B/2B 100.3000","",11,269.25,{"$f":"G453*(1-VLOOKUP(F453,Konditionen!$B:$G,6,0))","v":269.25}]
["Flex","SRFW","SRFW252B1253000","w-isol.Flexr.SRF-W25-2B/2B 125.3000","",11,290.89999999999998,{"$f":"G454*(1-VLOOKUP(F454,Konditionen!$B:$G,6,0))","v":290.89999999999998}]
["Flex","SRFW","SRFW252B1403000","w-isol.Flexr.SRF-W25-2B/2B 140.3000","",11,296.25,{"$f":"G455*(1-VLOOKUP(F455,Konditionen!$B:$G,6,0))","v":296.25}]
["Flex","SRFW","SRFW252B1503000","w-isol.Flexr.SRF-W25-2B/2B 150.3000","",11,346.4,{"$f":"G456*(1-VLOOKUP(F456,Konditionen!$B:$G,6,0))","v":346.4}]
["Flex","SRFW","SRFW252B1603000","w-isol.Flexr.SRF-W25-2B/2B 160.3000","",11,348.25,{"$f":"G457*(1-VLOOKUP(F457,Konditionen!$B:$G,6,0))","v":348.25}]
["Flex","SRFW","SRFW252B1803000","w-isol.Flexr.SRF-W25-2B/2B 180.3000","",11,375.5,{"$f":"G458*(1-VLOOKUP(F458,Konditionen!$B:$G,6,0))","v":375.5}]
["Flex","SRFW","SRFW252B2003000","w-isol.Flexr.SRF-W25-2B/2B 200.3000","",11,424.3,{"$f":"G459*(1-VLOOKUP(F459,Konditionen!$B:$G,6,0))","v":424.3}]
["Flex","SRFW","SRFW252B2243000","w-isol.Flexr.SRF-W25-2B/2B 224.3000","",11,525.9,{"$f":"G460*(1-VLOOKUP(F460,Konditionen!$B:$G,6,0))","v":525.9}]
["Flex","SRFW","SRFW252B803000","w-isol.Flexr.SRF-W25-2B/2B  80.3000","",11,204.05,{"$f":"G461*(1-VLOOKUP(F461,Konditionen!$B:$G,6,0))","v":204.05}]
["Flex","SRFW","SRFW502B1003000","w-isol.Flexr.SRF-W50-2B/2B 100.3000","",11,336.35,{"$f":"G462*(1-VLOOKUP(F462,Konditionen!$B:$G,6,0))","v":336.35}]
["Flex","SRFW","SRFW502B1253000","w-isol.Flexr.SRF-W50-2B/2B 125.3000","",11,355.85,{"$f":"G463*(1-VLOOKUP(F463,Konditionen!$B:$G,6,0))","v":355.85}]
["Flex","SRFW","SRFW502B1403000","w-isol.Flexr.SRF-W50-2B/2B 140.3000","",11,391.85,{"$f":"G464*(1-VLOOKUP(F464,Konditionen!$B:$G,6,0))","v":391.85}]
["Flex","SRFW","SRFW502B1503000","w-isol.Flexr.SRF-W50-2B/2B 150.3000","",11,400.3,{"$f":"G465*(1-VLOOKUP(F465,Konditionen!$B:$G,6,0))","v":400.3}]
["Flex","SRFW","SRFW502B1603000","w-isol.Flexr.SRF-W50-2B/2B 160.3000","",11,407,{"$f":"G466*(1-VLOOKUP(F466,Konditionen!$B:$G,6,0))","v":407}]
["Flex","SRFW","SRFW502B1803000","w-isol.Flexr.SRF-W50-2B/2B 180.3000","",11,512.5,{"$f":"G467*(1-VLOOKUP(F467,Konditionen!$B:$G,6,0))","v":512.5}]
["Flex","SRFW","SRFW502B2003000","w-isol.Flexr.SRF-W50-2B/2B 200.3000","",11,553.15,{"$f":"G468*(1-VLOOKUP(F468,Konditionen!$B:$G,6,0))","v":553.15}]
["Flex","SRFW","SRFW502B2243000","w-isol.Flexr.SRF-W50-2B/2B 224.3000","",11,577.70000000000005,{"$f":"G469*(1-VLOOKUP(F469,Konditionen!$B:$G,6,0))","v":577.70000000000005}]
["Flex","SRFW","SRFW502B803000","w-isol.Flexr.SRF-W50-2B/2B  80.3000","",11,274.3,{"$f":"G470*(1-VLOOKUP(F470,Konditionen!$B:$G,6,0))","v":274.3}]
["Flex","SLFS","SLFS252B2502000","s-isol-Flexr.SLF-S25-2B/2B 250.2000","",11,370.6,{"$f":"G471*(1-VLOOKUP(F471,Konditionen!$B:$G,6,0))","v":370.6}]
["Flex","SLFS","SLFS252B2802000","s-isol-Flexr.SLF-S25-2B/2B 280.2000","",11,463.9,{"$f":"G472*(1-VLOOKUP(F472,Konditionen!$B:$G,6,0))","v":463.9}]
["Flex","SLFS","SLFS252B3002000","s-isol-Flexr.SLF-S25-2B/2B 300.2000","",11,477.3,{"$f":"G473*(1-VLOOKUP(F473,Konditionen!$B:$G,6,0))","v":477.3}]
["Flex","SLFS","SLFS252B3152000","s-isol-Flexr.SLF-S25-2B/2B 315.2000","",11,485.6,{"$f":"G474*(1-VLOOKUP(F474,Konditionen!$B:$G,6,0))","v":485.6}]
["Flex","SLFS","SLFS252B3552000","s-isol-Flexr.SLF-S25-2B/2B 355.2000","",11,520,{"$f":"G475*(1-VLOOKUP(F475,Konditionen!$B:$G,6,0))","v":520}]
["Flex","SLFS","SLFS252B4002000","s-isol-Flexr.SLF-S25-2B/2B 400.2000","",11,761.05,{"$f":"G476*(1-VLOOKUP(F476,Konditionen!$B:$G,6,0))","v":761.05}]
["Flex","SRFW","SRFW252B2502000","w-isol.Flexr.SRF-W25-2B/2B 250.2000","",11,370.6,{"$f":"G477*(1-VLOOKUP(F477,Konditionen!$B:$G,6,0))","v":370.6}]
["Flex","SLFS","SLFS502B2502000","s-isol-Flexr.SLF-S50-2B/2B 250.2000","",11,470.65,{"$f":"G478*(1-VLOOKUP(F478,Konditionen!$B:$G,6,0))","v":470.65}]
["Flex","SLFS","SLFS502B2802000","s-isol-Flexr.SLF-S50-2B/2B 280.2000","",11,499.85,{"$f":"G479*(1-VLOOKUP(F479,Konditionen!$B:$G,6,0))","v":499.85}]
["Flex","SLFS","SLFS502B3002000","s-isol-Flexr.SLF-S50-2B/2B 300.2000","",11,510.95,{"$f":"G480*(1-VLOOKUP(F480,Konditionen!$B:$G,6,0))","v":510.95}]
["Flex","SLFS","SLFS502B3152000","s-isol-Flexr.SLF-S50-2B/2B 315.2000","",11,514.6,{"$f":"G481*(1-VLOOKUP(F481,Konditionen!$B:$G,6,0))","v":514.6}]
["Flex","SLFS","SLFS502B3552000","s-isol.Flexr.SLF-S50-2B/2B 355.2000","",11,754.8,{"$f":"G482*(1-VLOOKUP(F482,Konditionen!$B:$G,6,0))","v":754.8}]
["Flex","SLFS","SLFS502B4002000","s-isol-Flexr.SLF-S50-2B/2B 400.2000","",11,806.85,{"$f":"G483*(1-VLOOKUP(F483,Konditionen!$B:$G,6,0))","v":806.85}]
["Flex","SRFW","SRFW252B2802000","w-isol.Flexr.SRF-W25-2B/2B 280.2000","",11,463.9,{"$f":"G484*(1-VLOOKUP(F484,Konditionen!$B:$G,6,0))","v":463.9}]
["Flex","SRFW","SRFW252B3002000","w-isol-Flexr.SRF-W25-2B/2B 300.2000","",11,477.3,{"$f":"G485*(1-VLOOKUP(F485,Konditionen!$B:$G,6,0))","v":477.3}]
["Flex","SRFW","SRFW252B3152000","w-isol.Flexr.SRF-W25-2B/2B 315.2000","",11,485.6,{"$f":"G486*(1-VLOOKUP(F486,Konditionen!$B:$G,6,0))","v":485.6}]
["Flex","SRFW","SRFW252B3552000","w-isol.Flexr.SRF-W25-2B/2B 355.2000","",11,520,{"$f":"G487*(1-VLOOKUP(F487,Konditionen!$B:$G,6,0))","v":520}]
["Flex","SRFW","SRFW252B4002000","w-isol.Flexr.SRF-W25-2B/2B 400.2000","",11,761.05,{"$f":"G488*(1-VLOOKUP(F488,Konditionen!$B:$G,6,0))","v":761.05}]
["Flex","SRFW","SRFW502B2502000","w-isol.Flexr.SRF-W50-2B/2B 250.2000","",11,470.65,{"$f":"G489*(1-VLOOKUP(F489,Konditionen!$B:$G,6,0))","v":470.65}]
["Flex","SRFW","SRFW502B2802000","w-isol.Flexr.SRF-W50-2B/2B 280.2000","",11,499.85,{"$f":"G490*(1-VLOOKUP(F490,Konditionen!$B:$G,6,0))","v":499.85}]
["Flex","SRFW","SRFW502B3002000","w-isol.Flexr.SRF-W50-2B/2B 300.2000","",11,510.95,{"$f":"G491*(1-VLOOKUP(F491,Konditionen!$B:$G,6,0))","v":510.95}]
["Flex","SRFW","SRFW502B3152000","w-isol.Flexr.SRF-W50-2B/2B 315.2000","",11,514.6,{"$f":"G492*(1-VLOOKUP(F492,Konditionen!$B:$G,6,0))","v":514.6}]
["Flex","SRFW","SRFW502B3552000","w-isol.Flexr.SRF-W50-2B/2B 355.2000","",11,754.8,{"$f":"G493*(1-VLOOKUP(F493,Konditionen!$B:$G,6,0))","v":754.8}]
["Flex","SRFW","SRFW502B4002000","w-isol.Flexr.SRF-W50-2B/2B 400.2000","",11,806.85,{"$f":"G494*(1-VLOOKUP(F494,Konditionen!$B:$G,6,0))","v":806.85}]
["Flex","SRFV","SRFV2243000","Flexrohr Stahl verz. SRF-V 224.3000","in Stangen",11,49.85,{"$f":"G495*(1-VLOOKUP(F495,Konditionen!$B:$G,6,0))","v":49.85}]
["Flex","SRFTH","SRFTH1006000","Flexschlauch     TH        100.6000","Polyamidgewebe mit Drahteinlage",11,157.19999999999999,{"$f":"G496*(1-VLOOKUP(F496,Konditionen!$B:$G,6,0))","v":157.19999999999999}]
["Flex","SRFTH","SRFTH1256000","Flexschlauch     TH        125.6000","Polyamidgewebe mit Drahteinlage",11,194.6,{"$f":"G497*(1-VLOOKUP(F497,Konditionen!$B:$G,6,0))","v":194.6}]
["Flex","SRFTH","SRFTH1406000","Flexschlauch     TH        140.6000","Polyamidgewebe mit Drahteinlage",11,249.35,{"$f":"G498*(1-VLOOKUP(F498,Konditionen!$B:$G,6,0))","v":249.35}]
["Flex","SRFTH","SRFTH1506000","Flexschlauch     TH        150.6000","Polyamidgewebe mit Drahteinlage",11,249.35,{"$f":"G499*(1-VLOOKUP(F499,Konditionen!$B:$G,6,0))","v":249.35}]
["Flex","SRFTH","SRFTH1606000","Flexschlauch     TH        160.6000","Polyamidgewebe mit Drahteinlage",11,249.35,{"$f":"G500*(1-VLOOKUP(F500,Konditionen!$B:$G,6,0))","v":249.35}]
["Flex","SRFTH","SRFTH1806000","Flexschlauch     TH        180.6000","Polyamidgewebe mit Drahteinlage",11,308.25,{"$f":"G501*(1-VLOOKUP(F501,Konditionen!$B:$G,6,0))","v":308.25}]
["Flex","SRFTH","SRFTH2006000","Flexschlauch     TH        200.6000","Polyamidgewebe mit Drahteinlage",11,308.25,{"$f":"G502*(1-VLOOKUP(F502,Konditionen!$B:$G,6,0))","v":308.25}]
["Flex","SRFTH","SRFTH2246000","Flexschlauch     TH        224.6000","Polyamidgewebe mit Drahteinlage",11,384.65,{"$f":"G503*(1-VLOOKUP(F503,Konditionen!$B:$G,6,0))","v":384.65}]
["Flex","SRFTH","SRFTH2506000","Flexschlauch     TH        250.6000","Polyamidgewebe mit Drahteinlage",11,384.65,{"$f":"G504*(1-VLOOKUP(F504,Konditionen!$B:$G,6,0))","v":384.65}]
["Flex","SRFTH","SRFTH2806000","Flexschlauch     TH        280.6000","Polyamidgewebe mit Drahteinlage",11,483,{"$f":"G505*(1-VLOOKUP(F505,Konditionen!$B:$G,6,0))","v":483}]
["Flex","SRFTH","SRFTH3006000","Flexschlauch     TH        300.6000","Polyamidgewebe mit Drahteinlage",11,483,{"$f":"G506*(1-VLOOKUP(F506,Konditionen!$B:$G,6,0))","v":483}]
["Flex","SRFTH","SRFTH3156000","Flexschlauch     TH        315.6000","Polyamidgewebe mit Drahteinlage",11,483,{"$f":"G507*(1-VLOOKUP(F507,Konditionen!$B:$G,6,0))","v":483}]
["Flex","SRFTH","SRFTH3556000","Flexschlauch     TH        355.6000","Polyamidgewebe mit Drahteinlage",11,563.54999999999995,{"$f":"G508*(1-VLOOKUP(F508,Konditionen!$B:$G,6,0))","v":563.54999999999995}]
["Flex","SRFTH","SRFTH4006000","Flexschlauch     TH        400.6000","Polyamidgewebe mit Drahteinlage",11,614.54999999999995,{"$f":"G509*(1-VLOOKUP(F509,Konditionen!$B:$G,6,0))","v":614.54999999999995}]
["Flex","SRFTH","SRFTH4506000","Flexschlauch     TH        450.6000","Polyamidgewebe mit Drahteinlage",11,774.75,{"$f":"G510*(1-VLOOKUP(F510,Konditionen!$B:$G,6,0))","v":774.75}]
["Flex","SRFTH","SRFTH5006000","Flexschlauch     TH        500.6000","Polyamidgewebe mit Drahteinlage",11,774.75,{"$f":"G511*(1-VLOOKUP(F511,Konditionen!$B:$G,6,0))","v":774.75}]
["Flex","SRFTH","SRFTH506000","Flexschlauch     TH         50.6000","Polyamidgewebe mit Drahteinlage",11,91.05,{"$f":"G512*(1-VLOOKUP(F512,Konditionen!$B:$G,6,0))","v":91.05}]
["Flex","SRFTH","SRFTH5606000","Flexschlauch     TH        560.6000","Polyamidgewebe mit Drahteinlage",11,1533,{"$f":"G513*(1-VLOOKUP(F513,Konditionen!$B:$G,6,0))","v":1533}]
["Flex","SRFTH","SRFTH6006000","Flexschlauch     TH        600.6000","Polyamidgewebe mit Drahteinlage",11,1533,{"$f":"G514*(1-VLOOKUP(F514,Konditionen!$B:$G,6,0))","v":1533}]
["Flex","SRFTH","SRFTH6306000","Flexschlauch     TH        630.6000","Polyamidgewebe mit Drahteinlage",11,1533,{"$f":"G515*(1-VLOOKUP(F515,Konditionen!$B:$G,6,0))","v":1533}]
["Flex","SRFTH","SRFTH636000","Flexschlauch     TH         63.6000","Polyamidgewebe mit Drahteinlage",11,126.8,{"$f":"G516*(1-VLOOKUP(F516,Konditionen!$B:$G,6,0))","v":126.8}]
["Flex","SRFTH","SRFTH7106000","Flexschlauch     TH        710.6000","Polyamidgewebe mit Drahteinlage",11,2700,{"$f":"G517*(1-VLOOKUP(F517,Konditionen!$B:$G,6,0))","v":2700}]
["Flex","SRFTH","SRFTH8006000","Flexschlauch     TH        800.6000","Polyamidgewebe mit Drahteinlage",11,2700,{"$f":"G518*(1-VLOOKUP(F518,Konditionen!$B:$G,6,0))","v":2700}]
["Flex","SRFTH","SRFTH806000","Flexschlauch     TH         80.6000","Polyamidgewebe mit Drahteinlage",11,126.8,{"$f":"G519*(1-VLOOKUP(F519,Konditionen!$B:$G,6,0))","v":126.8}]
["Flex","SRFVA","SRFVA0803000","Edelstahl-Flexrohr SRF-VA 80.3000","",11,264.05,{"$f":"G520*(1-VLOOKUP(F520,Konditionen!$B:$G,6,0))","v":264.05}]
["Flex","SRFVA","SRFVA1003000","Edelstahl-Flexrohr SRF-VA 100.3000","",11,279.5,{"$f":"G521*(1-VLOOKUP(F521,Konditionen!$B:$G,6,0))","v":279.5}]
["Flex","SRFVA","SRFVA1253000","Edelstahl-Flexrohr SRF-VA 125.3000","",11,348.65,{"$f":"G522*(1-VLOOKUP(F522,Konditionen!$B:$G,6,0))","v":348.65}]
["Flex","SRFVA","SRFVA1403000","Edelstahl-Flexrohr SRF-VA 140.3000","",11,445.5,{"$f":"G523*(1-VLOOKUP(F523,Konditionen!$B:$G,6,0))","v":445.5}]
["Flex","SRFVA","SRFVA1503000","Edelstahl-Flexrohr SRF-VA 150.3000","",11,445.5,{"$f":"G524*(1-VLOOKUP(F524,Konditionen!$B:$G,6,0))","v":445.5}]
["Flex","SRFVA","SRFVA1603000","Edelstahl-Flexrohr SRF-VA 160.3000","",11,445.5,{"$f":"G525*(1-VLOOKUP(F525,Konditionen!$B:$G,6,0))","v":445.5}]
["Flex","SRFVA","SRFVA1803000","Edelstahl-Flexrohr SRF-VA 180.3000","",11,555.95000000000005,{"$f":"G526*(1-VLOOKUP(F526,Konditionen!$B:$G,6,0))","v":555.95000000000005}]
["Flex","SRFVA","SRFVA2003000","Edelstahl-Flexrohr SRF-VA 200.3000","",11,555.95000000000005,{"$f":"G527*(1-VLOOKUP(F527,Konditionen!$B:$G,6,0))","v":555.95000000000005}]
["Flex","SRFVA","SRFVA2243000","Edelstahl-Flexrohr SRF-VA 224.3000","",11,694.35,{"$f":"G528*(1-VLOOKUP(F528,Konditionen!$B:$G,6,0))","v":694.35}]
["Flex","SRFVA","SRFVA2503000","Edelstahl-Flexrohr SRF-VA 250.3000","",11,694.35,{"$f":"G529*(1-VLOOKUP(F529,Konditionen!$B:$G,6,0))","v":694.35}]
["Flex","SRFVA","SRFVA2803000","Edelstahl-Flexrohr SRF-VA 280.3000","",11,808.85,{"$f":"G530*(1-VLOOKUP(F530,Konditionen!$B:$G,6,0))","v":808.85}]
["Flex","SRFVA","SRFVA3003000","Edelstahl-Flexrohr SRF-VA 300.3000","",11,808.85,{"$f":"G531*(1-VLOOKUP(F531,Konditionen!$B:$G,6,0))","v":808.85}]
["Flex","SRFVA","SRFVA3153000","Edelstahl-Flexrohr SRF-VA 315.3000","",11,874.35,{"$f":"G532*(1-VLOOKUP(F532,Konditionen!$B:$G,6,0))","v":874.35}]
["Flex","SRFV","SRFV1255000","Flexrohr Stahl verz. SRF-V 125.5000","in Bunden",11,294.25,{"$f":"G533*(1-VLOOKUP(F533,Konditionen!$B:$G,6,0))","v":294.25}]
["Flex","THTR","THTR1006000","Flexibler Schlauch   THTR  100.6000","",11,578.29999999999995,{"$f":"G534*(1-VLOOKUP(F534,Konditionen!$B:$G,6,0))","v":578.29999999999995}]
["Flex","THTR","THTR1256000","Flexibler Schlauch   THTR  125.6000","",11,832.7,{"$f":"G535*(1-VLOOKUP(F535,Konditionen!$B:$G,6,0))","v":832.7}]
["Flex","THTR","THTR1406000","Flexibler Schlauch   THTR  140.6000","",11,1028,{"$f":"G536*(1-VLOOKUP(F536,Konditionen!$B:$G,6,0))","v":1028}]
["Flex","THTR","THTR1506000","Flexibler Schlauch   THTR  150.6000","",11,1028,{"$f":"G537*(1-VLOOKUP(F537,Konditionen!$B:$G,6,0))","v":1028}]
["Flex","THTR","THTR1606000","Flexibler Schlauch   THTR  160.6000","",11,1028,{"$f":"G538*(1-VLOOKUP(F538,Konditionen!$B:$G,6,0))","v":1028}]
["Flex","THTR","THTR1806000","Flexibler Schlauch   THTR  180.6000","",11,1313,{"$f":"G539*(1-VLOOKUP(F539,Konditionen!$B:$G,6,0))","v":1313}]
["Flex","THTR","THTR2006000","Flexibler Schlauch   THTR  200.6000","",11,1313,{"$f":"G540*(1-VLOOKUP(F540,Konditionen!$B:$G,6,0))","v":1313}]
["Flex","THTR","THTR2506000","Flexibler Schlauch   THTR  250.6000","",11,1313,{"$f":"G541*(1-VLOOKUP(F541,Konditionen!$B:$G,6,0))","v":1313}]
["Flex","THTR","THTR806000","Flexibler Schlauch   THTR   80.6000","",11,485.75,{"$f":"G542*(1-VLOOKUP(F542,Konditionen!$B:$G,6,0))","v":485.75}]
["Flex","THVTR","THVTR25","Flexibl.Schlauch THVTR  25    METER","<30 M + Schnittkosten",11,24.35,{"$f":"G543*(1-VLOOKUP(F543,Konditionen!$B:$G,6,0))","v":24.35}]
["Flex","THVTR","THVTR32","Flexibl.Schlauch THVTR  32    METER","<30 M + Schnittkosten",11,40.6,{"$f":"G544*(1-VLOOKUP(F544,Konditionen!$B:$G,6,0))","v":40.6}]
["Flex","THVTR","THVTR38","Flexibl.Schlauch THVTR  38    METER","<30 M + Schnittkosten",11,39.65,{"$f":"G545*(1-VLOOKUP(F545,Konditionen!$B:$G,6,0))","v":39.65}]
["Flex","THVTR","THVTR45","Flexibl.Schlauch THVTR  45    METER","<30 M + Schnittkosten",11,47.9,{"$f":"G546*(1-VLOOKUP(F546,Konditionen!$B:$G,6,0))","v":47.9}]
["Flex","THVTR","THVTR50","Flexibl.Schlauch THVTR  50    METER","<30 M + Schnittkosten",11,46,{"$f":"G547*(1-VLOOKUP(F547,Konditionen!$B:$G,6,0))","v":46}]
["Flex","THVTR","THVTR63","Flexibl.Schlauch THVTR  63    METER","<30 M + Schnittkosten",11,81.25,{"$f":"G548*(1-VLOOKUP(F548,Konditionen!$B:$G,6,0))","v":81.25}]
["Flex","THVTR","THVTR76","Flexibl.Schlauch THVTR  76    METER","<15 M + Schnittkosten",11,100.55,{"$f":"G549*(1-VLOOKUP(F549,Konditionen!$B:$G,6,0))","v":100.55}]
["Flex","TKS","TKS1","Bandschelle      TKS 1       -135mm","",11,3.3,{"$f":"G550*(1-VLOOKUP(F550,Konditionen!$B:$G,6,0))","v":3.3}]
["Flex","TKS","TKS2","Bandschelle      TKS 2       -215mm","",11,5.8,{"$f":"G551*(1-VLOOKUP(F551,Konditionen!$B:$G,6,0))","v":5.8}]
["Flex","TKS","TKS3","Bandschelle      TKS 3       -325mm","",11,6.15,{"$f":"G552*(1-VLOOKUP(F552,Konditionen!$B:$G,6,0))","v":6.15}]
["Flex","TKS","TKS4","Bandschelle      TKS 4       -425mm","",11,7.65,{"$f":"G553*(1-VLOOKUP(F553,Konditionen!$B:$G,6,0))","v":7.65}]
["LindabSafe Formteile","BU","BU10015","Bogen gepreßt    BU        100.15","",30,37.25,{"$f":"G554*(1-VLOOKUP(F554,Konditionen!$B:$G,6,0))","v":37.25}]
["LindabSafe Formteile","BU","BU10030","Bogen gepreßt    BU        100.30","",30,29.45,{"$f":"G555*(1-VLOOKUP(F555,Konditionen!$B:$G,6,0))","v":29.45}]
["LindabSafe Formteile","BU","BU10045","Bogen gepreßt    BU        100.45","",30,32.15,{"$f":"G556*(1-VLOOKUP(F556,Konditionen!$B:$G,6,0))","v":32.15}]
["LindabSafe Formteile","BU","BU10060","Bogen gepreßt    BU        100.60","",30,46.55,{"$f":"G557*(1-VLOOKUP(F557,Konditionen!$B:$G,6,0))","v":46.55}]
["LindabSafe Formteile","BU","BU10090","Bogen gepreßt    BU        100.90","",30,35.799999999999997,{"$f":"G558*(1-VLOOKUP(F558,Konditionen!$B:$G,6,0))","v":35.799999999999997}]
["LindabSafe Formteile","BU","BU11230","Bogen gepreßt    BU        112.30","",30,34.200000000000003,{"$f":"G559*(1-VLOOKUP(F559,Konditionen!$B:$G,6,0))","v":34.200000000000003}]
["LindabSafe Formteile","BU","BU11245","Bogen gepreßt    BU        112.45","",30,37.35,{"$f":"G560*(1-VLOOKUP(F560,Konditionen!$B:$G,6,0))","v":37.35}]
["LindabSafe Formteile","BU","BU11260","Bogen gepreßt    BU        112.60","",30,53.45,{"$f":"G561*(1-VLOOKUP(F561,Konditionen!$B:$G,6,0))","v":53.45}]
["LindabSafe Formteile","BU","BU11290","Bogen gepreßt    BU        112.90","",30,44.35,{"$f":"G562*(1-VLOOKUP(F562,Konditionen!$B:$G,6,0))","v":44.35}]
["LindabSafe Formteile","BU","BU12515","Bogen gepreßt    BU        125.15","",30,40.6,{"$f":"G563*(1-VLOOKUP(F563,Konditionen!$B:$G,6,0))","v":40.6}]
["LindabSafe Formteile","BU","BU12530","Bogen gepreßt    BU        125.30","",30,34.200000000000003,{"$f":"G564*(1-VLOOKUP(F564,Konditionen!$B:$G,6,0))","v":34.200000000000003}]
["LindabSafe Formteile","BU","BU12545","Bogen gepreßt    BU        125.45","",30,37.35,{"$f":"G565*(1-VLOOKUP(F565,Konditionen!$B:$G,6,0))","v":37.35}]
["LindabSafe Formteile","BU","BU12560","Bogen gepreßt    BU        125.60","",30,53.45,{"$f":"G566*(1-VLOOKUP(F566,Konditionen!$B:$G,6,0))","v":53.45}]
["LindabSafe Formteile","BU","BU12590","Bogen gepreßt    BU        125.90","",30,44.35,{"$f":"G567*(1-VLOOKUP(F567,Konditionen!$B:$G,6,0))","v":44.35}]
["LindabSafe Formteile","BU","BU14015","Bogen gepreßt    BU        140.15","",30,46.05,{"$f":"G568*(1-VLOOKUP(F568,Konditionen!$B:$G,6,0))","v":46.05}]
["LindabSafe Formteile","BU","BU14030","Bogen gepreßt    BU        140.30","",30,46.05,{"$f":"G569*(1-VLOOKUP(F569,Konditionen!$B:$G,6,0))","v":46.05}]
["LindabSafe Formteile","BU","BU14045","Bogen gepreßt    BU        140.45","",30,48.3,{"$f":"G570*(1-VLOOKUP(F570,Konditionen!$B:$G,6,0))","v":48.3}]
["LindabSafe Formteile","BU","BU14060","Bogen gepreßt    BU        140.60","",30,79.7,{"$f":"G571*(1-VLOOKUP(F571,Konditionen!$B:$G,6,0))","v":79.7}]
["LindabSafe Formteile","BU","BU14090","Bogen gepreßt    BU        140.90","",30,62.4,{"$f":"G572*(1-VLOOKUP(F572,Konditionen!$B:$G,6,0))","v":62.4}]
["LindabSafe Formteile","BU","BU15015","Bogen gepreßt    BU        150.15","",30,46.05,{"$f":"G573*(1-VLOOKUP(F573,Konditionen!$B:$G,6,0))","v":46.05}]
["LindabSafe Formteile","BU","BU15030","Bogen gepreßt    BU        150.30","",30,46.05,{"$f":"G574*(1-VLOOKUP(F574,Konditionen!$B:$G,6,0))","v":46.05}]
["LindabSafe Formteile","BU","BU15045","Bogen gepreßt    BU        150.45","",30,48.3,{"$f":"G575*(1-VLOOKUP(F575,Konditionen!$B:$G,6,0))","v":48.3}]
["LindabSafe Formteile","BU","BU15060","Bogen gepreßt    BU        150.60","",30,79.7,{"$f":"G576*(1-VLOOKUP(F576,Konditionen!$B:$G,6,0))","v":79.7}]
["LindabSafe Formteile","BU","BU15090","Bogen gepreßt    BU        150.90","",30,62.4,{"$f":"G577*(1-VLOOKUP(F577,Konditionen!$B:$G,6,0))","v":62.4}]
["LindabSafe Formteile","BU","BU16015","Bogen gepreßt    BU        160.15","",30,46.05,{"$f":"G578*(1-VLOOKUP(F578,Konditionen!$B:$G,6,0))","v":46.05}]
["LindabSafe Formteile","BU","BU16030","Bogen gepreßt    BU        160.30","",30,46.05,{"$f":"G579*(1-VLOOKUP(F579,Konditionen!$B:$G,6,0))","v":46.05}]
["LindabSafe Formteile","BU","BU16045","Bogen gepreßt    BU        160.45","",30,48.3,{"$f":"G580*(1-VLOOKUP(F580,Konditionen!$B:$G,6,0))","v":48.3}]
["LindabSafe Formteile","BU","BU16060","Bogen gepreßt    BU        160.60","",30,79.7,{"$f":"G581*(1-VLOOKUP(F581,Konditionen!$B:$G,6,0))","v":79.7}]
["LindabSafe Formteile","BU","BU16090","Bogen gepreßt    BU        160.90","",30,62.4,{"$f":"G582*(1-VLOOKUP(F582,Konditionen!$B:$G,6,0))","v":62.4}]
["LindabSafe Formteile","BU","BU18015","Bogen gepreßt    BU        180.15","",30,72.900000000000006,{"$f":"G583*(1-VLOOKUP(F583,Konditionen!$B:$G,6,0))","v":72.900000000000006}]
["LindabSafe Formteile","BU","BU18030","Bogen gepreßt    BU        180.30","",30,72.900000000000006,{"$f":"G584*(1-VLOOKUP(F584,Konditionen!$B:$G,6,0))","v":72.900000000000006}]
["LindabSafe Formteile","BU","BU18045","Bogen gepreßt    BU        180.45","",30,72.900000000000006,{"$f":"G585*(1-VLOOKUP(F585,Konditionen!$B:$G,6,0))","v":72.900000000000006}]
["LindabSafe Formteile","BU","BU18060","Bogen gepreßt    BU        180.60","",30,112,{"$f":"G586*(1-VLOOKUP(F586,Konditionen!$B:$G,6,0))","v":112}]
["LindabSafe Formteile","BU","BU18090","Bogen gepreßt    BU        180.90","",30,103.45,{"$f":"G587*(1-VLOOKUP(F587,Konditionen!$B:$G,6,0))","v":103.45}]
["LindabSafe Formteile","BU","BU20015","Bogen gepreßt    BU        200.15","",30,72.900000000000006,{"$f":"G588*(1-VLOOKUP(F588,Konditionen!$B:$G,6,0))","v":72.900000000000006}]
["LindabSafe Formteile","BU","BU20030","Bogen gepreßt    BU        200.30","",30,72.900000000000006,{"$f":"G589*(1-VLOOKUP(F589,Konditionen!$B:$G,6,0))","v":72.900000000000006}]
["LindabSafe Formteile","BU","BU20045","Bogen gepreßt    BU        200.45","",30,72.900000000000006,{"$f":"G590*(1-VLOOKUP(F590,Konditionen!$B:$G,6,0))","v":72.900000000000006}]
["LindabSafe Formteile","BU","BU20060","Bogen gepreßt    BU        200.60","",30,112,{"$f":"G591*(1-VLOOKUP(F591,Konditionen!$B:$G,6,0))","v":112}]
["LindabSafe Formteile","BU","BU20090","Bogen gepreßt    BU        200.90","",30,103.45,{"$f":"G592*(1-VLOOKUP(F592,Konditionen!$B:$G,6,0))","v":103.45}]
["LindabSafe Formteile","BU","BU6315","Bogen gepreßt    BU         63.15","",30,46.2,{"$f":"G593*(1-VLOOKUP(F593,Konditionen!$B:$G,6,0))","v":46.2}]
["LindabSafe Formteile","BU","BU6330","Bogen gepreßt    BU         63.30","",30,32.85,{"$f":"G594*(1-VLOOKUP(F594,Konditionen!$B:$G,6,0))","v":32.85}]
["LindabSafe Formteile","BU","BU6345","Bogen gepreßt    BU         63.45","",30,35.799999999999997,{"$f":"G595*(1-VLOOKUP(F595,Konditionen!$B:$G,6,0))","v":35.799999999999997}]
["LindabSafe Formteile","BU","BU6360","Bogen gepreßt    BU         63.60","",30,52,{"$f":"G596*(1-VLOOKUP(F596,Konditionen!$B:$G,6,0))","v":52}]
["LindabSafe Formteile","BU","BU6390","Bogen gepreßt    BU         63.90","",30,37.25,{"$f":"G597*(1-VLOOKUP(F597,Konditionen!$B:$G,6,0))","v":37.25}]
["LindabSafe Formteile","BU","BU8015","Bogen gepreßt    BU         80.15","",30,46.2,{"$f":"G598*(1-VLOOKUP(F598,Konditionen!$B:$G,6,0))","v":46.2}]
["LindabSafe Formteile","BU","BU8030","Bogen gepreßt    BU         80.30","",30,32.85,{"$f":"G599*(1-VLOOKUP(F599,Konditionen!$B:$G,6,0))","v":32.85}]
["LindabSafe Formteile","BU","BU8045","Bogen gepreßt    BU         80.45","",30,35.799999999999997,{"$f":"G600*(1-VLOOKUP(F600,Konditionen!$B:$G,6,0))","v":35.799999999999997}]
["LindabSafe Formteile","BU","BU8060","Bogen gepreßt    BU         80.60","",30,52,{"$f":"G601*(1-VLOOKUP(F601,Konditionen!$B:$G,6,0))","v":52}]
["LindabSafe Formteile","BU","BU8090","Bogen gepreßt    BU         80.90","",30,37.25,{"$f":"G602*(1-VLOOKUP(F602,Konditionen!$B:$G,6,0))","v":37.25}]
["LindabSafe Formteile","EPF","EPF100","Enddeckel        EPF           100","",30,15.6,{"$f":"G603*(1-VLOOKUP(F603,Konditionen!$B:$G,6,0))","v":15.6}]
["LindabSafe Formteile","EPF","EPF112","Enddeckel        EPF           112","",30,16.7,{"$f":"G604*(1-VLOOKUP(F604,Konditionen!$B:$G,6,0))","v":16.7}]
["LindabSafe Formteile","EPF","EPF125","Enddeckel        EPF           125","",30,16.7,{"$f":"G605*(1-VLOOKUP(F605,Konditionen!$B:$G,6,0))","v":16.7}]
["LindabSafe Formteile","EPF","EPF140","Enddeckel        EPF           140","",30,19.600000000000001,{"$f":"G606*(1-VLOOKUP(F606,Konditionen!$B:$G,6,0))","v":19.600000000000001}]
["LindabSafe Formteile","EPF","EPF150","Enddeckel        EPF           150","",30,19.600000000000001,{"$f":"G607*(1-VLOOKUP(F607,Konditionen!$B:$G,6,0))","v":19.600000000000001}]
["LindabSafe Formteile","EPF","EPF160","Enddeckel        EPF           160","",30,19.600000000000001,{"$f":"G608*(1-VLOOKUP(F608,Konditionen!$B:$G,6,0))","v":19.600000000000001}]
["LindabSafe Formteile","EPF","EPF180","Enddeckel        EPF           180","",30,20.9,{"$f":"G609*(1-VLOOKUP(F609,Konditionen!$B:$G,6,0))","v":20.9}]
["LindabSafe Formteile","EPF","EPF200","Enddeckel        EPF           200","",30,20.9,{"$f":"G610*(1-VLOOKUP(F610,Konditionen!$B:$G,6,0))","v":20.9}]
["LindabSafe Formteile","EPF","EPF224","Enddeckel        EPF           224","",30,26.3,{"$f":"G611*(1-VLOOKUP(F611,Konditionen!$B:$G,6,0))","v":26.3}]
["LindabSafe Formteile","EPF","EPF250","Enddeckel        EPF           250","",30,26.3,{"$f":"G612*(1-VLOOKUP(F612,Konditionen!$B:$G,6,0))","v":26.3}]
["LindabSafe Formteile","EPF","EPF315","Enddeckel        EPF           315","",30,39.65,{"$f":"G613*(1-VLOOKUP(F613,Konditionen!$B:$G,6,0))","v":39.65}]
["LindabSafe Formteile","EPF","EPF355","Enddeckel        EPF           355","",30,45.35,{"$f":"G614*(1-VLOOKUP(F614,Konditionen!$B:$G,6,0))","v":45.35}]
["LindabSafe Formteile","EPF","EPF400","Enddeckel        EPF           400","",30,51.3,{"$f":"G615*(1-VLOOKUP(F615,Konditionen!$B:$G,6,0))","v":51.3}]
["LindabSafe Formteile","EPF","EPF63","Enddeckel        EPF           63","",30,12.35,{"$f":"G616*(1-VLOOKUP(F616,Konditionen!$B:$G,6,0))","v":12.35}]
["LindabSafe Formteile","EPF","EPF71","Enddeckel        EPF           71","",30,12.35,{"$f":"G617*(1-VLOOKUP(F617,Konditionen!$B:$G,6,0))","v":12.35}]
["LindabSafe Formteile","EPF","EPF80","Enddeckel        EPF           80","",30,12.35,{"$f":"G618*(1-VLOOKUP(F618,Konditionen!$B:$G,6,0))","v":12.35}]
["LindabSafe Formteile","EPF","EPF90","Enddeckel        EPF           90","",30,14.05,{"$f":"G619*(1-VLOOKUP(F619,Konditionen!$B:$G,6,0))","v":14.05}]
["LindabSafe Formteile","ESHU","ESHU100","Enddeckel mit Handgriff   ESHU  100","",30,37.65,{"$f":"G620*(1-VLOOKUP(F620,Konditionen!$B:$G,6,0))","v":37.65}]
["LindabSafe Formteile","ESHU","ESHU112","Enddeckel mit Handgriff   ESHU  112","",30,40.5,{"$f":"G621*(1-VLOOKUP(F621,Konditionen!$B:$G,6,0))","v":40.5}]
["LindabSafe Formteile","ESHU","ESHU125","Enddeckel mit Handgriff   ESHU  125","",30,40.5,{"$f":"G622*(1-VLOOKUP(F622,Konditionen!$B:$G,6,0))","v":40.5}]
["LindabSafe Formteile","ESHU","ESHU140","Enddeckel mit Handgriff   ESHU  140","",30,46.3,{"$f":"G623*(1-VLOOKUP(F623,Konditionen!$B:$G,6,0))","v":46.3}]
["LindabSafe Formteile","ESHU","ESHU150","Enddeckel mit Handgriff   ESHU  150","",30,46.3,{"$f":"G624*(1-VLOOKUP(F624,Konditionen!$B:$G,6,0))","v":46.3}]
["LindabSafe Formteile","ESHU","ESHU160","Enddeckel mit Handgriff   ESHU  160","",30,46.3,{"$f":"G625*(1-VLOOKUP(F625,Konditionen!$B:$G,6,0))","v":46.3}]
["LindabSafe Formteile","ESHU","ESHU180","Enddeckel mit Handgriff   ESHU  180","",30,56,{"$f":"G626*(1-VLOOKUP(F626,Konditionen!$B:$G,6,0))","v":56}]
["LindabSafe Formteile","ESHU","ESHU200","Enddeckel mit Handgriff   ESHU  200","",30,56,{"$f":"G627*(1-VLOOKUP(F627,Konditionen!$B:$G,6,0))","v":56}]
["LindabSafe Formteile","ESHU","ESHU224","Enddeckel mit Handgriff   ESHU  224","",30,74.349999999999994,{"$f":"G628*(1-VLOOKUP(F628,Konditionen!$B:$G,6,0))","v":74.349999999999994}]
["LindabSafe Formteile","ESHU","ESHU250","Enddeckel mit Handgriff   ESHU  250","",30,74.349999999999994,{"$f":"G629*(1-VLOOKUP(F629,Konditionen!$B:$G,6,0))","v":74.349999999999994}]
["LindabSafe Formteile","ESHU","ESHU280","Enddeckel mit Handgriff   ESHU  280","",30,108.15,{"$f":"G630*(1-VLOOKUP(F630,Konditionen!$B:$G,6,0))","v":108.15}]
["LindabSafe Formteile","ESHU","ESHU300","Enddeckel mit Handgriff   ESHU  300","",30,108.15,{"$f":"G631*(1-VLOOKUP(F631,Konditionen!$B:$G,6,0))","v":108.15}]
["LindabSafe Formteile","ESHU","ESHU315","Enddeckel mit Handgriff   ESHU  315","",30,108.15,{"$f":"G632*(1-VLOOKUP(F632,Konditionen!$B:$G,6,0))","v":108.15}]
["LindabSafe Formteile","ESHU","ESHU355","Enddeckel mit Handgriff   ESHU  355","",30,135.25,{"$f":"G633*(1-VLOOKUP(F633,Konditionen!$B:$G,6,0))","v":135.25}]
["LindabSafe Formteile","ESHU","ESHU400","Enddeckel mit Handgriff   ESHU  400","",30,135.25,{"$f":"G634*(1-VLOOKUP(F634,Konditionen!$B:$G,6,0))","v":135.25}]
["LindabSafe Formteile","ESHU","ESHU500","Enddeckel mit Handgriff   ESHU  500","",30,187.45,{"$f":"G635*(1-VLOOKUP(F635,Konditionen!$B:$G,6,0))","v":187.45}]
["LindabSafe Formteile","ESHU","ESHU560","Enddeckel mit Handgriff   ESHU  560","",30,207.65,{"$f":"G636*(1-VLOOKUP(F636,Konditionen!$B:$G,6,0))","v":207.65}]
["LindabSafe Formteile","ESHU","ESHU630","Enddeckel mit Handgriff   ESHU  630","",30,261.35000000000002,{"$f":"G637*(1-VLOOKUP(F637,Konditionen!$B:$G,6,0))","v":261.35000000000002}]
["LindabSafe Formteile","ESHU","ESHU80","Enddeckel mit Handgriff   ESHU   80","",30,37.65,{"$f":"G638*(1-VLOOKUP(F638,Konditionen!$B:$G,6,0))","v":37.65}]
["LindabSafe Formteile","ESU","ESU100","Enddeckel        ESU           100","",30,18.55,{"$f":"G639*(1-VLOOKUP(F639,Konditionen!$B:$G,6,0))","v":18.55}]
["LindabSafe Formteile","ESU","ESU125","Enddeckel        ESU           125","",30,21.3,{"$f":"G640*(1-VLOOKUP(F640,Konditionen!$B:$G,6,0))","v":21.3}]
["LindabSafe Formteile","ESU","ESU140","Enddeckel        ESU           140","",30,25.55,{"$f":"G641*(1-VLOOKUP(F641,Konditionen!$B:$G,6,0))","v":25.55}]
["LindabSafe Formteile","ESU","ESU150","Enddeckel        ESU           150","",30,25.55,{"$f":"G642*(1-VLOOKUP(F642,Konditionen!$B:$G,6,0))","v":25.55}]
["LindabSafe Formteile","ESU","ESU160","Enddeckel        ESU           160","",30,25.55,{"$f":"G643*(1-VLOOKUP(F643,Konditionen!$B:$G,6,0))","v":25.55}]
["LindabSafe Formteile","ESU","ESU180","Enddeckel        ESU           180","",30,29.45,{"$f":"G644*(1-VLOOKUP(F644,Konditionen!$B:$G,6,0))","v":29.45}]
["LindabSafe Formteile","ESU","ESU200","Enddeckel        ESU           200","",30,29.45,{"$f":"G645*(1-VLOOKUP(F645,Konditionen!$B:$G,6,0))","v":29.45}]
["LindabSafe Formteile","ESU","ESU224","Enddeckel        ESU           224","",30,37.5,{"$f":"G646*(1-VLOOKUP(F646,Konditionen!$B:$G,6,0))","v":37.5}]
["LindabSafe Formteile","ESU","ESU250","Enddeckel        ESU           250","",30,37.5,{"$f":"G647*(1-VLOOKUP(F647,Konditionen!$B:$G,6,0))","v":37.5}]
["LindabSafe Formteile","ESU","ESU300","Enddeckel        ESU           300","",30,47.5,{"$f":"G648*(1-VLOOKUP(F648,Konditionen!$B:$G,6,0))","v":47.5}]
["LindabSafe Formteile","ESU","ESU315","Enddeckel        ESU           315","",30,49.2,{"$f":"G649*(1-VLOOKUP(F649,Konditionen!$B:$G,6,0))","v":49.2}]
["LindabSafe Formteile","ESU","ESU355","Enddeckel        ESU           355","",30,73.3,{"$f":"G650*(1-VLOOKUP(F650,Konditionen!$B:$G,6,0))","v":73.3}]
["LindabSafe Formteile","ESU","ESU400","Enddeckel        ESU           400","",30,78.400000000000006,{"$f":"G651*(1-VLOOKUP(F651,Konditionen!$B:$G,6,0))","v":78.400000000000006}]
["LindabSafe Formteile","ESU","ESU500","Enddeckel        ESU           500","",30,121.65,{"$f":"G652*(1-VLOOKUP(F652,Konditionen!$B:$G,6,0))","v":121.65}]
["LindabSafe Formteile","ESU","ESU63","Enddeckel        ESU            63","",30,16.7,{"$f":"G653*(1-VLOOKUP(F653,Konditionen!$B:$G,6,0))","v":16.7}]
["LindabSafe Formteile","ESU","ESU80","Enddeckel        ESU            80","",30,16.7,{"$f":"G654*(1-VLOOKUP(F654,Konditionen!$B:$G,6,0))","v":16.7}]
["LindabSafe Formteile","ILRU","ILRU100","Einströmdüse     ILRU          100","",30,16.45,{"$f":"G655*(1-VLOOKUP(F655,Konditionen!$B:$G,6,0))","v":16.45}]
["LindabSafe Formteile","ILRU","ILRU125","Einströmdüse     ILRU          125","",30,19.850000000000001,{"$f":"G656*(1-VLOOKUP(F656,Konditionen!$B:$G,6,0))","v":19.850000000000001}]
["LindabSafe Formteile","ILRU","ILRU140","Einströmdüse     ILRU          140","",30,23,{"$f":"G657*(1-VLOOKUP(F657,Konditionen!$B:$G,6,0))","v":23}]
["LindabSafe Formteile","ILRU","ILRU150","Einströmdüse     ILRU          150","",30,23,{"$f":"G658*(1-VLOOKUP(F658,Konditionen!$B:$G,6,0))","v":23}]
["LindabSafe Formteile","ILRU","ILRU160","Einströmdüse     ILRU          160","",30,23,{"$f":"G659*(1-VLOOKUP(F659,Konditionen!$B:$G,6,0))","v":23}]
["LindabSafe Formteile","ILRU","ILRU180","Einströmdüse     ILRU          180","",30,28.95,{"$f":"G660*(1-VLOOKUP(F660,Konditionen!$B:$G,6,0))","v":28.95}]
["LindabSafe Formteile","ILRU","ILRU200","Einströmdüse     ILRU          200","",30,28.95,{"$f":"G661*(1-VLOOKUP(F661,Konditionen!$B:$G,6,0))","v":28.95}]
["LindabSafe Formteile","ILRU","ILRU224","Einströmdüse     ILRU          224","",30,34.1,{"$f":"G662*(1-VLOOKUP(F662,Konditionen!$B:$G,6,0))","v":34.1}]
["LindabSafe Formteile","ILRU","ILRU250","Einströmdüse     ILRU          250","",30,34.1,{"$f":"G663*(1-VLOOKUP(F663,Konditionen!$B:$G,6,0))","v":34.1}]
["LindabSafe Formteile","ILRU","ILRU300","Einströmdüse     ILRU          300","",30,50.9,{"$f":"G664*(1-VLOOKUP(F664,Konditionen!$B:$G,6,0))","v":50.9}]
["LindabSafe Formteile","ILRU","ILRU315","Einströmdüse     ILRU          315","",30,50.9,{"$f":"G665*(1-VLOOKUP(F665,Konditionen!$B:$G,6,0))","v":50.9}]
["LindabSafe Formteile","ILRU","ILRU355","Einströmdüse     ILRU          355","",30,89.8,{"$f":"G666*(1-VLOOKUP(F666,Konditionen!$B:$G,6,0))","v":89.8}]
["LindabSafe Formteile","ILRU","ILRU400","Einströmdüse     ILRU          400","",30,91.05,{"$f":"G667*(1-VLOOKUP(F667,Konditionen!$B:$G,6,0))","v":91.05}]
["LindabSafe Formteile","ILRU","ILRU500","Einströmdüse     ILRU          500","",30,130.75,{"$f":"G668*(1-VLOOKUP(F668,Konditionen!$B:$G,6,0))","v":130.75}]
["LindabSafe Formteile","ILRU","ILRU63","Einströmdüse     ILRU          63","",30,16.45,{"$f":"G669*(1-VLOOKUP(F669,Konditionen!$B:$G,6,0))","v":16.45}]
["LindabSafe Formteile","ILRU","ILRU630","Einströmdüse     ILRU          630","",30,152.35,{"$f":"G670*(1-VLOOKUP(F670,Konditionen!$B:$G,6,0))","v":152.35}]
["LindabSafe Formteile","ILRU","ILRU80","Einströmdüse     ILRU          80","",30,16.45,{"$f":"G671*(1-VLOOKUP(F671,Konditionen!$B:$G,6,0))","v":16.45}]
["LindabSafe Formteile","ILU","ILU100","Bundkragen       ILU           100","",30,14.5,{"$f":"G672*(1-VLOOKUP(F672,Konditionen!$B:$G,6,0))","v":14.5}]
["LindabSafe Formteile","ILU","ILU112","Bundkragen       ILU           112","",30,14.9,{"$f":"G673*(1-VLOOKUP(F673,Konditionen!$B:$G,6,0))","v":14.9}]
["LindabSafe Formteile","ILU","ILU1120","Bundkragen       ILU           1120","",30,195.95,{"$f":"G674*(1-VLOOKUP(F674,Konditionen!$B:$G,6,0))","v":195.95}]
["LindabSafe Formteile","ILU","ILU125","Bundkragen       ILU           125","",30,14.9,{"$f":"G675*(1-VLOOKUP(F675,Konditionen!$B:$G,6,0))","v":14.9}]
["LindabSafe Formteile","ILU","ILU140","Bundkragen       ILU           140","",30,17.350000000000001,{"$f":"G676*(1-VLOOKUP(F676,Konditionen!$B:$G,6,0))","v":17.350000000000001}]
["LindabSafe Formteile","ILU","ILU150","Bundkragen       ILU           150","",30,17.350000000000001,{"$f":"G677*(1-VLOOKUP(F677,Konditionen!$B:$G,6,0))","v":17.350000000000001}]
["LindabSafe Formteile","ILU","ILU160","Bundkragen       ILU           160","",30,17.350000000000001,{"$f":"G678*(1-VLOOKUP(F678,Konditionen!$B:$G,6,0))","v":17.350000000000001}]
["LindabSafe Formteile","ILU","ILU180","Bundkragen       ILU           180","",30,20.9,{"$f":"G679*(1-VLOOKUP(F679,Konditionen!$B:$G,6,0))","v":20.9}]
["LindabSafe Formteile","ILU","ILU200","Bundkragen       ILU           200","",30,20.9,{"$f":"G680*(1-VLOOKUP(F680,Konditionen!$B:$G,6,0))","v":20.9}]
["LindabSafe Formteile","ILU","ILU224","Bundkragen       ILU           224","",30,23.7,{"$f":"G681*(1-VLOOKUP(F681,Konditionen!$B:$G,6,0))","v":23.7}]
["LindabSafe Formteile","ILU","ILU250","Bundkragen       ILU           250","",30,23.7,{"$f":"G682*(1-VLOOKUP(F682,Konditionen!$B:$G,6,0))","v":23.7}]
["LindabSafe Formteile","ILU","ILU280","Bundkragen       ILU           280","",30,31.15,{"$f":"G683*(1-VLOOKUP(F683,Konditionen!$B:$G,6,0))","v":31.15}]
["LindabSafe Formteile","ILU","ILU300","Bundkragen       ILU           300","",30,31.15,{"$f":"G684*(1-VLOOKUP(F684,Konditionen!$B:$G,6,0))","v":31.15}]
["LindabSafe Formteile","ILU","ILU315","Bundkragen       ILU           315","",30,31.15,{"$f":"G685*(1-VLOOKUP(F685,Konditionen!$B:$G,6,0))","v":31.15}]
["LindabSafe Formteile","ILU","ILU355","Bundkragen       ILU           355","",30,33.700000000000003,{"$f":"G686*(1-VLOOKUP(F686,Konditionen!$B:$G,6,0))","v":33.700000000000003}]
["LindabSafe Formteile","ILU","ILU400","Bundkragen       ILU           400","",30,38.299999999999997,{"$f":"G687*(1-VLOOKUP(F687,Konditionen!$B:$G,6,0))","v":38.299999999999997}]
["LindabSafe Formteile","ILU","ILU450","Bundkragen       ILU           450","",30,42.9,{"$f":"G688*(1-VLOOKUP(F688,Konditionen!$B:$G,6,0))","v":42.9}]
["LindabSafe Formteile","ILU","ILU500","Bundkragen       ILU           500","",30,49.35,{"$f":"G689*(1-VLOOKUP(F689,Konditionen!$B:$G,6,0))","v":49.35}]
["LindabSafe Formteile","ILU","ILU560","Bundkragen       ILU           560","",30,65,{"$f":"G690*(1-VLOOKUP(F690,Konditionen!$B:$G,6,0))","v":65}]
["LindabSafe Formteile","ILU","ILU63","Bundkragen       ILU            63","",30,13.55,{"$f":"G691*(1-VLOOKUP(F691,Konditionen!$B:$G,6,0))","v":13.55}]
["LindabSafe Formteile","ILU","ILU80","Bundkragen       ILU           80","",30,13.55,{"$f":"G692*(1-VLOOKUP(F692,Konditionen!$B:$G,6,0))","v":13.55}]
["LindabSafe Formteile","MF","MF100","Muffe            MF            100","",30,11.5,{"$f":"G693*(1-VLOOKUP(F693,Konditionen!$B:$G,6,0))","v":11.5}]
["LindabSafe Formteile","MF","MF112","Muffe            MF            112","",30,11.7,{"$f":"G694*(1-VLOOKUP(F694,Konditionen!$B:$G,6,0))","v":11.7}]
["LindabSafe Formteile","MF","MF125","Muffe            MF            125","",30,11.7,{"$f":"G695*(1-VLOOKUP(F695,Konditionen!$B:$G,6,0))","v":11.7}]
["LindabSafe Formteile","MF","MF140","Muffe            MF            140","",30,12.2,{"$f":"G696*(1-VLOOKUP(F696,Konditionen!$B:$G,6,0))","v":12.2}]
["LindabSafe Formteile","MF","MF150","Muffe            MF            150","",30,12.2,{"$f":"G697*(1-VLOOKUP(F697,Konditionen!$B:$G,6,0))","v":12.2}]
["LindabSafe Formteile","MF","MF160","Muffe            MF            160","",30,12.2,{"$f":"G698*(1-VLOOKUP(F698,Konditionen!$B:$G,6,0))","v":12.2}]
["LindabSafe Formteile","MF","MF180","Muffe            MF            180","",30,13.9,{"$f":"G699*(1-VLOOKUP(F699,Konditionen!$B:$G,6,0))","v":13.9}]
["LindabSafe Formteile","MF","MF200","Muffe            MF            200","",30,13.9,{"$f":"G700*(1-VLOOKUP(F700,Konditionen!$B:$G,6,0))","v":13.9}]
["LindabSafe Formteile","MF","MF224","Muffe            MF            224","",30,15.2,{"$f":"G701*(1-VLOOKUP(F701,Konditionen!$B:$G,6,0))","v":15.2}]
["LindabSafe Formteile","MF","MF250","Muffe            MF            250","",30,15.2,{"$f":"G702*(1-VLOOKUP(F702,Konditionen!$B:$G,6,0))","v":15.2}]
["LindabSafe Formteile","MF","MF280","Muffe            MF            280","",30,17.05,{"$f":"G703*(1-VLOOKUP(F703,Konditionen!$B:$G,6,0))","v":17.05}]
["LindabSafe Formteile","MF","MF300","Muffe            MF            300","",30,17.05,{"$f":"G704*(1-VLOOKUP(F704,Konditionen!$B:$G,6,0))","v":17.05}]
["LindabSafe Formteile","MF","MF315","Muffe            MF            315","",30,18.399999999999999,{"$f":"G705*(1-VLOOKUP(F705,Konditionen!$B:$G,6,0))","v":18.399999999999999}]
["LindabSafe Formteile","MF","MF355","Muffe            MF            355","",30,19.600000000000001,{"$f":"G706*(1-VLOOKUP(F706,Konditionen!$B:$G,6,0))","v":19.600000000000001}]
["LindabSafe Formteile","MF","MF400","Muffe            MF            400","",30,24.15,{"$f":"G707*(1-VLOOKUP(F707,Konditionen!$B:$G,6,0))","v":24.15}]
["LindabSafe Formteile","MF","MF450","Muffe            MF            450","",30,28.4,{"$f":"G708*(1-VLOOKUP(F708,Konditionen!$B:$G,6,0))","v":28.4}]
["LindabSafe Formteile","MF","MF500","Muffe            MF            500","",30,34,{"$f":"G709*(1-VLOOKUP(F709,Konditionen!$B:$G,6,0))","v":34}]
["LindabSafe Formteile","MF","MF560","Muffe            MF            560","",30,36.950000000000003,{"$f":"G710*(1-VLOOKUP(F710,Konditionen!$B:$G,6,0))","v":36.950000000000003}]
["LindabSafe Formteile","MF","MF600","Muffe            MF            600","",30,43.5,{"$f":"G711*(1-VLOOKUP(F711,Konditionen!$B:$G,6,0))","v":43.5}]
["LindabSafe Formteile","MF","MF63","Muffe            MF            63","",30,10.7,{"$f":"G712*(1-VLOOKUP(F712,Konditionen!$B:$G,6,0))","v":10.7}]
["LindabSafe Formteile","MF","MF71","Muffe            MF            71","",30,10.7,{"$f":"G713*(1-VLOOKUP(F713,Konditionen!$B:$G,6,0))","v":10.7}]
["LindabSafe Formteile","MF","MF80","Muffe            MF            80","",30,10.7,{"$f":"G714*(1-VLOOKUP(F714,Konditionen!$B:$G,6,0))","v":10.7}]
["LindabSafe Formteile","MF","MF90","Muffe            MF            90","",30,11.1,{"$f":"G715*(1-VLOOKUP(F715,Konditionen!$B:$G,6,0))","v":11.1}]
["LindabSafe Formteile","NPU","NPU100","Nippel           NPU           100","",30,19.600000000000001,{"$f":"G716*(1-VLOOKUP(F716,Konditionen!$B:$G,6,0))","v":19.600000000000001}]
["LindabSafe Formteile","NPU","NPU112","Nippel           NPU           112","",30,19.850000000000001,{"$f":"G717*(1-VLOOKUP(F717,Konditionen!$B:$G,6,0))","v":19.850000000000001}]
["LindabSafe Formteile","NPU","NPU125","Nippel           NPU           125","",30,19.850000000000001,{"$f":"G718*(1-VLOOKUP(F718,Konditionen!$B:$G,6,0))","v":19.850000000000001}]
["LindabSafe Formteile","NPU","NPU140","Nippel           NPU           140","",30,22.7,{"$f":"G719*(1-VLOOKUP(F719,Konditionen!$B:$G,6,0))","v":22.7}]
["LindabSafe Formteile","NPU","NPU150","Nippel           NPU           150","",30,22.7,{"$f":"G720*(1-VLOOKUP(F720,Konditionen!$B:$G,6,0))","v":22.7}]
["LindabSafe Formteile","NPU","NPU160","Nippel           NPU           160","",30,22.7,{"$f":"G721*(1-VLOOKUP(F721,Konditionen!$B:$G,6,0))","v":22.7}]
["LindabSafe Formteile","NPU","NPU180","Nippel           NPU           180","",30,28.95,{"$f":"G722*(1-VLOOKUP(F722,Konditionen!$B:$G,6,0))","v":28.95}]
["LindabSafe Formteile","NPU","NPU200","Nippel           NPU           200","",30,28.95,{"$f":"G723*(1-VLOOKUP(F723,Konditionen!$B:$G,6,0))","v":28.95}]
["LindabSafe Formteile","NPU","NPU224","Nippel           NPU           224","",30,30.85,{"$f":"G724*(1-VLOOKUP(F724,Konditionen!$B:$G,6,0))","v":30.85}]
["LindabSafe Formteile","NPU","NPU250","Nippel           NPU           250","",30,30.85,{"$f":"G725*(1-VLOOKUP(F725,Konditionen!$B:$G,6,0))","v":30.85}]
["LindabSafe Formteile","NPU","NPU280","Nippel           NPU           280","",30,39.65,{"$f":"G726*(1-VLOOKUP(F726,Konditionen!$B:$G,6,0))","v":39.65}]
["LindabSafe Formteile","NPU","NPU300","Nippel           NPU           300","",30,39.65,{"$f":"G727*(1-VLOOKUP(F727,Konditionen!$B:$G,6,0))","v":39.65}]
["LindabSafe Formteile","NPU","NPU315","Nippel           NPU           315","",30,40.75,{"$f":"G728*(1-VLOOKUP(F728,Konditionen!$B:$G,6,0))","v":40.75}]
["LindabSafe Formteile","NPU","NPU355","Nippel           NPU           355","",30,44.05,{"$f":"G729*(1-VLOOKUP(F729,Konditionen!$B:$G,6,0))","v":44.05}]
["LindabSafe Formteile","NPU","NPU400","Nippel           NPU           400","",30,52.6,{"$f":"G730*(1-VLOOKUP(F730,Konditionen!$B:$G,6,0))","v":52.6}]
["LindabSafe Formteile","NPU","NPU450","Nippel           NPU           450","",30,60.8,{"$f":"G731*(1-VLOOKUP(F731,Konditionen!$B:$G,6,0))","v":60.8}]
["LindabSafe Formteile","NPU","NPU500","Nippel           NPU           500","",30,68.8,{"$f":"G732*(1-VLOOKUP(F732,Konditionen!$B:$G,6,0))","v":68.8}]
["LindabSafe Formteile","NPU","NPU560","Nippel           NPU           560","",30,97.75,{"$f":"G733*(1-VLOOKUP(F733,Konditionen!$B:$G,6,0))","v":97.75}]
["LindabSafe Formteile","NPU","NPU600","Nippel           NPU           600","",30,106.15,{"$f":"G734*(1-VLOOKUP(F734,Konditionen!$B:$G,6,0))","v":106.15}]
["LindabSafe Formteile","NPU","NPU63","Nippel           NPU           63","",30,18.55,{"$f":"G735*(1-VLOOKUP(F735,Konditionen!$B:$G,6,0))","v":18.55}]
["LindabSafe Formteile","NPU","NPU630","Nippel           NPU           630","",30,113.3,{"$f":"G736*(1-VLOOKUP(F736,Konditionen!$B:$G,6,0))","v":113.3}]
["LindabSafe Formteile","NPU","NPU80","Nippel           NPU           80","",30,18.55,{"$f":"G737*(1-VLOOKUP(F737,Konditionen!$B:$G,6,0))","v":18.55}]
["LindabSafe Formteile","PSU","PSU100100","Sattelstück 100-112   PSU  100.100","",30,29.6,{"$f":"G738*(1-VLOOKUP(F738,Konditionen!$B:$G,6,0))","v":29.6}]
["LindabSafe Formteile","PSU","PSU10063","Sattelstück     100   PSU  100.63","",30,29.6,{"$f":"G739*(1-VLOOKUP(F739,Konditionen!$B:$G,6,0))","v":29.6}]
["LindabSafe Formteile","PSU","PSU10080","Sattelstück 100-112   PSU  100.80","",30,29.6,{"$f":"G740*(1-VLOOKUP(F740,Konditionen!$B:$G,6,0))","v":29.6}]
["LindabSafe Formteile","PSU","PSU125100","Sattelstück 125-140   PSU  125.100","",30,29.6,{"$f":"G741*(1-VLOOKUP(F741,Konditionen!$B:$G,6,0))","v":29.6}]
["LindabSafe Formteile","PSU","PSU125125","Sattelstück     125   PSU  125.125","",30,32.15,{"$f":"G742*(1-VLOOKUP(F742,Konditionen!$B:$G,6,0))","v":32.15}]
["LindabSafe Formteile","PSU","PSU12563","Sattelstück     125   PSU  125.63","",30,29.6,{"$f":"G743*(1-VLOOKUP(F743,Konditionen!$B:$G,6,0))","v":29.6}]
["LindabSafe Formteile","PSU","PSU12580","Sattelstück 125-140   PSU  125.80","",30,29.6,{"$f":"G744*(1-VLOOKUP(F744,Konditionen!$B:$G,6,0))","v":29.6}]
["LindabSafe Formteile","PSU","PSU140125","Sattelstück     140   PSU  140.125","",30,32.15,{"$f":"G745*(1-VLOOKUP(F745,Konditionen!$B:$G,6,0))","v":32.15}]
["LindabSafe Formteile","PSU","PSU140140","Sattelstück     140   PSU  140.140","",30,37.75,{"$f":"G746*(1-VLOOKUP(F746,Konditionen!$B:$G,6,0))","v":37.75}]
["LindabSafe Formteile","PSU","PSU150150","Sattelstück 150-160   PSU  150.150","",30,37.75,{"$f":"G747*(1-VLOOKUP(F747,Konditionen!$B:$G,6,0))","v":37.75}]
["LindabSafe Formteile","PSU","PSU160100","Sattelstück 150-160   PSU  160.100","",30,29.6,{"$f":"G748*(1-VLOOKUP(F748,Konditionen!$B:$G,6,0))","v":29.6}]
["LindabSafe Formteile","PSU","PSU160125","Sattelstück 140-160   PSU  160.125","",30,32.15,{"$f":"G749*(1-VLOOKUP(F749,Konditionen!$B:$G,6,0))","v":32.15}]
["LindabSafe Formteile","PSU","PSU160140","Sattelstück 150-160   PSU  160.140","",30,37.75,{"$f":"G750*(1-VLOOKUP(F750,Konditionen!$B:$G,6,0))","v":37.75}]
["LindabSafe Formteile","PSU","PSU160150","Sattelstück 150-160   PSU  160.150","",30,37.75,{"$f":"G751*(1-VLOOKUP(F751,Konditionen!$B:$G,6,0))","v":37.75}]
["LindabSafe Formteile","PSU","PSU160160","Sattelstück     160   PSU  160.160","",30,37.75,{"$f":"G752*(1-VLOOKUP(F752,Konditionen!$B:$G,6,0))","v":37.75}]
["LindabSafe Formteile","PSU","PSU16080","Sattelstück 150-160   PSU  160.80","",30,29.6,{"$f":"G753*(1-VLOOKUP(F753,Konditionen!$B:$G,6,0))","v":29.6}]
["LindabSafe Formteile","PSU","PSU180180","Sattelstück     180   PSU  180.180","",30,45.8,{"$f":"G754*(1-VLOOKUP(F754,Konditionen!$B:$G,6,0))","v":45.8}]
["LindabSafe Formteile","PSU","PSU200100","Sattelstück 180-200   PSU  200.100","",30,29.6,{"$f":"G755*(1-VLOOKUP(F755,Konditionen!$B:$G,6,0))","v":29.6}]
["LindabSafe Formteile","PSU","PSU200125","Sattelstück 180-200   PSU  200.125","",30,32.15,{"$f":"G756*(1-VLOOKUP(F756,Konditionen!$B:$G,6,0))","v":32.15}]
["LindabSafe Formteile","PSU","PSU200140","Sattelstück 180-200   PSU  200.140","",30,37.75,{"$f":"G757*(1-VLOOKUP(F757,Konditionen!$B:$G,6,0))","v":37.75}]
["LindabSafe Formteile","PSU","PSU200150","Sattelstück 180-200   PSU  200.150","",30,37.75,{"$f":"G758*(1-VLOOKUP(F758,Konditionen!$B:$G,6,0))","v":37.75}]
["LindabSafe Formteile","PSU","PSU200160","Sattelstück 180-200   PSU  200.160","",30,37.75,{"$f":"G759*(1-VLOOKUP(F759,Konditionen!$B:$G,6,0))","v":37.75}]
["LindabSafe Formteile","PSU","PSU200180","Sattelstück     200   PSU  200.180","",30,45.8,{"$f":"G760*(1-VLOOKUP(F760,Konditionen!$B:$G,6,0))","v":45.8}]
["LindabSafe Formteile","PSU","PSU200200","Sattelstück     200   PSU  200.200","",30,45.8,{"$f":"G761*(1-VLOOKUP(F761,Konditionen!$B:$G,6,0))","v":45.8}]
["LindabSafe Formteile","PSU","PSU20080","Sattelstück 180-200   PSU  200.80","",30,29.6,{"$f":"G762*(1-VLOOKUP(F762,Konditionen!$B:$G,6,0))","v":29.6}]
["LindabSafe Formteile","PSU","PSU224224","Sattelstück     224   PSU  224.224","",30,54.85,{"$f":"G763*(1-VLOOKUP(F763,Konditionen!$B:$G,6,0))","v":54.85}]
["LindabSafe Formteile","PSU","PSU250100","Sattelstück 224-250   PSU  250.100","",30,29.6,{"$f":"G764*(1-VLOOKUP(F764,Konditionen!$B:$G,6,0))","v":29.6}]
["LindabSafe Formteile","PSU","PSU250125","Sattelstück 224-250   PSU  250.125","",30,32.15,{"$f":"G765*(1-VLOOKUP(F765,Konditionen!$B:$G,6,0))","v":32.15}]
["LindabSafe Formteile","PSU","PSU250140","Sattelstück 224-250   PSU  250.140","",30,37.75,{"$f":"G766*(1-VLOOKUP(F766,Konditionen!$B:$G,6,0))","v":37.75}]
["LindabSafe Formteile","PSU","PSU250150","Sattelstück 224-250   PSU  250.150","",30,37.75,{"$f":"G767*(1-VLOOKUP(F767,Konditionen!$B:$G,6,0))","v":37.75}]
["LindabSafe Formteile","PSU","PSU250160","Sattelstück 224-250   PSU  250.160","",30,37.75,{"$f":"G768*(1-VLOOKUP(F768,Konditionen!$B:$G,6,0))","v":37.75}]
["LindabSafe Formteile","PSU","PSU250180","Sattelstück 224-250   PSU  250.180","",30,45.8,{"$f":"G769*(1-VLOOKUP(F769,Konditionen!$B:$G,6,0))","v":45.8}]
["LindabSafe Formteile","PSU","PSU250200","Sattelstück     250   PSU  250.200","",30,45.8,{"$f":"G770*(1-VLOOKUP(F770,Konditionen!$B:$G,6,0))","v":45.8}]
["LindabSafe Formteile","PSU","PSU250224","Sattelstück     250   PSU  250.224","",30,54.85,{"$f":"G771*(1-VLOOKUP(F771,Konditionen!$B:$G,6,0))","v":54.85}]
["LindabSafe Formteile","PSU","PSU250250","Sattelstück     250   PSU  250.250","",30,54.85,{"$f":"G772*(1-VLOOKUP(F772,Konditionen!$B:$G,6,0))","v":54.85}]
["LindabSafe Formteile","PSU","PSU25080","Sattelstück 224-315   PSU  250.80","",30,29.6,{"$f":"G773*(1-VLOOKUP(F773,Konditionen!$B:$G,6,0))","v":29.6}]
["LindabSafe Formteile","PSU","PSU280280","Sattelstück     280   PSU  280.280","",30,81,{"$f":"G774*(1-VLOOKUP(F774,Konditionen!$B:$G,6,0))","v":81}]
["LindabSafe Formteile","PSU","PSU300280","Sattelstück     300   PSU  300.280","",30,81,{"$f":"G775*(1-VLOOKUP(F775,Konditionen!$B:$G,6,0))","v":81}]
["LindabSafe Formteile","PSU","PSU300300","Sattelstück     300   PSU  300.300","",30,81,{"$f":"G776*(1-VLOOKUP(F776,Konditionen!$B:$G,6,0))","v":81}]
["LindabSafe Formteile","PSU","PSU315100","Sattelstück 280-355   PSU  315.100","",30,29.6,{"$f":"G777*(1-VLOOKUP(F777,Konditionen!$B:$G,6,0))","v":29.6}]
["LindabSafe Formteile","PSU","PSU315125","Sattelstück 280-355   PSU  315.125","",30,32.15,{"$f":"G778*(1-VLOOKUP(F778,Konditionen!$B:$G,6,0))","v":32.15}]
["LindabSafe Formteile","PSU","PSU315140","Sattelstück 280-355   PSU  315.140","",30,37.75,{"$f":"G779*(1-VLOOKUP(F779,Konditionen!$B:$G,6,0))","v":37.75}]
["LindabSafe Formteile","PSU","PSU315150","Sattelstück 280-355   PSU  315.150","",30,37.75,{"$f":"G780*(1-VLOOKUP(F780,Konditionen!$B:$G,6,0))","v":37.75}]
["LindabSafe Formteile","PSU","PSU315160","Sattelstück 280-315   PSU  315.160","",30,37.75,{"$f":"G781*(1-VLOOKUP(F781,Konditionen!$B:$G,6,0))","v":37.75}]
["LindabSafe Formteile","PSU","PSU315180","Sattelstück 280-355   PSU  315.180","",30,45.8,{"$f":"G782*(1-VLOOKUP(F782,Konditionen!$B:$G,6,0))","v":45.8}]
["LindabSafe Formteile","PSU","PSU315200","Sattelstück 280-315   PSU  315.200","",30,45.8,{"$f":"G783*(1-VLOOKUP(F783,Konditionen!$B:$G,6,0))","v":45.8}]
["LindabSafe Formteile","PSU","PSU315224","Sattelstück 280-355   PSU  315.224","",30,54.85,{"$f":"G784*(1-VLOOKUP(F784,Konditionen!$B:$G,6,0))","v":54.85}]
["LindabSafe Formteile","PSU","PSU315250","Sattelstück 280-315   PSU  315.250","",30,54.85,{"$f":"G785*(1-VLOOKUP(F785,Konditionen!$B:$G,6,0))","v":54.85}]
["LindabSafe Formteile","PSU","PSU315280","Sattelstück 315   PSU  315.280","",30,81,{"$f":"G786*(1-VLOOKUP(F786,Konditionen!$B:$G,6,0))","v":81}]
["LindabSafe Formteile","PSU","PSU315300","Sattelstück 315   PSU  315.300","",30,81,{"$f":"G787*(1-VLOOKUP(F787,Konditionen!$B:$G,6,0))","v":81}]
["LindabSafe Formteile","PSU","PSU315315","Sattelstück     315   PSU  315.315","",30,81,{"$f":"G788*(1-VLOOKUP(F788,Konditionen!$B:$G,6,0))","v":81}]
["LindabSafe Formteile","PSU","PSU355315","Sattelstück     355   PSU  355.315","",30,81,{"$f":"G789*(1-VLOOKUP(F789,Konditionen!$B:$G,6,0))","v":81}]
["LindabSafe Formteile","PSU","PSU400160","Sattelstück 355-400   PSU  400.160","",30,37.75,{"$f":"G790*(1-VLOOKUP(F790,Konditionen!$B:$G,6,0))","v":37.75}]
["LindabSafe Formteile","PSU","PSU400200","Sattelstück 355-400   PSU  400.200","",30,45.8,{"$f":"G791*(1-VLOOKUP(F791,Konditionen!$B:$G,6,0))","v":45.8}]
["LindabSafe Formteile","PSU","PSU400250","Sattelstück 355-400   PSU  400.250","",30,54.85,{"$f":"G792*(1-VLOOKUP(F792,Konditionen!$B:$G,6,0))","v":54.85}]
["LindabSafe Formteile","PSU","PSU400280","Sattelstück 355-400   PSU  400.280","",30,81,{"$f":"G793*(1-VLOOKUP(F793,Konditionen!$B:$G,6,0))","v":81}]
["LindabSafe Formteile","PSU","PSU400300","Sattelstück 355-400   PSU  400.300","",30,81,{"$f":"G794*(1-VLOOKUP(F794,Konditionen!$B:$G,6,0))","v":81}]
["LindabSafe Formteile","PSU","PSU400315","Sattelstück 400   PSU  400.315","",30,81,{"$f":"G795*(1-VLOOKUP(F795,Konditionen!$B:$G,6,0))","v":81}]
["LindabSafe Formteile","PSU","PSU400355","Sattelstück 355-400   PSU  400.355","",30,164.85,{"$f":"G796*(1-VLOOKUP(F796,Konditionen!$B:$G,6,0))","v":164.85}]
["LindabSafe Formteile","PSU","PSU400400","Sattelstück     400   PSU  400.400","",30,179.6,{"$f":"G797*(1-VLOOKUP(F797,Konditionen!$B:$G,6,0))","v":179.6}]
["LindabSafe Formteile","PSU","PSU450280","Sattelstück     450   PSU  450.280","",30,81,{"$f":"G798*(1-VLOOKUP(F798,Konditionen!$B:$G,6,0))","v":81}]
["LindabSafe Formteile","PSU","PSU500100","Sattelstück 400-630   PSU  500.100","",30,29.6,{"$f":"G799*(1-VLOOKUP(F799,Konditionen!$B:$G,6,0))","v":29.6}]
["LindabSafe Formteile","PSU","PSU500125","Sattelstück 400-630   PSU  500.125","",30,32.15,{"$f":"G800*(1-VLOOKUP(F800,Konditionen!$B:$G,6,0))","v":32.15}]
["LindabSafe Formteile","PSU","PSU500140","Sattelstück 400-630   PSU  500.140","",30,37.75,{"$f":"G801*(1-VLOOKUP(F801,Konditionen!$B:$G,6,0))","v":37.75}]
["LindabSafe Formteile","PSU","PSU500150","Sattelstück 400-630   PSU  500.150","",30,37.75,{"$f":"G802*(1-VLOOKUP(F802,Konditionen!$B:$G,6,0))","v":37.75}]
["LindabSafe Formteile","PSU","PSU500160","Sattelstück 450-500   PSU  500.160","",30,37.75,{"$f":"G803*(1-VLOOKUP(F803,Konditionen!$B:$G,6,0))","v":37.75}]
["LindabSafe Formteile","PSU","PSU500200","Sattelstück 450-500   PSU  500.200","",30,45.8,{"$f":"G804*(1-VLOOKUP(F804,Konditionen!$B:$G,6,0))","v":45.8}]
["LindabSafe Formteile","PSU","PSU500224","Sattelstück 400-630   PSU  500.224","",30,54.85,{"$f":"G805*(1-VLOOKUP(F805,Konditionen!$B:$G,6,0))","v":54.85}]
["LindabSafe Formteile","PSU","PSU500250","Sattelstück 450-500   PSU  500.250","",30,54.85,{"$f":"G806*(1-VLOOKUP(F806,Konditionen!$B:$G,6,0))","v":54.85}]
["LindabSafe Formteile","PSU","PSU500300","Sattelstück 450-500   PSU  500.300","",30,81,{"$f":"G807*(1-VLOOKUP(F807,Konditionen!$B:$G,6,0))","v":81}]
["LindabSafe Formteile","PSU","PSU500315","Sattelstück 450-500   PSU  500.315","",30,81,{"$f":"G808*(1-VLOOKUP(F808,Konditionen!$B:$G,6,0))","v":81}]
["LindabSafe Formteile","PSU","PSU500355","Sattelstück 450-500   PSU  500.355","",30,164.85,{"$f":"G809*(1-VLOOKUP(F809,Konditionen!$B:$G,6,0))","v":164.85}]
["LindabSafe Formteile","PSU","PSU500400","Sattelstück 450-500   PSU  500.400","",30,179.6,{"$f":"G810*(1-VLOOKUP(F810,Konditionen!$B:$G,6,0))","v":179.6}]
["LindabSafe Formteile","PSU","PSU500450","Sattelstück 450-500   PSU  500.450","",30,207.8,{"$f":"G811*(1-VLOOKUP(F811,Konditionen!$B:$G,6,0))","v":207.8}]
["LindabSafe Formteile","PSU","PSU500500","Sattelstück 500   PSU  500.500","",30,248.7,{"$f":"G812*(1-VLOOKUP(F812,Konditionen!$B:$G,6,0))","v":248.7}]
["LindabSafe Formteile","PSU","PSU630160","Sattelstück 560-630   PSU  630.160","",30,37.75,{"$f":"G813*(1-VLOOKUP(F813,Konditionen!$B:$G,6,0))","v":37.75}]
["LindabSafe Formteile","PSU","PSU630200","Sattelstück 560-630   PSU  630.200","",30,45.8,{"$f":"G814*(1-VLOOKUP(F814,Konditionen!$B:$G,6,0))","v":45.8}]
["LindabSafe Formteile","PSU","PSU630250","Sattelstück 560-630   PSU  630.250","",30,54.85,{"$f":"G815*(1-VLOOKUP(F815,Konditionen!$B:$G,6,0))","v":54.85}]
["LindabSafe Formteile","PSU","PSU630300","Sattelstück 560-630   PSU  630.300","",30,81,{"$f":"G816*(1-VLOOKUP(F816,Konditionen!$B:$G,6,0))","v":81}]
["LindabSafe Formteile","PSU","PSU630315","Sattelstück 560-630   PSU  630.315","",30,81,{"$f":"G817*(1-VLOOKUP(F817,Konditionen!$B:$G,6,0))","v":81}]
["LindabSafe Formteile","PSU","PSU630355","Sattelstück 560-630   PSU  630.355","",30,164.85,{"$f":"G818*(1-VLOOKUP(F818,Konditionen!$B:$G,6,0))","v":164.85}]
["LindabSafe Formteile","PSU","PSU630400","Sattelstück 560-630   PSU  630.400","",30,179.6,{"$f":"G819*(1-VLOOKUP(F819,Konditionen!$B:$G,6,0))","v":179.6}]
["LindabSafe Formteile","PSU","PSU630450","Sattelstück 560-630   PSU  630.450","",30,207.8,{"$f":"G820*(1-VLOOKUP(F820,Konditionen!$B:$G,6,0))","v":207.8}]
["LindabSafe Formteile","PSU","PSU630500","Sattelstück 560-630   PSU  630.500","",30,248.7,{"$f":"G821*(1-VLOOKUP(F821,Konditionen!$B:$G,6,0))","v":248.7}]
["LindabSafe Formteile","PSU","PSU630560","Sattelstück 560-630   PSU  630.560","",30,279.85000000000002,{"$f":"G822*(1-VLOOKUP(F822,Konditionen!$B:$G,6,0))","v":279.85000000000002}]
["LindabSafe Formteile","PSU","PSU630600","Sattelstück 600-630   PSU  630.600","",30,299.45,{"$f":"G823*(1-VLOOKUP(F823,Konditionen!$B:$G,6,0))","v":299.45}]
["LindabSafe Formteile","PSU","PSU630630","Sattelstück 630   PSU  630.630","",30,323.95,{"$f":"G824*(1-VLOOKUP(F824,Konditionen!$B:$G,6,0))","v":323.95}]
["LindabSafe Formteile","PSU","PSU6363","Sattelstück   63      PSU   63.63","",30,29.6,{"$f":"G825*(1-VLOOKUP(F825,Konditionen!$B:$G,6,0))","v":29.6}]
["LindabSafe Formteile","PSU","PSU8063","Sattelstück      80   PSU   80.63","",30,29.6,{"$f":"G826*(1-VLOOKUP(F826,Konditionen!$B:$G,6,0))","v":29.6}]
["LindabSafe Formteile","PSU","PSU8080","Sattelstück      80   PSU   80.80","",30,29.6,{"$f":"G827*(1-VLOOKUP(F827,Konditionen!$B:$G,6,0))","v":29.6}]
["LindabSafe Formteile","RCFU","RCFU10063","Reduzierung      RCFU      100.63","",30,26.45,{"$f":"G828*(1-VLOOKUP(F828,Konditionen!$B:$G,6,0))","v":26.45}]
["LindabSafe Formteile","RCFU","RCFU10080","Reduzierung      RCFU      100.80","",30,26.45,{"$f":"G829*(1-VLOOKUP(F829,Konditionen!$B:$G,6,0))","v":26.45}]
["LindabSafe Formteile","RCFU","RCFU125100","Reduzierung      RCFU      125.100","",30,26.45,{"$f":"G830*(1-VLOOKUP(F830,Konditionen!$B:$G,6,0))","v":26.45}]
["LindabSafe Formteile","RCFU","RCFU12580","Reduzierung      RCFU      125.80","",30,26.45,{"$f":"G831*(1-VLOOKUP(F831,Konditionen!$B:$G,6,0))","v":26.45}]
["LindabSafe Formteile","RCFU","RCFU150100","Reduzierung      RCFU      150.100","",30,30.25,{"$f":"G832*(1-VLOOKUP(F832,Konditionen!$B:$G,6,0))","v":30.25}]
["LindabSafe Formteile","RCFU","RCFU150125","Reduzierung      RCFU      150.125","",30,30.25,{"$f":"G833*(1-VLOOKUP(F833,Konditionen!$B:$G,6,0))","v":30.25}]
["LindabSafe Formteile","RCFU","RCFU160100","Reduzierung      RCFU      160.100","",30,30.25,{"$f":"G834*(1-VLOOKUP(F834,Konditionen!$B:$G,6,0))","v":30.25}]
["LindabSafe Formteile","RCFU","RCFU160125","Reduzierung      RCFU      160.125","",30,30.25,{"$f":"G835*(1-VLOOKUP(F835,Konditionen!$B:$G,6,0))","v":30.25}]
["LindabSafe Formteile","RCFU","RCFU160150","Reduzierung      RCFU      160.150","",30,30.25,{"$f":"G836*(1-VLOOKUP(F836,Konditionen!$B:$G,6,0))","v":30.25}]
["LindabSafe Formteile","RCFU","RCFU16080","Reduzierung      RCFU      160.80","",30,30.25,{"$f":"G837*(1-VLOOKUP(F837,Konditionen!$B:$G,6,0))","v":30.25}]
["LindabSafe Formteile","RCFU","RCFU180100","Reduzierung      RCFU      180.100","",30,39.450000000000003,{"$f":"G838*(1-VLOOKUP(F838,Konditionen!$B:$G,6,0))","v":39.450000000000003}]
["LindabSafe Formteile","RCFU","RCFU180125","Reduzierung      RCFU      180.125","",30,39.450000000000003,{"$f":"G839*(1-VLOOKUP(F839,Konditionen!$B:$G,6,0))","v":39.450000000000003}]
["LindabSafe Formteile","RCFU","RCFU180150","Reduzierung      RCFU      180.150","",30,39.450000000000003,{"$f":"G840*(1-VLOOKUP(F840,Konditionen!$B:$G,6,0))","v":39.450000000000003}]
["LindabSafe Formteile","RCFU","RCFU180160","Reduzierung      RCFU      180.160","",30,39.450000000000003,{"$f":"G841*(1-VLOOKUP(F841,Konditionen!$B:$G,6,0))","v":39.450000000000003}]
["LindabSafe Formteile","RCFU","RCFU200100","Reduzierung      RCFU      200.100","",30,39.450000000000003,{"$f":"G842*(1-VLOOKUP(F842,Konditionen!$B:$G,6,0))","v":39.450000000000003}]
["LindabSafe Formteile","RCFU","RCFU200125","Reduzierung      RCFU      200.125","",30,39.450000000000003,{"$f":"G843*(1-VLOOKUP(F843,Konditionen!$B:$G,6,0))","v":39.450000000000003}]
["LindabSafe Formteile","RCFU","RCFU200150","Reduzierung      RCFU      200.150","",30,39.450000000000003,{"$f":"G844*(1-VLOOKUP(F844,Konditionen!$B:$G,6,0))","v":39.450000000000003}]
["LindabSafe Formteile","RCFU","RCFU200160","Reduzierung      RCFU      200.160","",30,39.450000000000003,{"$f":"G845*(1-VLOOKUP(F845,Konditionen!$B:$G,6,0))","v":39.450000000000003}]
["LindabSafe Formteile","RCFU","RCFU200180","Reduzierung      RCFU      200.180","",30,39.450000000000003,{"$f":"G846*(1-VLOOKUP(F846,Konditionen!$B:$G,6,0))","v":39.450000000000003}]
["LindabSafe Formteile","RCFU","RCFU224125","Reduzierung      RCFU      224.125","",30,51.3,{"$f":"G847*(1-VLOOKUP(F847,Konditionen!$B:$G,6,0))","v":51.3}]
["LindabSafe Formteile","RCFU","RCFU224150","Reduzierung      RCFU      224.150","",30,51.3,{"$f":"G848*(1-VLOOKUP(F848,Konditionen!$B:$G,6,0))","v":51.3}]
["LindabSafe Formteile","RCFU","RCFU224160","Reduzierung      RCFU      224.160","",30,51.3,{"$f":"G849*(1-VLOOKUP(F849,Konditionen!$B:$G,6,0))","v":51.3}]
["LindabSafe Formteile","RCFU","RCFU224180","Reduzierung      RCFU      224.180","",30,51.3,{"$f":"G850*(1-VLOOKUP(F850,Konditionen!$B:$G,6,0))","v":51.3}]
["LindabSafe Formteile","RCFU","RCFU224200","Reduzierung      RCFU      224.200","",30,51.3,{"$f":"G851*(1-VLOOKUP(F851,Konditionen!$B:$G,6,0))","v":51.3}]
["LindabSafe Formteile","RCFU","RCFU250125","Reduzierung      RCFU      250.125","",30,51.3,{"$f":"G852*(1-VLOOKUP(F852,Konditionen!$B:$G,6,0))","v":51.3}]
["LindabSafe Formteile","RCFU","RCFU250150","Reduzierung      RCFU      250.150","",30,51.3,{"$f":"G853*(1-VLOOKUP(F853,Konditionen!$B:$G,6,0))","v":51.3}]
["LindabSafe Formteile","RCFU","RCFU250160","Reduzierung      RCFU      250.160","",30,51.3,{"$f":"G854*(1-VLOOKUP(F854,Konditionen!$B:$G,6,0))","v":51.3}]
["LindabSafe Formteile","RCFU","RCFU250180","Reduzierung      RCFU      250.180","",30,51.3,{"$f":"G855*(1-VLOOKUP(F855,Konditionen!$B:$G,6,0))","v":51.3}]
["LindabSafe Formteile","RCFU","RCFU250200","Reduzierung      RCFU      250.200","",30,51.3,{"$f":"G856*(1-VLOOKUP(F856,Konditionen!$B:$G,6,0))","v":51.3}]
["LindabSafe Formteile","RCFU","RCFU250224","Reduzierung      RCFU      250.224","",30,51.3,{"$f":"G857*(1-VLOOKUP(F857,Konditionen!$B:$G,6,0))","v":51.3}]
["LindabSafe Formteile","RCFU","RCFU300200","Reduzierung      RCFU      300.200","",30,67.099999999999994,{"$f":"G858*(1-VLOOKUP(F858,Konditionen!$B:$G,6,0))","v":67.099999999999994}]
["LindabSafe Formteile","RCFU","RCFU300250","Reduzierung      RCFU      300.250","",30,67.099999999999994,{"$f":"G859*(1-VLOOKUP(F859,Konditionen!$B:$G,6,0))","v":67.099999999999994}]
["LindabSafe Formteile","RCFU","RCFU315160","Reduzierung      RCFU      315.160","",30,67.099999999999994,{"$f":"G860*(1-VLOOKUP(F860,Konditionen!$B:$G,6,0))","v":67.099999999999994}]
["LindabSafe Formteile","RCFU","RCFU315200","Reduzierung      RCFU      315.200","",30,67.099999999999994,{"$f":"G861*(1-VLOOKUP(F861,Konditionen!$B:$G,6,0))","v":67.099999999999994}]
["LindabSafe Formteile","RCFU","RCFU315250","Reduzierung      RCFU      315.250","",30,67.099999999999994,{"$f":"G862*(1-VLOOKUP(F862,Konditionen!$B:$G,6,0))","v":67.099999999999994}]
["LindabSafe Formteile","RCFU","RCFU355250","Reduzierung      RCFU      355.250","",30,139.1,{"$f":"G863*(1-VLOOKUP(F863,Konditionen!$B:$G,6,0))","v":139.1}]
["LindabSafe Formteile","RCFU","RCFU355300","Reduzierung      RCFU      355.300","",30,139.1,{"$f":"G864*(1-VLOOKUP(F864,Konditionen!$B:$G,6,0))","v":139.1}]
["LindabSafe Formteile","RCFU","RCFU355315","Reduzierung      RCFU      355.315","",30,139.1,{"$f":"G865*(1-VLOOKUP(F865,Konditionen!$B:$G,6,0))","v":139.1}]
["LindabSafe Formteile","RCFU","RCFU400200","Reduzierung      RCFU      400.200","",30,161.19999999999999,{"$f":"G866*(1-VLOOKUP(F866,Konditionen!$B:$G,6,0))","v":161.19999999999999}]
["LindabSafe Formteile","RCFU","RCFU400250","Reduzierung      RCFU      400.250","",30,161.19999999999999,{"$f":"G867*(1-VLOOKUP(F867,Konditionen!$B:$G,6,0))","v":161.19999999999999}]
["LindabSafe Formteile","RCFU","RCFU400315","Reduzierung      RCFU      400.315","",30,161.19999999999999,{"$f":"G868*(1-VLOOKUP(F868,Konditionen!$B:$G,6,0))","v":161.19999999999999}]
["LindabSafe Formteile","RCFU","RCFU500250","Reduzierung      RCFU      500.250","",30,225.8,{"$f":"G869*(1-VLOOKUP(F869,Konditionen!$B:$G,6,0))","v":225.8}]
["LindabSafe Formteile","RCFU","RCFU500315","Reduzierung      RCFU      500.315","",30,225.8,{"$f":"G870*(1-VLOOKUP(F870,Konditionen!$B:$G,6,0))","v":225.8}]
["LindabSafe Formteile","RCFU","RCFU500400","Reduzierung      RCFU      500.400","",30,225.8,{"$f":"G871*(1-VLOOKUP(F871,Konditionen!$B:$G,6,0))","v":225.8}]
["LindabSafe Formteile","RCFU","RCFU630315","Reduzierung      RCFU      630.315","",30,309.85000000000002,{"$f":"G872*(1-VLOOKUP(F872,Konditionen!$B:$G,6,0))","v":309.85000000000002}]
["LindabSafe Formteile","RCFU","RCFU630355","Reduzierung      RCFU      630.355","",30,309.85000000000002,{"$f":"G873*(1-VLOOKUP(F873,Konditionen!$B:$G,6,0))","v":309.85000000000002}]
["LindabSafe Formteile","RCFU","RCFU630400","Reduzierung      RCFU      630.400","",30,309.85000000000002,{"$f":"G874*(1-VLOOKUP(F874,Konditionen!$B:$G,6,0))","v":309.85000000000002}]
["LindabSafe Formteile","RCFU","RCFU630500","Reduzierung      RCFU      630.500","",30,309.7,{"$f":"G875*(1-VLOOKUP(F875,Konditionen!$B:$G,6,0))","v":309.7}]
["LindabSafe Formteile","RCFU","RCFU8063","Reduzierung      RCFU       80.63","",30,26.45,{"$f":"G876*(1-VLOOKUP(F876,Konditionen!$B:$G,6,0))","v":26.45}]
["LindabSafe Formteile","RCU","RCU10063","Reduzierung      RCU       100.63","",30,30.25,{"$f":"G877*(1-VLOOKUP(F877,Konditionen!$B:$G,6,0))","v":30.25}]
["LindabSafe Formteile","RCU","RCU10080","Reduzierung      RCU       100.80","",30,30.25,{"$f":"G878*(1-VLOOKUP(F878,Konditionen!$B:$G,6,0))","v":30.25}]
["LindabSafe Formteile","RCU","RCU125100","Reduzierung      RCU       125.100","",30,31.15,{"$f":"G879*(1-VLOOKUP(F879,Konditionen!$B:$G,6,0))","v":31.15}]
["LindabSafe Formteile","RCU","RCU12580","Reduzierung      RCU       125.80","",30,31.15,{"$f":"G880*(1-VLOOKUP(F880,Konditionen!$B:$G,6,0))","v":31.15}]
["LindabSafe Formteile","RCU","RCU150100","Reduzierung      RCU       150.100","",30,34.950000000000003,{"$f":"G881*(1-VLOOKUP(F881,Konditionen!$B:$G,6,0))","v":34.950000000000003}]
["LindabSafe Formteile","RCU","RCU150125","Reduzierung      RCU       150.125","",30,34.950000000000003,{"$f":"G882*(1-VLOOKUP(F882,Konditionen!$B:$G,6,0))","v":34.950000000000003}]
["LindabSafe Formteile","RCU","RCU160100","Reduzierung      RCU       160.100","",30,34.950000000000003,{"$f":"G883*(1-VLOOKUP(F883,Konditionen!$B:$G,6,0))","v":34.950000000000003}]
["LindabSafe Formteile","RCU","RCU160125","Reduzierung      RCU       160.125","",30,34.950000000000003,{"$f":"G884*(1-VLOOKUP(F884,Konditionen!$B:$G,6,0))","v":34.950000000000003}]
["LindabSafe Formteile","RCU","RCU160150","Reduzierung      RCU       160.150","",30,34.950000000000003,{"$f":"G885*(1-VLOOKUP(F885,Konditionen!$B:$G,6,0))","v":34.950000000000003}]
["LindabSafe Formteile","RCU","RCU16080","Reduzierung      RCU       160.80","",30,34.950000000000003,{"$f":"G886*(1-VLOOKUP(F886,Konditionen!$B:$G,6,0))","v":34.950000000000003}]
["LindabSafe Formteile","RCU","RCU180100","Reduzierung      RCU       180.100","",30,45.15,{"$f":"G887*(1-VLOOKUP(F887,Konditionen!$B:$G,6,0))","v":45.15}]
["LindabSafe Formteile","RCU","RCU180125","Reduzierung      RCU       180.125","",30,45.15,{"$f":"G888*(1-VLOOKUP(F888,Konditionen!$B:$G,6,0))","v":45.15}]
["LindabSafe Formteile","RCU","RCU180150","Reduzierung      RCU       180.150","",30,45.15,{"$f":"G889*(1-VLOOKUP(F889,Konditionen!$B:$G,6,0))","v":45.15}]
["LindabSafe Formteile","RCU","RCU180160","Reduzierung      RCU       180.160","",30,45.15,{"$f":"G890*(1-VLOOKUP(F890,Konditionen!$B:$G,6,0))","v":45.15}]
["LindabSafe Formteile","RCU","RCU200100","Reduzierung      RCU       200.100","",30,45.15,{"$f":"G891*(1-VLOOKUP(F891,Konditionen!$B:$G,6,0))","v":45.15}]
["LindabSafe Formteile","RCU","RCU200125","Reduzierung      RCU       200.125","",30,45.15,{"$f":"G892*(1-VLOOKUP(F892,Konditionen!$B:$G,6,0))","v":45.15}]
["LindabSafe Formteile","RCU","RCU200150","Reduzierung      RCU       200.150","",30,45.15,{"$f":"G893*(1-VLOOKUP(F893,Konditionen!$B:$G,6,0))","v":45.15}]
["LindabSafe Formteile","RCU","RCU200160","Reduzierung      RCU       200.160","",30,45.15,{"$f":"G894*(1-VLOOKUP(F894,Konditionen!$B:$G,6,0))","v":45.15}]
["LindabSafe Formteile","RCU","RCU200180","Reduzierung      RCU       200.180","",30,45.15,{"$f":"G895*(1-VLOOKUP(F895,Konditionen!$B:$G,6,0))","v":45.15}]
["LindabSafe Formteile","RCU","RCU224125","Reduzierung      RCU       224.125","",30,59.4,{"$f":"G896*(1-VLOOKUP(F896,Konditionen!$B:$G,6,0))","v":59.4}]
["LindabSafe Formteile","RCU","RCU224150","Reduzierung      RCU       224.150","",30,59.4,{"$f":"G897*(1-VLOOKUP(F897,Konditionen!$B:$G,6,0))","v":59.4}]
["LindabSafe Formteile","RCU","RCU224160","Reduzierung      RCU       224.160","",30,59.4,{"$f":"G898*(1-VLOOKUP(F898,Konditionen!$B:$G,6,0))","v":59.4}]
["LindabSafe Formteile","RCU","RCU224180","Reduzierung      RCU       224.180","",30,59.4,{"$f":"G899*(1-VLOOKUP(F899,Konditionen!$B:$G,6,0))","v":59.4}]
["LindabSafe Formteile","RCU","RCU224200","Reduzierung      RCU       224.200","",30,59.4,{"$f":"G900*(1-VLOOKUP(F900,Konditionen!$B:$G,6,0))","v":59.4}]
["LindabSafe Formteile","RCU","RCU250125","Reduzierung      RCU       250.125","",30,59.4,{"$f":"G901*(1-VLOOKUP(F901,Konditionen!$B:$G,6,0))","v":59.4}]
["LindabSafe Formteile","RCU","RCU250150","Reduzierung      RCU       250.150","",30,59.4,{"$f":"G902*(1-VLOOKUP(F902,Konditionen!$B:$G,6,0))","v":59.4}]
["LindabSafe Formteile","RCU","RCU250160","Reduzierung      RCU       250.160","",30,59.4,{"$f":"G903*(1-VLOOKUP(F903,Konditionen!$B:$G,6,0))","v":59.4}]
["LindabSafe Formteile","RCU","RCU250180","Reduzierung      RCU       250.180","",30,59.4,{"$f":"G904*(1-VLOOKUP(F904,Konditionen!$B:$G,6,0))","v":59.4}]
["LindabSafe Formteile","RCU","RCU250200","Reduzierung      RCU       250.200","",30,59.4,{"$f":"G905*(1-VLOOKUP(F905,Konditionen!$B:$G,6,0))","v":59.4}]
["LindabSafe Formteile","RCU","RCU250224","Reduzierung      RCU       250.224","",30,59.4,{"$f":"G906*(1-VLOOKUP(F906,Konditionen!$B:$G,6,0))","v":59.4}]
["LindabSafe Formteile","RCU","RCU300200","Reduzierung      RCU       300.200","",30,75.3,{"$f":"G907*(1-VLOOKUP(F907,Konditionen!$B:$G,6,0))","v":75.3}]
["LindabSafe Formteile","RCU","RCU300250","Reduzierung      RCU       300.250","",30,75.3,{"$f":"G908*(1-VLOOKUP(F908,Konditionen!$B:$G,6,0))","v":75.3}]
["LindabSafe Formteile","RCU","RCU315160","Reduzierung      RCU       315.160","",30,75.3,{"$f":"G909*(1-VLOOKUP(F909,Konditionen!$B:$G,6,0))","v":75.3}]
["LindabSafe Formteile","RCU","RCU315200","Reduzierung      RCU       315.200","",30,75.3,{"$f":"G910*(1-VLOOKUP(F910,Konditionen!$B:$G,6,0))","v":75.3}]
["LindabSafe Formteile","RCU","RCU315250","Reduzierung      RCU       315.250","",30,75.3,{"$f":"G911*(1-VLOOKUP(F911,Konditionen!$B:$G,6,0))","v":75.3}]
["LindabSafe Formteile","RCU","RCU355250","Reduzierung      RCU       355.250","",30,127.05,{"$f":"G912*(1-VLOOKUP(F912,Konditionen!$B:$G,6,0))","v":127.05}]
["LindabSafe Formteile","RCU","RCU355300","Reduzierung      RCU       355.300","",30,127.05,{"$f":"G913*(1-VLOOKUP(F913,Konditionen!$B:$G,6,0))","v":127.05}]
["LindabSafe Formteile","RCU","RCU355315","Reduzierung      RCU       355.315","",30,127.05,{"$f":"G914*(1-VLOOKUP(F914,Konditionen!$B:$G,6,0))","v":127.05}]
["LindabSafe Formteile","RCU","RCU400200","Reduzierung      RCU       400.200","",30,137.6,{"$f":"G915*(1-VLOOKUP(F915,Konditionen!$B:$G,6,0))","v":137.6}]
["LindabSafe Formteile","RCU","RCU400250","Reduzierung      RCU       400.250","",30,137.6,{"$f":"G916*(1-VLOOKUP(F916,Konditionen!$B:$G,6,0))","v":137.6}]
["LindabSafe Formteile","RCU","RCU400315","Reduzierung      RCU       400.315","",30,137.6,{"$f":"G917*(1-VLOOKUP(F917,Konditionen!$B:$G,6,0))","v":137.6}]
["LindabSafe Formteile","RCU","RCU500250","Reduzierung      RCU       500.250","handgebaut",30,193,{"$f":"G918*(1-VLOOKUP(F918,Konditionen!$B:$G,6,0))","v":193}]
["LindabSafe Formteile","RCU","RCU500315","Reduzierung      RCU       500.315","",30,193,{"$f":"G919*(1-VLOOKUP(F919,Konditionen!$B:$G,6,0))","v":193}]
["LindabSafe Formteile","RCU","RCU500400","Reduzierung      RCU       500.400","",30,193,{"$f":"G920*(1-VLOOKUP(F920,Konditionen!$B:$G,6,0))","v":193}]
["LindabSafe Formteile","RCU","RCU630315","Reduzierung      RCU       630.315","handgebaut",30,270.3,{"$f":"G921*(1-VLOOKUP(F921,Konditionen!$B:$G,6,0))","v":270.3}]
["LindabSafe Formteile","RCU","RCU630400","Reduzierung      RCU       630.400","handgebaut",30,270.3,{"$f":"G922*(1-VLOOKUP(F922,Konditionen!$B:$G,6,0))","v":270.3}]
["LindabSafe Formteile","RCU","RCU630500","Reduzierung      RCU       630.500","handgebaut",30,270.3,{"$f":"G923*(1-VLOOKUP(F923,Konditionen!$B:$G,6,0))","v":270.3}]
["LindabSafe Formteile","RCU","RCU8063","Reduzierung      RCU        80.63","",30,30.25,{"$f":"G924*(1-VLOOKUP(F924,Konditionen!$B:$G,6,0))","v":30.25}]
["LindabSafe Formteile","TBSU","TBSU100100","Schuhstutzen  TBSU 100.100","",30,68.2,{"$f":"G925*(1-VLOOKUP(F925,Konditionen!$B:$G,6,0))","v":68.2}]
["LindabSafe Formteile","TBSU","TBSU125100","Schuhstutzen  TBSU 125.100","",30,68.2,{"$f":"G926*(1-VLOOKUP(F926,Konditionen!$B:$G,6,0))","v":68.2}]
["LindabSafe Formteile","TBSU","TBSU125125","Schuhstutzen  TBSU 125.125","",30,73.75,{"$f":"G927*(1-VLOOKUP(F927,Konditionen!$B:$G,6,0))","v":73.75}]
["LindabSafe Formteile","TBSU","TBSU160100","Schuhstutzen  TBSU 160.100","",30,68.2,{"$f":"G928*(1-VLOOKUP(F928,Konditionen!$B:$G,6,0))","v":68.2}]
["LindabSafe Formteile","TBSU","TBSU160125","Schuhstutzen  TBSU 160.125","",30,73.75,{"$f":"G929*(1-VLOOKUP(F929,Konditionen!$B:$G,6,0))","v":73.75}]
["LindabSafe Formteile","TBSU","TBSU160160","Schuhstutzen  TBSU 160.160","",30,96.65,{"$f":"G930*(1-VLOOKUP(F930,Konditionen!$B:$G,6,0))","v":96.65}]
["LindabSafe Formteile","TBSU","TBSU200100","Schuhstutzen  TBSU 200.100","",30,68.2,{"$f":"G931*(1-VLOOKUP(F931,Konditionen!$B:$G,6,0))","v":68.2}]
["LindabSafe Formteile","TBSU","TBSU200125","Schuhstutzen  TBSU 200.125","",30,73.75,{"$f":"G932*(1-VLOOKUP(F932,Konditionen!$B:$G,6,0))","v":73.75}]
["LindabSafe Formteile","TBSU","TBSU200160","Schuhstutzen  TBSU 200.160","",30,96.65,{"$f":"G933*(1-VLOOKUP(F933,Konditionen!$B:$G,6,0))","v":96.65}]
["LindabSafe Formteile","TBSU","TBSU200200","Schuhstutzen  TBSU 200.200","",30,131.44999999999999,{"$f":"G934*(1-VLOOKUP(F934,Konditionen!$B:$G,6,0))","v":131.44999999999999}]
["LindabSafe Formteile","TBSU","TBSU250100","Schuhstutzen  TBSU 250.100","",30,68.2,{"$f":"G935*(1-VLOOKUP(F935,Konditionen!$B:$G,6,0))","v":68.2}]
["LindabSafe Formteile","TBSU","TBSU250125","Schuhstutzen  TBSU 250.125","",30,73.75,{"$f":"G936*(1-VLOOKUP(F936,Konditionen!$B:$G,6,0))","v":73.75}]
["LindabSafe Formteile","TBSU","TBSU250160","Schuhstutzen  TBSU 250.160","",30,96.65,{"$f":"G937*(1-VLOOKUP(F937,Konditionen!$B:$G,6,0))","v":96.65}]
["LindabSafe Formteile","TBSU","TBSU250200","Schuhstutzen  TBSU 250.200","",30,131.44999999999999,{"$f":"G938*(1-VLOOKUP(F938,Konditionen!$B:$G,6,0))","v":131.44999999999999}]
["LindabSafe Formteile","TBSU","TBSU250250","Schuhstutzen  TBSU 250.250","",30,165.55,{"$f":"G939*(1-VLOOKUP(F939,Konditionen!$B:$G,6,0))","v":165.55}]
["LindabSafe Formteile","TBSU","TBSU315100","Schuhstutzen  TBSU 315.100","",30,68.2,{"$f":"G940*(1-VLOOKUP(F940,Konditionen!$B:$G,6,0))","v":68.2}]
["LindabSafe Formteile","TBSU","TBSU315125","Schuhstutzen  TBSU 315.125","",30,73.75,{"$f":"G941*(1-VLOOKUP(F941,Konditionen!$B:$G,6,0))","v":73.75}]
["LindabSafe Formteile","TBSU","TBSU315160","Schuhstutzen  TBSU 315.160","",30,96.65,{"$f":"G942*(1-VLOOKUP(F942,Konditionen!$B:$G,6,0))","v":96.65}]
["LindabSafe Formteile","TBSU","TBSU315200","Schuhstutzen  TBSU 315.200","",30,131.44999999999999,{"$f":"G943*(1-VLOOKUP(F943,Konditionen!$B:$G,6,0))","v":131.44999999999999}]
["LindabSafe Formteile","TBSU","TBSU315250","Schuhstutzen  TBSU 315.250","",30,165.55,{"$f":"G944*(1-VLOOKUP(F944,Konditionen!$B:$G,6,0))","v":165.55}]
["LindabSafe Formteile","TBSU","TBSU315315","Schuhstutzen  TBSU 315.315","",30,204.25,{"$f":"G945*(1-VLOOKUP(F945,Konditionen!$B:$G,6,0))","v":204.25}]
["LindabSafe Formteile","TBSU","TBSU400100","Schuhstutzen  TBSU 400.100","",30,68.2,{"$f":"G946*(1-VLOOKUP(F946,Konditionen!$B:$G,6,0))","v":68.2}]
["LindabSafe Formteile","TBSU","TBSU400125","Schuhstutzen  TBSU 400.125","",30,73.75,{"$f":"G947*(1-VLOOKUP(F947,Konditionen!$B:$G,6,0))","v":73.75}]
["LindabSafe Formteile","TBSU","TBSU400160","Schuhstutzen  TBSU 400.160","",30,96.65,{"$f":"G948*(1-VLOOKUP(F948,Konditionen!$B:$G,6,0))","v":96.65}]
["LindabSafe Formteile","TBSU","TBSU400200","Schuhstutzen  TBSU 400.200","",30,131.44999999999999,{"$f":"G949*(1-VLOOKUP(F949,Konditionen!$B:$G,6,0))","v":131.44999999999999}]
["LindabSafe Formteile","TBSU","TBSU400250","Schuhstutzen  TBSU 400.250","",30,165.55,{"$f":"G950*(1-VLOOKUP(F950,Konditionen!$B:$G,6,0))","v":165.55}]
["LindabSafe Formteile","TBSU","TBSU400315","Schuhstutzen  TBSU 400.315","",30,204.25,{"$f":"G951*(1-VLOOKUP(F951,Konditionen!$B:$G,6,0))","v":204.25}]
["LindabSafe Formteile","TBSU","TBSU400400","Schuhstutzen  TBSU 400.400","",30,259.2,{"$f":"G952*(1-VLOOKUP(F952,Konditionen!$B:$G,6,0))","v":259.2}]
["LindabSafe Formteile","TBSU","TBSU500100","Schuhstutzen  TBSU 500.100","",30,68.2,{"$f":"G953*(1-VLOOKUP(F953,Konditionen!$B:$G,6,0))","v":68.2}]
["LindabSafe Formteile","TBSU","TBSU500125","Schuhstutzen  TBSU 500.125","",30,73.75,{"$f":"G954*(1-VLOOKUP(F954,Konditionen!$B:$G,6,0))","v":73.75}]
["LindabSafe Formteile","TBSU","TBSU500160","Schuhstutzen  TBSU 500.160","",30,96.65,{"$f":"G955*(1-VLOOKUP(F955,Konditionen!$B:$G,6,0))","v":96.65}]
["LindabSafe Formteile","TBSU","TBSU500200","Schuhstutzen  TBSU 500.200","",30,131.44999999999999,{"$f":"G956*(1-VLOOKUP(F956,Konditionen!$B:$G,6,0))","v":131.44999999999999}]
["LindabSafe Formteile","TBSU","TBSU500250","Schuhstutzen  TBSU 500.250","",30,165.55,{"$f":"G957*(1-VLOOKUP(F957,Konditionen!$B:$G,6,0))","v":165.55}]
["LindabSafe Formteile","TBSU","TBSU500315","Schuhstutzen  TBSU 500.315","",30,204.25,{"$f":"G958*(1-VLOOKUP(F958,Konditionen!$B:$G,6,0))","v":204.25}]
["LindabSafe Formteile","TBSU","TBSU500400","Schuhstutzen  TBSU 500.400","",30,259.2,{"$f":"G959*(1-VLOOKUP(F959,Konditionen!$B:$G,6,0))","v":259.2}]
["LindabSafe Formteile","TBSU","TBSU500450","Schuhstutzen  TBSU 500.450","",30,327.3,{"$f":"G960*(1-VLOOKUP(F960,Konditionen!$B:$G,6,0))","v":327.3}]
["LindabSafe Formteile","TBSU","TBSU500500","Schuhstutzen  TBSU 500.500","",30,450.65,{"$f":"G961*(1-VLOOKUP(F961,Konditionen!$B:$G,6,0))","v":450.65}]
["LindabSafe Formteile","TBSU","TBSU630100","Schuhstutzen  TBSU 630.100","",30,68.2,{"$f":"G962*(1-VLOOKUP(F962,Konditionen!$B:$G,6,0))","v":68.2}]
["LindabSafe Formteile","TBSU","TBSU630125","Schuhstutzen  TBSU 630.125","",30,73.75,{"$f":"G963*(1-VLOOKUP(F963,Konditionen!$B:$G,6,0))","v":73.75}]
["LindabSafe Formteile","TBSU","TBSU630160","Schuhstutzen  TBSU 630.160","",30,96.65,{"$f":"G964*(1-VLOOKUP(F964,Konditionen!$B:$G,6,0))","v":96.65}]
["LindabSafe Formteile","TBSU","TBSU630200","Schuhstutzen  TBSU 630.200","",30,131.44999999999999,{"$f":"G965*(1-VLOOKUP(F965,Konditionen!$B:$G,6,0))","v":131.44999999999999}]
["LindabSafe Formteile","TBSU","TBSU630250","Schuhstutzen  TBSU 630.250","",30,165.55,{"$f":"G966*(1-VLOOKUP(F966,Konditionen!$B:$G,6,0))","v":165.55}]
["LindabSafe Formteile","TBSU","TBSU630315","Schuhstutzen  TBSU 630.315","",30,204.25,{"$f":"G967*(1-VLOOKUP(F967,Konditionen!$B:$G,6,0))","v":204.25}]
["LindabSafe Formteile","TBSU","TBSU630400","Schuhstutzen  TBSU 630.400","",30,259.2,{"$f":"G968*(1-VLOOKUP(F968,Konditionen!$B:$G,6,0))","v":259.2}]
["LindabSafe Formteile","TBSU","TBSU630450","Schuhstutzen  TBSU 630.450","",30,327.3,{"$f":"G969*(1-VLOOKUP(F969,Konditionen!$B:$G,6,0))","v":327.3}]
["LindabSafe Formteile","TBSU","TBSU630500","Schuhstutzen  TBSU 630.500","",30,450.65,{"$f":"G970*(1-VLOOKUP(F970,Konditionen!$B:$G,6,0))","v":450.65}]
["LindabSafe Formteile","TBSU","TBSU630560","Schuhstutzen  TBSU 630.560","",30,547.6,{"$f":"G971*(1-VLOOKUP(F971,Konditionen!$B:$G,6,0))","v":547.6}]
["LindabSafe Formteile","TBSU","TBSU630630","Schuhstutzen  TBSU 630.630","",30,623.35,{"$f":"G972*(1-VLOOKUP(F972,Konditionen!$B:$G,6,0))","v":623.35}]
["LindabSafe Formteile","TCPMU","TCPMU100100","T-Stück          TCPMU      100.100","d3=Muffenmaß",30,63.35,{"$f":"G973*(1-VLOOKUP(F973,Konditionen!$B:$G,6,0))","v":63.35}]
["LindabSafe Formteile","TCPMU","TCPMU125100","T-Stück          TCPMU      125.100","d3=Muffenmaß",30,73.55,{"$f":"G974*(1-VLOOKUP(F974,Konditionen!$B:$G,6,0))","v":73.55}]
["LindabSafe Formteile","TCPMU","TCPMU125125","T-Stück          TCPMU      125.125","d3=Muffenmaß",30,73.55,{"$f":"G975*(1-VLOOKUP(F975,Konditionen!$B:$G,6,0))","v":73.55}]
["LindabSafe Formteile","TCPMU","TCPMU160100","T-Stück          TCPMU      160.100","d3=Muffenmaß",30,79.2,{"$f":"G976*(1-VLOOKUP(F976,Konditionen!$B:$G,6,0))","v":79.2}]
["LindabSafe Formteile","TCPMU","TCPMU160125","T-Stück          TCPMU      160.125","d3=Muffenmaß",30,85.5,{"$f":"G977*(1-VLOOKUP(F977,Konditionen!$B:$G,6,0))","v":85.5}]
["LindabSafe Formteile","TCPMU","TCPMU160160","T-Stück          TCPMU      160.160","d3=Muffenmaß",30,103.7,{"$f":"G978*(1-VLOOKUP(F978,Konditionen!$B:$G,6,0))","v":103.7}]
["LindabSafe Formteile","TCPU","TCPU100100","T-Stück          TCPU      100.100","",30,52.85,{"$f":"G979*(1-VLOOKUP(F979,Konditionen!$B:$G,6,0))","v":52.85}]
["LindabSafe Formteile","TCPU","TCPU100100GIPS","T-Stück    TCPU GYPS    100.100","kurzer Abgang mit Muffenmaß",30,59.7,{"$f":"G980*(1-VLOOKUP(F980,Konditionen!$B:$G,6,0))","v":59.7}]
["LindabSafe Formteile","TCPU","TCPU100100KORT","T-Stück    TCKPU        100.100","kurzer Abgang u. kurze Einbaulänge",30,59.7,{"$f":"G981*(1-VLOOKUP(F981,Konditionen!$B:$G,6,0))","v":59.7}]
["LindabSafe Formteile","TCPU","TCPU10063","T-Stück          TCPU      100.63","",30,60.1,{"$f":"G982*(1-VLOOKUP(F982,Konditionen!$B:$G,6,0))","v":60.1}]
["LindabSafe Formteile","TCPU","TCPU10075","T-Stück          TCPU      100.75","D3 Vent",30,60.1,{"$f":"G983*(1-VLOOKUP(F983,Konditionen!$B:$G,6,0))","v":60.1}]
["LindabSafe Formteile","TCPU","TCPU10080","T-Stück          TCPU      100.80","",30,60.1,{"$f":"G984*(1-VLOOKUP(F984,Konditionen!$B:$G,6,0))","v":60.1}]
["LindabSafe Formteile","TCPU","TCPU112100","T-Stück          TCPU      112.100","",30,62.1,{"$f":"G985*(1-VLOOKUP(F985,Konditionen!$B:$G,6,0))","v":62.1}]
["LindabSafe Formteile","TCPU","TCPU112112","T-Stück          TCPU      112.112","",30,61.4,{"$f":"G986*(1-VLOOKUP(F986,Konditionen!$B:$G,6,0))","v":61.4}]
["LindabSafe Formteile","TCPU","TCPU11263","T-Stück          TCPU      112.63","",30,62.1,{"$f":"G987*(1-VLOOKUP(F987,Konditionen!$B:$G,6,0))","v":62.1}]
["LindabSafe Formteile","TCPU","TCPU11275","T-Stück          TCPU      112.75","D3 Vent",30,62.1,{"$f":"G988*(1-VLOOKUP(F988,Konditionen!$B:$G,6,0))","v":62.1}]
["LindabSafe Formteile","TCPU","TCPU11280","T-Stück          TCPU      112.80","",30,62.1,{"$f":"G989*(1-VLOOKUP(F989,Konditionen!$B:$G,6,0))","v":62.1}]
["LindabSafe Formteile","TCPU","TCPU125100","T-Stück          TCPU      125.100","",30,61.4,{"$f":"G990*(1-VLOOKUP(F990,Konditionen!$B:$G,6,0))","v":61.4}]
["LindabSafe Formteile","TCPU","TCPU125100GIPS","T-Stück    TCPU GYPS    125.100","kurzer Abgang mit Muffenmaß",30,69.05,{"$f":"G991*(1-VLOOKUP(F991,Konditionen!$B:$G,6,0))","v":69.05}]
["LindabSafe Formteile","TCPU","TCPU125112","T-Stück          TCPU      125.112","",30,61.4,{"$f":"G992*(1-VLOOKUP(F992,Konditionen!$B:$G,6,0))","v":61.4}]
["LindabSafe Formteile","TCPU","TCPU125125","T-Stück          TCPU      125.125","",30,61.4,{"$f":"G993*(1-VLOOKUP(F993,Konditionen!$B:$G,6,0))","v":61.4}]
["LindabSafe Formteile","TCPU","TCPU125125GIPS","T-Stück    TCPU GYPS    125.125","kurzer Abgang mit Muffenmaß",30,69.05,{"$f":"G994*(1-VLOOKUP(F994,Konditionen!$B:$G,6,0))","v":69.05}]
["LindabSafe Formteile","TCPU","TCPU125125KORT","T-Stück    TCKPU        125.125","kurzer Abgang u. kurze Einbaulänge",30,69.05,{"$f":"G995*(1-VLOOKUP(F995,Konditionen!$B:$G,6,0))","v":69.05}]
["LindabSafe Formteile","TCPU","TCPU12563","T-Stück          TCPU      125.63","",30,61.4,{"$f":"G996*(1-VLOOKUP(F996,Konditionen!$B:$G,6,0))","v":61.4}]
["LindabSafe Formteile","TCPU","TCPU12575","T-Stück          TCPU      125.75","D3 Vent",30,61.4,{"$f":"G997*(1-VLOOKUP(F997,Konditionen!$B:$G,6,0))","v":61.4}]
["LindabSafe Formteile","TCPU","TCPU12580","T-Stück          TCPU      125.80","",30,61.4,{"$f":"G998*(1-VLOOKUP(F998,Konditionen!$B:$G,6,0))","v":61.4}]
["LindabSafe Formteile","TCPU","TCPU140100","T-Stück          TCPU      140.100","",30,67.95,{"$f":"G999*(1-VLOOKUP(F999,Konditionen!$B:$G,6,0))","v":67.95}]
["LindabSafe Formteile","TCPU","TCPU140112","T-Stück          TCPU      140.112","",30,73.900000000000006,{"$f":"G1000*(1-VLOOKUP(F1000,Konditionen!$B:$G,6,0))","v":73.900000000000006}]
["LindabSafe Formteile","TCPU","TCPU140125","T-Stück          TCPU      140.125","",30,73.900000000000006,{"$f":"G1001*(1-VLOOKUP(F1001,Konditionen!$B:$G,6,0))","v":73.900000000000006}]
["LindabSafe Formteile","TCPU","TCPU140140","T-Stück          TCPU      140.140","",30,91.4,{"$f":"G1002*(1-VLOOKUP(F1002,Konditionen!$B:$G,6,0))","v":91.4}]
["LindabSafe Formteile","TCPU","TCPU14075","T-Stück          TCPU      140.75","D3 Vent",30,66.05,{"$f":"G1003*(1-VLOOKUP(F1003,Konditionen!$B:$G,6,0))","v":66.05}]
["LindabSafe Formteile","TCPU","TCPU14080","T-Stück          TCPU      140.80","",30,66.05,{"$f":"G1004*(1-VLOOKUP(F1004,Konditionen!$B:$G,6,0))","v":66.05}]
["LindabSafe Formteile","TCPU","TCPU150100","T-Stück          TCPU      150.100","",30,67.95,{"$f":"G1005*(1-VLOOKUP(F1005,Konditionen!$B:$G,6,0))","v":67.95}]
["LindabSafe Formteile","TCPU","TCPU150125","T-Stück          TCPU      150.125","",30,73.900000000000006,{"$f":"G1006*(1-VLOOKUP(F1006,Konditionen!$B:$G,6,0))","v":73.900000000000006}]
["LindabSafe Formteile","TCPU","TCPU150140","T-Stück          TCPU      150.140","",30,91.4,{"$f":"G1007*(1-VLOOKUP(F1007,Konditionen!$B:$G,6,0))","v":91.4}]
["LindabSafe Formteile","TCPU","TCPU150150","T-Stück          TCPU      150.150","",30,91.4,{"$f":"G1008*(1-VLOOKUP(F1008,Konditionen!$B:$G,6,0))","v":91.4}]
["LindabSafe Formteile","TCPU","TCPU15075","T-Stück          TCPU      150.75","D3 Vent",30,66.05,{"$f":"G1009*(1-VLOOKUP(F1009,Konditionen!$B:$G,6,0))","v":66.05}]
["LindabSafe Formteile","TCPU","TCPU15080","T-Stück          TCPU      150.80","",30,66.05,{"$f":"G1010*(1-VLOOKUP(F1010,Konditionen!$B:$G,6,0))","v":66.05}]
["LindabSafe Formteile","TCPU","TCPU160100","T-Stück          TCPU      160.100","",30,67.95,{"$f":"G1011*(1-VLOOKUP(F1011,Konditionen!$B:$G,6,0))","v":67.95}]
["LindabSafe Formteile","TCPU","TCPU160125","T-Stück          TCPU      160.125","",30,73.900000000000006,{"$f":"G1012*(1-VLOOKUP(F1012,Konditionen!$B:$G,6,0))","v":73.900000000000006}]
["LindabSafe Formteile","TCPU","TCPU160140","T-Stück          TCPU      160.140","",30,91.4,{"$f":"G1013*(1-VLOOKUP(F1013,Konditionen!$B:$G,6,0))","v":91.4}]
["LindabSafe Formteile","TCPU","TCPU160150","T-Stück          TCPU      160.150","",30,91.4,{"$f":"G1014*(1-VLOOKUP(F1014,Konditionen!$B:$G,6,0))","v":91.4}]
["LindabSafe Formteile","TCPU","TCPU160160","T-Stück          TCPU      160.160","",30,91.4,{"$f":"G1015*(1-VLOOKUP(F1015,Konditionen!$B:$G,6,0))","v":91.4}]
["LindabSafe Formteile","TCPU","TCPU160160GIPS","T-Stück    TCPU GYPS    160.160","kurzer Abgang mit Muffenmaß",30,126.65,{"$f":"G1016*(1-VLOOKUP(F1016,Konditionen!$B:$G,6,0))","v":126.65}]
["LindabSafe Formteile","TCPU","TCPU160160KORT","T-Stück    TCKPU        160.160","kurzer Abgang u. kurze Einbaulänge",30,126.65,{"$f":"G1017*(1-VLOOKUP(F1017,Konditionen!$B:$G,6,0))","v":126.65}]
["LindabSafe Formteile","TCPU","TCPU16075","T-Stück          TCPU      160.75","D3 Vent",30,66.05,{"$f":"G1018*(1-VLOOKUP(F1018,Konditionen!$B:$G,6,0))","v":66.05}]
["LindabSafe Formteile","TCPU","TCPU16080","T-Stück          TCPU      160.80","",30,66.05,{"$f":"G1019*(1-VLOOKUP(F1019,Konditionen!$B:$G,6,0))","v":66.05}]
["LindabSafe Formteile","TCPU","TCPU180100","T-Stück          TCPU      180.100","",30,82.85,{"$f":"G1020*(1-VLOOKUP(F1020,Konditionen!$B:$G,6,0))","v":82.85}]
["LindabSafe Formteile","TCPU","TCPU180125","T-Stück          TCPU      180.125","",30,86.3,{"$f":"G1021*(1-VLOOKUP(F1021,Konditionen!$B:$G,6,0))","v":86.3}]
["LindabSafe Formteile","TCPU","TCPU180140","T-Stück          TCPU      180.140","",30,100.95,{"$f":"G1022*(1-VLOOKUP(F1022,Konditionen!$B:$G,6,0))","v":100.95}]
["LindabSafe Formteile","TCPU","TCPU180150","T-Stück          TCPU      180.150","",30,100.95,{"$f":"G1023*(1-VLOOKUP(F1023,Konditionen!$B:$G,6,0))","v":100.95}]
["LindabSafe Formteile","TCPU","TCPU180160","T-Stück          TCPU      180.160","",30,100.95,{"$f":"G1024*(1-VLOOKUP(F1024,Konditionen!$B:$G,6,0))","v":100.95}]
["LindabSafe Formteile","TCPU","TCPU180180","T-Stück          TCPU      180.180","",30,119.25,{"$f":"G1025*(1-VLOOKUP(F1025,Konditionen!$B:$G,6,0))","v":119.25}]
["LindabSafe Formteile","TCPU","TCPU18080","T-Stück          TCPU      180.80","",30,76.95,{"$f":"G1026*(1-VLOOKUP(F1026,Konditionen!$B:$G,6,0))","v":76.95}]
["LindabSafe Formteile","TCPU","TCPU200100","T-Stück          TCPU      200.100","",30,82.85,{"$f":"G1027*(1-VLOOKUP(F1027,Konditionen!$B:$G,6,0))","v":82.85}]
["LindabSafe Formteile","TCPU","TCPU200125","T-Stück          TCPU      200.125","",30,86.3,{"$f":"G1028*(1-VLOOKUP(F1028,Konditionen!$B:$G,6,0))","v":86.3}]
["LindabSafe Formteile","TCPU","TCPU200140","T-Stück          TCPU      200.140","",30,100.95,{"$f":"G1029*(1-VLOOKUP(F1029,Konditionen!$B:$G,6,0))","v":100.95}]
["LindabSafe Formteile","TCPU","TCPU200150","T-Stück          TCPU      200.150","",30,100.95,{"$f":"G1030*(1-VLOOKUP(F1030,Konditionen!$B:$G,6,0))","v":100.95}]
["LindabSafe Formteile","TCPU","TCPU200160","T-Stück          TCPU      200.160","",30,100.95,{"$f":"G1031*(1-VLOOKUP(F1031,Konditionen!$B:$G,6,0))","v":100.95}]
["LindabSafe Formteile","TCPU","TCPU200180","T-Stück          TCPU      200.180","",30,119.25,{"$f":"G1032*(1-VLOOKUP(F1032,Konditionen!$B:$G,6,0))","v":119.25}]
["LindabSafe Formteile","TCPU","TCPU200200","T-Stück          TCPU      200.200","",30,119.25,{"$f":"G1033*(1-VLOOKUP(F1033,Konditionen!$B:$G,6,0))","v":119.25}]
["LindabSafe Formteile","TCPU","TCPU20080","T-Stück          TCPU      200.80","",30,76.95,{"$f":"G1034*(1-VLOOKUP(F1034,Konditionen!$B:$G,6,0))","v":76.95}]
["LindabSafe Formteile","TCPU","TCPU224100","T-Stück          TCPU      224.100","",30,92.4,{"$f":"G1035*(1-VLOOKUP(F1035,Konditionen!$B:$G,6,0))","v":92.4}]
["LindabSafe Formteile","TCPU","TCPU224125","T-Stück          TCPU      224.125","",30,92.4,{"$f":"G1036*(1-VLOOKUP(F1036,Konditionen!$B:$G,6,0))","v":92.4}]
["LindabSafe Formteile","TCPU","TCPU224140","T-Stück          TCPU      224.140","",30,113,{"$f":"G1037*(1-VLOOKUP(F1037,Konditionen!$B:$G,6,0))","v":113}]
["LindabSafe Formteile","TCPU","TCPU224150","T-Stück          TCPU      224.150","",30,113,{"$f":"G1038*(1-VLOOKUP(F1038,Konditionen!$B:$G,6,0))","v":113}]
["LindabSafe Formteile","TCPU","TCPU224160","T-Stück          TCPU      224.160","",30,113,{"$f":"G1039*(1-VLOOKUP(F1039,Konditionen!$B:$G,6,0))","v":113}]
["LindabSafe Formteile","TCPU","TCPU224180","T-Stück          TCPU      224.180","",30,129.65,{"$f":"G1040*(1-VLOOKUP(F1040,Konditionen!$B:$G,6,0))","v":129.65}]
["LindabSafe Formteile","TCPU","TCPU224200","T-Stück          TCPU      224.200","",30,129.65,{"$f":"G1041*(1-VLOOKUP(F1041,Konditionen!$B:$G,6,0))","v":129.65}]
["LindabSafe Formteile","TCPU","TCPU224224","T-Stück          TCPU      224.224","",30,152.1,{"$f":"G1042*(1-VLOOKUP(F1042,Konditionen!$B:$G,6,0))","v":152.1}]
["LindabSafe Formteile","TCPU","TCPU22480","T-Stück          TCPU      224.80","",30,92.4,{"$f":"G1043*(1-VLOOKUP(F1043,Konditionen!$B:$G,6,0))","v":92.4}]
["LindabSafe Formteile","TCPU","TCPU250100","T-Stück          TCPU      250.100","",30,92.4,{"$f":"G1044*(1-VLOOKUP(F1044,Konditionen!$B:$G,6,0))","v":92.4}]
["LindabSafe Formteile","TCPU","TCPU250125","T-Stück          TCPU      250.125","",30,92.4,{"$f":"G1045*(1-VLOOKUP(F1045,Konditionen!$B:$G,6,0))","v":92.4}]
["LindabSafe Formteile","TCPU","TCPU250140","T-Stück          TCPU      250.140","",30,113,{"$f":"G1046*(1-VLOOKUP(F1046,Konditionen!$B:$G,6,0))","v":113}]
["LindabSafe Formteile","TCPU","TCPU250150","T-Stück          TCPU      250.150","",30,113,{"$f":"G1047*(1-VLOOKUP(F1047,Konditionen!$B:$G,6,0))","v":113}]
["LindabSafe Formteile","TCPU","TCPU250160","T-Stück          TCPU      250.160","",30,113,{"$f":"G1048*(1-VLOOKUP(F1048,Konditionen!$B:$G,6,0))","v":113}]
["LindabSafe Formteile","TCPU","TCPU250180","T-Stück          TCPU      250.180","",30,129.65,{"$f":"G1049*(1-VLOOKUP(F1049,Konditionen!$B:$G,6,0))","v":129.65}]
["LindabSafe Formteile","TCPU","TCPU250200","T-Stück          TCPU      250.200","",30,129.65,{"$f":"G1050*(1-VLOOKUP(F1050,Konditionen!$B:$G,6,0))","v":129.65}]
["LindabSafe Formteile","TCPU","TCPU250224","T-Stück          TCPU      250.224","",30,152.1,{"$f":"G1051*(1-VLOOKUP(F1051,Konditionen!$B:$G,6,0))","v":152.1}]
["LindabSafe Formteile","TCPU","TCPU250250","T-Stück          TCPU      250.250","",30,152.1,{"$f":"G1052*(1-VLOOKUP(F1052,Konditionen!$B:$G,6,0))","v":152.1}]
["LindabSafe Formteile","TCPU","TCPU25080","T-Stück          TCPU      250.80","",30,92.4,{"$f":"G1053*(1-VLOOKUP(F1053,Konditionen!$B:$G,6,0))","v":92.4}]
["LindabSafe Formteile","TCPU","TCPU280100","T-Stück          TCPU      280.100","",30,110.4,{"$f":"G1054*(1-VLOOKUP(F1054,Konditionen!$B:$G,6,0))","v":110.4}]
["LindabSafe Formteile","TCPU","TCPU280125","T-Stück          TCPU      280.125","",30,115.1,{"$f":"G1055*(1-VLOOKUP(F1055,Konditionen!$B:$G,6,0))","v":115.1}]
["LindabSafe Formteile","TCPU","TCPU280140","T-Stück          TCPU      280.140","",30,127.2,{"$f":"G1056*(1-VLOOKUP(F1056,Konditionen!$B:$G,6,0))","v":127.2}]
["LindabSafe Formteile","TCPU","TCPU280150","T-Stück          TCPU      280.150","",30,127.2,{"$f":"G1057*(1-VLOOKUP(F1057,Konditionen!$B:$G,6,0))","v":127.2}]
["LindabSafe Formteile","TCPU","TCPU280160","T-Stück          TCPU      280.160","",30,127.2,{"$f":"G1058*(1-VLOOKUP(F1058,Konditionen!$B:$G,6,0))","v":127.2}]
["LindabSafe Formteile","TCPU","TCPU280180","T-Stück          TCPU      280.180","",30,146.19999999999999,{"$f":"G1059*(1-VLOOKUP(F1059,Konditionen!$B:$G,6,0))","v":146.19999999999999}]
["LindabSafe Formteile","TCPU","TCPU280200","T-Stück          TCPU      280.200","",30,146.19999999999999,{"$f":"G1060*(1-VLOOKUP(F1060,Konditionen!$B:$G,6,0))","v":146.19999999999999}]
["LindabSafe Formteile","TCPU","TCPU280224","T-Stück          TCPU      280.224","",30,170.25,{"$f":"G1061*(1-VLOOKUP(F1061,Konditionen!$B:$G,6,0))","v":170.25}]
["LindabSafe Formteile","TCPU","TCPU280250","T-Stück          TCPU      280.250","",30,170.25,{"$f":"G1062*(1-VLOOKUP(F1062,Konditionen!$B:$G,6,0))","v":170.25}]
["LindabSafe Formteile","TCPU","TCPU280280","T-Stück          TCPU      280.280","",30,192.6,{"$f":"G1063*(1-VLOOKUP(F1063,Konditionen!$B:$G,6,0))","v":192.6}]
["LindabSafe Formteile","TCPU","TCPU28080","T-Stück          TCPU      280.80","",30,109.3,{"$f":"G1064*(1-VLOOKUP(F1064,Konditionen!$B:$G,6,0))","v":109.3}]
["LindabSafe Formteile","TCPU","TCPU300100","T-Stück          TCPU      300.100","",30,110.4,{"$f":"G1065*(1-VLOOKUP(F1065,Konditionen!$B:$G,6,0))","v":110.4}]
["LindabSafe Formteile","TCPU","TCPU300125","T-Stück          TCPU      300.125","",30,115.1,{"$f":"G1066*(1-VLOOKUP(F1066,Konditionen!$B:$G,6,0))","v":115.1}]
["LindabSafe Formteile","TCPU","TCPU300140","T-Stück          TCPU      300.140","",30,127.2,{"$f":"G1067*(1-VLOOKUP(F1067,Konditionen!$B:$G,6,0))","v":127.2}]
["LindabSafe Formteile","TCPU","TCPU300150","T-Stück          TCPU      300.150","",30,127.2,{"$f":"G1068*(1-VLOOKUP(F1068,Konditionen!$B:$G,6,0))","v":127.2}]
["LindabSafe Formteile","TCPU","TCPU300160","T-Stück          TCPU      300.160","",30,127.2,{"$f":"G1069*(1-VLOOKUP(F1069,Konditionen!$B:$G,6,0))","v":127.2}]
["LindabSafe Formteile","TCPU","TCPU300180","T-Stück          TCPU      300.180","",30,146.19999999999999,{"$f":"G1070*(1-VLOOKUP(F1070,Konditionen!$B:$G,6,0))","v":146.19999999999999}]
["LindabSafe Formteile","TCPU","TCPU300200","T-Stück          TCPU      300.200","",30,146.19999999999999,{"$f":"G1071*(1-VLOOKUP(F1071,Konditionen!$B:$G,6,0))","v":146.19999999999999}]
["LindabSafe Formteile","TCPU","TCPU300224","T-Stück          TCPU      300.224","",30,170.25,{"$f":"G1072*(1-VLOOKUP(F1072,Konditionen!$B:$G,6,0))","v":170.25}]
["LindabSafe Formteile","TCPU","TCPU300250","T-Stück          TCPU      300.250","",30,170.25,{"$f":"G1073*(1-VLOOKUP(F1073,Konditionen!$B:$G,6,0))","v":170.25}]
["LindabSafe Formteile","TCPU","TCPU300280","T-Stück          TCPU      300.280","",30,192.6,{"$f":"G1074*(1-VLOOKUP(F1074,Konditionen!$B:$G,6,0))","v":192.6}]
["LindabSafe Formteile","TCPU","TCPU300300","T-Stück          TCPU      300.300","",30,192.6,{"$f":"G1075*(1-VLOOKUP(F1075,Konditionen!$B:$G,6,0))","v":192.6}]
["LindabSafe Formteile","TCPU","TCPU30080","T-Stück          TCPU      300.80","",30,109.3,{"$f":"G1076*(1-VLOOKUP(F1076,Konditionen!$B:$G,6,0))","v":109.3}]
["LindabSafe Formteile","TCPU","TCPU315100","T-Stück          TCPU      315.100","",30,118.8,{"$f":"G1077*(1-VLOOKUP(F1077,Konditionen!$B:$G,6,0))","v":118.8}]
["LindabSafe Formteile","TCPU","TCPU315125","T-Stück          TCPU      315.125","",30,121.2,{"$f":"G1078*(1-VLOOKUP(F1078,Konditionen!$B:$G,6,0))","v":121.2}]
["LindabSafe Formteile","TCPU","TCPU315140","T-Stück          TCPU      315.140","",30,133.80000000000001,{"$f":"G1079*(1-VLOOKUP(F1079,Konditionen!$B:$G,6,0))","v":133.80000000000001}]
["LindabSafe Formteile","TCPU","TCPU315150","T-Stück          TCPU      315.150","",30,133.80000000000001,{"$f":"G1080*(1-VLOOKUP(F1080,Konditionen!$B:$G,6,0))","v":133.80000000000001}]
["LindabSafe Formteile","TCPU","TCPU315160","T-Stück          TCPU      315.160","",30,133.80000000000001,{"$f":"G1081*(1-VLOOKUP(F1081,Konditionen!$B:$G,6,0))","v":133.80000000000001}]
["LindabSafe Formteile","TCPU","TCPU315180","T-Stück          TCPU      315.180","",30,154.44999999999999,{"$f":"G1082*(1-VLOOKUP(F1082,Konditionen!$B:$G,6,0))","v":154.44999999999999}]
["LindabSafe Formteile","TCPU","TCPU315200","T-Stück          TCPU      315.200","",30,154.44999999999999,{"$f":"G1083*(1-VLOOKUP(F1083,Konditionen!$B:$G,6,0))","v":154.44999999999999}]
["LindabSafe Formteile","TCPU","TCPU315224","T-Stück          TCPU      315.224","",30,178.35,{"$f":"G1084*(1-VLOOKUP(F1084,Konditionen!$B:$G,6,0))","v":178.35}]
["LindabSafe Formteile","TCPU","TCPU315250","T-Stück          TCPU      315.250","",30,178.35,{"$f":"G1085*(1-VLOOKUP(F1085,Konditionen!$B:$G,6,0))","v":178.35}]
["LindabSafe Formteile","TCPU","TCPU315280","T-Stück          TCPU      315.280","",30,198.3,{"$f":"G1086*(1-VLOOKUP(F1086,Konditionen!$B:$G,6,0))","v":198.3}]
["LindabSafe Formteile","TCPU","TCPU315300","T-Stück          TCPU      315.300","",30,198.3,{"$f":"G1087*(1-VLOOKUP(F1087,Konditionen!$B:$G,6,0))","v":198.3}]
["LindabSafe Formteile","TCPU","TCPU315315","T-Stück          TCPU      315.315","",30,211.05,{"$f":"G1088*(1-VLOOKUP(F1088,Konditionen!$B:$G,6,0))","v":211.05}]
["LindabSafe Formteile","TCPU","TCPU31580","T-Stück          TCPU      315.80","",30,118.8,{"$f":"G1089*(1-VLOOKUP(F1089,Konditionen!$B:$G,6,0))","v":118.8}]
["LindabSafe Formteile","TCPU","TCPU355100","T-Stück          TCPU      355.100","",30,142.35,{"$f":"G1090*(1-VLOOKUP(F1090,Konditionen!$B:$G,6,0))","v":142.35}]
["LindabSafe Formteile","TCPU","TCPU355125","T-Stück          TCPU      355.125","",30,144.4,{"$f":"G1091*(1-VLOOKUP(F1091,Konditionen!$B:$G,6,0))","v":144.4}]
["LindabSafe Formteile","TCPU","TCPU355140","T-Stück          TCPU      355.140","",30,155.5,{"$f":"G1092*(1-VLOOKUP(F1092,Konditionen!$B:$G,6,0))","v":155.5}]
["LindabSafe Formteile","TCPU","TCPU355150","T-Stück          TCPU      355.150","",30,155.5,{"$f":"G1093*(1-VLOOKUP(F1093,Konditionen!$B:$G,6,0))","v":155.5}]
["LindabSafe Formteile","TCPU","TCPU355160","T-Stück          TCPU      355.160","",30,155.5,{"$f":"G1094*(1-VLOOKUP(F1094,Konditionen!$B:$G,6,0))","v":155.5}]
["LindabSafe Formteile","TCPU","TCPU355180","T-Stück          TCPU      355.180","",30,167.55,{"$f":"G1095*(1-VLOOKUP(F1095,Konditionen!$B:$G,6,0))","v":167.55}]
["LindabSafe Formteile","TCPU","TCPU355200","T-Stück          TCPU      355.200","",30,167.55,{"$f":"G1096*(1-VLOOKUP(F1096,Konditionen!$B:$G,6,0))","v":167.55}]
["LindabSafe Formteile","TCPU","TCPU355224","T-Stück          TCPU      355.224","",30,186.2,{"$f":"G1097*(1-VLOOKUP(F1097,Konditionen!$B:$G,6,0))","v":186.2}]
["LindabSafe Formteile","TCPU","TCPU355250","T-Stück          TCPU      355.250","",30,186.2,{"$f":"G1098*(1-VLOOKUP(F1098,Konditionen!$B:$G,6,0))","v":186.2}]
["LindabSafe Formteile","TCPU","TCPU355280","T-Stück          TCPU      355.280","",30,220.25,{"$f":"G1099*(1-VLOOKUP(F1099,Konditionen!$B:$G,6,0))","v":220.25}]
["LindabSafe Formteile","TCPU","TCPU355300","T-Stück          TCPU      355.300","",30,220.25,{"$f":"G1100*(1-VLOOKUP(F1100,Konditionen!$B:$G,6,0))","v":220.25}]
["LindabSafe Formteile","TCPU","TCPU355315","T-Stück          TCPU      355.315","",30,221.05,{"$f":"G1101*(1-VLOOKUP(F1101,Konditionen!$B:$G,6,0))","v":221.05}]
["LindabSafe Formteile","TCPU","TCPU355355","T-Stück          TCPU      355.355","",30,244.05,{"$f":"G1102*(1-VLOOKUP(F1102,Konditionen!$B:$G,6,0))","v":244.05}]
["LindabSafe Formteile","TCPU","TCPU400100","T-Stück          TCPU      400.100","",30,157.19999999999999,{"$f":"G1103*(1-VLOOKUP(F1103,Konditionen!$B:$G,6,0))","v":157.19999999999999}]
["LindabSafe Formteile","TCPU","TCPU400125","T-Stück          TCPU      400.125","",30,161.55000000000001,{"$f":"G1104*(1-VLOOKUP(F1104,Konditionen!$B:$G,6,0))","v":161.55000000000001}]
["LindabSafe Formteile","TCPU","TCPU400160","T-Stück          TCPU      400.160","",30,170,{"$f":"G1105*(1-VLOOKUP(F1105,Konditionen!$B:$G,6,0))","v":170}]
["LindabSafe Formteile","TCPU","TCPU400200","T-Stück          TCPU      400.200","",30,178.8,{"$f":"G1106*(1-VLOOKUP(F1106,Konditionen!$B:$G,6,0))","v":178.8}]
["LindabSafe Formteile","TCPU","TCPU400224","T-Stück          TCPU      400.224","",30,199.85,{"$f":"G1107*(1-VLOOKUP(F1107,Konditionen!$B:$G,6,0))","v":199.85}]
["LindabSafe Formteile","TCPU","TCPU400250","T-Stück          TCPU      400.250","",30,199.85,{"$f":"G1108*(1-VLOOKUP(F1108,Konditionen!$B:$G,6,0))","v":199.85}]
["LindabSafe Formteile","TCPU","TCPU400280","T-Stück          TCPU      400.280","",30,248,{"$f":"G1109*(1-VLOOKUP(F1109,Konditionen!$B:$G,6,0))","v":248}]
["LindabSafe Formteile","TCPU","TCPU400300","T-Stück          TCPU      400.300","",30,248,{"$f":"G1110*(1-VLOOKUP(F1110,Konditionen!$B:$G,6,0))","v":248}]
["LindabSafe Formteile","TCPU","TCPU400315","T-Stück          TCPU      400.315","",30,239.75,{"$f":"G1111*(1-VLOOKUP(F1111,Konditionen!$B:$G,6,0))","v":239.75}]
["LindabSafe Formteile","TCPU","TCPU400355","T-Stück          TCPU      400.355","",30,278.14999999999998,{"$f":"G1112*(1-VLOOKUP(F1112,Konditionen!$B:$G,6,0))","v":278.14999999999998}]
["LindabSafe Formteile","TCPU","TCPU400400","T-Stück          TCPU      400.400","",30,297.35000000000002,{"$f":"G1113*(1-VLOOKUP(F1113,Konditionen!$B:$G,6,0))","v":297.35000000000002}]
["LindabSafe Formteile","TCPU","TCPU450100","T-Stück          TCPU      450.100","",30,183.95,{"$f":"G1114*(1-VLOOKUP(F1114,Konditionen!$B:$G,6,0))","v":183.95}]
["LindabSafe Formteile","TCPU","TCPU450125","T-Stück          TCPU      450.125","",30,189.5,{"$f":"G1115*(1-VLOOKUP(F1115,Konditionen!$B:$G,6,0))","v":189.5}]
["LindabSafe Formteile","TCPU","TCPU450160","T-Stück          TCPU      450.160","",30,197.25,{"$f":"G1116*(1-VLOOKUP(F1116,Konditionen!$B:$G,6,0))","v":197.25}]
["LindabSafe Formteile","TCPU","TCPU450200","T-Stück          TCPU      450.200","",30,207.8,{"$f":"G1117*(1-VLOOKUP(F1117,Konditionen!$B:$G,6,0))","v":207.8}]
["LindabSafe Formteile","TCPU","TCPU450224","T-Stück          TCPU      450.224","",30,229.1,{"$f":"G1118*(1-VLOOKUP(F1118,Konditionen!$B:$G,6,0))","v":229.1}]
["LindabSafe Formteile","TCPU","TCPU450250","T-Stück          TCPU      450.250","",30,229.1,{"$f":"G1119*(1-VLOOKUP(F1119,Konditionen!$B:$G,6,0))","v":229.1}]
["LindabSafe Formteile","TCPU","TCPU450280","T-Stück          TCPU      450.280","",30,251.95,{"$f":"G1120*(1-VLOOKUP(F1120,Konditionen!$B:$G,6,0))","v":251.95}]
["LindabSafe Formteile","TCPU","TCPU450300","T-Stück          TCPU      450.300","",30,251.95,{"$f":"G1121*(1-VLOOKUP(F1121,Konditionen!$B:$G,6,0))","v":251.95}]
["LindabSafe Formteile","TCPU","TCPU450315","T-Stück          TCPU      450.315","",30,274.3,{"$f":"G1122*(1-VLOOKUP(F1122,Konditionen!$B:$G,6,0))","v":274.3}]
["LindabSafe Formteile","TCPU","TCPU450355","T-Stück          TCPU      450.355","",30,286.2,{"$f":"G1123*(1-VLOOKUP(F1123,Konditionen!$B:$G,6,0))","v":286.2}]
["LindabSafe Formteile","TCPU","TCPU450400","T-Stück          TCPU      450.400","",30,309,{"$f":"G1124*(1-VLOOKUP(F1124,Konditionen!$B:$G,6,0))","v":309}]
["LindabSafe Formteile","TCPU","TCPU450450","T-Stück          TCPU      450.450","",30,335.85,{"$f":"G1125*(1-VLOOKUP(F1125,Konditionen!$B:$G,6,0))","v":335.85}]
["LindabSafe Formteile","TCPU","TCPU500100","T-Stück          TCPU      500.100","",30,214.05,{"$f":"G1126*(1-VLOOKUP(F1126,Konditionen!$B:$G,6,0))","v":214.05}]
["LindabSafe Formteile","TCPU","TCPU500125","T-Stück          TCPU      500.125","",30,207.9,{"$f":"G1127*(1-VLOOKUP(F1127,Konditionen!$B:$G,6,0))","v":207.9}]
["LindabSafe Formteile","TCPU","TCPU500160","T-Stück          TCPU      500.160","",30,220.85,{"$f":"G1128*(1-VLOOKUP(F1128,Konditionen!$B:$G,6,0))","v":220.85}]
["LindabSafe Formteile","TCPU","TCPU500200","T-Stück          TCPU      500.200","",30,236.6,{"$f":"G1129*(1-VLOOKUP(F1129,Konditionen!$B:$G,6,0))","v":236.6}]
["LindabSafe Formteile","TCPU","TCPU500250","T-Stück          TCPU      500.250","",30,249.55,{"$f":"G1130*(1-VLOOKUP(F1130,Konditionen!$B:$G,6,0))","v":249.55}]
["LindabSafe Formteile","TCPU","TCPU500300","T-Stück          TCPU      500.300","",30,281.95,{"$f":"G1131*(1-VLOOKUP(F1131,Konditionen!$B:$G,6,0))","v":281.95}]
["LindabSafe Formteile","TCPU","TCPU500315","T-Stück          TCPU      500.315","",30,296.8,{"$f":"G1132*(1-VLOOKUP(F1132,Konditionen!$B:$G,6,0))","v":296.8}]
["LindabSafe Formteile","TCPU","TCPU500355","T-Stück          TCPU      500.355","",30,315.25,{"$f":"G1133*(1-VLOOKUP(F1133,Konditionen!$B:$G,6,0))","v":315.25}]
["LindabSafe Formteile","TCPU","TCPU500400","T-Stück          TCPU      500.400","",30,328.45,{"$f":"G1134*(1-VLOOKUP(F1134,Konditionen!$B:$G,6,0))","v":328.45}]
["LindabSafe Formteile","TCPU","TCPU500450","T-Stück          TCPU      500.450","",30,351.1,{"$f":"G1135*(1-VLOOKUP(F1135,Konditionen!$B:$G,6,0))","v":351.1}]
["LindabSafe Formteile","TCPU","TCPU500500","T-Stück          TCPU      500.500","",30,376.9,{"$f":"G1136*(1-VLOOKUP(F1136,Konditionen!$B:$G,6,0))","v":376.9}]
["LindabSafe Formteile","TCPU","TCPU560100","T-Stück          TCPU      560.100","",30,268.95,{"$f":"G1137*(1-VLOOKUP(F1137,Konditionen!$B:$G,6,0))","v":268.95}]
["LindabSafe Formteile","TCPU","TCPU560125","T-Stück          TCPU      560.125","",30,268.95,{"$f":"G1138*(1-VLOOKUP(F1138,Konditionen!$B:$G,6,0))","v":268.95}]
["LindabSafe Formteile","TCPU","TCPU560160","T-Stück          TCPU      560.160","",30,270.14999999999998,{"$f":"G1139*(1-VLOOKUP(F1139,Konditionen!$B:$G,6,0))","v":270.14999999999998}]
["LindabSafe Formteile","TCPU","TCPU560200","T-Stück          TCPU      560.200","",30,280.2,{"$f":"G1140*(1-VLOOKUP(F1140,Konditionen!$B:$G,6,0))","v":280.2}]
["LindabSafe Formteile","TCPU","TCPU560250","T-Stück          TCPU      560.250","",30,296.45,{"$f":"G1141*(1-VLOOKUP(F1141,Konditionen!$B:$G,6,0))","v":296.45}]
["LindabSafe Formteile","TCPU","TCPU560300","T-Stück          TCPU      560.300","",30,325.89999999999998,{"$f":"G1142*(1-VLOOKUP(F1142,Konditionen!$B:$G,6,0))","v":325.89999999999998}]
["LindabSafe Formteile","TCPU","TCPU560315","T-Stück          TCPU      560.315","",30,339.65,{"$f":"G1143*(1-VLOOKUP(F1143,Konditionen!$B:$G,6,0))","v":339.65}]
["LindabSafe Formteile","TCPU","TCPU560355","T-Stück          TCPU      560.355","",30,357.15,{"$f":"G1144*(1-VLOOKUP(F1144,Konditionen!$B:$G,6,0))","v":357.15}]
["LindabSafe Formteile","TCPU","TCPU560400","T-Stück          TCPU      560.400","",30,371.45,{"$f":"G1145*(1-VLOOKUP(F1145,Konditionen!$B:$G,6,0))","v":371.45}]
["LindabSafe Formteile","TCPU","TCPU560450","T-Stück          TCPU      560.450","",30,394.15,{"$f":"G1146*(1-VLOOKUP(F1146,Konditionen!$B:$G,6,0))","v":394.15}]
["LindabSafe Formteile","TCPU","TCPU560500","T-Stück          TCPU      560.500","",30,406.1,{"$f":"G1147*(1-VLOOKUP(F1147,Konditionen!$B:$G,6,0))","v":406.1}]
["LindabSafe Formteile","TCPU","TCPU560560","T-Stück          TCPU      560.560","",30,465.15,{"$f":"G1148*(1-VLOOKUP(F1148,Konditionen!$B:$G,6,0))","v":465.15}]
["LindabSafe Formteile","TCPU","TCPU600100","T-Stück          TCPU      600.100","",30,288.95,{"$f":"G1149*(1-VLOOKUP(F1149,Konditionen!$B:$G,6,0))","v":288.95}]
["LindabSafe Formteile","TCPU","TCPU600125","T-Stück          TCPU      600.125","",30,288.95,{"$f":"G1150*(1-VLOOKUP(F1150,Konditionen!$B:$G,6,0))","v":288.95}]
["LindabSafe Formteile","TCPU","TCPU600160","T-Stück          TCPU      600.160","",30,290.64999999999998,{"$f":"G1151*(1-VLOOKUP(F1151,Konditionen!$B:$G,6,0))","v":290.64999999999998}]
["LindabSafe Formteile","TCPU","TCPU600200","T-Stück          TCPU      600.200","",30,292.5,{"$f":"G1152*(1-VLOOKUP(F1152,Konditionen!$B:$G,6,0))","v":292.5}]
["LindabSafe Formteile","TCPU","TCPU600250","T-Stück          TCPU      600.250","",30,305,{"$f":"G1153*(1-VLOOKUP(F1153,Konditionen!$B:$G,6,0))","v":305}]
["LindabSafe Formteile","TCPU","TCPU600300","T-Stück          TCPU      600.300","",30,339.4,{"$f":"G1154*(1-VLOOKUP(F1154,Konditionen!$B:$G,6,0))","v":339.4}]
["LindabSafe Formteile","TCPU","TCPU600315","T-Stück          TCPU      600.315","",30,360.95,{"$f":"G1155*(1-VLOOKUP(F1155,Konditionen!$B:$G,6,0))","v":360.95}]
["LindabSafe Formteile","TCPU","TCPU600355","T-Stück          TCPU      600.355","",30,360.55,{"$f":"G1156*(1-VLOOKUP(F1156,Konditionen!$B:$G,6,0))","v":360.55}]
["LindabSafe Formteile","TCPU","TCPU600400","T-Stück          TCPU      600.400","",30,394.65,{"$f":"G1157*(1-VLOOKUP(F1157,Konditionen!$B:$G,6,0))","v":394.65}]
["LindabSafe Formteile","TCPU","TCPU600450","T-Stück          TCPU      600.450","",30,405.6,{"$f":"G1158*(1-VLOOKUP(F1158,Konditionen!$B:$G,6,0))","v":405.6}]
["LindabSafe Formteile","TCPU","TCPU600500","T-Stück          TCPU      600.500","",30,425.7,{"$f":"G1159*(1-VLOOKUP(F1159,Konditionen!$B:$G,6,0))","v":425.7}]
["LindabSafe Formteile","TCPU","TCPU600560","T-Stück          TCPU      600.560","",30,458.95,{"$f":"G1160*(1-VLOOKUP(F1160,Konditionen!$B:$G,6,0))","v":458.95}]
["LindabSafe Formteile","TCPU","TCPU600600","T-Stück          TCPU      600.600","",30,496.45,{"$f":"G1161*(1-VLOOKUP(F1161,Konditionen!$B:$G,6,0))","v":496.45}]
["LindabSafe Formteile","TCPU","TCPU630100","T-Stück          TCPU      630.100","",30,346.5,{"$f":"G1162*(1-VLOOKUP(F1162,Konditionen!$B:$G,6,0))","v":346.5}]
["LindabSafe Formteile","TCPU","TCPU630125","T-Stück          TCPU      630.125","",30,346.5,{"$f":"G1163*(1-VLOOKUP(F1163,Konditionen!$B:$G,6,0))","v":346.5}]
["LindabSafe Formteile","TCPU","TCPU630160","T-Stück          TCPU      630.160","",30,357.7,{"$f":"G1164*(1-VLOOKUP(F1164,Konditionen!$B:$G,6,0))","v":357.7}]
["LindabSafe Formteile","TCPU","TCPU630200","T-Stück          TCPU      630.200","",30,359.9,{"$f":"G1165*(1-VLOOKUP(F1165,Konditionen!$B:$G,6,0))","v":359.9}]
["LindabSafe Formteile","TCPU","TCPU630250","T-Stück          TCPU      630.250","",30,372.25,{"$f":"G1166*(1-VLOOKUP(F1166,Konditionen!$B:$G,6,0))","v":372.25}]
["LindabSafe Formteile","TCPU","TCPU630300","T-Stück          TCPU      630.300","",30,383.15,{"$f":"G1167*(1-VLOOKUP(F1167,Konditionen!$B:$G,6,0))","v":383.15}]
["LindabSafe Formteile","TCPU","TCPU630315","T-Stück          TCPU      630.315","",30,401.65,{"$f":"G1168*(1-VLOOKUP(F1168,Konditionen!$B:$G,6,0))","v":401.65}]
["LindabSafe Formteile","TCPU","TCPU630355","T-Stück          TCPU      630.355","",30,435.15,{"$f":"G1169*(1-VLOOKUP(F1169,Konditionen!$B:$G,6,0))","v":435.15}]
["LindabSafe Formteile","TCPU","TCPU630400","T-Stück          TCPU      630.400","",30,468.9,{"$f":"G1170*(1-VLOOKUP(F1170,Konditionen!$B:$G,6,0))","v":468.9}]
["LindabSafe Formteile","TCPU","TCPU630450","T-Stück          TCPU      630.450","",30,487.9,{"$f":"G1171*(1-VLOOKUP(F1171,Konditionen!$B:$G,6,0))","v":487.9}]
["LindabSafe Formteile","TCPU","TCPU630500","T-Stück          TCPU      630.500","",30,545,{"$f":"G1172*(1-VLOOKUP(F1172,Konditionen!$B:$G,6,0))","v":545}]
["LindabSafe Formteile","TCPU","TCPU630630","T-Stück          TCPU      630.630","",30,645.4,{"$f":"G1173*(1-VLOOKUP(F1173,Konditionen!$B:$G,6,0))","v":645.4}]
["LindabSafe Formteile","TCPU","TCPU6363","T-Stück          TCPU       63.63","",30,58.95,{"$f":"G1174*(1-VLOOKUP(F1174,Konditionen!$B:$G,6,0))","v":58.95}]
["LindabSafe Formteile","TCPU","TCPU8063","T-Stück          TCPU       80.63","",30,58.95,{"$f":"G1175*(1-VLOOKUP(F1175,Konditionen!$B:$G,6,0))","v":58.95}]
["LindabSafe Formteile","TCPU","TCPU8080","T-Stück          TCPU       80.80","",30,58.95,{"$f":"G1176*(1-VLOOKUP(F1176,Konditionen!$B:$G,6,0))","v":58.95}]
["LindabSafe Formteile","TVILU","TVILU100","Wandabschluss     TVILU        100","mit Safe-Stutzen",30,91.5,{"$f":"G1177*(1-VLOOKUP(F1177,Konditionen!$B:$G,6,0))","v":91.5}]
["LindabSafe Formteile","TVILU","TVILU125","Wandabschluss     TVILU        125","mit Safe-Stutzen",30,92.8,{"$f":"G1178*(1-VLOOKUP(F1178,Konditionen!$B:$G,6,0))","v":92.8}]
["LindabSafe Formteile","TVILU","TVILU160","Wandabschluss     TVILU        160","mit Safe-Stutzen",30,94.75,{"$f":"G1179*(1-VLOOKUP(F1179,Konditionen!$B:$G,6,0))","v":94.75}]
["LindabSafe Formteile","TBSU","TBSU250180","Schuhstutzen  TBSU 250.180","",30,131.44999999999999,{"$f":"G1180*(1-VLOOKUP(F1180,Konditionen!$B:$G,6,0))","v":131.44999999999999}]
["LindabSafe Formteile","ESHU","ESHU450","Enddeckel mit Handgriff   ESHU  450","",30,187.45,{"$f":"G1181*(1-VLOOKUP(F1181,Konditionen!$B:$G,6,0))","v":187.45}]
["LindabSafe Formteile","BFU","BFU100015","Bogen Segment    BFU      1000.15","",30,1023,{"$f":"G1182*(1-VLOOKUP(F1182,Konditionen!$B:$G,6,0))","v":1023}]
["LindabSafe Formteile","BFU","BFU100030","Bogen Segment    BFU      1000.30","",30,1058,{"$f":"G1183*(1-VLOOKUP(F1183,Konditionen!$B:$G,6,0))","v":1058}]
["LindabSafe Formteile","BFU","BFU100045","Bogen Segment    BFU      1000.45","",30,1312,{"$f":"G1184*(1-VLOOKUP(F1184,Konditionen!$B:$G,6,0))","v":1312}]
["LindabSafe Formteile","BFU","BFU100060","Bogen Segment    BFU      1000.60","",30,1461,{"$f":"G1185*(1-VLOOKUP(F1185,Konditionen!$B:$G,6,0))","v":1461}]
["LindabSafe Formteile","BFU","BFU100090","Bogen Segment    BFU      1000.90","",30,1516,{"$f":"G1186*(1-VLOOKUP(F1186,Konditionen!$B:$G,6,0))","v":1516}]
["LindabSafe Formteile","BFU","BFU10015","Bogen Segment    BFU       100.15","",30,48.75,{"$f":"G1187*(1-VLOOKUP(F1187,Konditionen!$B:$G,6,0))","v":48.75}]
["LindabSafe Formteile","BFU","BFU10030","Bogen Segment    BFU       100.30","",30,48.75,{"$f":"G1188*(1-VLOOKUP(F1188,Konditionen!$B:$G,6,0))","v":48.75}]
["LindabSafe Formteile","BFU","BFU10045","Bogen Segment    BFU       100.45","",30,53.3,{"$f":"G1189*(1-VLOOKUP(F1189,Konditionen!$B:$G,6,0))","v":53.3}]
["LindabSafe Formteile","BFU","BFU10060","Bogen Segment    BFU       100.60","",30,61.7,{"$f":"G1190*(1-VLOOKUP(F1190,Konditionen!$B:$G,6,0))","v":61.7}]
["LindabSafe Formteile","BFU","BFU10090","Bogen Segment    BFU       100.90","",30,77.599999999999994,{"$f":"G1191*(1-VLOOKUP(F1191,Konditionen!$B:$G,6,0))","v":77.599999999999994}]
["LindabSafe Formteile","BFU","BFU112015","Bogen Segment    BFU      1120.15","",30,1203,{"$f":"G1192*(1-VLOOKUP(F1192,Konditionen!$B:$G,6,0))","v":1203}]
["LindabSafe Formteile","BFU","BFU112030","Bogen Segment    BFU      1120.30","",30,1326,{"$f":"G1193*(1-VLOOKUP(F1193,Konditionen!$B:$G,6,0))","v":1326}]
["LindabSafe Formteile","BFU","BFU112045","Bogen Segment    BFU      1120.45","",30,1649,{"$f":"G1194*(1-VLOOKUP(F1194,Konditionen!$B:$G,6,0))","v":1649}]
["LindabSafe Formteile","BFU","BFU112060","Bogen Segment    BFU      1120.60","",30,1839,{"$f":"G1195*(1-VLOOKUP(F1195,Konditionen!$B:$G,6,0))","v":1839}]
["LindabSafe Formteile","BFU","BFU112090","Bogen Segment    BFU      1120.90","",30,1939,{"$f":"G1196*(1-VLOOKUP(F1196,Konditionen!$B:$G,6,0))","v":1939}]
["LindabSafe Formteile","BFU","BFU11215","Bogen Segment    BFU      112.15","",30,49.85,{"$f":"G1197*(1-VLOOKUP(F1197,Konditionen!$B:$G,6,0))","v":49.85}]
["LindabSafe Formteile","BFU","BFU11230","Bogen Segment    BFU       112.30","",30,49.85,{"$f":"G1198*(1-VLOOKUP(F1198,Konditionen!$B:$G,6,0))","v":49.85}]
["LindabSafe Formteile","BFU","BFU11245","Bogen Segment    BFU       112.45","",30,58.15,{"$f":"G1199*(1-VLOOKUP(F1199,Konditionen!$B:$G,6,0))","v":58.15}]
["LindabSafe Formteile","BFU","BFU11260","Bogen Segment    BFU       112.60","",30,66.05,{"$f":"G1200*(1-VLOOKUP(F1200,Konditionen!$B:$G,6,0))","v":66.05}]
["LindabSafe Formteile","BFU","BFU11290","Bogen Segment    BFU       112.90","",30,82.4,{"$f":"G1201*(1-VLOOKUP(F1201,Konditionen!$B:$G,6,0))","v":82.4}]
["LindabSafe Formteile","BFU","BFU125015","Bogen Segment    BFU      1250.15","",30,1538,{"$f":"G1202*(1-VLOOKUP(F1202,Konditionen!$B:$G,6,0))","v":1538}]
["LindabSafe Formteile","BFU","BFU125030","Bogen Segment    BFU      1250.30","",30,1601,{"$f":"G1203*(1-VLOOKUP(F1203,Konditionen!$B:$G,6,0))","v":1601}]
["LindabSafe Formteile","BFU","BFU125045","Bogen Segment    BFU      1250.45","",30,2000,{"$f":"G1204*(1-VLOOKUP(F1204,Konditionen!$B:$G,6,0))","v":2000}]
["LindabSafe Formteile","BFU","BFU125060","Bogen Segment    BFU      1250.60","",30,2227,{"$f":"G1205*(1-VLOOKUP(F1205,Konditionen!$B:$G,6,0))","v":2227}]
["LindabSafe Formteile","BFU","BFU125090","Bogen Segment    BFU      1250.90","",30,2351,{"$f":"G1206*(1-VLOOKUP(F1206,Konditionen!$B:$G,6,0))","v":2351}]
["LindabSafe Formteile","BFU","BFU12515","Bogen Segment    BFU       125.15","",30,49.85,{"$f":"G1207*(1-VLOOKUP(F1207,Konditionen!$B:$G,6,0))","v":49.85}]
["LindabSafe Formteile","BFU","BFU12530","Bogen Segment    BFU       125.30","",30,49.85,{"$f":"G1208*(1-VLOOKUP(F1208,Konditionen!$B:$G,6,0))","v":49.85}]
["LindabSafe Formteile","BFU","BFU12545","Bogen Segment    BFU       125.45","",30,58.15,{"$f":"G1209*(1-VLOOKUP(F1209,Konditionen!$B:$G,6,0))","v":58.15}]
["LindabSafe Formteile","BFU","BFU12560","Bogen Segment    BFU       125.60","",30,66.05,{"$f":"G1210*(1-VLOOKUP(F1210,Konditionen!$B:$G,6,0))","v":66.05}]
["LindabSafe Formteile","BFU","BFU12590","Bogen Segment    BFU       125.90","",30,82.4,{"$f":"G1211*(1-VLOOKUP(F1211,Konditionen!$B:$G,6,0))","v":82.4}]
["LindabSafe Formteile","BFU","BFU14015","Bogen Segment    BFU       140.15","",30,60.35,{"$f":"G1212*(1-VLOOKUP(F1212,Konditionen!$B:$G,6,0))","v":60.35}]
["LindabSafe Formteile","BFU","BFU14030","Bogen Segment    BFU       140.30","",30,60.35,{"$f":"G1213*(1-VLOOKUP(F1213,Konditionen!$B:$G,6,0))","v":60.35}]
["LindabSafe Formteile","BFU","BFU14045","Bogen Segment    BFU       140.45","",30,65.400000000000006,{"$f":"G1214*(1-VLOOKUP(F1214,Konditionen!$B:$G,6,0))","v":65.400000000000006}]
["LindabSafe Formteile","BFU","BFU14060","Bogen Segment    BFU       140.60","",30,77.849999999999994,{"$f":"G1215*(1-VLOOKUP(F1215,Konditionen!$B:$G,6,0))","v":77.849999999999994}]
["LindabSafe Formteile","BFU","BFU14090","Bogen Segment    BFU       140.90","",30,94.2,{"$f":"G1216*(1-VLOOKUP(F1216,Konditionen!$B:$G,6,0))","v":94.2}]
["LindabSafe Formteile","BFU","BFU15015","Bogen Segment    BFU       150.15","",30,60.35,{"$f":"G1217*(1-VLOOKUP(F1217,Konditionen!$B:$G,6,0))","v":60.35}]
["LindabSafe Formteile","BFU","BFU15030","Bogen Segment    BFU       150.30","",30,60.35,{"$f":"G1218*(1-VLOOKUP(F1218,Konditionen!$B:$G,6,0))","v":60.35}]
["LindabSafe Formteile","BFU","BFU15045","Bogen Segment    BFU       150.45","",30,65.400000000000006,{"$f":"G1219*(1-VLOOKUP(F1219,Konditionen!$B:$G,6,0))","v":65.400000000000006}]
["LindabSafe Formteile","BFU","BFU15060","Bogen Segment    BFU       150.60","",30,77.849999999999994,{"$f":"G1220*(1-VLOOKUP(F1220,Konditionen!$B:$G,6,0))","v":77.849999999999994}]
["LindabSafe Formteile","BFU","BFU15090","Bogen Segment    BFU       150.90","",30,94.2,{"$f":"G1221*(1-VLOOKUP(F1221,Konditionen!$B:$G,6,0))","v":94.2}]
["LindabSafe Formteile","BFU","BFU16015","Bogen Segment    BFU       160.15","",30,60.35,{"$f":"G1222*(1-VLOOKUP(F1222,Konditionen!$B:$G,6,0))","v":60.35}]
["LindabSafe Formteile","BFU","BFU16030","Bogen Segment    BFU       160.30","",30,60.35,{"$f":"G1223*(1-VLOOKUP(F1223,Konditionen!$B:$G,6,0))","v":60.35}]
["LindabSafe Formteile","BFU","BFU16045","Bogen Segment    BFU       160.45","",30,65.400000000000006,{"$f":"G1224*(1-VLOOKUP(F1224,Konditionen!$B:$G,6,0))","v":65.400000000000006}]
["LindabSafe Formteile","BFU","BFU16060","Bogen Segment    BFU       160.60","",30,77.849999999999994,{"$f":"G1225*(1-VLOOKUP(F1225,Konditionen!$B:$G,6,0))","v":77.849999999999994}]
["LindabSafe Formteile","BFU","BFU16090","Bogen Segment    BFU       160.90","",30,94.2,{"$f":"G1226*(1-VLOOKUP(F1226,Konditionen!$B:$G,6,0))","v":94.2}]
["LindabSafe Formteile","BFU","BFU18015","Bogen Segment    BFU       180.15","",30,68.55,{"$f":"G1227*(1-VLOOKUP(F1227,Konditionen!$B:$G,6,0))","v":68.55}]
["LindabSafe Formteile","BFU","BFU18030","Bogen Segment    BFU       180.30","",30,68.55,{"$f":"G1228*(1-VLOOKUP(F1228,Konditionen!$B:$G,6,0))","v":68.55}]
["LindabSafe Formteile","BFU","BFU18045","Bogen Segment    BFU       180.45","",30,76.55,{"$f":"G1229*(1-VLOOKUP(F1229,Konditionen!$B:$G,6,0))","v":76.55}]
["LindabSafe Formteile","BFU","BFU18060","Bogen Segment    BFU       180.60","",30,89.4,{"$f":"G1230*(1-VLOOKUP(F1230,Konditionen!$B:$G,6,0))","v":89.4}]
["LindabSafe Formteile","BFU","BFU18090","Bogen Segment    BFU       180.90","",30,122.9,{"$f":"G1231*(1-VLOOKUP(F1231,Konditionen!$B:$G,6,0))","v":122.9}]
["LindabSafe Formteile","BFU","BFU20015","Bogen Segment    BFU       200.15","",30,68.55,{"$f":"G1232*(1-VLOOKUP(F1232,Konditionen!$B:$G,6,0))","v":68.55}]
["LindabSafe Formteile","BFU","BFU20030","Bogen Segment    BFU       200.30","",30,68.55,{"$f":"G1233*(1-VLOOKUP(F1233,Konditionen!$B:$G,6,0))","v":68.55}]
["LindabSafe Formteile","BFU","BFU20045","Bogen Segment    BFU       200.45","",30,76.55,{"$f":"G1234*(1-VLOOKUP(F1234,Konditionen!$B:$G,6,0))","v":76.55}]
["LindabSafe Formteile","BFU","BFU20060","Bogen Segment    BFU       200.60","",30,89.4,{"$f":"G1235*(1-VLOOKUP(F1235,Konditionen!$B:$G,6,0))","v":89.4}]
["LindabSafe Formteile","BFU","BFU20090","Bogen Segment    BFU       200.90","",30,122.9,{"$f":"G1236*(1-VLOOKUP(F1236,Konditionen!$B:$G,6,0))","v":122.9}]
["LindabSafe Formteile","BFU","BFU22415","Bogen Segment    BFU       224.15","",30,88.55,{"$f":"G1237*(1-VLOOKUP(F1237,Konditionen!$B:$G,6,0))","v":88.55}]
["LindabSafe Formteile","BFU","BFU22430","Bogen Segment    BFU       224.30","",30,88.55,{"$f":"G1238*(1-VLOOKUP(F1238,Konditionen!$B:$G,6,0))","v":88.55}]
["LindabSafe Formteile","BFU","BFU22445","Bogen Segment    BFU       224.45","",30,94.35,{"$f":"G1239*(1-VLOOKUP(F1239,Konditionen!$B:$G,6,0))","v":94.35}]
["LindabSafe Formteile","BFU","BFU22460","Bogen Segment    BFU       224.60","",30,119.95,{"$f":"G1240*(1-VLOOKUP(F1240,Konditionen!$B:$G,6,0))","v":119.95}]
["LindabSafe Formteile","BFU","BFU22490","Bogen Segment    BFU       224.90","",30,138.25,{"$f":"G1241*(1-VLOOKUP(F1241,Konditionen!$B:$G,6,0))","v":138.25}]
["LindabSafe Formteile","BFU","BFU25015","Bogen Segment    BFU       250.15","",30,88.55,{"$f":"G1242*(1-VLOOKUP(F1242,Konditionen!$B:$G,6,0))","v":88.55}]
["LindabSafe Formteile","BFU","BFU25030","Bogen Segment    BFU       250.30","",30,88.55,{"$f":"G1243*(1-VLOOKUP(F1243,Konditionen!$B:$G,6,0))","v":88.55}]
["LindabSafe Formteile","BFU","BFU25045","Bogen Segment    BFU       250.45","",30,94.35,{"$f":"G1244*(1-VLOOKUP(F1244,Konditionen!$B:$G,6,0))","v":94.35}]
["LindabSafe Formteile","BFU","BFU25060","Bogen Segment    BFU       250.60","",30,119.95,{"$f":"G1245*(1-VLOOKUP(F1245,Konditionen!$B:$G,6,0))","v":119.95}]
["LindabSafe Formteile","BFU","BFU25090","Bogen Segment    BFU       250.90","",30,138.25,{"$f":"G1246*(1-VLOOKUP(F1246,Konditionen!$B:$G,6,0))","v":138.25}]
["LindabSafe Formteile","BFU","BFU28015","Bogen Segment    BFU       280.15","",30,111.4,{"$f":"G1247*(1-VLOOKUP(F1247,Konditionen!$B:$G,6,0))","v":111.4}]
["LindabSafe Formteile","BFU","BFU28030","Bogen Segment    BFU       280.30","",30,111.4,{"$f":"G1248*(1-VLOOKUP(F1248,Konditionen!$B:$G,6,0))","v":111.4}]
["LindabSafe Formteile","BFU","BFU28045","Bogen Segment    BFU       280.45","",30,121.95,{"$f":"G1249*(1-VLOOKUP(F1249,Konditionen!$B:$G,6,0))","v":121.95}]
["LindabSafe Formteile","BFU","BFU28060","Bogen Segment    BFU       280.60","",30,150.94999999999999,{"$f":"G1250*(1-VLOOKUP(F1250,Konditionen!$B:$G,6,0))","v":150.94999999999999}]
["LindabSafe Formteile","BFU","BFU28090","Bogen Segment    BFU       280.90","",30,176.5,{"$f":"G1251*(1-VLOOKUP(F1251,Konditionen!$B:$G,6,0))","v":176.5}]
["LindabSafe Formteile","BFU","BFU30015","Bogen Segment    BFU       300.15","",30,111.4,{"$f":"G1252*(1-VLOOKUP(F1252,Konditionen!$B:$G,6,0))","v":111.4}]
["LindabSafe Formteile","BFU","BFU30030","Bogen Segment    BFU       300.30","",30,111.4,{"$f":"G1253*(1-VLOOKUP(F1253,Konditionen!$B:$G,6,0))","v":111.4}]
["LindabSafe Formteile","BFU","BFU30045","Bogen Segment    BFU       300.45","",30,121.95,{"$f":"G1254*(1-VLOOKUP(F1254,Konditionen!$B:$G,6,0))","v":121.95}]
["LindabSafe Formteile","BFU","BFU30060","Bogen Segment    BFU       300.60","",30,150.94999999999999,{"$f":"G1255*(1-VLOOKUP(F1255,Konditionen!$B:$G,6,0))","v":150.94999999999999}]
["LindabSafe Formteile","BFU","BFU30090","Bogen Segment    BFU       300.90","",30,176.5,{"$f":"G1256*(1-VLOOKUP(F1256,Konditionen!$B:$G,6,0))","v":176.5}]
["LindabSafe Formteile","BFU","BFU31515","Bogen Segment    BFU       315.15","",30,118.25,{"$f":"G1257*(1-VLOOKUP(F1257,Konditionen!$B:$G,6,0))","v":118.25}]
["LindabSafe Formteile","BFU","BFU31530","Bogen Segment    BFU       315.30","",30,120.65,{"$f":"G1258*(1-VLOOKUP(F1258,Konditionen!$B:$G,6,0))","v":120.65}]
["LindabSafe Formteile","BFU","BFU31545","Bogen Segment    BFU       315.45","",30,131.44999999999999,{"$f":"G1259*(1-VLOOKUP(F1259,Konditionen!$B:$G,6,0))","v":131.44999999999999}]
["LindabSafe Formteile","BFU","BFU31560","Bogen Segment    BFU       315.60","",30,158.19999999999999,{"$f":"G1260*(1-VLOOKUP(F1260,Konditionen!$B:$G,6,0))","v":158.19999999999999}]
["LindabSafe Formteile","BFU","BFU31590","Bogen Segment    BFU       315.90","",30,191.15,{"$f":"G1261*(1-VLOOKUP(F1261,Konditionen!$B:$G,6,0))","v":191.15}]
["LindabSafe Formteile","BFU","BFU35515","Bogen Segment    BFU       355.15","",30,121.65,{"$f":"G1262*(1-VLOOKUP(F1262,Konditionen!$B:$G,6,0))","v":121.65}]
["LindabSafe Formteile","BFU","BFU35530","Bogen Segment    BFU       355.30","",30,131.19999999999999,{"$f":"G1263*(1-VLOOKUP(F1263,Konditionen!$B:$G,6,0))","v":131.19999999999999}]
["LindabSafe Formteile","BFU","BFU35545","Bogen Segment    BFU       355.45","",30,137.6,{"$f":"G1264*(1-VLOOKUP(F1264,Konditionen!$B:$G,6,0))","v":137.6}]
["LindabSafe Formteile","BFU","BFU35560","Bogen Segment    BFU       355.60","",30,170.95,{"$f":"G1265*(1-VLOOKUP(F1265,Konditionen!$B:$G,6,0))","v":170.95}]
["LindabSafe Formteile","BFU","BFU35590","Bogen Segment    BFU       355.90","",30,201.25,{"$f":"G1266*(1-VLOOKUP(F1266,Konditionen!$B:$G,6,0))","v":201.25}]
["LindabSafe Formteile","BFU","BFU40015","Bogen Segment    BFU       400.15","",30,138.25,{"$f":"G1267*(1-VLOOKUP(F1267,Konditionen!$B:$G,6,0))","v":138.25}]
["LindabSafe Formteile","BFU","BFU40030","Bogen Segment    BFU       400.30","",30,139.30000000000001,{"$f":"G1268*(1-VLOOKUP(F1268,Konditionen!$B:$G,6,0))","v":139.30000000000001}]
["LindabSafe Formteile","BFU","BFU40045","Bogen Segment    BFU       400.45","",30,150.65,{"$f":"G1269*(1-VLOOKUP(F1269,Konditionen!$B:$G,6,0))","v":150.65}]
["LindabSafe Formteile","BFU","BFU40060","Bogen Segment    BFU       400.60","",30,182.1,{"$f":"G1270*(1-VLOOKUP(F1270,Konditionen!$B:$G,6,0))","v":182.1}]
["LindabSafe Formteile","BFU","BFU40090","Bogen Segment    BFU       400.90","",30,222.7,{"$f":"G1271*(1-VLOOKUP(F1271,Konditionen!$B:$G,6,0))","v":222.7}]
["LindabSafe Formteile","BFU","BFU45015","Bogen Segment    BFU       450.15","",30,159.5,{"$f":"G1272*(1-VLOOKUP(F1272,Konditionen!$B:$G,6,0))","v":159.5}]
["LindabSafe Formteile","BFU","BFU45030","Bogen Segment    BFU       450.30","",30,164.45,{"$f":"G1273*(1-VLOOKUP(F1273,Konditionen!$B:$G,6,0))","v":164.45}]
["LindabSafe Formteile","BFU","BFU45045","Bogen Segment    BFU       450.45","",30,179.25,{"$f":"G1274*(1-VLOOKUP(F1274,Konditionen!$B:$G,6,0))","v":179.25}]
["LindabSafe Formteile","BFU","BFU45060","Bogen Segment    BFU       450.60","",30,211.15,{"$f":"G1275*(1-VLOOKUP(F1275,Konditionen!$B:$G,6,0))","v":211.15}]
["LindabSafe Formteile","BFU","BFU45090","Bogen Segment    BFU       450.90","",30,258.55,{"$f":"G1276*(1-VLOOKUP(F1276,Konditionen!$B:$G,6,0))","v":258.55}]
["LindabSafe Formteile","BFU","BFU50015","Bogen Segment    BFU       500.15","",30,200,{"$f":"G1277*(1-VLOOKUP(F1277,Konditionen!$B:$G,6,0))","v":200}]
["LindabSafe Formteile","BFU","BFU50030","Bogen Segment    BFU       500.30","",30,203.25,{"$f":"G1278*(1-VLOOKUP(F1278,Konditionen!$B:$G,6,0))","v":203.25}]
["LindabSafe Formteile","BFU","BFU50045","Bogen Segment    BFU       500.45","",30,231.1,{"$f":"G1279*(1-VLOOKUP(F1279,Konditionen!$B:$G,6,0))","v":231.1}]
["LindabSafe Formteile","BFU","BFU50060","Bogen Segment    BFU       500.60","",30,260.39999999999998,{"$f":"G1280*(1-VLOOKUP(F1280,Konditionen!$B:$G,6,0))","v":260.39999999999998}]
["LindabSafe Formteile","BFU","BFU50090","Bogen Segment    BFU       500.90","",30,317.95,{"$f":"G1281*(1-VLOOKUP(F1281,Konditionen!$B:$G,6,0))","v":317.95}]
["LindabSafe Formteile","BFU","BFU56015","Bogen Segment    BFU       560.15","",30,263.64999999999998,{"$f":"G1282*(1-VLOOKUP(F1282,Konditionen!$B:$G,6,0))","v":263.64999999999998}]
["LindabSafe Formteile","BFU","BFU56030","Bogen Segment    BFU       560.30","",30,271.05,{"$f":"G1283*(1-VLOOKUP(F1283,Konditionen!$B:$G,6,0))","v":271.05}]
["LindabSafe Formteile","BFU","BFU56045","Bogen Segment    BFU       560.45","",30,306.7,{"$f":"G1284*(1-VLOOKUP(F1284,Konditionen!$B:$G,6,0))","v":306.7}]
["LindabSafe Formteile","BFU","BFU56060","Bogen Segment    BFU       560.60","",30,340.95,{"$f":"G1285*(1-VLOOKUP(F1285,Konditionen!$B:$G,6,0))","v":340.95}]
["LindabSafe Formteile","BFU","BFU56090","Bogen Segment    BFU       560.90","",30,411.6,{"$f":"G1286*(1-VLOOKUP(F1286,Konditionen!$B:$G,6,0))","v":411.6}]
["LindabSafe Formteile","BFU","BFU60015","Bogen Segment    BFU       600.15","",30,320.60000000000002,{"$f":"G1287*(1-VLOOKUP(F1287,Konditionen!$B:$G,6,0))","v":320.60000000000002}]
["LindabSafe Formteile","BFU","BFU60030","Bogen Segment    BFU       600.30","",30,327.3,{"$f":"G1288*(1-VLOOKUP(F1288,Konditionen!$B:$G,6,0))","v":327.3}]
["LindabSafe Formteile","BFU","BFU60045","Bogen Segment    BFU       600.45","",30,370.8,{"$f":"G1289*(1-VLOOKUP(F1289,Konditionen!$B:$G,6,0))","v":370.8}]
["LindabSafe Formteile","BFU","BFU60060","Bogen Segment    BFU       600.60","",30,414.6,{"$f":"G1290*(1-VLOOKUP(F1290,Konditionen!$B:$G,6,0))","v":414.6}]
["LindabSafe Formteile","BFU","BFU60090","Bogen Segment    BFU       600.90","",30,501.4,{"$f":"G1291*(1-VLOOKUP(F1291,Konditionen!$B:$G,6,0))","v":501.4}]
["LindabSafe Formteile","BFU","BFU63015","Bogen Segment    BFU       630.15","",30,376.9,{"$f":"G1292*(1-VLOOKUP(F1292,Konditionen!$B:$G,6,0))","v":376.9}]
["LindabSafe Formteile","BFU","BFU63030","Bogen Segment    BFU       630.30","",30,387.15,{"$f":"G1293*(1-VLOOKUP(F1293,Konditionen!$B:$G,6,0))","v":387.15}]
["LindabSafe Formteile","BFU","BFU63045","Bogen Segment    BFU       630.45","",30,441.4,{"$f":"G1294*(1-VLOOKUP(F1294,Konditionen!$B:$G,6,0))","v":441.4}]
["LindabSafe Formteile","BFU","BFU63060","Bogen Segment    BFU       630.60","",30,497,{"$f":"G1295*(1-VLOOKUP(F1295,Konditionen!$B:$G,6,0))","v":497}]
["LindabSafe Formteile","BFU","BFU63090","Bogen Segment    BFU       630.90","",30,603.75,{"$f":"G1296*(1-VLOOKUP(F1296,Konditionen!$B:$G,6,0))","v":603.75}]
["LindabSafe Formteile","BFU","BFU71015","Bogen Segment    BFU       710.15","",30,457.4,{"$f":"G1297*(1-VLOOKUP(F1297,Konditionen!$B:$G,6,0))","v":457.4}]
["LindabSafe Formteile","BFU","BFU71030","Bogen Segment    BFU       710.30","",30,471.3,{"$f":"G1298*(1-VLOOKUP(F1298,Konditionen!$B:$G,6,0))","v":471.3}]
["LindabSafe Formteile","BFU","BFU71045","Bogen Segment    BFU       710.45","",30,537.1,{"$f":"G1299*(1-VLOOKUP(F1299,Konditionen!$B:$G,6,0))","v":537.1}]
["LindabSafe Formteile","BFU","BFU71060","Bogen Segment    BFU       710.60","",30,602.75,{"$f":"G1300*(1-VLOOKUP(F1300,Konditionen!$B:$G,6,0))","v":602.75}]
["LindabSafe Formteile","BFU","BFU71090","Bogen Segment    BFU       710.90","",30,737.6,{"$f":"G1301*(1-VLOOKUP(F1301,Konditionen!$B:$G,6,0))","v":737.6}]
["LindabSafe Formteile","BFU","BFU80015","Bogen Segment    BFU       800.15","",30,563.1,{"$f":"G1302*(1-VLOOKUP(F1302,Konditionen!$B:$G,6,0))","v":563.1}]
["LindabSafe Formteile","BFU","BFU80030","Bogen Segment    BFU       800.30","",30,579.65,{"$f":"G1303*(1-VLOOKUP(F1303,Konditionen!$B:$G,6,0))","v":579.65}]
["LindabSafe Formteile","BFU","BFU80045","Bogen Segment    BFU       800.45","",30,663.15,{"$f":"G1304*(1-VLOOKUP(F1304,Konditionen!$B:$G,6,0))","v":663.15}]
["LindabSafe Formteile","BFU","BFU80060","Bogen Segment    BFU       800.60","",30,751.85,{"$f":"G1305*(1-VLOOKUP(F1305,Konditionen!$B:$G,6,0))","v":751.85}]
["LindabSafe Formteile","BFU","BFU80090","Bogen Segment    BFU       800.90","",30,915.7,{"$f":"G1306*(1-VLOOKUP(F1306,Konditionen!$B:$G,6,0))","v":915.7}]
["LindabSafe Formteile","BFU","BFU8015","Bogen Segment    BFU        80.15","",30,46.2,{"$f":"G1307*(1-VLOOKUP(F1307,Konditionen!$B:$G,6,0))","v":46.2}]
["LindabSafe Formteile","BFU","BFU8030","Bogen Segment    BFU        80.30","",30,46.2,{"$f":"G1308*(1-VLOOKUP(F1308,Konditionen!$B:$G,6,0))","v":46.2}]
["LindabSafe Formteile","BFU","BFU8045","Bogen Segment    BFU        80.45","",30,52.15,{"$f":"G1309*(1-VLOOKUP(F1309,Konditionen!$B:$G,6,0))","v":52.15}]
["LindabSafe Formteile","BFU","BFU8060","Bogen Segment    BFU        80.60","",30,59.4,{"$f":"G1310*(1-VLOOKUP(F1310,Konditionen!$B:$G,6,0))","v":59.4}]
["LindabSafe Formteile","BFU","BFU8090","Bogen Segment    BFU        80.90","",30,75.45,{"$f":"G1311*(1-VLOOKUP(F1311,Konditionen!$B:$G,6,0))","v":75.45}]
["LindabSafe Formteile","BFU","BFU90015","Bogen Segment    BFU        900.15","",30,885.3,{"$f":"G1312*(1-VLOOKUP(F1312,Konditionen!$B:$G,6,0))","v":885.3}]
["LindabSafe Formteile","BFU","BFU90030","Bogen Segment    BFU        900.30","",30,916.7,{"$f":"G1313*(1-VLOOKUP(F1313,Konditionen!$B:$G,6,0))","v":916.7}]
["LindabSafe Formteile","BFU","BFU90045","Bogen Segment    BFU        900.45","",30,988.6,{"$f":"G1314*(1-VLOOKUP(F1314,Konditionen!$B:$G,6,0))","v":988.6}]
["LindabSafe Formteile","BFU","BFU90060","Bogen Segment    BFU        900.60","",30,999,{"$f":"G1315*(1-VLOOKUP(F1315,Konditionen!$B:$G,6,0))","v":999}]
["LindabSafe Formteile","BFU","BFU90090","Bogen Segment    BFU       900.90","",30,1104,{"$f":"G1316*(1-VLOOKUP(F1316,Konditionen!$B:$G,6,0))","v":1104}]
["LindabSafe Formteile","BKFU","BKFU20090","Bogen Segment kurz BKFU    200.90","",30,366.1,{"$f":"G1317*(1-VLOOKUP(F1317,Konditionen!$B:$G,6,0))","v":366.1}]
["LindabSafe Formteile","BKFU","BKFU25090","Bogen Segment kurz BKFU    250.90","",30,425.1,{"$f":"G1318*(1-VLOOKUP(F1318,Konditionen!$B:$G,6,0))","v":425.1}]
["LindabSafe Formteile","BKFU","BKFU31590","Bogen Segment kurz BKFU    315.90","",30,549.20000000000005,{"$f":"G1319*(1-VLOOKUP(F1319,Konditionen!$B:$G,6,0))","v":549.20000000000005}]
["LindabSafe Formteile","BKFU","BKFU40045","Bogen Segment kurz BKFU    400.45","",30,528.75,{"$f":"G1320*(1-VLOOKUP(F1320,Konditionen!$B:$G,6,0))","v":528.75}]
["LindabSafe Formteile","BKFU","BKFU40090","Bogen Segment kurz BKFU    400.90","",30,725.7,{"$f":"G1321*(1-VLOOKUP(F1321,Konditionen!$B:$G,6,0))","v":725.7}]
["LindabSafe Formteile","BKFU","BKFU45090","Bogen Segment kurz BKFU    450.90","",30,839.65,{"$f":"G1322*(1-VLOOKUP(F1322,Konditionen!$B:$G,6,0))","v":839.65}]
["LindabSafe Formteile","BKFU","BKFU50090","Bogen Segment kurz BKFU    500.90","",30,895.7,{"$f":"G1323*(1-VLOOKUP(F1323,Konditionen!$B:$G,6,0))","v":895.7}]
["LindabSafe Formteile","BKFU","BKFU56045","Bogen Segment kurz BKFU    560.45","",30,724.25,{"$f":"G1324*(1-VLOOKUP(F1324,Konditionen!$B:$G,6,0))","v":724.25}]
["LindabSafe Formteile","BKFU","BKFU56090","Bogen Segment kurz BKFU    560.90","",30,992.15,{"$f":"G1325*(1-VLOOKUP(F1325,Konditionen!$B:$G,6,0))","v":992.15}]
["LindabSafe Formteile","BKFU","BKFU60090","Bogen Segment kurz BKFU    600.90","",30,1640,{"$f":"G1326*(1-VLOOKUP(F1326,Konditionen!$B:$G,6,0))","v":1640}]
["LindabSafe Formteile","BKFU","BKFU63090","Bogen Segment kurz BKFU    630.90","",30,1640,{"$f":"G1327*(1-VLOOKUP(F1327,Konditionen!$B:$G,6,0))","v":1640}]
["LindabSafe Formteile","BKFU","BKFU71090","Bogen Segment kurz BKFU    710.90","",30,1713,{"$f":"G1328*(1-VLOOKUP(F1328,Konditionen!$B:$G,6,0))","v":1713}]
["LindabSafe Formteile","BKFU","BKFU80090","Bogen Segment kurz BKFU    800.90","",30,1802,{"$f":"G1329*(1-VLOOKUP(F1329,Konditionen!$B:$G,6,0))","v":1802}]
["LindabSafe Formteile","BKFU","BKFU90090","Bogen Segment kurz BKFU    900.90","",30,2056,{"$f":"G1330*(1-VLOOKUP(F1330,Konditionen!$B:$G,6,0))","v":2056}]
["LindabSafe Formteile","BSFU","BSFU100045","Bogen Segment    BSFU     1000.45","r = 1,5xd",30,1658,{"$f":"G1331*(1-VLOOKUP(F1331,Konditionen!$B:$G,6,0))","v":1658}]
["LindabSafe Formteile","BSFU","BSFU100060","Bogen Segment    BSFU     1000.60","r = 1,5xd",30,1853,{"$f":"G1332*(1-VLOOKUP(F1332,Konditionen!$B:$G,6,0))","v":1853}]
["LindabSafe Formteile","BSFU","BSFU100090","Bogen Segment    BSFU     1000.90","r = 1,5xd",30,1922,{"$f":"G1333*(1-VLOOKUP(F1333,Konditionen!$B:$G,6,0))","v":1922}]
["LindabSafe Formteile","BSFU","BSFU10045","Bogen Segment    BSFU      100.45","r = 1,5xd",30,67.349999999999994,{"$f":"G1334*(1-VLOOKUP(F1334,Konditionen!$B:$G,6,0))","v":67.349999999999994}]
["LindabSafe Formteile","BSFU","BSFU10060","Bogen Segment    BSFU      100.60","r = 1,5xd",30,77.599999999999994,{"$f":"G1335*(1-VLOOKUP(F1335,Konditionen!$B:$G,6,0))","v":77.599999999999994}]
["LindabSafe Formteile","BSFU","BSFU10090","Bogen Segment    BSFU      100.90","r = 1,5xd",30,97.5,{"$f":"G1336*(1-VLOOKUP(F1336,Konditionen!$B:$G,6,0))","v":97.5}]
["LindabSafe Formteile","BSFU","BSFU112045","Bogen Segment    BSFU     1120.45","r = 1,5xd",30,2096,{"$f":"G1337*(1-VLOOKUP(F1337,Konditionen!$B:$G,6,0))","v":2096}]
["LindabSafe Formteile","BSFU","BSFU112060","Bogen Segment    BSFU     1120.60","r = 1,5xd",30,2338,{"$f":"G1338*(1-VLOOKUP(F1338,Konditionen!$B:$G,6,0))","v":2338}]
["LindabSafe Formteile","BSFU","BSFU112090","Bogen Segment    BSFU     1120.90","r = 1,5xd",30,2471,{"$f":"G1339*(1-VLOOKUP(F1339,Konditionen!$B:$G,6,0))","v":2471}]
["LindabSafe Formteile","BSFU","BSFU11245","Bogen Segment    BSFU      112.45","r = 1,5xd",30,75.45,{"$f":"G1340*(1-VLOOKUP(F1340,Konditionen!$B:$G,6,0))","v":75.45}]
["LindabSafe Formteile","BSFU","BSFU11260","Bogen Segment    BSFU      112.60","r = 1,5xd",30,83.55,{"$f":"G1341*(1-VLOOKUP(F1341,Konditionen!$B:$G,6,0))","v":83.55}]
["LindabSafe Formteile","BSFU","BSFU11290","Bogen Segment    BSFU      112.90","r = 1,5xd",30,103.3,{"$f":"G1342*(1-VLOOKUP(F1342,Konditionen!$B:$G,6,0))","v":103.3}]
["LindabSafe Formteile","BSFU","BSFU125045","Bogen Segment    BSFU     1250.45","r = 1,5xd",30,2542,{"$f":"G1343*(1-VLOOKUP(F1343,Konditionen!$B:$G,6,0))","v":2542}]
["LindabSafe Formteile","BSFU","BSFU125060","Bogen Segment    BSFU     1250.60","r = 1,5xd",30,2837,{"$f":"G1344*(1-VLOOKUP(F1344,Konditionen!$B:$G,6,0))","v":2837}]
["LindabSafe Formteile","BSFU","BSFU125090","Bogen Segment    BSFU     1250.90","r = 1,5xd",30,3003,{"$f":"G1345*(1-VLOOKUP(F1345,Konditionen!$B:$G,6,0))","v":3003}]
["LindabSafe Formteile","BSFU","BSFU12545","Bogen Segment    BSFU      125.45","r = 1,5xd",30,75.45,{"$f":"G1346*(1-VLOOKUP(F1346,Konditionen!$B:$G,6,0))","v":75.45}]
["LindabSafe Formteile","BSFU","BSFU12560","Bogen Segment    BSFU      125.60","r = 1,5xd",30,83.55,{"$f":"G1347*(1-VLOOKUP(F1347,Konditionen!$B:$G,6,0))","v":83.55}]
["LindabSafe Formteile","BSFU","BSFU12590","Bogen Segment    BSFU      125.90","r = 1,5xd",30,103.3,{"$f":"G1348*(1-VLOOKUP(F1348,Konditionen!$B:$G,6,0))","v":103.3}]
["LindabSafe Formteile","BSFU","BSFU14045","Bogen Segment    BSFU      140.45","r = 1,5xd",30,81.5,{"$f":"G1349*(1-VLOOKUP(F1349,Konditionen!$B:$G,6,0))","v":81.5}]
["LindabSafe Formteile","BSFU","BSFU14060","Bogen Segment    BSFU      140.60","r = 1,5xd",30,98.9,{"$f":"G1350*(1-VLOOKUP(F1350,Konditionen!$B:$G,6,0))","v":98.9}]
["LindabSafe Formteile","BSFU","BSFU14090","Bogen Segment    BSFU      140.90","r = 1,5xd",30,121.2,{"$f":"G1351*(1-VLOOKUP(F1351,Konditionen!$B:$G,6,0))","v":121.2}]
["LindabSafe Formteile","BSFU","BSFU15045","Bogen Segment    BSFU      150.45","r = 1,5xd",30,81.5,{"$f":"G1352*(1-VLOOKUP(F1352,Konditionen!$B:$G,6,0))","v":81.5}]
["LindabSafe Formteile","BSFU","BSFU15060","Bogen Segment    BSFU      150.60","r = 1,5xd",30,98.9,{"$f":"G1353*(1-VLOOKUP(F1353,Konditionen!$B:$G,6,0))","v":98.9}]
["LindabSafe Formteile","BSFU","BSFU15090","Bogen Segment    BSFU      150.90","r = 1,5xd",30,121.2,{"$f":"G1354*(1-VLOOKUP(F1354,Konditionen!$B:$G,6,0))","v":121.2}]
["LindabSafe Formteile","BSFU","BSFU16045","Bogen Segment    BSFU      160.45","r = 1,5xd",30,81.5,{"$f":"G1355*(1-VLOOKUP(F1355,Konditionen!$B:$G,6,0))","v":81.5}]
["LindabSafe Formteile","BSFU","BSFU16060","Bogen Segment    BSFU      160.60","r = 1,5xd",30,98.9,{"$f":"G1356*(1-VLOOKUP(F1356,Konditionen!$B:$G,6,0))","v":98.9}]
["LindabSafe Formteile","BSFU","BSFU16090","Bogen Segment    BSFU      160.90","r = 1,5xd",30,121.2,{"$f":"G1357*(1-VLOOKUP(F1357,Konditionen!$B:$G,6,0))","v":121.2}]
["LindabSafe Formteile","BSFU","BSFU18045","Bogen Segment    BSFU      180.45","r = 1,5xd",30,95.35,{"$f":"G1358*(1-VLOOKUP(F1358,Konditionen!$B:$G,6,0))","v":95.35}]
["LindabSafe Formteile","BSFU","BSFU18060","Bogen Segment    BSFU      180.60","r = 1,5xd",30,111.7,{"$f":"G1359*(1-VLOOKUP(F1359,Konditionen!$B:$G,6,0))","v":111.7}]
["LindabSafe Formteile","BSFU","BSFU18090","Bogen Segment    BSFU      180.90","r = 1,5xd",30,139.55000000000001,{"$f":"G1360*(1-VLOOKUP(F1360,Konditionen!$B:$G,6,0))","v":139.55000000000001}]
["LindabSafe Formteile","BSFU","BSFU20045","Bogen Segment    BSFU      200.45","r = 1,5xd",30,95.35,{"$f":"G1361*(1-VLOOKUP(F1361,Konditionen!$B:$G,6,0))","v":95.35}]
["LindabSafe Formteile","BSFU","BSFU20060","Bogen Segment    BSFU      200.60","r = 1,5xd",30,111.7,{"$f":"G1362*(1-VLOOKUP(F1362,Konditionen!$B:$G,6,0))","v":111.7}]
["LindabSafe Formteile","BSFU","BSFU20090","Bogen Segment    BSFU      200.90","r = 1,5xd",30,139.55000000000001,{"$f":"G1363*(1-VLOOKUP(F1363,Konditionen!$B:$G,6,0))","v":139.55000000000001}]
["LindabSafe Formteile","BSFU","BSFU22445","Bogen Segment    BSFU      224.45","r = 1,5xd",30,120.65,{"$f":"G1364*(1-VLOOKUP(F1364,Konditionen!$B:$G,6,0))","v":120.65}]
["LindabSafe Formteile","BSFU","BSFU22460","Bogen Segment    BSFU      224.60","r = 1,5xd",30,151.19999999999999,{"$f":"G1365*(1-VLOOKUP(F1365,Konditionen!$B:$G,6,0))","v":151.19999999999999}]
["LindabSafe Formteile","BSFU","BSFU22490","Bogen Segment    BSFU      224.90","r = 1,5xd",30,181.2,{"$f":"G1366*(1-VLOOKUP(F1366,Konditionen!$B:$G,6,0))","v":181.2}]
["LindabSafe Formteile","BSFU","BSFU25045","Bogen Segment    BSFU      250.45","r = 1,5xd",30,120.65,{"$f":"G1367*(1-VLOOKUP(F1367,Konditionen!$B:$G,6,0))","v":120.65}]
["LindabSafe Formteile","BSFU","BSFU25060","Bogen Segment    BSFU      250.60","r = 1,5xd",30,151.19999999999999,{"$f":"G1368*(1-VLOOKUP(F1368,Konditionen!$B:$G,6,0))","v":151.19999999999999}]
["LindabSafe Formteile","BSFU","BSFU25090","Bogen Segment    BSFU      250.90","r = 1,5xd",30,181.2,{"$f":"G1369*(1-VLOOKUP(F1369,Konditionen!$B:$G,6,0))","v":181.2}]
["LindabSafe Formteile","BSFU","BSFU28045","Bogen Segment    BSFU      280.45","r = 1,5xd",30,151.94999999999999,{"$f":"G1370*(1-VLOOKUP(F1370,Konditionen!$B:$G,6,0))","v":151.94999999999999}]
["LindabSafe Formteile","BSFU","BSFU28060","Bogen Segment    BSFU      280.60","r = 1,5xd",30,189,{"$f":"G1371*(1-VLOOKUP(F1371,Konditionen!$B:$G,6,0))","v":189}]
["LindabSafe Formteile","BSFU","BSFU28090","Bogen Segment    BSFU      280.90","r = 1,5xd",30,223,{"$f":"G1372*(1-VLOOKUP(F1372,Konditionen!$B:$G,6,0))","v":223}]
["LindabSafe Formteile","BSFU","BSFU30045","Bogen Segment    BSFU      300.45","r = 1,5xd",30,151.94999999999999,{"$f":"G1373*(1-VLOOKUP(F1373,Konditionen!$B:$G,6,0))","v":151.94999999999999}]
["LindabSafe Formteile","BSFU","BSFU30060","Bogen Segment    BSFU      300.60","r = 1,5xd",30,189,{"$f":"G1374*(1-VLOOKUP(F1374,Konditionen!$B:$G,6,0))","v":189}]
["LindabSafe Formteile","BSFU","BSFU30090","Bogen Segment    BSFU      300.90","r = 1,5xd",30,223,{"$f":"G1375*(1-VLOOKUP(F1375,Konditionen!$B:$G,6,0))","v":223}]
["LindabSafe Formteile","BSFU","BSFU31545","Bogen Segment    BSFU      315.45","r = 1,5xd",30,164.6,{"$f":"G1376*(1-VLOOKUP(F1376,Konditionen!$B:$G,6,0))","v":164.6}]
["LindabSafe Formteile","BSFU","BSFU31560","Bogen Segment    BSFU      315.60","r = 1,5xd",30,197.85,{"$f":"G1377*(1-VLOOKUP(F1377,Konditionen!$B:$G,6,0))","v":197.85}]
["LindabSafe Formteile","BSFU","BSFU31590","Bogen Segment    BSFU      315.90","r = 1,5xd",30,239.2,{"$f":"G1378*(1-VLOOKUP(F1378,Konditionen!$B:$G,6,0))","v":239.2}]
["LindabSafe Formteile","BSFU","BSFU35545","Bogen Segment    BSFU      355.45","r = 1,5xd",30,171.95,{"$f":"G1379*(1-VLOOKUP(F1379,Konditionen!$B:$G,6,0))","v":171.95}]
["LindabSafe Formteile","BSFU","BSFU35560","Bogen Segment    BSFU      355.60","r = 1,5xd",30,214.6,{"$f":"G1380*(1-VLOOKUP(F1380,Konditionen!$B:$G,6,0))","v":214.6}]
["LindabSafe Formteile","BSFU","BSFU35590","Bogen Segment    BSFU      355.90","r = 1,5xd",30,257.89999999999998,{"$f":"G1381*(1-VLOOKUP(F1381,Konditionen!$B:$G,6,0))","v":257.89999999999998}]
["LindabSafe Formteile","BSFU","BSFU40045","Bogen Segment    BSFU      400.45","r = 1,5xd",30,189.6,{"$f":"G1382*(1-VLOOKUP(F1382,Konditionen!$B:$G,6,0))","v":189.6}]
["LindabSafe Formteile","BSFU","BSFU40060","Bogen Segment    BSFU      400.60","r = 1,5xd",30,230.1,{"$f":"G1383*(1-VLOOKUP(F1383,Konditionen!$B:$G,6,0))","v":230.1}]
["LindabSafe Formteile","BSFU","BSFU40090","Bogen Segment    BSFU      400.90","r = 1,5xd",30,282.39999999999998,{"$f":"G1384*(1-VLOOKUP(F1384,Konditionen!$B:$G,6,0))","v":282.39999999999998}]
["LindabSafe Formteile","BSFU","BSFU45045","Bogen Segment    BSFU      450.45","r = 1,5xd",30,223.7,{"$f":"G1385*(1-VLOOKUP(F1385,Konditionen!$B:$G,6,0))","v":223.7}]
["LindabSafe Formteile","BSFU","BSFU45060","Bogen Segment    BSFU      450.60","r = 1,5xd",30,268.95,{"$f":"G1386*(1-VLOOKUP(F1386,Konditionen!$B:$G,6,0))","v":268.95}]
["LindabSafe Formteile","BSFU","BSFU45090","Bogen Segment    BSFU      450.90","r = 1,5xd",30,323.95,{"$f":"G1387*(1-VLOOKUP(F1387,Konditionen!$B:$G,6,0))","v":323.95}]
["LindabSafe Formteile","BSFU","BSFU50045","Bogen Segment    BSFU      500.45","r = 1,5xd",30,292.75,{"$f":"G1388*(1-VLOOKUP(F1388,Konditionen!$B:$G,6,0))","v":292.75}]
["LindabSafe Formteile","BSFU","BSFU50060","Bogen Segment    BSFU      500.60","r = 1,5xd",30,328.45,{"$f":"G1389*(1-VLOOKUP(F1389,Konditionen!$B:$G,6,0))","v":328.45}]
["LindabSafe Formteile","BSFU","BSFU50090","Bogen Segment    BSFU      500.90","r = 1,5xd",30,402.5,{"$f":"G1390*(1-VLOOKUP(F1390,Konditionen!$B:$G,6,0))","v":402.5}]
["LindabSafe Formteile","BSFU","BSFU56045","Bogen Segment    BSFU      560.45","r = 1,5xd",30,381.7,{"$f":"G1391*(1-VLOOKUP(F1391,Konditionen!$B:$G,6,0))","v":381.7}]
["LindabSafe Formteile","BSFU","BSFU56060","Bogen Segment    BSFU      560.60","r = 1,5xd",30,423.4,{"$f":"G1392*(1-VLOOKUP(F1392,Konditionen!$B:$G,6,0))","v":423.4}]
["LindabSafe Formteile","BSFU","BSFU56090","Bogen Segment    BSFU      560.90","r = 1,5xd",30,591.54999999999995,{"$f":"G1393*(1-VLOOKUP(F1393,Konditionen!$B:$G,6,0))","v":591.54999999999995}]
["LindabSafe Formteile","BSFU","BSFU60045","Bogen Segment    BSFU      600.45","r = 1,5xd",30,460.8,{"$f":"G1394*(1-VLOOKUP(F1394,Konditionen!$B:$G,6,0))","v":460.8}]
["LindabSafe Formteile","BSFU","BSFU60060","Bogen Segment    BSFU      600.60","r = 1,5xd",30,522.15,{"$f":"G1395*(1-VLOOKUP(F1395,Konditionen!$B:$G,6,0))","v":522.15}]
["LindabSafe Formteile","BSFU","BSFU60090","Bogen Segment    BSFU      600.90","r = 1,5xd",30,632.04999999999995,{"$f":"G1396*(1-VLOOKUP(F1396,Konditionen!$B:$G,6,0))","v":632.04999999999995}]
["LindabSafe Formteile","BSFU","BSFU63045","Bogen Segment    BSFU      630.45","r = 1,5xd",30,551.20000000000005,{"$f":"G1397*(1-VLOOKUP(F1397,Konditionen!$B:$G,6,0))","v":551.20000000000005}]
["LindabSafe Formteile","BSFU","BSFU63060","Bogen Segment    BSFU      630.60","r = 1,5xd",30,623.45000000000005,{"$f":"G1398*(1-VLOOKUP(F1398,Konditionen!$B:$G,6,0))","v":623.45000000000005}]
["LindabSafe Formteile","BSFU","BSFU63090","Bogen Segment    BSFU      630.90","r = 1,5xd",30,768.2,{"$f":"G1399*(1-VLOOKUP(F1399,Konditionen!$B:$G,6,0))","v":768.2}]
["LindabSafe Formteile","BSFU","BSFU71045","Bogen Segment    BSFU      710.45","r = 1,5xd",30,674.8,{"$f":"G1400*(1-VLOOKUP(F1400,Konditionen!$B:$G,6,0))","v":674.8}]
["LindabSafe Formteile","BSFU","BSFU71060","Bogen Segment    BSFU      710.60","r = 1,5xd",30,764.6,{"$f":"G1401*(1-VLOOKUP(F1401,Konditionen!$B:$G,6,0))","v":764.6}]
["LindabSafe Formteile","BSFU","BSFU71090","Bogen Segment    BSFU      710.90","r = 1,5xd",30,942,{"$f":"G1402*(1-VLOOKUP(F1402,Konditionen!$B:$G,6,0))","v":942}]
["LindabSafe Formteile","BSFU","BSFU80045","Bogen Segment    BSFU      800.45","r = 1,5xd",30,840.7,{"$f":"G1403*(1-VLOOKUP(F1403,Konditionen!$B:$G,6,0))","v":840.7}]
["LindabSafe Formteile","BSFU","BSFU80060","Bogen Segment    BSFU      800.60","r = 1,5xd",30,945.7,{"$f":"G1404*(1-VLOOKUP(F1404,Konditionen!$B:$G,6,0))","v":945.7}]
["LindabSafe Formteile","BSFU","BSFU80090","Bogen Segment    BSFU      800.90","r = 1,5xd",30,1173,{"$f":"G1405*(1-VLOOKUP(F1405,Konditionen!$B:$G,6,0))","v":1173}]
["LindabSafe Formteile","BSFU","BSFU8045","Bogen Segment    BSFU       80.45","r = 1,5xd",30,66.05,{"$f":"G1406*(1-VLOOKUP(F1406,Konditionen!$B:$G,6,0))","v":66.05}]
["LindabSafe Formteile","BSFU","BSFU8060","Bogen Segment    BSFU       80.60","r = 1,5xd",30,76.7,{"$f":"G1407*(1-VLOOKUP(F1407,Konditionen!$B:$G,6,0))","v":76.7}]
["LindabSafe Formteile","BSFU","BSFU8090","Bogen Segment    BSFU       80.90","r = 1,5xd",30,95.5,{"$f":"G1408*(1-VLOOKUP(F1408,Konditionen!$B:$G,6,0))","v":95.5}]
["LindabSafe Formteile","BSFU","BSFU90045","Bogen Segment    BSFU      900.45","r = 1,5xd",30,1256,{"$f":"G1409*(1-VLOOKUP(F1409,Konditionen!$B:$G,6,0))","v":1256}]
["LindabSafe Formteile","BSFU","BSFU90060","Bogen Segment    BSFU      900.60","r = 1,5xd",30,1268,{"$f":"G1410*(1-VLOOKUP(F1410,Konditionen!$B:$G,6,0))","v":1268}]
["LindabSafe Formteile","BSFU","BSFU90090","Bogen Segment    BSFU      900.90","r = 1,5xd",30,1406,{"$f":"G1411*(1-VLOOKUP(F1411,Konditionen!$B:$G,6,0))","v":1406}]
["LindabSafe Formteile","EPFH","EPFH100","Enddeckel        EPFH          100","",30,33,{"$f":"G1412*(1-VLOOKUP(F1412,Konditionen!$B:$G,6,0))","v":33}]
["LindabSafe Formteile","EPFH","EPFH1000","Enddeckel        EPFH          1000","",30,314.10000000000002,{"$f":"G1413*(1-VLOOKUP(F1413,Konditionen!$B:$G,6,0))","v":314.10000000000002}]
["LindabSafe Formteile","EPFH","EPFH112","Enddeckel        EPFH          112","",30,35.4,{"$f":"G1414*(1-VLOOKUP(F1414,Konditionen!$B:$G,6,0))","v":35.4}]
["LindabSafe Formteile","EPFH","EPFH1120","Enddeckel        EPFH          1120","",30,377.45,{"$f":"G1415*(1-VLOOKUP(F1415,Konditionen!$B:$G,6,0))","v":377.45}]
["LindabSafe Formteile","EPFH","EPFH125","Enddeckel        EPFH          125","",30,35.4,{"$f":"G1416*(1-VLOOKUP(F1416,Konditionen!$B:$G,6,0))","v":35.4}]
["LindabSafe Formteile","EPFH","EPFH1250","Enddeckel        EPFH          1250","",30,443.6,{"$f":"G1417*(1-VLOOKUP(F1417,Konditionen!$B:$G,6,0))","v":443.6}]
["LindabSafe Formteile","EPFH","EPFH140","Enddeckel        EPFH          140","",30,39.799999999999997,{"$f":"G1418*(1-VLOOKUP(F1418,Konditionen!$B:$G,6,0))","v":39.799999999999997}]
["LindabSafe Formteile","EPFH","EPFH150","Enddeckel        EPFH          150","",30,39.799999999999997,{"$f":"G1419*(1-VLOOKUP(F1419,Konditionen!$B:$G,6,0))","v":39.799999999999997}]
["LindabSafe Formteile","EPFH","EPFH160","Enddeckel        EPFH          160","",30,39.799999999999997,{"$f":"G1420*(1-VLOOKUP(F1420,Konditionen!$B:$G,6,0))","v":39.799999999999997}]
["LindabSafe Formteile","EPFH","EPFH180","Enddeckel        EPFH          180","",30,42.3,{"$f":"G1421*(1-VLOOKUP(F1421,Konditionen!$B:$G,6,0))","v":42.3}]
["LindabSafe Formteile","EPFH","EPFH200","Enddeckel        EPFH          200","",30,42.3,{"$f":"G1422*(1-VLOOKUP(F1422,Konditionen!$B:$G,6,0))","v":42.3}]
["LindabSafe Formteile","EPFH","EPFH224","Enddeckel        EPFH          224","",30,68.2,{"$f":"G1423*(1-VLOOKUP(F1423,Konditionen!$B:$G,6,0))","v":68.2}]
["LindabSafe Formteile","EPFH","EPFH250","Enddeckel        EPFH          250","",30,68.2,{"$f":"G1424*(1-VLOOKUP(F1424,Konditionen!$B:$G,6,0))","v":68.2}]
["LindabSafe Formteile","EPFH","EPFH280","Enddeckel        EPFH          280","",30,97.2,{"$f":"G1425*(1-VLOOKUP(F1425,Konditionen!$B:$G,6,0))","v":97.2}]
["LindabSafe Formteile","EPFH","EPFH300","Enddeckel        EPFH          300","",30,97.2,{"$f":"G1426*(1-VLOOKUP(F1426,Konditionen!$B:$G,6,0))","v":97.2}]
["LindabSafe Formteile","EPFH","EPFH315","Enddeckel        EPFH          315","",30,100.2,{"$f":"G1427*(1-VLOOKUP(F1427,Konditionen!$B:$G,6,0))","v":100.2}]
["LindabSafe Formteile","EPFH","EPFH355","Enddeckel        EPFH          355","",30,112.8,{"$f":"G1428*(1-VLOOKUP(F1428,Konditionen!$B:$G,6,0))","v":112.8}]
["LindabSafe Formteile","EPFH","EPFH400","Enddeckel        EPFH          400","",30,118.95,{"$f":"G1429*(1-VLOOKUP(F1429,Konditionen!$B:$G,6,0))","v":118.95}]
["LindabSafe Formteile","EPFH","EPFH450","Enddeckel        EPFH          450","",30,158.69999999999999,{"$f":"G1430*(1-VLOOKUP(F1430,Konditionen!$B:$G,6,0))","v":158.69999999999999}]
["LindabSafe Formteile","EPFH","EPFH500","Enddeckel        EPFH          500","",30,159.6,{"$f":"G1431*(1-VLOOKUP(F1431,Konditionen!$B:$G,6,0))","v":159.6}]
["LindabSafe Formteile","EPFH","EPFH560","Enddeckel        EPFH          560","",30,189.85,{"$f":"G1432*(1-VLOOKUP(F1432,Konditionen!$B:$G,6,0))","v":189.85}]
["LindabSafe Formteile","EPFH","EPFH600","Enddeckel        EPFH          600","",30,198.3,{"$f":"G1433*(1-VLOOKUP(F1433,Konditionen!$B:$G,6,0))","v":198.3}]
["LindabSafe Formteile","EPFH","EPFH630","Enddeckel        EPFH          630","",30,199.1,{"$f":"G1434*(1-VLOOKUP(F1434,Konditionen!$B:$G,6,0))","v":199.1}]
["LindabSafe Formteile","EPFH","EPFH71","Enddeckel        EPFH           71","",30,32.15,{"$f":"G1435*(1-VLOOKUP(F1435,Konditionen!$B:$G,6,0))","v":32.15}]
["LindabSafe Formteile","EPFH","EPFH710","Enddeckel        EPFH          710","",30,208.8,{"$f":"G1436*(1-VLOOKUP(F1436,Konditionen!$B:$G,6,0))","v":208.8}]
["LindabSafe Formteile","EPFH","EPFH80","Enddeckel        EPFH           80","",30,32.15,{"$f":"G1437*(1-VLOOKUP(F1437,Konditionen!$B:$G,6,0))","v":32.15}]
["LindabSafe Formteile","EPFH","EPFH800","Enddeckel        EPFH          800","",30,220,{"$f":"G1438*(1-VLOOKUP(F1438,Konditionen!$B:$G,6,0))","v":220}]
["LindabSafe Formteile","EPFH","EPFH90","Enddeckel        EPFH           90","",30,33,{"$f":"G1439*(1-VLOOKUP(F1439,Konditionen!$B:$G,6,0))","v":33}]
["LindabSafe Formteile","EPFH","EPFH900","Enddeckel        EPFH          900","",30,276.60000000000002,{"$f":"G1440*(1-VLOOKUP(F1440,Konditionen!$B:$G,6,0))","v":276.60000000000002}]
["LindabSafe Formteile","EPF","EPF1000","Enddeckel        EPF           1000","",30,309.95,{"$f":"G1441*(1-VLOOKUP(F1441,Konditionen!$B:$G,6,0))","v":309.95}]
["LindabSafe Formteile","EPF","EPF1120","Enddeckel        EPF           1120","",30,369.5,{"$f":"G1442*(1-VLOOKUP(F1442,Konditionen!$B:$G,6,0))","v":369.5}]
["LindabSafe Formteile","EPF","EPF1250","Enddeckel        EPF           1250","",30,460.2,{"$f":"G1443*(1-VLOOKUP(F1443,Konditionen!$B:$G,6,0))","v":460.2}]
["LindabSafe Formteile","EPF","EPF280","Enddeckel        EPF           280","",30,38.4,{"$f":"G1444*(1-VLOOKUP(F1444,Konditionen!$B:$G,6,0))","v":38.4}]
["LindabSafe Formteile","EPF","EPF300","Enddeckel        EPF           300","",30,38.4,{"$f":"G1445*(1-VLOOKUP(F1445,Konditionen!$B:$G,6,0))","v":38.4}]
["LindabSafe Formteile","EPF","EPF450","Enddeckel        EPF           450","",30,62.1,{"$f":"G1446*(1-VLOOKUP(F1446,Konditionen!$B:$G,6,0))","v":62.1}]
["LindabSafe Formteile","EPF","EPF500","Enddeckel        EPF           500","",30,71.099999999999994,{"$f":"G1447*(1-VLOOKUP(F1447,Konditionen!$B:$G,6,0))","v":71.099999999999994}]
["LindabSafe Formteile","EPF","EPF560","Enddeckel        EPF           560","",30,81.849999999999994,{"$f":"G1448*(1-VLOOKUP(F1448,Konditionen!$B:$G,6,0))","v":81.849999999999994}]
["LindabSafe Formteile","EPF","EPF600","Enddeckel        EPF           600","",30,109.95,{"$f":"G1449*(1-VLOOKUP(F1449,Konditionen!$B:$G,6,0))","v":109.95}]
["LindabSafe Formteile","EPF","EPF630","Enddeckel        EPF           630","",30,127.35,{"$f":"G1450*(1-VLOOKUP(F1450,Konditionen!$B:$G,6,0))","v":127.35}]
["LindabSafe Formteile","EPF","EPF710","Enddeckel        EPF           710","",30,169.55,{"$f":"G1451*(1-VLOOKUP(F1451,Konditionen!$B:$G,6,0))","v":169.55}]
["LindabSafe Formteile","EPF","EPF800","Enddeckel        EPF           800","",30,204.95,{"$f":"G1452*(1-VLOOKUP(F1452,Konditionen!$B:$G,6,0))","v":204.95}]
["LindabSafe Formteile","EPF","EPF900","Enddeckel        EPF           900","",30,254.8,{"$f":"G1453*(1-VLOOKUP(F1453,Konditionen!$B:$G,6,0))","v":254.8}]
["LindabSafe Formteile","ESU","ESU1000","Enddeckel        ESU           1000","",30,558,{"$f":"G1454*(1-VLOOKUP(F1454,Konditionen!$B:$G,6,0))","v":558}]
["LindabSafe Formteile","ESU","ESU112","Enddeckel        ESU           112","",30,20.75,{"$f":"G1455*(1-VLOOKUP(F1455,Konditionen!$B:$G,6,0))","v":20.75}]
["LindabSafe Formteile","ESU","ESU1120","Enddeckel        ESU           1120","",30,659.6,{"$f":"G1456*(1-VLOOKUP(F1456,Konditionen!$B:$G,6,0))","v":659.6}]
["LindabSafe Formteile","ESU","ESU1250","Enddeckel        ESU           1250","",30,807.3,{"$f":"G1457*(1-VLOOKUP(F1457,Konditionen!$B:$G,6,0))","v":807.3}]
["LindabSafe Formteile","ESU","ESU280","Enddeckel        ESU           280","",30,46.2,{"$f":"G1458*(1-VLOOKUP(F1458,Konditionen!$B:$G,6,0))","v":46.2}]
["LindabSafe Formteile","ESU","ESU450","Enddeckel        ESU           450","",30,111.7,{"$f":"G1459*(1-VLOOKUP(F1459,Konditionen!$B:$G,6,0))","v":111.7}]
["LindabSafe Formteile","ESU","ESU560","Enddeckel        ESU           560","",30,141.44999999999999,{"$f":"G1460*(1-VLOOKUP(F1460,Konditionen!$B:$G,6,0))","v":141.44999999999999}]
["LindabSafe Formteile","ESU","ESU600","Enddeckel        ESU           600","",30,145.5,{"$f":"G1461*(1-VLOOKUP(F1461,Konditionen!$B:$G,6,0))","v":145.5}]
["LindabSafe Formteile","ESU","ESU630","Enddeckel        ESU           630","",30,145.5,{"$f":"G1462*(1-VLOOKUP(F1462,Konditionen!$B:$G,6,0))","v":145.5}]
["LindabSafe Formteile","ESU","ESU710","Enddeckel        ESU           710","",30,305.3,{"$f":"G1463*(1-VLOOKUP(F1463,Konditionen!$B:$G,6,0))","v":305.3}]
["LindabSafe Formteile","ESU","ESU800","Enddeckel        ESU           800","",30,356.6,{"$f":"G1464*(1-VLOOKUP(F1464,Konditionen!$B:$G,6,0))","v":356.6}]
["LindabSafe Formteile","ESU","ESU900","Enddeckel        ESU           900","",30,438.9,{"$f":"G1465*(1-VLOOKUP(F1465,Konditionen!$B:$G,6,0))","v":438.9}]
["LindabSafe Formteile","ETU","ETUMG100","Einlaßteil       ETU MG    100.160","mit Gitter",30,118.1,{"$f":"G1466*(1-VLOOKUP(F1466,Konditionen!$B:$G,6,0))","v":118.1}]
["LindabSafe Formteile","ETU","ETUMG1000","Einlaßteil       ETU MG   1000.1250","mit Gitter",30,814.55,{"$f":"G1467*(1-VLOOKUP(F1467,Konditionen!$B:$G,6,0))","v":814.55}]
["LindabSafe Formteile","ETU","ETUMG112","Einlaßteil       ETU MG    112.180","mit Gitter",30,142.25,{"$f":"G1468*(1-VLOOKUP(F1468,Konditionen!$B:$G,6,0))","v":142.25}]
["LindabSafe Formteile","ETU","ETUMG1120","Einlaßteil       ETU MG   1120.1430","mit Gitter",30,954.1,{"$f":"G1469*(1-VLOOKUP(F1469,Konditionen!$B:$G,6,0))","v":954.1}]
["LindabSafe Formteile","ETU","ETUMG125","Einlaßteil       ETU MG    125.200","mit Gitter",30,142.25,{"$f":"G1470*(1-VLOOKUP(F1470,Konditionen!$B:$G,6,0))","v":142.25}]
["LindabSafe Formteile","ETU","ETUMG1250","Einlaßteil       ETU MG   1250.1600","mit Gitter",30,1129,{"$f":"G1471*(1-VLOOKUP(F1471,Konditionen!$B:$G,6,0))","v":1129}]
["LindabSafe Formteile","ETU","ETUMG140","Einlaßteil       ETU MG    140.200","mit Gitter",30,166.8,{"$f":"G1472*(1-VLOOKUP(F1472,Konditionen!$B:$G,6,0))","v":166.8}]
["LindabSafe Formteile","ETU","ETUMG150","Einlaßteil       ETU MG    150.224","mit Gitter",30,166.8,{"$f":"G1473*(1-VLOOKUP(F1473,Konditionen!$B:$G,6,0))","v":166.8}]
["LindabSafe Formteile","ETU","ETUMG160","Einlaßteil       ETU MG    160.224","mit Gitter",30,166.8,{"$f":"G1474*(1-VLOOKUP(F1474,Konditionen!$B:$G,6,0))","v":166.8}]
["LindabSafe Formteile","ETU","ETUMG180","Einlaßteil       ETU MG    180.250","mit Gitter",30,192.45,{"$f":"G1475*(1-VLOOKUP(F1475,Konditionen!$B:$G,6,0))","v":192.45}]
["LindabSafe Formteile","ETU","ETUMG200","Einlaßteil       ETU MG    200.280","mit Gitter",30,192.45,{"$f":"G1476*(1-VLOOKUP(F1476,Konditionen!$B:$G,6,0))","v":192.45}]
["LindabSafe Formteile","ETU","ETUMG224","Einlaßteil       ETU MG    224.315","mit Gitter",30,212.35,{"$f":"G1477*(1-VLOOKUP(F1477,Konditionen!$B:$G,6,0))","v":212.35}]
["LindabSafe Formteile","ETU","ETUMG250","Einlaßteil       ETU MG    250.315","mit Gitter",30,212.35,{"$f":"G1478*(1-VLOOKUP(F1478,Konditionen!$B:$G,6,0))","v":212.35}]
["LindabSafe Formteile","ETU","ETUMG280","Einlaßteil       ETU MG    280.355","mit Gitter",30,238.8,{"$f":"G1479*(1-VLOOKUP(F1479,Konditionen!$B:$G,6,0))","v":238.8}]
["LindabSafe Formteile","ETU","ETUMG300","Einlaßteil       ETU MG    300.400","mit Gitter",30,238.8,{"$f":"G1480*(1-VLOOKUP(F1480,Konditionen!$B:$G,6,0))","v":238.8}]
["LindabSafe Formteile","ETU","ETUMG315","Einlaßteil       ETU MG    315.400","mit Gitter",30,255.25,{"$f":"G1481*(1-VLOOKUP(F1481,Konditionen!$B:$G,6,0))","v":255.25}]
["LindabSafe Formteile","ETU","ETUMG355","Einlaßteil       ETU MG    355.450","mit Gitter",30,281,{"$f":"G1482*(1-VLOOKUP(F1482,Konditionen!$B:$G,6,0))","v":281}]
["LindabSafe Formteile","ETU","ETUMG400","Einlaßteil       ETU MG    400.500","mit Gitter",30,311.10000000000002,{"$f":"G1483*(1-VLOOKUP(F1483,Konditionen!$B:$G,6,0))","v":311.10000000000002}]
["LindabSafe Formteile","ETU","ETUMG450","Einlaßteil       ETU MG    450.560","mit Gitter",30,354.1,{"$f":"G1484*(1-VLOOKUP(F1484,Konditionen!$B:$G,6,0))","v":354.1}]
["LindabSafe Formteile","ETU","ETUMG500","Einlaßteil       ETU MG    500.600","mit Gitter",30,389.5,{"$f":"G1485*(1-VLOOKUP(F1485,Konditionen!$B:$G,6,0))","v":389.5}]
["LindabSafe Formteile","ETU","ETUMG560","Einlaßteil       ETU MG    560.710","mit Gitter",30,431.3,{"$f":"G1486*(1-VLOOKUP(F1486,Konditionen!$B:$G,6,0))","v":431.3}]
["LindabSafe Formteile","ETU","ETUMG600","Einlaßteil       ETU MG    600.710","mit Gitter",30,514.1,{"$f":"G1487*(1-VLOOKUP(F1487,Konditionen!$B:$G,6,0))","v":514.1}]
["LindabSafe Formteile","ETU","ETUMG630","Einlaßteil       ETU MG    630.800","mit Gitter",30,514.1,{"$f":"G1488*(1-VLOOKUP(F1488,Konditionen!$B:$G,6,0))","v":514.1}]
["LindabSafe Formteile","ETU","ETUMG710","Einlaßteil       ETU MG    710.900","mit Gitter",30,551.85,{"$f":"G1489*(1-VLOOKUP(F1489,Konditionen!$B:$G,6,0))","v":551.85}]
["LindabSafe Formteile","ETU","ETUMG80","Einlaßteil       ETU MG     80.140","mit Gitter",30,118.1,{"$f":"G1490*(1-VLOOKUP(F1490,Konditionen!$B:$G,6,0))","v":118.1}]
["LindabSafe Formteile","ETU","ETUMG800","Einlaßteil       ETU MG   800.1000","mit Gitter",30,618.25,{"$f":"G1491*(1-VLOOKUP(F1491,Konditionen!$B:$G,6,0))","v":618.25}]
["LindabSafe Formteile","ETU","ETUMG900","Einlaßteil       ETU MG   900.1120","mit Gitter",30,704.25,{"$f":"G1492*(1-VLOOKUP(F1492,Konditionen!$B:$G,6,0))","v":704.25}]
["LindabSafe Formteile","ETU","ETU100","Einlaßteil       ETU       100.160","",30,60.55,{"$f":"G1493*(1-VLOOKUP(F1493,Konditionen!$B:$G,6,0))","v":60.55}]
["LindabSafe Formteile","ETU","ETU1000","Einlaßteil       ETU      1000.1250","",30,474.75,{"$f":"G1494*(1-VLOOKUP(F1494,Konditionen!$B:$G,6,0))","v":474.75}]
["LindabSafe Formteile","ETU","ETU112","Einlaßteil       ETU       112.180","",30,65.5,{"$f":"G1495*(1-VLOOKUP(F1495,Konditionen!$B:$G,6,0))","v":65.5}]
["LindabSafe Formteile","ETU","ETU1120","Einlaßteil       ETU      1120.1400","",30,542.5,{"$f":"G1496*(1-VLOOKUP(F1496,Konditionen!$B:$G,6,0))","v":542.5}]
["LindabSafe Formteile","ETU","ETU125","Einlaßteil       ETU       125.200","",30,65.5,{"$f":"G1497*(1-VLOOKUP(F1497,Konditionen!$B:$G,6,0))","v":65.5}]
["LindabSafe Formteile","ETU","ETU1250","Einlaßteil       ETU      1250.1400","",30,684.5,{"$f":"G1498*(1-VLOOKUP(F1498,Konditionen!$B:$G,6,0))","v":684.5}]
["LindabSafe Formteile","ETU","ETU140","Einlaßteil       ETU       140.200","",30,70.5,{"$f":"G1499*(1-VLOOKUP(F1499,Konditionen!$B:$G,6,0))","v":70.5}]
["LindabSafe Formteile","ETU","ETU150","Einlaßteil       ETU       150.224","",30,70.5,{"$f":"G1500*(1-VLOOKUP(F1500,Konditionen!$B:$G,6,0))","v":70.5}]
["LindabSafe Formteile","ETU","ETU160","Einlaßteil       ETU       160.224","",30,70.5,{"$f":"G1501*(1-VLOOKUP(F1501,Konditionen!$B:$G,6,0))","v":70.5}]
["LindabSafe Formteile","ETU","ETU180","Einlaßteil       ETU       180.250","",30,87.55,{"$f":"G1502*(1-VLOOKUP(F1502,Konditionen!$B:$G,6,0))","v":87.55}]
["LindabSafe Formteile","ETU","ETU200","Einlaßteil       ETU       200.280","",30,87.55,{"$f":"G1503*(1-VLOOKUP(F1503,Konditionen!$B:$G,6,0))","v":87.55}]
["LindabSafe Formteile","ETU","ETU224","Einlaßteil       ETU       224.315","",30,93.2,{"$f":"G1504*(1-VLOOKUP(F1504,Konditionen!$B:$G,6,0))","v":93.2}]
["LindabSafe Formteile","ETU","ETU250","Einlaßteil       ETU       250.315","",30,93.2,{"$f":"G1505*(1-VLOOKUP(F1505,Konditionen!$B:$G,6,0))","v":93.2}]
["LindabSafe Formteile","ETU","ETU280","Einlaßteil       ETU       280.355","",30,106.3,{"$f":"G1506*(1-VLOOKUP(F1506,Konditionen!$B:$G,6,0))","v":106.3}]
["LindabSafe Formteile","ETU","ETU300","Einlaßteil       ETU       300.400","",30,106.3,{"$f":"G1507*(1-VLOOKUP(F1507,Konditionen!$B:$G,6,0))","v":106.3}]
["LindabSafe Formteile","ETU","ETU315","Einlaßteil       ETU       315.400","",30,112.7,{"$f":"G1508*(1-VLOOKUP(F1508,Konditionen!$B:$G,6,0))","v":112.7}]
["LindabSafe Formteile","ETU","ETU355","Einlaßteil       ETU       355.450","",30,128.44999999999999,{"$f":"G1509*(1-VLOOKUP(F1509,Konditionen!$B:$G,6,0))","v":128.44999999999999}]
["LindabSafe Formteile","ETU","ETU400","Einlaßteil       ETU       400.500","",30,147.05000000000001,{"$f":"G1510*(1-VLOOKUP(F1510,Konditionen!$B:$G,6,0))","v":147.05000000000001}]
["LindabSafe Formteile","ETU","ETU450","Einlaßteil       ETU       450.560","",30,180.8,{"$f":"G1511*(1-VLOOKUP(F1511,Konditionen!$B:$G,6,0))","v":180.8}]
["LindabSafe Formteile","ETU","ETU500","Einlaßteil       ETU       500.600","",30,197.25,{"$f":"G1512*(1-VLOOKUP(F1512,Konditionen!$B:$G,6,0))","v":197.25}]
["LindabSafe Formteile","ETU","ETU560","Einlaßteil       ETU       560.710","",30,224.95,{"$f":"G1513*(1-VLOOKUP(F1513,Konditionen!$B:$G,6,0))","v":224.95}]
["LindabSafe Formteile","ETU","ETU600","Einlaßteil       ETU       600.710","",30,239.45,{"$f":"G1514*(1-VLOOKUP(F1514,Konditionen!$B:$G,6,0))","v":239.45}]
["LindabSafe Formteile","ETU","ETU63","Einlaßteil       ETU        63.125","",30,53.7,{"$f":"G1515*(1-VLOOKUP(F1515,Konditionen!$B:$G,6,0))","v":53.7}]
["LindabSafe Formteile","ETU","ETU630","Einlaßteil       ETU       630.800","",30,265.89999999999998,{"$f":"G1516*(1-VLOOKUP(F1516,Konditionen!$B:$G,6,0))","v":265.89999999999998}]
["LindabSafe Formteile","ETU","ETU710","Einlaßteil       ETU       710.900","",30,300.3,{"$f":"G1517*(1-VLOOKUP(F1517,Konditionen!$B:$G,6,0))","v":300.3}]
["LindabSafe Formteile","ETU","ETU80","Einlaßteil       ETU        80.140","",30,53.7,{"$f":"G1518*(1-VLOOKUP(F1518,Konditionen!$B:$G,6,0))","v":53.7}]
["LindabSafe Formteile","ETU","ETU800","Einlaßteil       ETU       800.1000","",30,342.65,{"$f":"G1519*(1-VLOOKUP(F1519,Konditionen!$B:$G,6,0))","v":342.65}]
["LindabSafe Formteile","ETU","ETU900","Einlaßteil       ETU       900.1120","",30,391.45,{"$f":"G1520*(1-VLOOKUP(F1520,Konditionen!$B:$G,6,0))","v":391.45}]
["LindabSafe Formteile","ILF","ILF100","Bundkragen       ILF           100","Muffenmaß",30,16.7,{"$f":"G1521*(1-VLOOKUP(F1521,Konditionen!$B:$G,6,0))","v":16.7}]
["LindabSafe Formteile","ILF","ILF1000","Bundkragen       ILF           1000","Muffenmaß",30,160.69999999999999,{"$f":"G1522*(1-VLOOKUP(F1522,Konditionen!$B:$G,6,0))","v":160.69999999999999}]
["LindabSafe Formteile","ILF","ILF112","Bundkragen       ILF           112","Muffenmaß",30,16.7,{"$f":"G1523*(1-VLOOKUP(F1523,Konditionen!$B:$G,6,0))","v":16.7}]
["LindabSafe Formteile","ILF","ILF1120","Bundkragen       ILF           1120","Muffenmaß",30,204.8,{"$f":"G1524*(1-VLOOKUP(F1524,Konditionen!$B:$G,6,0))","v":204.8}]
["LindabSafe Formteile","ILF","ILF125","Bundkragen       ILF           125","Muffenmaß",30,16.7,{"$f":"G1525*(1-VLOOKUP(F1525,Konditionen!$B:$G,6,0))","v":16.7}]
["LindabSafe Formteile","ILF","ILF1250","Bundkragen       ILF           1250","Muffenmaß",30,208.8,{"$f":"G1526*(1-VLOOKUP(F1526,Konditionen!$B:$G,6,0))","v":208.8}]
["LindabSafe Formteile","ILF","ILF140","Bundkragen       ILF           140","Muffenmaß",30,19.05,{"$f":"G1527*(1-VLOOKUP(F1527,Konditionen!$B:$G,6,0))","v":19.05}]
["LindabSafe Formteile","ILF","ILF150","Bundkragen       ILF           150","Muffenmaß",30,19.05,{"$f":"G1528*(1-VLOOKUP(F1528,Konditionen!$B:$G,6,0))","v":19.05}]
["LindabSafe Formteile","ILF","ILF160","Bundkragen       ILF           160","Muffenmaß",30,19.05,{"$f":"G1529*(1-VLOOKUP(F1529,Konditionen!$B:$G,6,0))","v":19.05}]
["LindabSafe Formteile","ILF","ILF180","Bundkragen       ILF           180","Muffenmaß",30,23.45,{"$f":"G1530*(1-VLOOKUP(F1530,Konditionen!$B:$G,6,0))","v":23.45}]
["LindabSafe Formteile","ILF","ILF200","Bundkragen       ILF           200","Muffenmaß",30,23.45,{"$f":"G1531*(1-VLOOKUP(F1531,Konditionen!$B:$G,6,0))","v":23.45}]
["LindabSafe Formteile","ILF","ILF224","Bundkragen       ILF           224","Muffenmaß",30,28.15,{"$f":"G1532*(1-VLOOKUP(F1532,Konditionen!$B:$G,6,0))","v":28.15}]
["LindabSafe Formteile","ILF","ILF250","Bundkragen       ILF           250","Muffenmaß",30,28.15,{"$f":"G1533*(1-VLOOKUP(F1533,Konditionen!$B:$G,6,0))","v":28.15}]
["LindabSafe Formteile","ILF","ILF280","Bundkragen       ILF           280","Muffenmaß",30,37.1,{"$f":"G1534*(1-VLOOKUP(F1534,Konditionen!$B:$G,6,0))","v":37.1}]
["LindabSafe Formteile","ILF","ILF300","Bundkragen       ILF           300","Muffenmaß",30,37.1,{"$f":"G1535*(1-VLOOKUP(F1535,Konditionen!$B:$G,6,0))","v":37.1}]
["LindabSafe Formteile","ILF","ILF315","Bundkragen       ILF           315","Muffenmaß",30,37.1,{"$f":"G1536*(1-VLOOKUP(F1536,Konditionen!$B:$G,6,0))","v":37.1}]
["LindabSafe Formteile","ILF","ILF355","Bundkragen       ILF           355","Muffenmaß",30,39.200000000000003,{"$f":"G1537*(1-VLOOKUP(F1537,Konditionen!$B:$G,6,0))","v":39.200000000000003}]
["LindabSafe Formteile","ILF","ILF400","Bundkragen       ILF           400","Muffenmaß",30,41.5,{"$f":"G1538*(1-VLOOKUP(F1538,Konditionen!$B:$G,6,0))","v":41.5}]
["LindabSafe Formteile","ILF","ILF450","Bundkragen       ILF           450","Muffenmaß",30,44.6,{"$f":"G1539*(1-VLOOKUP(F1539,Konditionen!$B:$G,6,0))","v":44.6}]
["LindabSafe Formteile","ILF","ILF500","Bundkragen       ILF           500","Muffenmaß",30,45.95,{"$f":"G1540*(1-VLOOKUP(F1540,Konditionen!$B:$G,6,0))","v":45.95}]
["LindabSafe Formteile","ILF","ILF560","Bundkragen       ILF           560","Muffenmaß",30,68.099999999999994,{"$f":"G1541*(1-VLOOKUP(F1541,Konditionen!$B:$G,6,0))","v":68.099999999999994}]
["LindabSafe Formteile","ILF","ILF600","Bundkragen       ILF           600","Muffenmaß",30,75,{"$f":"G1542*(1-VLOOKUP(F1542,Konditionen!$B:$G,6,0))","v":75}]
["LindabSafe Formteile","ILF","ILF63","Bundkragen       ILF           63","Muffenmaß",30,16.7,{"$f":"G1543*(1-VLOOKUP(F1543,Konditionen!$B:$G,6,0))","v":16.7}]
["LindabSafe Formteile","ILF","ILF630","Bundkragen       ILF           630","Muffenmaß",30,75,{"$f":"G1544*(1-VLOOKUP(F1544,Konditionen!$B:$G,6,0))","v":75}]
["LindabSafe Formteile","ILF","ILF71","Bundkragen       ILF           71","Muffenmaß",30,16.7,{"$f":"G1545*(1-VLOOKUP(F1545,Konditionen!$B:$G,6,0))","v":16.7}]
["LindabSafe Formteile","ILF","ILF710","Bundkragen       ILF           710","Muffenmaß",30,100.95,{"$f":"G1546*(1-VLOOKUP(F1546,Konditionen!$B:$G,6,0))","v":100.95}]
["LindabSafe Formteile","ILF","ILF80","Bundkragen       ILF           80","Muffenmaß",30,16.7,{"$f":"G1547*(1-VLOOKUP(F1547,Konditionen!$B:$G,6,0))","v":16.7}]
["LindabSafe Formteile","ILF","ILF800","Bundkragen       ILF           800","Muffenmaß",30,108.4,{"$f":"G1548*(1-VLOOKUP(F1548,Konditionen!$B:$G,6,0))","v":108.4}]
["LindabSafe Formteile","ILF","ILF90","Bundkragen       ILF           90","Muffenmaß",30,16.7,{"$f":"G1549*(1-VLOOKUP(F1549,Konditionen!$B:$G,6,0))","v":16.7}]
["LindabSafe Formteile","ILF","ILF900","Bundkragen       ILF           900","Muffenmaß",30,137.6,{"$f":"G1550*(1-VLOOKUP(F1550,Konditionen!$B:$G,6,0))","v":137.6}]
["LindabSafe Formteile","ILRNU","ILRNU100","Lufteinlass m. Gitter  ILRNU   100","",30,65.5,{"$f":"G1551*(1-VLOOKUP(F1551,Konditionen!$B:$G,6,0))","v":65.5}]
["LindabSafe Formteile","ILRNU","ILRNU125","Lufteinlass m. Gitter  ILRNU   125","",30,73.55,{"$f":"G1552*(1-VLOOKUP(F1552,Konditionen!$B:$G,6,0))","v":73.55}]
["LindabSafe Formteile","ILRNU","ILRNU140","Lufteinlass m. Gitter  ILRNU   140","",30,88.8,{"$f":"G1553*(1-VLOOKUP(F1553,Konditionen!$B:$G,6,0))","v":88.8}]
["LindabSafe Formteile","ILRNU","ILRNU150","Lufteinlass m. Gitter  ILRNU   150","",30,88.8,{"$f":"G1554*(1-VLOOKUP(F1554,Konditionen!$B:$G,6,0))","v":88.8}]
["LindabSafe Formteile","ILRNU","ILRNU160","Lufteinlass m. Gitter  ILRNU   160","",30,88.8,{"$f":"G1555*(1-VLOOKUP(F1555,Konditionen!$B:$G,6,0))","v":88.8}]
["LindabSafe Formteile","ILRNU","ILRNU180","Lufteinlass m. Gitter  ILRNU   180","",30,105,{"$f":"G1556*(1-VLOOKUP(F1556,Konditionen!$B:$G,6,0))","v":105}]
["LindabSafe Formteile","ILRNU","ILRNU200","Lufteinlass m. Gitter  ILRNU   200","",30,105,{"$f":"G1557*(1-VLOOKUP(F1557,Konditionen!$B:$G,6,0))","v":105}]
["LindabSafe Formteile","ILRNU","ILRNU224","Lufteinlass m. Gitter  ILRNU   224","",30,118.5,{"$f":"G1558*(1-VLOOKUP(F1558,Konditionen!$B:$G,6,0))","v":118.5}]
["LindabSafe Formteile","ILRNU","ILRNU250","Lufteinlass m. Gitter  ILRNU   250","",30,118.5,{"$f":"G1559*(1-VLOOKUP(F1559,Konditionen!$B:$G,6,0))","v":118.5}]
["LindabSafe Formteile","ILRNU","ILRNU300","Lufteinlass m. Gitter  ILRNU   300","",30,153,{"$f":"G1560*(1-VLOOKUP(F1560,Konditionen!$B:$G,6,0))","v":153}]
["LindabSafe Formteile","ILRNU","ILRNU315","Lufteinlass m. Gitter  ILRNU   315","",30,153,{"$f":"G1561*(1-VLOOKUP(F1561,Konditionen!$B:$G,6,0))","v":153}]
["LindabSafe Formteile","ILRNU","ILRNU355","Lufteinlass m. Gitter  ILRNU   355","",30,201.05,{"$f":"G1562*(1-VLOOKUP(F1562,Konditionen!$B:$G,6,0))","v":201.05}]
["LindabSafe Formteile","ILRNU","ILRNU400","Lufteinlass m. Gitter  ILRNU   400","",30,210.9,{"$f":"G1563*(1-VLOOKUP(F1563,Konditionen!$B:$G,6,0))","v":210.9}]
["LindabSafe Formteile","ILRNU","ILRNU500","Lufteinlass m. Gitter  ILRNU   500","",30,255.8,{"$f":"G1564*(1-VLOOKUP(F1564,Konditionen!$B:$G,6,0))","v":255.8}]
["LindabSafe Formteile","ILRNU","ILRNU63","Lufteinlass m. Gitter  ILRNU   63","",30,60.8,{"$f":"G1565*(1-VLOOKUP(F1565,Konditionen!$B:$G,6,0))","v":60.8}]
["LindabSafe Formteile","ILRNU","ILRNU630","Lufteinlass m. Gitter  ILRNU   630","",30,332.75,{"$f":"G1566*(1-VLOOKUP(F1566,Konditionen!$B:$G,6,0))","v":332.75}]
["LindabSafe Formteile","ILRNU","ILRNU80","Lufteinlass m. Gitter  ILRNU   80","",30,60.8,{"$f":"G1567*(1-VLOOKUP(F1567,Konditionen!$B:$G,6,0))","v":60.8}]
["LindabSafe Formteile","ILU","ILU1000","Bundkragen       ILU           1000","",30,170.25,{"$f":"G1568*(1-VLOOKUP(F1568,Konditionen!$B:$G,6,0))","v":170.25}]
["LindabSafe Formteile","ILU","ILU1250","Bundkragen       ILU           1250","",30,216.45,{"$f":"G1569*(1-VLOOKUP(F1569,Konditionen!$B:$G,6,0))","v":216.45}]
["LindabSafe Formteile","ILU","ILU600","Bundkragen       ILU           600","",30,66.849999999999994,{"$f":"G1570*(1-VLOOKUP(F1570,Konditionen!$B:$G,6,0))","v":66.849999999999994}]
["LindabSafe Formteile","ILU","ILU630","Bundkragen       ILU           630","",30,68.400000000000006,{"$f":"G1571*(1-VLOOKUP(F1571,Konditionen!$B:$G,6,0))","v":68.400000000000006}]
["LindabSafe Formteile","ILU","ILU710","Bundkragen       ILU           710","",30,78.5,{"$f":"G1572*(1-VLOOKUP(F1572,Konditionen!$B:$G,6,0))","v":78.5}]
["LindabSafe Formteile","ILU","ILU800","Bundkragen       ILU           800","",30,112.8,{"$f":"G1573*(1-VLOOKUP(F1573,Konditionen!$B:$G,6,0))","v":112.8}]
["LindabSafe Formteile","ILU","ILU900","Bundkragen       ILU           900","",30,125.35,{"$f":"G1574*(1-VLOOKUP(F1574,Konditionen!$B:$G,6,0))","v":125.35}]
["LindabSafe Formteile","ILVU","ILVU100","Bundkragen       ILVU 45       100","",30,72.650000000000006,{"$f":"G1575*(1-VLOOKUP(F1575,Konditionen!$B:$G,6,0))","v":72.650000000000006}]
["LindabSafe Formteile","ILVU","ILVU1000","Bundkragen       ILVU 45       1000","",30,844.65,{"$f":"G1576*(1-VLOOKUP(F1576,Konditionen!$B:$G,6,0))","v":844.65}]
["LindabSafe Formteile","ILVU","ILVU112","Bundkragen       ILVU 45       112","",30,85.25,{"$f":"G1577*(1-VLOOKUP(F1577,Konditionen!$B:$G,6,0))","v":85.25}]
["LindabSafe Formteile","ILVU","ILVU1120","Bundkragen       ILVU 45       1120","",30,1131,{"$f":"G1578*(1-VLOOKUP(F1578,Konditionen!$B:$G,6,0))","v":1131}]
["LindabSafe Formteile","ILVU","ILVU125","Bundkragen       ILVU 45       125","",30,85.25,{"$f":"G1579*(1-VLOOKUP(F1579,Konditionen!$B:$G,6,0))","v":85.25}]
["LindabSafe Formteile","ILVU","ILVU1250","Bundkragen       ILVU 45       1250","",30,1477,{"$f":"G1580*(1-VLOOKUP(F1580,Konditionen!$B:$G,6,0))","v":1477}]
["LindabSafe Formteile","ILVU","ILVU140","Bundkragen       ILVU 45       140","",30,86.8,{"$f":"G1581*(1-VLOOKUP(F1581,Konditionen!$B:$G,6,0))","v":86.8}]
["LindabSafe Formteile","ILVU","ILVU150","Bundkragen       ILVU 45       150","",30,86.8,{"$f":"G1582*(1-VLOOKUP(F1582,Konditionen!$B:$G,6,0))","v":86.8}]
["LindabSafe Formteile","ILVU","ILVU160","Bundkragen       ILVU 45       160","",30,86.8,{"$f":"G1583*(1-VLOOKUP(F1583,Konditionen!$B:$G,6,0))","v":86.8}]
["LindabSafe Formteile","ILVU","ILVU180","Bundkragen       ILVU 45       180","",30,97.1,{"$f":"G1584*(1-VLOOKUP(F1584,Konditionen!$B:$G,6,0))","v":97.1}]
["LindabSafe Formteile","ILVU","ILVU200","Bundkragen       ILVU 45       200","",30,97.1,{"$f":"G1585*(1-VLOOKUP(F1585,Konditionen!$B:$G,6,0))","v":97.1}]
["LindabSafe Formteile","ILVU","ILVU224","Bundkragen       ILVU 45       224","",30,121.1,{"$f":"G1586*(1-VLOOKUP(F1586,Konditionen!$B:$G,6,0))","v":121.1}]
["LindabSafe Formteile","ILVU","ILVU250","Bundkragen       ILVU 45       250","",30,121.1,{"$f":"G1587*(1-VLOOKUP(F1587,Konditionen!$B:$G,6,0))","v":121.1}]
["LindabSafe Formteile","ILVU","ILVU280","Bundkragen       ILVU 45       280","",30,150.94999999999999,{"$f":"G1588*(1-VLOOKUP(F1588,Konditionen!$B:$G,6,0))","v":150.94999999999999}]
["LindabSafe Formteile","ILVU","ILVU300","Bundkragen       ILVU 45       300","",30,150.94999999999999,{"$f":"G1589*(1-VLOOKUP(F1589,Konditionen!$B:$G,6,0))","v":150.94999999999999}]
["LindabSafe Formteile","ILVU","ILVU315","Bundkragen       ILVU 45       315","",30,157.35,{"$f":"G1590*(1-VLOOKUP(F1590,Konditionen!$B:$G,6,0))","v":157.35}]
["LindabSafe Formteile","ILVU","ILVU355","Bundkragen       ILVU 45       355","",30,164.85,{"$f":"G1591*(1-VLOOKUP(F1591,Konditionen!$B:$G,6,0))","v":164.85}]
["LindabSafe Formteile","ILVU","ILVU400","Bundkragen       ILVU 45       400","",30,179.6,{"$f":"G1592*(1-VLOOKUP(F1592,Konditionen!$B:$G,6,0))","v":179.6}]
["LindabSafe Formteile","ILVU","ILVU450","Bundkragen       ILVU 45       450","",30,207.8,{"$f":"G1593*(1-VLOOKUP(F1593,Konditionen!$B:$G,6,0))","v":207.8}]
["LindabSafe Formteile","ILVU","ILVU500","Bundkragen       ILVU 45       500","",30,248.7,{"$f":"G1594*(1-VLOOKUP(F1594,Konditionen!$B:$G,6,0))","v":248.7}]
["LindabSafe Formteile","ILVU","ILVU560","Bundkragen       ILVU 45       560","",30,282.39999999999998,{"$f":"G1595*(1-VLOOKUP(F1595,Konditionen!$B:$G,6,0))","v":282.39999999999998}]
["LindabSafe Formteile","ILVU","ILVU600","Bundkragen       ILVU 45       600","",30,300.3,{"$f":"G1596*(1-VLOOKUP(F1596,Konditionen!$B:$G,6,0))","v":300.3}]
["LindabSafe Formteile","ILVU","ILVU63","Bundkragen       ILVU 45        63","",30,72.650000000000006,{"$f":"G1597*(1-VLOOKUP(F1597,Konditionen!$B:$G,6,0))","v":72.650000000000006}]
["LindabSafe Formteile","ILVU","ILVU630","Bundkragen       ILVU 45       630","",30,323.95,{"$f":"G1598*(1-VLOOKUP(F1598,Konditionen!$B:$G,6,0))","v":323.95}]
["LindabSafe Formteile","ILVU","ILVU710","Bundkragen       ILVU 45       710","",30,382.9,{"$f":"G1599*(1-VLOOKUP(F1599,Konditionen!$B:$G,6,0))","v":382.9}]
["LindabSafe Formteile","ILVU","ILVU80","Bundkragen       ILVU 45        80","",30,72.650000000000006,{"$f":"G1600*(1-VLOOKUP(F1600,Konditionen!$B:$G,6,0))","v":72.650000000000006}]
["LindabSafe Formteile","ILVU","ILVU800","Bundkragen       ILVU 45       800","",30,490.9,{"$f":"G1601*(1-VLOOKUP(F1601,Konditionen!$B:$G,6,0))","v":490.9}]
["LindabSafe Formteile","ILVU","ILVU900","Bundkragen       ILVU 45       900","",30,592.35,{"$f":"G1602*(1-VLOOKUP(F1602,Konditionen!$B:$G,6,0))","v":592.35}]
["LindabSafe Formteile","LORU","LORU10001000","Überg.eckig-rund LORU 1000.1000....","",30,1350,{"$f":"G1603*(1-VLOOKUP(F1603,Konditionen!$B:$G,6,0))","v":1350}]
["LindabSafe Formteile","LORU","LORU1000250","Überg.eckig-rund LORU 1000.250....","",30,1103,{"$f":"G1604*(1-VLOOKUP(F1604,Konditionen!$B:$G,6,0))","v":1103}]
["LindabSafe Formteile","LORU","LORU1000300","Überg.eckig-rund LORU 1000.300....","",30,1124,{"$f":"G1605*(1-VLOOKUP(F1605,Konditionen!$B:$G,6,0))","v":1124}]
["LindabSafe Formteile","LORU","LORU1000350","Überg.eckig-rund LORU 1000.350....","",30,1139,{"$f":"G1606*(1-VLOOKUP(F1606,Konditionen!$B:$G,6,0))","v":1139}]
["LindabSafe Formteile","LORU","LORU1000400","Überg.eckig-rund LORU 1000.400....","",30,1157,{"$f":"G1607*(1-VLOOKUP(F1607,Konditionen!$B:$G,6,0))","v":1157}]
["LindabSafe Formteile","LORU","LORU1000450","Überg.eckig-rund LORU 1000.450....","",30,1171,{"$f":"G1608*(1-VLOOKUP(F1608,Konditionen!$B:$G,6,0))","v":1171}]
["LindabSafe Formteile","LORU","LORU1000500","Überg.eckig-rund LORU 1000.500....","",30,1191,{"$f":"G1609*(1-VLOOKUP(F1609,Konditionen!$B:$G,6,0))","v":1191}]
["LindabSafe Formteile","LORU","LORU1000600","Überg.eckig-rund LORU 1000.600....","",30,1219,{"$f":"G1610*(1-VLOOKUP(F1610,Konditionen!$B:$G,6,0))","v":1219}]
["LindabSafe Formteile","LORU","LORU1000700","Überg.eckig-rund LORU 1000.700....","",30,1252,{"$f":"G1611*(1-VLOOKUP(F1611,Konditionen!$B:$G,6,0))","v":1252}]
["LindabSafe Formteile","LORU","LORU1000800","Überg.eckig-rund LORU 1000.800....","",30,1285,{"$f":"G1612*(1-VLOOKUP(F1612,Konditionen!$B:$G,6,0))","v":1285}]
["LindabSafe Formteile","LORU","LORU1000900","Überg.eckig-rund LORU 1000.900....","",30,1317,{"$f":"G1613*(1-VLOOKUP(F1613,Konditionen!$B:$G,6,0))","v":1317}]
["LindabSafe Formteile","LORU","LORU100100","Überg.eckig-rund LORU 100.100....","",30,333.95,{"$f":"G1614*(1-VLOOKUP(F1614,Konditionen!$B:$G,6,0))","v":333.95}]
["LindabSafe Formteile","LORU","LORU12001000","Überg.eckig-rund LORU 1200.1000....","",30,2236,{"$f":"G1615*(1-VLOOKUP(F1615,Konditionen!$B:$G,6,0))","v":2236}]
["LindabSafe Formteile","LORU","LORU12001200","Überg.eckig-rund LORU 1200.1200....","",30,2393,{"$f":"G1616*(1-VLOOKUP(F1616,Konditionen!$B:$G,6,0))","v":2393}]
["LindabSafe Formteile","LORU","LORU1200300","Überg.eckig-rund LORU 1200.300....","",30,1564,{"$f":"G1617*(1-VLOOKUP(F1617,Konditionen!$B:$G,6,0))","v":1564}]
["LindabSafe Formteile","LORU","LORU1200350","Überg.eckig-rund LORU 1200.350....","",30,1590,{"$f":"G1618*(1-VLOOKUP(F1618,Konditionen!$B:$G,6,0))","v":1590}]
["LindabSafe Formteile","LORU","LORU1200400","Überg.eckig-rund LORU 1200.400....","",30,1611,{"$f":"G1619*(1-VLOOKUP(F1619,Konditionen!$B:$G,6,0))","v":1611}]
["LindabSafe Formteile","LORU","LORU1200450","Überg.eckig-rund LORU 1200.450....","",30,1631,{"$f":"G1620*(1-VLOOKUP(F1620,Konditionen!$B:$G,6,0))","v":1631}]
["LindabSafe Formteile","LORU","LORU1200500","Überg.eckig-rund LORU 1200.500....","",30,1660,{"$f":"G1621*(1-VLOOKUP(F1621,Konditionen!$B:$G,6,0))","v":1660}]
["LindabSafe Formteile","LORU","LORU1200600","Überg.eckig-rund LORU 1200.600....","",30,1708,{"$f":"G1622*(1-VLOOKUP(F1622,Konditionen!$B:$G,6,0))","v":1708}]
["LindabSafe Formteile","LORU","LORU1200700","Überg.eckig-rund LORU 1200.700....","",30,1765,{"$f":"G1623*(1-VLOOKUP(F1623,Konditionen!$B:$G,6,0))","v":1765}]
["LindabSafe Formteile","LORU","LORU1200800","Überg.eckig-rund LORU 1200.800....","",30,1818,{"$f":"G1624*(1-VLOOKUP(F1624,Konditionen!$B:$G,6,0))","v":1818}]
["LindabSafe Formteile","LORU","LORU1200900","Überg.eckig-rund LORU 1200.900....","",30,2175,{"$f":"G1625*(1-VLOOKUP(F1625,Konditionen!$B:$G,6,0))","v":2175}]
["LindabSafe Formteile","LORU","LORU14001000","Überg.eckig-rund LORU 1400.1000....","",30,2393,{"$f":"G1626*(1-VLOOKUP(F1626,Konditionen!$B:$G,6,0))","v":2393}]
["LindabSafe Formteile","LORU","LORU14001200","Überg.eckig-rund LORU 1400.1200....","",30,2547,{"$f":"G1627*(1-VLOOKUP(F1627,Konditionen!$B:$G,6,0))","v":2547}]
["LindabSafe Formteile","LORU","LORU1400350","Überg.eckig-rund LORU 1400.350....","",30,1722,{"$f":"G1628*(1-VLOOKUP(F1628,Konditionen!$B:$G,6,0))","v":1722}]
["LindabSafe Formteile","LORU","LORU1400400","Überg.eckig-rund LORU 1400.400....","",30,1741,{"$f":"G1629*(1-VLOOKUP(F1629,Konditionen!$B:$G,6,0))","v":1741}]
["LindabSafe Formteile","LORU","LORU1400450","Überg.eckig-rund LORU 1400.450....","",30,1771,{"$f":"G1630*(1-VLOOKUP(F1630,Konditionen!$B:$G,6,0))","v":1771}]
["LindabSafe Formteile","LORU","LORU1400500","Überg.eckig-rund LORU 1400.500....","",30,1794,{"$f":"G1631*(1-VLOOKUP(F1631,Konditionen!$B:$G,6,0))","v":1794}]
["LindabSafe Formteile","LORU","LORU1400600","Überg.eckig-rund LORU 1400.600....","",30,1840,{"$f":"G1632*(1-VLOOKUP(F1632,Konditionen!$B:$G,6,0))","v":1840}]
["LindabSafe Formteile","LORU","LORU1400700","Überg.eckig-rund LORU 1400.700....","",30,2198,{"$f":"G1633*(1-VLOOKUP(F1633,Konditionen!$B:$G,6,0))","v":2198}]
["LindabSafe Formteile","LORU","LORU1400800","Überg.eckig-rund LORU 1400.800....","",30,2261,{"$f":"G1634*(1-VLOOKUP(F1634,Konditionen!$B:$G,6,0))","v":2261}]
["LindabSafe Formteile","LORU","LORU1400900","Überg.eckig-rund LORU 1400.900....","",30,2333,{"$f":"G1635*(1-VLOOKUP(F1635,Konditionen!$B:$G,6,0))","v":2333}]
["LindabSafe Formteile","LORU","LORU150100","Überg.eckig-rund LORU 150.100....","",30,348.8,{"$f":"G1636*(1-VLOOKUP(F1636,Konditionen!$B:$G,6,0))","v":348.8}]
["LindabSafe Formteile","LORU","LORU150150","Überg.eckig-rund LORU 150.150....","",30,370.4,{"$f":"G1637*(1-VLOOKUP(F1637,Konditionen!$B:$G,6,0))","v":370.4}]
["LindabSafe Formteile","LORU","LORU16001000","Überg.eckig-rund LORU 1600.1000....","",30,2601,{"$f":"G1638*(1-VLOOKUP(F1638,Konditionen!$B:$G,6,0))","v":2601}]
["LindabSafe Formteile","LORU","LORU16001200","Überg.eckig-rund LORU 1600.1200....","",30,2756,{"$f":"G1639*(1-VLOOKUP(F1639,Konditionen!$B:$G,6,0))","v":2756}]
["LindabSafe Formteile","LORU","LORU1600400","Überg.eckig-rund LORU 1600.400....","",30,1921,{"$f":"G1640*(1-VLOOKUP(F1640,Konditionen!$B:$G,6,0))","v":1921}]
["LindabSafe Formteile","LORU","LORU1600450","Überg.eckig-rund LORU 1600.450....","",30,2258,{"$f":"G1641*(1-VLOOKUP(F1641,Konditionen!$B:$G,6,0))","v":2258}]
["LindabSafe Formteile","LORU","LORU1600500","Überg.eckig-rund LORU 1600.500....","",30,2282,{"$f":"G1642*(1-VLOOKUP(F1642,Konditionen!$B:$G,6,0))","v":2282}]
["LindabSafe Formteile","LORU","LORU1600600","Überg.eckig-rund LORU 1600.600....","",30,2337,{"$f":"G1643*(1-VLOOKUP(F1643,Konditionen!$B:$G,6,0))","v":2337}]
["LindabSafe Formteile","LORU","LORU1600700","Überg.eckig-rund LORU 1600.700....","",30,2406,{"$f":"G1644*(1-VLOOKUP(F1644,Konditionen!$B:$G,6,0))","v":2406}]
["LindabSafe Formteile","LORU","LORU1600800","Überg.eckig-rund LORU 1600.800....","",30,2470,{"$f":"G1645*(1-VLOOKUP(F1645,Konditionen!$B:$G,6,0))","v":2470}]
["LindabSafe Formteile","LORU","LORU1600900","Überg.eckig-rund LORU 1600.900....","",30,2535,{"$f":"G1646*(1-VLOOKUP(F1646,Konditionen!$B:$G,6,0))","v":2535}]
["LindabSafe Formteile","LORU","LORU18001000","Überg.eckig-rund LORU 1800.1000....","",30,2803,{"$f":"G1647*(1-VLOOKUP(F1647,Konditionen!$B:$G,6,0))","v":2803}]
["LindabSafe Formteile","LORU","LORU18001200","Überg.eckig-rund LORU 1800.1200....","",30,3080,{"$f":"G1648*(1-VLOOKUP(F1648,Konditionen!$B:$G,6,0))","v":3080}]
["LindabSafe Formteile","LORU","LORU1800450","Überg.eckig-rund LORU 1800.450....","",30,2460,{"$f":"G1649*(1-VLOOKUP(F1649,Konditionen!$B:$G,6,0))","v":2460}]
["LindabSafe Formteile","LORU","LORU1800500","Überg.eckig-rund LORU 1800.500....","",30,2495,{"$f":"G1650*(1-VLOOKUP(F1650,Konditionen!$B:$G,6,0))","v":2495}]
["LindabSafe Formteile","LORU","LORU1800600","Überg.eckig-rund LORU 1800.600....","",30,2547,{"$f":"G1651*(1-VLOOKUP(F1651,Konditionen!$B:$G,6,0))","v":2547}]
["LindabSafe Formteile","LORU","LORU1800700","Überg.eckig-rund LORU 1800.700....","",30,2614,{"$f":"G1652*(1-VLOOKUP(F1652,Konditionen!$B:$G,6,0))","v":2614}]
["LindabSafe Formteile","LORU","LORU1800800","Überg.eckig-rund LORU 1800.800....","",30,2675,{"$f":"G1653*(1-VLOOKUP(F1653,Konditionen!$B:$G,6,0))","v":2675}]
["LindabSafe Formteile","LORU","LORU1800900","Überg.eckig-rund LORU 1800.900....","",30,2742,{"$f":"G1654*(1-VLOOKUP(F1654,Konditionen!$B:$G,6,0))","v":2742}]
["LindabSafe Formteile","LORU","LORU20001000","Überg.eckig-rund LORU 2000.1000....","",30,3189,{"$f":"G1655*(1-VLOOKUP(F1655,Konditionen!$B:$G,6,0))","v":3189}]
["LindabSafe Formteile","LORU","LORU20001200","Überg.eckig-rund LORU 2000.1200....","",30,3352,{"$f":"G1656*(1-VLOOKUP(F1656,Konditionen!$B:$G,6,0))","v":3352}]
["LindabSafe Formteile","LORU","LORU2000500","Überg.eckig-rund LORU 2000.500....","",30,2748,{"$f":"G1657*(1-VLOOKUP(F1657,Konditionen!$B:$G,6,0))","v":2748}]
["LindabSafe Formteile","LORU","LORU2000600","Überg.eckig-rund LORU 2000.600....","",30,2803,{"$f":"G1658*(1-VLOOKUP(F1658,Konditionen!$B:$G,6,0))","v":2803}]
["LindabSafe Formteile","LORU","LORU2000700","Überg.eckig-rund LORU 2000.700....","",30,2871,{"$f":"G1659*(1-VLOOKUP(F1659,Konditionen!$B:$G,6,0))","v":2871}]
["LindabSafe Formteile","LORU","LORU2000800","Überg.eckig-rund LORU 2000.800....","",30,2932,{"$f":"G1660*(1-VLOOKUP(F1660,Konditionen!$B:$G,6,0))","v":2932}]
["LindabSafe Formteile","LORU","LORU2000900","Überg.eckig-rund LORU 2000.900....","",30,3125,{"$f":"G1661*(1-VLOOKUP(F1661,Konditionen!$B:$G,6,0))","v":3125}]
["LindabSafe Formteile","LORU","LORU200100","Überg.eckig-rund LORU 200.100....","",30,394.5,{"$f":"G1662*(1-VLOOKUP(F1662,Konditionen!$B:$G,6,0))","v":394.5}]
["LindabSafe Formteile","LORU","LORU200150","Überg.eckig-rund LORU 200.150....","",30,399.9,{"$f":"G1663*(1-VLOOKUP(F1663,Konditionen!$B:$G,6,0))","v":399.9}]
["LindabSafe Formteile","LORU","LORU200200","Überg.eckig-rund LORU 200.200....","",30,410.15,{"$f":"G1664*(1-VLOOKUP(F1664,Konditionen!$B:$G,6,0))","v":410.15}]
["LindabSafe Formteile","LORU","LORU250100","Überg.eckig-rund LORU 250.100....","",30,424,{"$f":"G1665*(1-VLOOKUP(F1665,Konditionen!$B:$G,6,0))","v":424}]
["LindabSafe Formteile","LORU","LORU250150","Überg.eckig-rund LORU 250.150....","",30,431.05,{"$f":"G1666*(1-VLOOKUP(F1666,Konditionen!$B:$G,6,0))","v":431.05}]
["LindabSafe Formteile","LORU","LORU250200","Überg.eckig-rund LORU 250.200....","",30,439.2,{"$f":"G1667*(1-VLOOKUP(F1667,Konditionen!$B:$G,6,0))","v":439.2}]
["LindabSafe Formteile","LORU","LORU250250","Überg.eckig-rund LORU 250.250....","",30,445.95,{"$f":"G1668*(1-VLOOKUP(F1668,Konditionen!$B:$G,6,0))","v":445.95}]
["LindabSafe Formteile","LORU","LORU300100","Überg.eckig-rund LORU 300.100....","",30,455.2,{"$f":"G1669*(1-VLOOKUP(F1669,Konditionen!$B:$G,6,0))","v":455.2}]
["LindabSafe Formteile","LORU","LORU300150","Überg.eckig-rund LORU 300.150....","",30,461.15,{"$f":"G1670*(1-VLOOKUP(F1670,Konditionen!$B:$G,6,0))","v":461.15}]
["LindabSafe Formteile","LORU","LORU300200","Überg.eckig-rund LORU 300.200....","",30,466.7,{"$f":"G1671*(1-VLOOKUP(F1671,Konditionen!$B:$G,6,0))","v":466.7}]
["LindabSafe Formteile","LORU","LORU300250","Überg.eckig-rund LORU 300.250....","",30,476.1,{"$f":"G1672*(1-VLOOKUP(F1672,Konditionen!$B:$G,6,0))","v":476.1}]
["LindabSafe Formteile","LORU","LORU300300","Überg.eckig-rund LORU 300.300....","",30,480.25,{"$f":"G1673*(1-VLOOKUP(F1673,Konditionen!$B:$G,6,0))","v":480.25}]
["LindabSafe Formteile","LORU","LORU350100","Überg.eckig-rund LORU 350.100....","",30,482.4,{"$f":"G1674*(1-VLOOKUP(F1674,Konditionen!$B:$G,6,0))","v":482.4}]
["LindabSafe Formteile","LORU","LORU350150","Überg.eckig-rund LORU 350.150....","",30,491.75,{"$f":"G1675*(1-VLOOKUP(F1675,Konditionen!$B:$G,6,0))","v":491.75}]
["LindabSafe Formteile","LORU","LORU350200","Überg.eckig-rund LORU 350.200....","",30,506.25,{"$f":"G1676*(1-VLOOKUP(F1676,Konditionen!$B:$G,6,0))","v":506.25}]
["LindabSafe Formteile","LORU","LORU350250","Überg.eckig-rund LORU 350.250....","",30,511.75,{"$f":"G1677*(1-VLOOKUP(F1677,Konditionen!$B:$G,6,0))","v":511.75}]
["LindabSafe Formteile","LORU","LORU350300","Überg.eckig-rund LORU 350.300....","",30,516.9,{"$f":"G1678*(1-VLOOKUP(F1678,Konditionen!$B:$G,6,0))","v":516.9}]
["LindabSafe Formteile","LORU","LORU350350","Überg.eckig-rund LORU 350.350....","",30,526,{"$f":"G1679*(1-VLOOKUP(F1679,Konditionen!$B:$G,6,0))","v":526}]
["LindabSafe Formteile","LORU","LORU400100","Überg.eckig-rund LORU 400.100....","",30,511.75,{"$f":"G1680*(1-VLOOKUP(F1680,Konditionen!$B:$G,6,0))","v":511.75}]
["LindabSafe Formteile","LORU","LORU400150","Überg.eckig-rund LORU 400.150....","",30,525,{"$f":"G1681*(1-VLOOKUP(F1681,Konditionen!$B:$G,6,0))","v":525}]
["LindabSafe Formteile","LORU","LORU400200","Überg.eckig-rund LORU 400.200....","",30,538.9,{"$f":"G1682*(1-VLOOKUP(F1682,Konditionen!$B:$G,6,0))","v":538.9}]
["LindabSafe Formteile","LORU","LORU400250","Überg.eckig-rund LORU 400.250....","",30,548,{"$f":"G1683*(1-VLOOKUP(F1683,Konditionen!$B:$G,6,0))","v":548}]
["LindabSafe Formteile","LORU","LORU400300","Überg.eckig-rund LORU 400.300....","",30,554.29999999999995,{"$f":"G1684*(1-VLOOKUP(F1684,Konditionen!$B:$G,6,0))","v":554.29999999999995}]
["LindabSafe Formteile","LORU","LORU400350","Überg.eckig-rund LORU 400.350....","",30,568.79999999999995,{"$f":"G1685*(1-VLOOKUP(F1685,Konditionen!$B:$G,6,0))","v":568.79999999999995}]
["LindabSafe Formteile","LORU","LORU400400","Überg.eckig-rund LORU 400.400....","",30,575.29999999999995,{"$f":"G1686*(1-VLOOKUP(F1686,Konditionen!$B:$G,6,0))","v":575.29999999999995}]
["LindabSafe Formteile","LORU","LORU450100","Überg.eckig-rund LORU 450.100....","",30,528.15,{"$f":"G1687*(1-VLOOKUP(F1687,Konditionen!$B:$G,6,0))","v":528.15}]
["LindabSafe Formteile","LORU","LORU450150","Überg.eckig-rund LORU 450.150....","",30,548,{"$f":"G1688*(1-VLOOKUP(F1688,Konditionen!$B:$G,6,0))","v":548}]
["LindabSafe Formteile","LORU","LORU450200","Überg.eckig-rund LORU 450.200....","",30,564.65,{"$f":"G1689*(1-VLOOKUP(F1689,Konditionen!$B:$G,6,0))","v":564.65}]
["LindabSafe Formteile","LORU","LORU450250","Überg.eckig-rund LORU 450.250....","",30,574.20000000000005,{"$f":"G1690*(1-VLOOKUP(F1690,Konditionen!$B:$G,6,0))","v":574.20000000000005}]
["LindabSafe Formteile","LORU","LORU450300","Überg.eckig-rund LORU 450.300....","",30,582.4,{"$f":"G1691*(1-VLOOKUP(F1691,Konditionen!$B:$G,6,0))","v":582.4}]
["LindabSafe Formteile","LORU","LORU450350","Überg.eckig-rund LORU 450.350....","",30,592.65,{"$f":"G1692*(1-VLOOKUP(F1692,Konditionen!$B:$G,6,0))","v":592.65}]
["LindabSafe Formteile","LORU","LORU450400","Überg.eckig-rund LORU 450.400....","",30,601.29999999999995,{"$f":"G1693*(1-VLOOKUP(F1693,Konditionen!$B:$G,6,0))","v":601.29999999999995}]
["LindabSafe Formteile","LORU","LORU450450","Überg.eckig-rund LORU 450.450....","",30,610.79999999999995,{"$f":"G1694*(1-VLOOKUP(F1694,Konditionen!$B:$G,6,0))","v":610.79999999999995}]
["LindabSafe Formteile","LORU","LORU500100","Überg.eckig-rund LORU 500.100....","",30,543.95000000000005,{"$f":"G1695*(1-VLOOKUP(F1695,Konditionen!$B:$G,6,0))","v":543.95000000000005}]
["LindabSafe Formteile","LORU","LORU500150","Überg.eckig-rund LORU 500.150....","",30,568.79999999999995,{"$f":"G1696*(1-VLOOKUP(F1696,Konditionen!$B:$G,6,0))","v":568.79999999999995}]
["LindabSafe Formteile","LORU","LORU500200","Überg.eckig-rund LORU 500.200....","",30,589.85,{"$f":"G1697*(1-VLOOKUP(F1697,Konditionen!$B:$G,6,0))","v":589.85}]
["LindabSafe Formteile","LORU","LORU500250","Überg.eckig-rund LORU 500.250....","",30,599.25,{"$f":"G1698*(1-VLOOKUP(F1698,Konditionen!$B:$G,6,0))","v":599.25}]
["LindabSafe Formteile","LORU","LORU500300","Überg.eckig-rund LORU 500.300....","",30,606.65,{"$f":"G1699*(1-VLOOKUP(F1699,Konditionen!$B:$G,6,0))","v":606.65}]
["LindabSafe Formteile","LORU","LORU500350","Überg.eckig-rund LORU 500.350....","",30,619.25,{"$f":"G1700*(1-VLOOKUP(F1700,Konditionen!$B:$G,6,0))","v":619.25}]
["LindabSafe Formteile","LORU","LORU500400","Überg.eckig-rund LORU 500.400....","",30,627.20000000000005,{"$f":"G1701*(1-VLOOKUP(F1701,Konditionen!$B:$G,6,0))","v":627.20000000000005}]
["LindabSafe Formteile","LORU","LORU500450","Überg.eckig-rund LORU 500.450....","",30,635.70000000000005,{"$f":"G1702*(1-VLOOKUP(F1702,Konditionen!$B:$G,6,0))","v":635.70000000000005}]
["LindabSafe Formteile","LORU","LORU500500","Überg.eckig-rund LORU 500.500....","",30,645.29999999999995,{"$f":"G1703*(1-VLOOKUP(F1703,Konditionen!$B:$G,6,0))","v":645.29999999999995}]
["LindabSafe Formteile","LORU","LORU600100","Überg.eckig-rund LORU 600.100....","",30,564.65,{"$f":"G1704*(1-VLOOKUP(F1704,Konditionen!$B:$G,6,0))","v":564.65}]
["LindabSafe Formteile","LORU","LORU600150","Überg.eckig-rund LORU 600.150....","",30,594.95000000000005,{"$f":"G1705*(1-VLOOKUP(F1705,Konditionen!$B:$G,6,0))","v":594.95000000000005}]
["LindabSafe Formteile","LORU","LORU600200","Überg.eckig-rund LORU 600.200....","",30,605.29999999999995,{"$f":"G1706*(1-VLOOKUP(F1706,Konditionen!$B:$G,6,0))","v":605.29999999999995}]
["LindabSafe Formteile","LORU","LORU600250","Überg.eckig-rund LORU 600.250....","",30,619.25,{"$f":"G1707*(1-VLOOKUP(F1707,Konditionen!$B:$G,6,0))","v":619.25}]
["LindabSafe Formteile","LORU","LORU600300","Überg.eckig-rund LORU 600.300....","",30,632.45000000000005,{"$f":"G1708*(1-VLOOKUP(F1708,Konditionen!$B:$G,6,0))","v":632.45000000000005}]
["LindabSafe Formteile","LORU","LORU600350","Überg.eckig-rund LORU 600.350....","",30,648.54999999999995,{"$f":"G1709*(1-VLOOKUP(F1709,Konditionen!$B:$G,6,0))","v":648.54999999999995}]
["LindabSafe Formteile","LORU","LORU600400","Überg.eckig-rund LORU 600.400....","",30,659.6,{"$f":"G1710*(1-VLOOKUP(F1710,Konditionen!$B:$G,6,0))","v":659.6}]
["LindabSafe Formteile","LORU","LORU600450","Überg.eckig-rund LORU 600.450....","",30,676.35,{"$f":"G1711*(1-VLOOKUP(F1711,Konditionen!$B:$G,6,0))","v":676.35}]
["LindabSafe Formteile","LORU","LORU600500","Überg.eckig-rund LORU 600.500....","",30,688.9,{"$f":"G1712*(1-VLOOKUP(F1712,Konditionen!$B:$G,6,0))","v":688.9}]
["LindabSafe Formteile","LORU","LORU600600","Überg.eckig-rund LORU 600.600....","",30,717.9,{"$f":"G1713*(1-VLOOKUP(F1713,Konditionen!$B:$G,6,0))","v":717.9}]
["LindabSafe Formteile","LORU","LORU700100","Überg.eckig-rund LORU 700.100....","",30,619.25,{"$f":"G1714*(1-VLOOKUP(F1714,Konditionen!$B:$G,6,0))","v":619.25}]
["LindabSafe Formteile","LORU","LORU700150","Überg.eckig-rund LORU 700.150....","",30,654.35,{"$f":"G1715*(1-VLOOKUP(F1715,Konditionen!$B:$G,6,0))","v":654.35}]
["LindabSafe Formteile","LORU","LORU700200","Überg.eckig-rund LORU 700.200....","",30,691.15,{"$f":"G1716*(1-VLOOKUP(F1716,Konditionen!$B:$G,6,0))","v":691.15}]
["LindabSafe Formteile","LORU","LORU700250","Überg.eckig-rund LORU 700.250....","",30,705.65,{"$f":"G1717*(1-VLOOKUP(F1717,Konditionen!$B:$G,6,0))","v":705.65}]
["LindabSafe Formteile","LORU","LORU700300","Überg.eckig-rund LORU 700.300....","",30,717.9,{"$f":"G1718*(1-VLOOKUP(F1718,Konditionen!$B:$G,6,0))","v":717.9}]
["LindabSafe Formteile","LORU","LORU700350","Überg.eckig-rund LORU 700.350....","",30,732,{"$f":"G1719*(1-VLOOKUP(F1719,Konditionen!$B:$G,6,0))","v":732}]
["LindabSafe Formteile","LORU","LORU700400","Überg.eckig-rund LORU 700.400....","",30,746.45,{"$f":"G1720*(1-VLOOKUP(F1720,Konditionen!$B:$G,6,0))","v":746.45}]
["LindabSafe Formteile","LORU","LORU700450","Überg.eckig-rund LORU 700.450....","",30,763.2,{"$f":"G1721*(1-VLOOKUP(F1721,Konditionen!$B:$G,6,0))","v":763.2}]
["LindabSafe Formteile","LORU","LORU700500","Überg.eckig-rund LORU 700.500....","",30,773.3,{"$f":"G1722*(1-VLOOKUP(F1722,Konditionen!$B:$G,6,0))","v":773.3}]
["LindabSafe Formteile","LORU","LORU700600","Überg.eckig-rund LORU 700.600....","",30,802.7,{"$f":"G1723*(1-VLOOKUP(F1723,Konditionen!$B:$G,6,0))","v":802.7}]
["LindabSafe Formteile","LORU","LORU700700","Überg.eckig-rund LORU 700.700....","",30,832.1,{"$f":"G1724*(1-VLOOKUP(F1724,Konditionen!$B:$G,6,0))","v":832.1}]
["LindabSafe Formteile","LORU","LORU800150","Überg.eckig-rund LORU 800.150....","",30,792.5,{"$f":"G1725*(1-VLOOKUP(F1725,Konditionen!$B:$G,6,0))","v":792.5}]
["LindabSafe Formteile","LORU","LORU800200","Überg.eckig-rund LORU 800.200....","",30,807.8,{"$f":"G1726*(1-VLOOKUP(F1726,Konditionen!$B:$G,6,0))","v":807.8}]
["LindabSafe Formteile","LORU","LORU800250","Überg.eckig-rund LORU 800.250....","",30,825.6,{"$f":"G1727*(1-VLOOKUP(F1727,Konditionen!$B:$G,6,0))","v":825.6}]
["LindabSafe Formteile","LORU","LORU800300","Überg.eckig-rund LORU 800.300....","",30,838.05,{"$f":"G1728*(1-VLOOKUP(F1728,Konditionen!$B:$G,6,0))","v":838.05}]
["LindabSafe Formteile","LORU","LORU800350","Überg.eckig-rund LORU 800.350....","",30,854.9,{"$f":"G1729*(1-VLOOKUP(F1729,Konditionen!$B:$G,6,0))","v":854.9}]
["LindabSafe Formteile","LORU","LORU800400","Überg.eckig-rund LORU 800.400....","",30,870.65,{"$f":"G1730*(1-VLOOKUP(F1730,Konditionen!$B:$G,6,0))","v":870.65}]
["LindabSafe Formteile","LORU","LORU800450","Überg.eckig-rund LORU 800.450....","",30,884,{"$f":"G1731*(1-VLOOKUP(F1731,Konditionen!$B:$G,6,0))","v":884}]
["LindabSafe Formteile","LORU","LORU800500","Überg.eckig-rund LORU 800.500....","",30,900.65,{"$f":"G1732*(1-VLOOKUP(F1732,Konditionen!$B:$G,6,0))","v":900.65}]
["LindabSafe Formteile","LORU","LORU800600","Überg.eckig-rund LORU 800.600....","",30,923.7,{"$f":"G1733*(1-VLOOKUP(F1733,Konditionen!$B:$G,6,0))","v":923.7}]
["LindabSafe Formteile","LORU","LORU800700","Überg.eckig-rund LORU 800.700....","",30,958.35,{"$f":"G1734*(1-VLOOKUP(F1734,Konditionen!$B:$G,6,0))","v":958.35}]
["LindabSafe Formteile","LORU","LORU800800","Überg.eckig-rund LORU 800.800....","",30,986.2,{"$f":"G1735*(1-VLOOKUP(F1735,Konditionen!$B:$G,6,0))","v":986.2}]
["LindabSafe Formteile","LORU","LORU900200","Überg.eckig-rund LORU 900.200....","",30,990.6,{"$f":"G1736*(1-VLOOKUP(F1736,Konditionen!$B:$G,6,0))","v":990.6}]
["LindabSafe Formteile","LORU","LORU900250","Überg.eckig-rund LORU 900.250....","",30,1009,{"$f":"G1737*(1-VLOOKUP(F1737,Konditionen!$B:$G,6,0))","v":1009}]
["LindabSafe Formteile","LORU","LORU900300","Überg.eckig-rund LORU 900.300....","",30,1026,{"$f":"G1738*(1-VLOOKUP(F1738,Konditionen!$B:$G,6,0))","v":1026}]
["LindabSafe Formteile","LORU","LORU900350","Überg.eckig-rund LORU 900.350....","",30,1043,{"$f":"G1739*(1-VLOOKUP(F1739,Konditionen!$B:$G,6,0))","v":1043}]
["LindabSafe Formteile","LORU","LORU900400","Überg.eckig-rund LORU 900.400....","",30,1059,{"$f":"G1740*(1-VLOOKUP(F1740,Konditionen!$B:$G,6,0))","v":1059}]
["LindabSafe Formteile","LORU","LORU900450","Überg.eckig-rund LORU 900.450....","",30,1073,{"$f":"G1741*(1-VLOOKUP(F1741,Konditionen!$B:$G,6,0))","v":1073}]
["LindabSafe Formteile","LORU","LORU900500","Überg.eckig-rund LORU 900.500....","",30,1090,{"$f":"G1742*(1-VLOOKUP(F1742,Konditionen!$B:$G,6,0))","v":1090}]
["LindabSafe Formteile","LORU","LORU900600","Überg.eckig-rund LORU 900.600....","",30,1124,{"$f":"G1743*(1-VLOOKUP(F1743,Konditionen!$B:$G,6,0))","v":1124}]
["LindabSafe Formteile","LORU","LORU900700","Überg.eckig-rund LORU 900.700....","",30,1157,{"$f":"G1744*(1-VLOOKUP(F1744,Konditionen!$B:$G,6,0))","v":1157}]
["LindabSafe Formteile","LORU","LORU900800","Überg.eckig-rund LORU 900.800....","",30,1191,{"$f":"G1745*(1-VLOOKUP(F1745,Konditionen!$B:$G,6,0))","v":1191}]
["LindabSafe Formteile","LORU","LORU900900","Überg.eckig-rund LORU 900.900....","",30,1219,{"$f":"G1746*(1-VLOOKUP(F1746,Konditionen!$B:$G,6,0))","v":1219}]
["LindabSafe Formteile","MF","MF1000","Muffe            MF            1000","",30,108.4,{"$f":"G1747*(1-VLOOKUP(F1747,Konditionen!$B:$G,6,0))","v":108.4}]
["LindabSafe Formteile","MF","MF1120","Muffe            MF            1120","",30,131.44999999999999,{"$f":"G1748*(1-VLOOKUP(F1748,Konditionen!$B:$G,6,0))","v":131.44999999999999}]
["LindabSafe Formteile","MF","MF1250","Muffe            MF            1250","",30,155.65,{"$f":"G1749*(1-VLOOKUP(F1749,Konditionen!$B:$G,6,0))","v":155.65}]
["LindabSafe Formteile","MF","MF630","Muffe            MF            630","",30,47.5,{"$f":"G1750*(1-VLOOKUP(F1750,Konditionen!$B:$G,6,0))","v":47.5}]
["LindabSafe Formteile","MF","MF710","Muffe            MF            710","",30,56.85,{"$f":"G1751*(1-VLOOKUP(F1751,Konditionen!$B:$G,6,0))","v":56.85}]
["LindabSafe Formteile","MF","MF800","Muffe            MF            800","",30,80.150000000000006,{"$f":"G1752*(1-VLOOKUP(F1752,Konditionen!$B:$G,6,0))","v":80.150000000000006}]
["LindabSafe Formteile","MF","MF900","Muffe            MF            900","",30,98.05,{"$f":"G1753*(1-VLOOKUP(F1753,Konditionen!$B:$G,6,0))","v":98.05}]
["LindabSafe Formteile","NPU","NPU1000","Nippel           NPU           1000","",30,261.60000000000002,{"$f":"G1754*(1-VLOOKUP(F1754,Konditionen!$B:$G,6,0))","v":261.60000000000002}]
["LindabSafe Formteile","NPU","NPU1120","Nippel           NPU           1120","",30,300.3,{"$f":"G1755*(1-VLOOKUP(F1755,Konditionen!$B:$G,6,0))","v":300.3}]
["LindabSafe Formteile","NPU","NPU1250","Nippel           NPU           1250","",30,337.8,{"$f":"G1756*(1-VLOOKUP(F1756,Konditionen!$B:$G,6,0))","v":337.8}]
["LindabSafe Formteile","NPU","NPU710","Nippel           NPU           710","",30,127.35,{"$f":"G1757*(1-VLOOKUP(F1757,Konditionen!$B:$G,6,0))","v":127.35}]
["LindabSafe Formteile","NPU","NPU800","Nippel           NPU           800","",30,159.75,{"$f":"G1758*(1-VLOOKUP(F1758,Konditionen!$B:$G,6,0))","v":159.75}]
["LindabSafe Formteile","NPU","NPU900","Nippel           NPU           900","",30,187,{"$f":"G1759*(1-VLOOKUP(F1759,Konditionen!$B:$G,6,0))","v":187}]
["LindabSafe Formteile","PSVU","PSVU4510001000","Sattelstück      PSVU 45  1000.1000","",30,844.65,{"$f":"G1760*(1-VLOOKUP(F1760,Konditionen!$B:$G,6,0))","v":844.65}]
["LindabSafe Formteile","PSVU","PSVU45100100","Sattelstück      PSVU 45  100.100","",30,72.650000000000006,{"$f":"G1761*(1-VLOOKUP(F1761,Konditionen!$B:$G,6,0))","v":72.650000000000006}]
["LindabSafe Formteile","PSVU","PSVU4511201120","Sattelstück      PSVU 45  1120.1120","",30,1131,{"$f":"G1762*(1-VLOOKUP(F1762,Konditionen!$B:$G,6,0))","v":1131}]
["LindabSafe Formteile","PSVU","PSVU45112112","Sattelstück      PSVU 45   112.112","",30,85.25,{"$f":"G1763*(1-VLOOKUP(F1763,Konditionen!$B:$G,6,0))","v":85.25}]
["LindabSafe Formteile","PSVU","PSVU4512501250","Sattelstück      PSVU 45  1250.1250","",30,1477,{"$f":"G1764*(1-VLOOKUP(F1764,Konditionen!$B:$G,6,0))","v":1477}]
["LindabSafe Formteile","PSVU","PSVU45125125","Sattelstück      PSVU 45   125.125","",30,85.25,{"$f":"G1765*(1-VLOOKUP(F1765,Konditionen!$B:$G,6,0))","v":85.25}]
["LindabSafe Formteile","PSVU","PSVU45140140","Sattelstück      PSVU 45   140.140","",30,86.8,{"$f":"G1766*(1-VLOOKUP(F1766,Konditionen!$B:$G,6,0))","v":86.8}]
["LindabSafe Formteile","PSVU","PSVU45150150","Sattelstück      PSVU 45   150.150","",30,86.8,{"$f":"G1767*(1-VLOOKUP(F1767,Konditionen!$B:$G,6,0))","v":86.8}]
["LindabSafe Formteile","PSVU","PSVU45160160","Sattelstück      PSVU 45   160.160","",30,86.8,{"$f":"G1768*(1-VLOOKUP(F1768,Konditionen!$B:$G,6,0))","v":86.8}]
["LindabSafe Formteile","PSVU","PSVU45180180","Sattelstück      PSVU 45   180.180","",30,95.8,{"$f":"G1769*(1-VLOOKUP(F1769,Konditionen!$B:$G,6,0))","v":95.8}]
["LindabSafe Formteile","PSVU","PSVU45200200","Sattelstück      PSVU 45   200.200","",30,95.8,{"$f":"G1770*(1-VLOOKUP(F1770,Konditionen!$B:$G,6,0))","v":95.8}]
["LindabSafe Formteile","PSVU","PSVU45224224","Sattelstück      PSVU 45   224.224","",30,123.95,{"$f":"G1771*(1-VLOOKUP(F1771,Konditionen!$B:$G,6,0))","v":123.95}]
["LindabSafe Formteile","PSVU","PSVU45250250","Sattelstück      PSVU 45   250.250","",30,123.95,{"$f":"G1772*(1-VLOOKUP(F1772,Konditionen!$B:$G,6,0))","v":123.95}]
["LindabSafe Formteile","PSVU","PSVU45280280","Sattelstück      PSVU 45   280.280","",30,150.94999999999999,{"$f":"G1773*(1-VLOOKUP(F1773,Konditionen!$B:$G,6,0))","v":150.94999999999999}]
["LindabSafe Formteile","PSVU","PSVU45300300","Sattelstück      PSVU 45   300.300","",30,150.94999999999999,{"$f":"G1774*(1-VLOOKUP(F1774,Konditionen!$B:$G,6,0))","v":150.94999999999999}]
["LindabSafe Formteile","PSVU","PSVU45315315","Sattelstück      PSVU 45   315.315","",30,157.35,{"$f":"G1775*(1-VLOOKUP(F1775,Konditionen!$B:$G,6,0))","v":157.35}]
["LindabSafe Formteile","PSVU","PSVU45355355","Sattelstück      PSVU 45   355.355","",30,164.85,{"$f":"G1776*(1-VLOOKUP(F1776,Konditionen!$B:$G,6,0))","v":164.85}]
["LindabSafe Formteile","PSVU","PSVU45400400","Sattelstück      PSVU 45   400.400","",30,179.6,{"$f":"G1777*(1-VLOOKUP(F1777,Konditionen!$B:$G,6,0))","v":179.6}]
["LindabSafe Formteile","PSVU","PSVU45450450","Sattelstück      PSVU 45   450.450","",30,207.8,{"$f":"G1778*(1-VLOOKUP(F1778,Konditionen!$B:$G,6,0))","v":207.8}]
["LindabSafe Formteile","PSVU","PSVU45500500","Sattelstück      PSVU 45   500.500","",30,248.7,{"$f":"G1779*(1-VLOOKUP(F1779,Konditionen!$B:$G,6,0))","v":248.7}]
["LindabSafe Formteile","PSVU","PSVU45560560","Sattelstück      PSVU 45   560.560","",30,279.85000000000002,{"$f":"G1780*(1-VLOOKUP(F1780,Konditionen!$B:$G,6,0))","v":279.85000000000002}]
["LindabSafe Formteile","PSVU","PSVU45600600","Sattelstück      PSVU 45   600.600","",30,299.45,{"$f":"G1781*(1-VLOOKUP(F1781,Konditionen!$B:$G,6,0))","v":299.45}]
["LindabSafe Formteile","PSVU","PSVU45630630","Sattelstück      PSVU 45   630.630","",30,323.95,{"$f":"G1782*(1-VLOOKUP(F1782,Konditionen!$B:$G,6,0))","v":323.95}]
["LindabSafe Formteile","PSVU","PSVU456363","Sattelstück      PSVU 45    63.63","",30,72.650000000000006,{"$f":"G1783*(1-VLOOKUP(F1783,Konditionen!$B:$G,6,0))","v":72.650000000000006}]
["LindabSafe Formteile","PSVU","PSVU45710710","Sattelstück      PSVU 45   710.710","",30,382.9,{"$f":"G1784*(1-VLOOKUP(F1784,Konditionen!$B:$G,6,0))","v":382.9}]
["LindabSafe Formteile","PSVU","PSVU45800800","Sattelstück      PSVU 45   800.800","",30,490.9,{"$f":"G1785*(1-VLOOKUP(F1785,Konditionen!$B:$G,6,0))","v":490.9}]
["LindabSafe Formteile","PSVU","PSVU458080","Sattelstück      PSVU 45    80.80","",30,72.650000000000006,{"$f":"G1786*(1-VLOOKUP(F1786,Konditionen!$B:$G,6,0))","v":72.650000000000006}]
["LindabSafe Formteile","PSVU","PSVU45900900","Sattelstück      PSVU 45   900.900","",30,593.70000000000005,{"$f":"G1787*(1-VLOOKUP(F1787,Konditionen!$B:$G,6,0))","v":593.70000000000005}]
["LindabSafe Formteile","RCLFU","RCLFU1000400","Reduzierung      RCFLU    1000.400","",30,849.25,{"$f":"G1788*(1-VLOOKUP(F1788,Konditionen!$B:$G,6,0))","v":849.25}]
["LindabSafe Formteile","RCLFU","RCLFU1000450","Reduzierung      RCFLU    1000.450","",30,830.3,{"$f":"G1789*(1-VLOOKUP(F1789,Konditionen!$B:$G,6,0))","v":830.3}]
["LindabSafe Formteile","RCLFU","RCLFU1000500","Reduzierung      RCFLU    1000.500","",30,808.45,{"$f":"G1790*(1-VLOOKUP(F1790,Konditionen!$B:$G,6,0))","v":808.45}]
["LindabSafe Formteile","RCLFU","RCLFU1000560","Reduzierung      RCFLU    1000.560","",30,795.9,{"$f":"G1791*(1-VLOOKUP(F1791,Konditionen!$B:$G,6,0))","v":795.9}]
["LindabSafe Formteile","RCLFU","RCLFU1000600","Reduzierung      RCFLU    1000.600","",30,784.95,{"$f":"G1792*(1-VLOOKUP(F1792,Konditionen!$B:$G,6,0))","v":784.95}]
["LindabSafe Formteile","RCLFU","RCLFU1000630","Reduzierung      RCFLU    1000.630","",30,775.45,{"$f":"G1793*(1-VLOOKUP(F1793,Konditionen!$B:$G,6,0))","v":775.45}]
["LindabSafe Formteile","RCLFU","RCLFU1000710","Reduzierung      RCFLU    1000.710","",30,759,{"$f":"G1794*(1-VLOOKUP(F1794,Konditionen!$B:$G,6,0))","v":759}]
["LindabSafe Formteile","RCLFU","RCLFU1000800","Reduzierung      RCFLU    1000.800","",30,750.7,{"$f":"G1795*(1-VLOOKUP(F1795,Konditionen!$B:$G,6,0))","v":750.7}]
["LindabSafe Formteile","RCLFU","RCLFU1000900","Reduzierung      RCFLU    1000.900","",30,718.9,{"$f":"G1796*(1-VLOOKUP(F1796,Konditionen!$B:$G,6,0))","v":718.9}]
["LindabSafe Formteile","RCLFU","RCLFU11201000","Reduzierung      RCFLU    1120.1000","",30,912.4,{"$f":"G1797*(1-VLOOKUP(F1797,Konditionen!$B:$G,6,0))","v":912.4}]
["LindabSafe Formteile","RCLFU","RCLFU1120450","Reduzierung      RCFLU    1120.450","",30,1104,{"$f":"G1798*(1-VLOOKUP(F1798,Konditionen!$B:$G,6,0))","v":1104}]
["LindabSafe Formteile","RCLFU","RCLFU1120500","Reduzierung      RCFLU    1120.500","",30,1061,{"$f":"G1799*(1-VLOOKUP(F1799,Konditionen!$B:$G,6,0))","v":1061}]
["LindabSafe Formteile","RCLFU","RCLFU1120560","Reduzierung      RCFLU    1120.560","",30,1048,{"$f":"G1800*(1-VLOOKUP(F1800,Konditionen!$B:$G,6,0))","v":1048}]
["LindabSafe Formteile","RCLFU","RCLFU1120600","Reduzierung      RCFLU    1120.600","",30,1034,{"$f":"G1801*(1-VLOOKUP(F1801,Konditionen!$B:$G,6,0))","v":1034}]
["LindabSafe Formteile","RCLFU","RCLFU1120630","Reduzierung      RCFLU    1120.630","",30,1018,{"$f":"G1802*(1-VLOOKUP(F1802,Konditionen!$B:$G,6,0))","v":1018}]
["LindabSafe Formteile","RCLFU","RCLFU1120710","Reduzierung      RCFLU    1120.710","",30,985.9,{"$f":"G1803*(1-VLOOKUP(F1803,Konditionen!$B:$G,6,0))","v":985.9}]
["LindabSafe Formteile","RCLFU","RCLFU1120800","Reduzierung      RCFLU    1120.800","",30,943.3,{"$f":"G1804*(1-VLOOKUP(F1804,Konditionen!$B:$G,6,0))","v":943.3}]
["LindabSafe Formteile","RCLFU","RCLFU1120900","Reduzierung      RCFLU    1120.900","",30,932.55,{"$f":"G1805*(1-VLOOKUP(F1805,Konditionen!$B:$G,6,0))","v":932.55}]
["LindabSafe Formteile","RCLFU","RCLFU112100","Reduzierung      RCFLU     112.100","",30,62.65,{"$f":"G1806*(1-VLOOKUP(F1806,Konditionen!$B:$G,6,0))","v":62.65}]
["LindabSafe Formteile","RCLFU","RCLFU11263","Reduzierung      RCFLU     112.63","",30,62.65,{"$f":"G1807*(1-VLOOKUP(F1807,Konditionen!$B:$G,6,0))","v":62.65}]
["LindabSafe Formteile","RCLFU","RCLFU11280","Reduzierung      RCFLU     112.80","",30,62.65,{"$f":"G1808*(1-VLOOKUP(F1808,Konditionen!$B:$G,6,0))","v":62.65}]
["LindabSafe Formteile","RCLFU","RCLFU12501000","Reduzierung      RCFLU   1250.1000","",30,1196,{"$f":"G1809*(1-VLOOKUP(F1809,Konditionen!$B:$G,6,0))","v":1196}]
["LindabSafe Formteile","RCLFU","RCLFU12501120","Reduzierung      RCFLU   1250.1120","",30,1148,{"$f":"G1810*(1-VLOOKUP(F1810,Konditionen!$B:$G,6,0))","v":1148}]
["LindabSafe Formteile","RCLFU","RCLFU1250500","Reduzierung      RCFLU    1250.500","",30,1400,{"$f":"G1811*(1-VLOOKUP(F1811,Konditionen!$B:$G,6,0))","v":1400}]
["LindabSafe Formteile","RCLFU","RCLFU1250560","Reduzierung      RCFLU    1250.560","",30,1372,{"$f":"G1812*(1-VLOOKUP(F1812,Konditionen!$B:$G,6,0))","v":1372}]
["LindabSafe Formteile","RCLFU","RCLFU1250600","Reduzierung      RCFLU    1250.600","",30,1350,{"$f":"G1813*(1-VLOOKUP(F1813,Konditionen!$B:$G,6,0))","v":1350}]
["LindabSafe Formteile","RCLFU","RCLFU1250630","Reduzierung      RCFLU    1250.630","",30,1332,{"$f":"G1814*(1-VLOOKUP(F1814,Konditionen!$B:$G,6,0))","v":1332}]
["LindabSafe Formteile","RCLFU","RCLFU1250710","Reduzierung      RCFLU    1250.710","",30,1288,{"$f":"G1815*(1-VLOOKUP(F1815,Konditionen!$B:$G,6,0))","v":1288}]
["LindabSafe Formteile","RCLFU","RCLFU1250800","Reduzierung      RCFLU    1250.800","",30,1259,{"$f":"G1816*(1-VLOOKUP(F1816,Konditionen!$B:$G,6,0))","v":1259}]
["LindabSafe Formteile","RCLFU","RCLFU1250900","Reduzierung      RCFLU    1250.900","",30,1207,{"$f":"G1817*(1-VLOOKUP(F1817,Konditionen!$B:$G,6,0))","v":1207}]
["LindabSafe Formteile","RCLFU","RCLFU125112","Reduzierung      RCFLU     125.112","",30,62.65,{"$f":"G1818*(1-VLOOKUP(F1818,Konditionen!$B:$G,6,0))","v":62.65}]
["LindabSafe Formteile","RCLFU","RCLFU12563","Reduzierung      RCFLU     125.63","",30,62.65,{"$f":"G1819*(1-VLOOKUP(F1819,Konditionen!$B:$G,6,0))","v":62.65}]
["LindabSafe Formteile","RCLFU","RCLFU140100","Reduzierung      RCFLU     140.100","",30,67.95,{"$f":"G1820*(1-VLOOKUP(F1820,Konditionen!$B:$G,6,0))","v":67.95}]
["LindabSafe Formteile","RCLFU","RCLFU140112","Reduzierung      RCFLU     140.112","",30,67.95,{"$f":"G1821*(1-VLOOKUP(F1821,Konditionen!$B:$G,6,0))","v":67.95}]
["LindabSafe Formteile","RCLFU","RCLFU140125","Reduzierung      RCFLU     140.125","",30,67.95,{"$f":"G1822*(1-VLOOKUP(F1822,Konditionen!$B:$G,6,0))","v":67.95}]
["LindabSafe Formteile","RCLFU","RCLFU14063","Reduzierung      RCFLU     140.63","",30,67.95,{"$f":"G1823*(1-VLOOKUP(F1823,Konditionen!$B:$G,6,0))","v":67.95}]
["LindabSafe Formteile","RCLFU","RCLFU14080","Reduzierung      RCFLU     140.80","",30,67.95,{"$f":"G1824*(1-VLOOKUP(F1824,Konditionen!$B:$G,6,0))","v":67.95}]
["LindabSafe Formteile","RCLFU","RCLFU150112","Reduzierung      RCFLU     150.112","",30,67.95,{"$f":"G1825*(1-VLOOKUP(F1825,Konditionen!$B:$G,6,0))","v":67.95}]
["LindabSafe Formteile","RCLFU","RCLFU150140","Reduzierung      RCFLU     150.140","",30,69.3,{"$f":"G1826*(1-VLOOKUP(F1826,Konditionen!$B:$G,6,0))","v":69.3}]
["LindabSafe Formteile","RCLFU","RCLFU15063","Reduzierung      RCFLU     150.63","",30,67.95,{"$f":"G1827*(1-VLOOKUP(F1827,Konditionen!$B:$G,6,0))","v":67.95}]
["LindabSafe Formteile","RCLFU","RCLFU15080","Reduzierung      RCFLU     150.80","",30,67.95,{"$f":"G1828*(1-VLOOKUP(F1828,Konditionen!$B:$G,6,0))","v":67.95}]
["LindabSafe Formteile","RCLFU","RCLFU160112","Reduzierung      RCFLU     160.112","",30,67.95,{"$f":"G1829*(1-VLOOKUP(F1829,Konditionen!$B:$G,6,0))","v":67.95}]
["LindabSafe Formteile","RCLFU","RCLFU160140","Reduzierung      RCFLU     160.140","",30,69.3,{"$f":"G1830*(1-VLOOKUP(F1830,Konditionen!$B:$G,6,0))","v":69.3}]
["LindabSafe Formteile","RCLFU","RCLFU16063","Reduzierung      RCFLU     160.63","",30,67.95,{"$f":"G1831*(1-VLOOKUP(F1831,Konditionen!$B:$G,6,0))","v":67.95}]
["LindabSafe Formteile","RCLFU","RCLFU180112","Reduzierung      RCFLU     180.112","",30,80.150000000000006,{"$f":"G1832*(1-VLOOKUP(F1832,Konditionen!$B:$G,6,0))","v":80.150000000000006}]
["LindabSafe Formteile","RCLFU","RCLFU180140","Reduzierung      RCFLU     180.140","",30,81.150000000000006,{"$f":"G1833*(1-VLOOKUP(F1833,Konditionen!$B:$G,6,0))","v":81.150000000000006}]
["LindabSafe Formteile","RCLFU","RCLFU18063","Reduzierung      RCFLU     180.63","",30,80.150000000000006,{"$f":"G1834*(1-VLOOKUP(F1834,Konditionen!$B:$G,6,0))","v":80.150000000000006}]
["LindabSafe Formteile","RCLFU","RCLFU18080","Reduzierung      RCFLU     180.80","",30,80.150000000000006,{"$f":"G1835*(1-VLOOKUP(F1835,Konditionen!$B:$G,6,0))","v":80.150000000000006}]
["LindabSafe Formteile","RCLFU","RCLFU200112","Reduzierung      RCFLU     200.112","",30,80.150000000000006,{"$f":"G1836*(1-VLOOKUP(F1836,Konditionen!$B:$G,6,0))","v":80.150000000000006}]
["LindabSafe Formteile","RCLFU","RCLFU200140","Reduzierung      RCFLU     200.140","",30,81.150000000000006,{"$f":"G1837*(1-VLOOKUP(F1837,Konditionen!$B:$G,6,0))","v":81.150000000000006}]
["LindabSafe Formteile","RCLFU","RCLFU20080","Reduzierung      RCFLU     200. 80","",30,80.150000000000006,{"$f":"G1838*(1-VLOOKUP(F1838,Konditionen!$B:$G,6,0))","v":80.150000000000006}]
["LindabSafe Formteile","RCLFU","RCLFU224100","Reduzierung      RCFLU     224.100","",30,92.1,{"$f":"G1839*(1-VLOOKUP(F1839,Konditionen!$B:$G,6,0))","v":92.1}]
["LindabSafe Formteile","RCLFU","RCLFU224112","Reduzierung      RCFLU     224.112","",30,92.1,{"$f":"G1840*(1-VLOOKUP(F1840,Konditionen!$B:$G,6,0))","v":92.1}]
["LindabSafe Formteile","RCLFU","RCLFU224140","Reduzierung      RCFLU     224.140","",30,93.2,{"$f":"G1841*(1-VLOOKUP(F1841,Konditionen!$B:$G,6,0))","v":93.2}]
["LindabSafe Formteile","RCLFU","RCLFU22480","Reduzierung      RCFLU     224.80","",30,103.3,{"$f":"G1842*(1-VLOOKUP(F1842,Konditionen!$B:$G,6,0))","v":103.3}]
["LindabSafe Formteile","RCLFU","RCLFU250100","Reduzierung      RCFLU     250.100","",30,92.1,{"$f":"G1843*(1-VLOOKUP(F1843,Konditionen!$B:$G,6,0))","v":92.1}]
["LindabSafe Formteile","RCLFU","RCLFU250112","Reduzierung      RCFLU     250.112","",30,92.1,{"$f":"G1844*(1-VLOOKUP(F1844,Konditionen!$B:$G,6,0))","v":92.1}]
["LindabSafe Formteile","RCLFU","RCLFU250140","Reduzierung      RCFLU     250.140","",30,93.2,{"$f":"G1845*(1-VLOOKUP(F1845,Konditionen!$B:$G,6,0))","v":93.2}]
["LindabSafe Formteile","RCLFU","RCLFU25080","Reduzierung      RCFLU     250.80","",30,103.3,{"$f":"G1846*(1-VLOOKUP(F1846,Konditionen!$B:$G,6,0))","v":103.3}]
["LindabSafe Formteile","RCLFU","RCLFU280100","Reduzierung      RCFLU     280.100","",30,111.4,{"$f":"G1847*(1-VLOOKUP(F1847,Konditionen!$B:$G,6,0))","v":111.4}]
["LindabSafe Formteile","RCLFU","RCLFU280112","Reduzierung      RCFLU     280.112","",30,113,{"$f":"G1848*(1-VLOOKUP(F1848,Konditionen!$B:$G,6,0))","v":113}]
["LindabSafe Formteile","RCLFU","RCLFU280125","Reduzierung      RCFLU     280.125","",30,113,{"$f":"G1849*(1-VLOOKUP(F1849,Konditionen!$B:$G,6,0))","v":113}]
["LindabSafe Formteile","RCLFU","RCLFU280140","Reduzierung      RCFLU     280.140","",30,114.1,{"$f":"G1850*(1-VLOOKUP(F1850,Konditionen!$B:$G,6,0))","v":114.1}]
["LindabSafe Formteile","RCLFU","RCLFU280150","Reduzierung      RCFLU     280.150","",30,114.1,{"$f":"G1851*(1-VLOOKUP(F1851,Konditionen!$B:$G,6,0))","v":114.1}]
["LindabSafe Formteile","RCLFU","RCLFU280160","Reduzierung      RCFLU     280.160","",30,114.1,{"$f":"G1852*(1-VLOOKUP(F1852,Konditionen!$B:$G,6,0))","v":114.1}]
["LindabSafe Formteile","RCLFU","RCLFU280180","Reduzierung      RCFLU     280.180","",30,114.1,{"$f":"G1853*(1-VLOOKUP(F1853,Konditionen!$B:$G,6,0))","v":114.1}]
["LindabSafe Formteile","RCLFU","RCLFU280200","Reduzierung      RCFLU     280.200","",30,114.1,{"$f":"G1854*(1-VLOOKUP(F1854,Konditionen!$B:$G,6,0))","v":114.1}]
["LindabSafe Formteile","RCLFU","RCLFU280224","Reduzierung      RCFLU     280.224","",30,116.3,{"$f":"G1855*(1-VLOOKUP(F1855,Konditionen!$B:$G,6,0))","v":116.3}]
["LindabSafe Formteile","RCLFU","RCLFU280250","Reduzierung      RCFLU     280.250","",30,116.3,{"$f":"G1856*(1-VLOOKUP(F1856,Konditionen!$B:$G,6,0))","v":116.3}]
["LindabSafe Formteile","RCLFU","RCLFU300100","Reduzierung      RCFLU     300.100","",30,119.5,{"$f":"G1857*(1-VLOOKUP(F1857,Konditionen!$B:$G,6,0))","v":119.5}]
["LindabSafe Formteile","RCLFU","RCLFU300112","Reduzierung      RCFLU     300.112","",30,113,{"$f":"G1858*(1-VLOOKUP(F1858,Konditionen!$B:$G,6,0))","v":113}]
["LindabSafe Formteile","RCLFU","RCLFU300125","Reduzierung      RCFLU     300.125","",30,113,{"$f":"G1859*(1-VLOOKUP(F1859,Konditionen!$B:$G,6,0))","v":113}]
["LindabSafe Formteile","RCLFU","RCLFU300140","Reduzierung      RCFLU     300.140","",30,114.1,{"$f":"G1860*(1-VLOOKUP(F1860,Konditionen!$B:$G,6,0))","v":114.1}]
["LindabSafe Formteile","RCLFU","RCLFU300150","Reduzierung      RCFLU     300.150","",30,114.1,{"$f":"G1861*(1-VLOOKUP(F1861,Konditionen!$B:$G,6,0))","v":114.1}]
["LindabSafe Formteile","RCLFU","RCLFU300160","Reduzierung      RCFLU     300.160","",30,114.1,{"$f":"G1862*(1-VLOOKUP(F1862,Konditionen!$B:$G,6,0))","v":114.1}]
["LindabSafe Formteile","RCLFU","RCLFU300180","Reduzierung      RCFLU     300.180","",30,114.1,{"$f":"G1863*(1-VLOOKUP(F1863,Konditionen!$B:$G,6,0))","v":114.1}]
["LindabSafe Formteile","RCLFU","RCLFU300224","Reduzierung      RCFLU     300.224","",30,116.3,{"$f":"G1864*(1-VLOOKUP(F1864,Konditionen!$B:$G,6,0))","v":116.3}]
["LindabSafe Formteile","RCLFU","RCLFU300280","Reduzierung      RCFLU     300.280","",30,116.95,{"$f":"G1865*(1-VLOOKUP(F1865,Konditionen!$B:$G,6,0))","v":116.95}]
["LindabSafe Formteile","RCLFU","RCLFU315100","Reduzierung      RCFLU     315.100","",30,122.75,{"$f":"G1866*(1-VLOOKUP(F1866,Konditionen!$B:$G,6,0))","v":122.75}]
["LindabSafe Formteile","RCLFU","RCLFU315112","Reduzierung      RCFLU     315.112","",30,122.75,{"$f":"G1867*(1-VLOOKUP(F1867,Konditionen!$B:$G,6,0))","v":122.75}]
["LindabSafe Formteile","RCLFU","RCLFU315125","Reduzierung      RCFLU     315.125","",30,122.75,{"$f":"G1868*(1-VLOOKUP(F1868,Konditionen!$B:$G,6,0))","v":122.75}]
["LindabSafe Formteile","RCLFU","RCLFU315140","Reduzierung      RCFLU     315.140","",30,123.15,{"$f":"G1869*(1-VLOOKUP(F1869,Konditionen!$B:$G,6,0))","v":123.15}]
["LindabSafe Formteile","RCLFU","RCLFU315150","Reduzierung      RCFLU     315.150","",30,123.15,{"$f":"G1870*(1-VLOOKUP(F1870,Konditionen!$B:$G,6,0))","v":123.15}]
["LindabSafe Formteile","RCLFU","RCLFU315180","Reduzierung      RCFLU     315.180","",30,123.15,{"$f":"G1871*(1-VLOOKUP(F1871,Konditionen!$B:$G,6,0))","v":123.15}]
["LindabSafe Formteile","RCLFU","RCLFU315224","Reduzierung      RCFLU     315.224","",30,125.5,{"$f":"G1872*(1-VLOOKUP(F1872,Konditionen!$B:$G,6,0))","v":125.5}]
["LindabSafe Formteile","RCLFU","RCLFU315280","Reduzierung      RCFLU     315.280","",30,125.75,{"$f":"G1873*(1-VLOOKUP(F1873,Konditionen!$B:$G,6,0))","v":125.75}]
["LindabSafe Formteile","RCLFU","RCLFU315300","Reduzierung      RCFLU     315.300","",30,125.75,{"$f":"G1874*(1-VLOOKUP(F1874,Konditionen!$B:$G,6,0))","v":125.75}]
["LindabSafe Formteile","RCLFU","RCLFU355150","Reduzierung      RCFLU     355.150","",30,136,{"$f":"G1875*(1-VLOOKUP(F1875,Konditionen!$B:$G,6,0))","v":136}]
["LindabSafe Formteile","RCLFU","RCLFU355160","Reduzierung      RCFLU     355.160","",30,136,{"$f":"G1876*(1-VLOOKUP(F1876,Konditionen!$B:$G,6,0))","v":136}]
["LindabSafe Formteile","RCLFU","RCLFU355180","Reduzierung      RCFLU     355.180","",30,138.6,{"$f":"G1877*(1-VLOOKUP(F1877,Konditionen!$B:$G,6,0))","v":138.6}]
["LindabSafe Formteile","RCLFU","RCLFU355200","Reduzierung      RCFLU     355.200","",30,138.6,{"$f":"G1878*(1-VLOOKUP(F1878,Konditionen!$B:$G,6,0))","v":138.6}]
["LindabSafe Formteile","RCLFU","RCLFU355224","Reduzierung      RCFLU     355.224","",30,139.1,{"$f":"G1879*(1-VLOOKUP(F1879,Konditionen!$B:$G,6,0))","v":139.1}]
["LindabSafe Formteile","RCLFU","RCLFU355280","Reduzierung      RCFLU     355.280","",30,139.1,{"$f":"G1880*(1-VLOOKUP(F1880,Konditionen!$B:$G,6,0))","v":139.1}]
["LindabSafe Formteile","RCLFU","RCLFU400160","Reduzierung      RCFLU     400.160","",30,158.19999999999999,{"$f":"G1881*(1-VLOOKUP(F1881,Konditionen!$B:$G,6,0))","v":158.19999999999999}]
["LindabSafe Formteile","RCLFU","RCLFU400180","Reduzierung      RCFLU     400.180","",30,161.19999999999999,{"$f":"G1882*(1-VLOOKUP(F1882,Konditionen!$B:$G,6,0))","v":161.19999999999999}]
["LindabSafe Formteile","RCLFU","RCLFU400224","Reduzierung      RCFLU     400.224","",30,161.19999999999999,{"$f":"G1883*(1-VLOOKUP(F1883,Konditionen!$B:$G,6,0))","v":161.19999999999999}]
["LindabSafe Formteile","RCLFU","RCLFU400280","Reduzierung      RCFLU     400.280","",30,161.19999999999999,{"$f":"G1884*(1-VLOOKUP(F1884,Konditionen!$B:$G,6,0))","v":161.19999999999999}]
["LindabSafe Formteile","RCLFU","RCLFU400300","Reduzierung      RCFLU     400.300","",30,161.19999999999999,{"$f":"G1885*(1-VLOOKUP(F1885,Konditionen!$B:$G,6,0))","v":161.19999999999999}]
["LindabSafe Formteile","RCLFU","RCLFU400355","Reduzierung      RCFLU     400.355","",30,162.5,{"$f":"G1886*(1-VLOOKUP(F1886,Konditionen!$B:$G,6,0))","v":162.5}]
["LindabSafe Formteile","RCLFU","RCLFU450200","Reduzierung      RCFLU     450.200","",30,197.1,{"$f":"G1887*(1-VLOOKUP(F1887,Konditionen!$B:$G,6,0))","v":197.1}]
["LindabSafe Formteile","RCLFU","RCLFU450224","Reduzierung      RCFLU     450.224","",30,197.4,{"$f":"G1888*(1-VLOOKUP(F1888,Konditionen!$B:$G,6,0))","v":197.4}]
["LindabSafe Formteile","RCLFU","RCLFU450250","Reduzierung      RCFLU     450.250","",30,197.4,{"$f":"G1889*(1-VLOOKUP(F1889,Konditionen!$B:$G,6,0))","v":197.4}]
["LindabSafe Formteile","RCLFU","RCLFU450280","Reduzierung      RCFLU     450.280","",30,200.9,{"$f":"G1890*(1-VLOOKUP(F1890,Konditionen!$B:$G,6,0))","v":200.9}]
["LindabSafe Formteile","RCLFU","RCLFU450300","Reduzierung      RCFLU     450.300","",30,200.9,{"$f":"G1891*(1-VLOOKUP(F1891,Konditionen!$B:$G,6,0))","v":200.9}]
["LindabSafe Formteile","RCLFU","RCLFU450315","Reduzierung      RCFLU     450.315","",30,197.85,{"$f":"G1892*(1-VLOOKUP(F1892,Konditionen!$B:$G,6,0))","v":197.85}]
["LindabSafe Formteile","RCLFU","RCLFU450355","Reduzierung      RCFLU     450.355","",30,198.7,{"$f":"G1893*(1-VLOOKUP(F1893,Konditionen!$B:$G,6,0))","v":198.7}]
["LindabSafe Formteile","RCLFU","RCLFU450400","Reduzierung      RCFLU     450.400","",30,200.25,{"$f":"G1894*(1-VLOOKUP(F1894,Konditionen!$B:$G,6,0))","v":200.25}]
["LindabSafe Formteile","RCLFU","RCLFU500280","Reduzierung      RCFLU     500.280","",30,219.7,{"$f":"G1895*(1-VLOOKUP(F1895,Konditionen!$B:$G,6,0))","v":219.7}]
["LindabSafe Formteile","RCLFU","RCLFU500300","Reduzierung      RCFLU     500.300","",30,223,{"$f":"G1896*(1-VLOOKUP(F1896,Konditionen!$B:$G,6,0))","v":223}]
["LindabSafe Formteile","RCLFU","RCLFU500355","Reduzierung      RCFLU     500.355","",30,224.1,{"$f":"G1897*(1-VLOOKUP(F1897,Konditionen!$B:$G,6,0))","v":224.1}]
["LindabSafe Formteile","RCLFU","RCLFU500450","Reduzierung      RCFLU     500.450","",30,225.7,{"$f":"G1898*(1-VLOOKUP(F1898,Konditionen!$B:$G,6,0))","v":225.7}]
["LindabSafe Formteile","RCLFU","RCLFU560250","Reduzierung      RCFLU     560.250","",30,251.85,{"$f":"G1899*(1-VLOOKUP(F1899,Konditionen!$B:$G,6,0))","v":251.85}]
["LindabSafe Formteile","RCLFU","RCLFU560280","Reduzierung      RCFLU     560.280","",30,246.7,{"$f":"G1900*(1-VLOOKUP(F1900,Konditionen!$B:$G,6,0))","v":246.7}]
["LindabSafe Formteile","RCLFU","RCLFU560300","Reduzierung      RCFLU     560.300","",30,250.1,{"$f":"G1901*(1-VLOOKUP(F1901,Konditionen!$B:$G,6,0))","v":250.1}]
["LindabSafe Formteile","RCLFU","RCLFU560315","Reduzierung      RCFLU     560.315","",30,248.15,{"$f":"G1902*(1-VLOOKUP(F1902,Konditionen!$B:$G,6,0))","v":248.15}]
["LindabSafe Formteile","RCLFU","RCLFU560355","Reduzierung      RCFLU     560.355","",30,247,{"$f":"G1903*(1-VLOOKUP(F1903,Konditionen!$B:$G,6,0))","v":247}]
["LindabSafe Formteile","RCLFU","RCLFU560400","Reduzierung      RCFLU     560.400","",30,243.7,{"$f":"G1904*(1-VLOOKUP(F1904,Konditionen!$B:$G,6,0))","v":243.7}]
["LindabSafe Formteile","RCLFU","RCLFU560450","Reduzierung      RCFLU     560.450","",30,243.85,{"$f":"G1905*(1-VLOOKUP(F1905,Konditionen!$B:$G,6,0))","v":243.85}]
["LindabSafe Formteile","RCLFU","RCLFU560500","Reduzierung      RCFLU     560.500","",30,244.05,{"$f":"G1906*(1-VLOOKUP(F1906,Konditionen!$B:$G,6,0))","v":244.05}]
["LindabSafe Formteile","RCLFU","RCLFU600300","Reduzierung      RCFLU     600.300","",30,281.39999999999998,{"$f":"G1907*(1-VLOOKUP(F1907,Konditionen!$B:$G,6,0))","v":281.39999999999998}]
["LindabSafe Formteile","RCLFU","RCLFU600315","Reduzierung      RCFLU     600.315","",30,279.7,{"$f":"G1908*(1-VLOOKUP(F1908,Konditionen!$B:$G,6,0))","v":279.7}]
["LindabSafe Formteile","RCLFU","RCLFU600355","Reduzierung      RCFLU     600.355","",30,278.64999999999998,{"$f":"G1909*(1-VLOOKUP(F1909,Konditionen!$B:$G,6,0))","v":278.64999999999998}]
["LindabSafe Formteile","RCLFU","RCLFU600400","Reduzierung      RCFLU     600.400","",30,271.60000000000002,{"$f":"G1910*(1-VLOOKUP(F1910,Konditionen!$B:$G,6,0))","v":271.60000000000002}]
["LindabSafe Formteile","RCLFU","RCLFU600450","Reduzierung      RCFLU     600.450","",30,268.60000000000002,{"$f":"G1911*(1-VLOOKUP(F1911,Konditionen!$B:$G,6,0))","v":268.60000000000002}]
["LindabSafe Formteile","RCLFU","RCLFU600500","Reduzierung      RCFLU     600.500","",30,269.7,{"$f":"G1912*(1-VLOOKUP(F1912,Konditionen!$B:$G,6,0))","v":269.7}]
["LindabSafe Formteile","RCLFU","RCLFU600560","Reduzierung      RCFLU     600.560","",30,276.95,{"$f":"G1913*(1-VLOOKUP(F1913,Konditionen!$B:$G,6,0))","v":276.95}]
["LindabSafe Formteile","RCLFU","RCLFU630450","Reduzierung      RCFLU     630.450","",30,300.85000000000002,{"$f":"G1914*(1-VLOOKUP(F1914,Konditionen!$B:$G,6,0))","v":300.85000000000002}]
["LindabSafe Formteile","RCLFU","RCLFU630560","Reduzierung      RCFLU     630.560","",30,306.95,{"$f":"G1915*(1-VLOOKUP(F1915,Konditionen!$B:$G,6,0))","v":306.95}]
["LindabSafe Formteile","RCLFU","RCLFU630600","Reduzierung      RCFLU     630.600","",30,308.55,{"$f":"G1916*(1-VLOOKUP(F1916,Konditionen!$B:$G,6,0))","v":308.55}]
["LindabSafe Formteile","RCLFU","RCLFU710315","Reduzierung      RCFLU     710.315","",30,358.05,{"$f":"G1917*(1-VLOOKUP(F1917,Konditionen!$B:$G,6,0))","v":358.05}]
["LindabSafe Formteile","RCLFU","RCLFU710355","Reduzierung      RCFLU     710.355","",30,357.3,{"$f":"G1918*(1-VLOOKUP(F1918,Konditionen!$B:$G,6,0))","v":357.3}]
["LindabSafe Formteile","RCLFU","RCLFU710400","Reduzierung      RCFLU     710.400","",30,344.8,{"$f":"G1919*(1-VLOOKUP(F1919,Konditionen!$B:$G,6,0))","v":344.8}]
["LindabSafe Formteile","RCLFU","RCLFU710450","Reduzierung      RCFLU     710.450","",30,342,{"$f":"G1920*(1-VLOOKUP(F1920,Konditionen!$B:$G,6,0))","v":342}]
["LindabSafe Formteile","RCLFU","RCLFU710500","Reduzierung      RCFLU     710.500","",30,342.9,{"$f":"G1921*(1-VLOOKUP(F1921,Konditionen!$B:$G,6,0))","v":342.9}]
["LindabSafe Formteile","RCLFU","RCLFU710560","Reduzierung      RCFLU     710.560","",30,353.3,{"$f":"G1922*(1-VLOOKUP(F1922,Konditionen!$B:$G,6,0))","v":353.3}]
["LindabSafe Formteile","RCLFU","RCLFU710600","Reduzierung      RCFLU     710.600","",30,356.2,{"$f":"G1923*(1-VLOOKUP(F1923,Konditionen!$B:$G,6,0))","v":356.2}]
["LindabSafe Formteile","RCLFU","RCLFU710630","Reduzierung      RCFLU     710.630","",30,356.75,{"$f":"G1924*(1-VLOOKUP(F1924,Konditionen!$B:$G,6,0))","v":356.75}]
["LindabSafe Formteile","RCLFU","RCLFU800315","Reduzierung      RCFLU     800.315","",30,483.2,{"$f":"G1925*(1-VLOOKUP(F1925,Konditionen!$B:$G,6,0))","v":483.2}]
["LindabSafe Formteile","RCLFU","RCLFU800355","Reduzierung      RCFLU     800.355","",30,470.6,{"$f":"G1926*(1-VLOOKUP(F1926,Konditionen!$B:$G,6,0))","v":470.6}]
["LindabSafe Formteile","RCLFU","RCLFU800400","Reduzierung      RCFLU     800.400","",30,466.7,{"$f":"G1927*(1-VLOOKUP(F1927,Konditionen!$B:$G,6,0))","v":466.7}]
["LindabSafe Formteile","RCLFU","RCLFU800450","Reduzierung      RCFLU     800.450","",30,456.2,{"$f":"G1928*(1-VLOOKUP(F1928,Konditionen!$B:$G,6,0))","v":456.2}]
["LindabSafe Formteile","RCLFU","RCLFU800500","Reduzierung      RCFLU     800.500","",30,446.85,{"$f":"G1929*(1-VLOOKUP(F1929,Konditionen!$B:$G,6,0))","v":446.85}]
["LindabSafe Formteile","RCLFU","RCLFU800560","Reduzierung      RCFLU     800.560","",30,450.4,{"$f":"G1930*(1-VLOOKUP(F1930,Konditionen!$B:$G,6,0))","v":450.4}]
["LindabSafe Formteile","RCLFU","RCLFU800600","Reduzierung      RCFLU     800.600","",30,441.15,{"$f":"G1931*(1-VLOOKUP(F1931,Konditionen!$B:$G,6,0))","v":441.15}]
["LindabSafe Formteile","RCLFU","RCLFU800630","Reduzierung      RCFLU     800.630","",30,437.9,{"$f":"G1932*(1-VLOOKUP(F1932,Konditionen!$B:$G,6,0))","v":437.9}]
["LindabSafe Formteile","RCLFU","RCLFU800710","Reduzierung      RCFLU     800.710","",30,430.65,{"$f":"G1933*(1-VLOOKUP(F1933,Konditionen!$B:$G,6,0))","v":430.65}]
["LindabSafe Formteile","RCLFU","RCLFU900315","Reduzierung      RCFLU     900.315","",30,642.45000000000005,{"$f":"G1934*(1-VLOOKUP(F1934,Konditionen!$B:$G,6,0))","v":642.45000000000005}]
["LindabSafe Formteile","RCLFU","RCLFU900355","Reduzierung      RCFLU     900.355","",30,643.54999999999995,{"$f":"G1935*(1-VLOOKUP(F1935,Konditionen!$B:$G,6,0))","v":643.54999999999995}]
["LindabSafe Formteile","RCLFU","RCLFU900400","Reduzierung      RCFLU     900.400","",30,637.5,{"$f":"G1936*(1-VLOOKUP(F1936,Konditionen!$B:$G,6,0))","v":637.5}]
["LindabSafe Formteile","RCLFU","RCLFU900450","Reduzierung      RCFLU     900.450","",30,634.6,{"$f":"G1937*(1-VLOOKUP(F1937,Konditionen!$B:$G,6,0))","v":634.6}]
["LindabSafe Formteile","RCLFU","RCLFU900500","Reduzierung      RCFLU     900.500","",30,614.65,{"$f":"G1938*(1-VLOOKUP(F1938,Konditionen!$B:$G,6,0))","v":614.65}]
["LindabSafe Formteile","RCLFU","RCLFU900560","Reduzierung      RCFLU     900.560","",30,627,{"$f":"G1939*(1-VLOOKUP(F1939,Konditionen!$B:$G,6,0))","v":627}]
["LindabSafe Formteile","RCLFU","RCLFU900600","Reduzierung      RCFLU     900.600","",30,597.20000000000005,{"$f":"G1940*(1-VLOOKUP(F1940,Konditionen!$B:$G,6,0))","v":597.20000000000005}]
["LindabSafe Formteile","RCLFU","RCLFU900630","Reduzierung      RCFLU     900.630","",30,592.85,{"$f":"G1941*(1-VLOOKUP(F1941,Konditionen!$B:$G,6,0))","v":592.85}]
["LindabSafe Formteile","RCLFU","RCLFU900710","Reduzierung      RCFLU     900.710","",30,577.6,{"$f":"G1942*(1-VLOOKUP(F1942,Konditionen!$B:$G,6,0))","v":577.6}]
["LindabSafe Formteile","RCLFU","RCLFU900800","Reduzierung      RCFLU     900.800","",30,577.85,{"$f":"G1943*(1-VLOOKUP(F1943,Konditionen!$B:$G,6,0))","v":577.85}]
["LindabSafe Formteile","RCLU","RCLU1000400","Reduzierung      RCLU     1000.400","",30,740.45,{"$f":"G1944*(1-VLOOKUP(F1944,Konditionen!$B:$G,6,0))","v":740.45}]
["LindabSafe Formteile","RCLU","RCLU1000450","Reduzierung      RCLU     1000.450","",30,722,{"$f":"G1945*(1-VLOOKUP(F1945,Konditionen!$B:$G,6,0))","v":722}]
["LindabSafe Formteile","RCLU","RCLU1000500","Reduzierung      RCLU     1000.500","",30,700,{"$f":"G1946*(1-VLOOKUP(F1946,Konditionen!$B:$G,6,0))","v":700}]
["LindabSafe Formteile","RCLU","RCLU1000560","Reduzierung      RCLU     1000.560","",30,687.3,{"$f":"G1947*(1-VLOOKUP(F1947,Konditionen!$B:$G,6,0))","v":687.3}]
["LindabSafe Formteile","RCLU","RCLU1000600","Reduzierung      RCLU     1000.600","",30,676.35,{"$f":"G1948*(1-VLOOKUP(F1948,Konditionen!$B:$G,6,0))","v":676.35}]
["LindabSafe Formteile","RCLU","RCLU1000630","Reduzierung      RCLU     1000.630","",30,666.7,{"$f":"G1949*(1-VLOOKUP(F1949,Konditionen!$B:$G,6,0))","v":666.7}]
["LindabSafe Formteile","RCLU","RCLU1000710","Reduzierung      RCLU     1000.710","",30,650.4,{"$f":"G1950*(1-VLOOKUP(F1950,Konditionen!$B:$G,6,0))","v":650.4}]
["LindabSafe Formteile","RCLU","RCLU1000800","Reduzierung      RCLU     1000.800","",30,642.29999999999995,{"$f":"G1951*(1-VLOOKUP(F1951,Konditionen!$B:$G,6,0))","v":642.29999999999995}]
["LindabSafe Formteile","RCLU","RCLU1000900","Reduzierung      RCLU     1000.900","",30,610.54999999999995,{"$f":"G1952*(1-VLOOKUP(F1952,Konditionen!$B:$G,6,0))","v":610.54999999999995}]
["LindabSafe Formteile","RCLU","RCLU11201000","Reduzierung      RCLU     1120.1000","",30,780.8,{"$f":"G1953*(1-VLOOKUP(F1953,Konditionen!$B:$G,6,0))","v":780.8}]
["LindabSafe Formteile","RCLU","RCLU1120450","Reduzierung      RCLU     1120.450","",30,973,{"$f":"G1954*(1-VLOOKUP(F1954,Konditionen!$B:$G,6,0))","v":973}]
["LindabSafe Formteile","RCLU","RCLU1120500","Reduzierung      RCLU     1120.500","",30,929.35,{"$f":"G1955*(1-VLOOKUP(F1955,Konditionen!$B:$G,6,0))","v":929.35}]
["LindabSafe Formteile","RCLU","RCLU1120560","Reduzierung      RCLU     1120.560","",30,916.7,{"$f":"G1956*(1-VLOOKUP(F1956,Konditionen!$B:$G,6,0))","v":916.7}]
["LindabSafe Formteile","RCLU","RCLU1120600","Reduzierung      RCLU     1120.600","",30,902.35,{"$f":"G1957*(1-VLOOKUP(F1957,Konditionen!$B:$G,6,0))","v":902.35}]
["LindabSafe Formteile","RCLU","RCLU1120630","Reduzierung      RCLU     1120.630","",30,886.75,{"$f":"G1958*(1-VLOOKUP(F1958,Konditionen!$B:$G,6,0))","v":886.75}]
["LindabSafe Formteile","RCLU","RCLU1120710","Reduzierung      RCLU     1120.710","",30,854.45,{"$f":"G1959*(1-VLOOKUP(F1959,Konditionen!$B:$G,6,0))","v":854.45}]
["LindabSafe Formteile","RCLU","RCLU1120800","Reduzierung      RCLU     1120.800","",30,812,{"$f":"G1960*(1-VLOOKUP(F1960,Konditionen!$B:$G,6,0))","v":812}]
["LindabSafe Formteile","RCLU","RCLU1120900","Reduzierung      RCLU     1120.900","",30,801.05,{"$f":"G1961*(1-VLOOKUP(F1961,Konditionen!$B:$G,6,0))","v":801.05}]
["LindabSafe Formteile","RCLU","RCLU112100","Reduzierung      RCLU      112.100","",30,51.15,{"$f":"G1962*(1-VLOOKUP(F1962,Konditionen!$B:$G,6,0))","v":51.15}]
["LindabSafe Formteile","RCLU","RCLU11263","Reduzierung      RCLU      112.63","",30,51.15,{"$f":"G1963*(1-VLOOKUP(F1963,Konditionen!$B:$G,6,0))","v":51.15}]
["LindabSafe Formteile","RCLU","RCLU11280","Reduzierung      RCLU      112.80","",30,51.15,{"$f":"G1964*(1-VLOOKUP(F1964,Konditionen!$B:$G,6,0))","v":51.15}]
["LindabSafe Formteile","RCLU","RCLU12501000","Reduzierung      RCLU     1250.1000","",30,1040,{"$f":"G1965*(1-VLOOKUP(F1965,Konditionen!$B:$G,6,0))","v":1040}]
["LindabSafe Formteile","RCLU","RCLU12501120","Reduzierung      RCLU     1250.1120","",30,993.05,{"$f":"G1966*(1-VLOOKUP(F1966,Konditionen!$B:$G,6,0))","v":993.05}]
["LindabSafe Formteile","RCLU","RCLU1250500","Reduzierung      RCLU     1250.500","",30,1245,{"$f":"G1967*(1-VLOOKUP(F1967,Konditionen!$B:$G,6,0))","v":1245}]
["LindabSafe Formteile","RCLU","RCLU1250560","Reduzierung      RCLU     1250.560","",30,1216,{"$f":"G1968*(1-VLOOKUP(F1968,Konditionen!$B:$G,6,0))","v":1216}]
["LindabSafe Formteile","RCLU","RCLU1250600","Reduzierung      RCLU     1250.600","",30,1195,{"$f":"G1969*(1-VLOOKUP(F1969,Konditionen!$B:$G,6,0))","v":1195}]
["LindabSafe Formteile","RCLU","RCLU1250630","Reduzierung      RCLU     1250.630","",30,1176,{"$f":"G1970*(1-VLOOKUP(F1970,Konditionen!$B:$G,6,0))","v":1176}]
["LindabSafe Formteile","RCLU","RCLU1250710","Reduzierung      RCLU     1250.710","",30,1133,{"$f":"G1971*(1-VLOOKUP(F1971,Konditionen!$B:$G,6,0))","v":1133}]
["LindabSafe Formteile","RCLU","RCLU1250800","Reduzierung      RCLU     1250.800","",30,1104,{"$f":"G1972*(1-VLOOKUP(F1972,Konditionen!$B:$G,6,0))","v":1104}]
["LindabSafe Formteile","RCLU","RCLU1250900","Reduzierung      RCLU     1250.900","",30,1051,{"$f":"G1973*(1-VLOOKUP(F1973,Konditionen!$B:$G,6,0))","v":1051}]
["LindabSafe Formteile","RCLU","RCLU125112","Reduzierung      RCLU      125.112","",30,51.15,{"$f":"G1974*(1-VLOOKUP(F1974,Konditionen!$B:$G,6,0))","v":51.15}]
["LindabSafe Formteile","RCLU","RCLU12563","Reduzierung      RCLU      125.63","",30,51.15,{"$f":"G1975*(1-VLOOKUP(F1975,Konditionen!$B:$G,6,0))","v":51.15}]
["LindabSafe Formteile","RCLU","RCLU140100","Reduzierung      RCLU      140.100","",30,55.8,{"$f":"G1976*(1-VLOOKUP(F1976,Konditionen!$B:$G,6,0))","v":55.8}]
["LindabSafe Formteile","RCLU","RCLU140112","Reduzierung      RCLU      140.112","",30,55.8,{"$f":"G1977*(1-VLOOKUP(F1977,Konditionen!$B:$G,6,0))","v":55.8}]
["LindabSafe Formteile","RCLU","RCLU140125","Reduzierung      RCLU      140.125","",30,55.8,{"$f":"G1978*(1-VLOOKUP(F1978,Konditionen!$B:$G,6,0))","v":55.8}]
["LindabSafe Formteile","RCLU","RCLU14063","Reduzierung      RCLU      140.63","",30,55.8,{"$f":"G1979*(1-VLOOKUP(F1979,Konditionen!$B:$G,6,0))","v":55.8}]
["LindabSafe Formteile","RCLU","RCLU14080","Reduzierung      RCLU      140.80","",30,55.8,{"$f":"G1980*(1-VLOOKUP(F1980,Konditionen!$B:$G,6,0))","v":55.8}]
["LindabSafe Formteile","RCLU","RCLU150112","Reduzierung      RCLU      150.112","",30,55.8,{"$f":"G1981*(1-VLOOKUP(F1981,Konditionen!$B:$G,6,0))","v":55.8}]
["LindabSafe Formteile","RCLU","RCLU150140","Reduzierung      RCLU      150.140","",30,57.1,{"$f":"G1982*(1-VLOOKUP(F1982,Konditionen!$B:$G,6,0))","v":57.1}]
["LindabSafe Formteile","RCLU","RCLU15063","Reduzierung      RCLU      150.63","",30,55.8,{"$f":"G1983*(1-VLOOKUP(F1983,Konditionen!$B:$G,6,0))","v":55.8}]
["LindabSafe Formteile","RCLU","RCLU15080","Reduzierung      RCLU      150.80","",30,55.8,{"$f":"G1984*(1-VLOOKUP(F1984,Konditionen!$B:$G,6,0))","v":55.8}]
["LindabSafe Formteile","RCLU","RCLU160112","Reduzierung      RCLU      160.112","",30,55.8,{"$f":"G1985*(1-VLOOKUP(F1985,Konditionen!$B:$G,6,0))","v":55.8}]
["LindabSafe Formteile","RCLU","RCLU160140","Reduzierung      RCLU      160.140","",30,57.1,{"$f":"G1986*(1-VLOOKUP(F1986,Konditionen!$B:$G,6,0))","v":57.1}]
["LindabSafe Formteile","RCLU","RCLU16063","Reduzierung      RCLU      160.63","",30,55.8,{"$f":"G1987*(1-VLOOKUP(F1987,Konditionen!$B:$G,6,0))","v":55.8}]
["LindabSafe Formteile","RCLU","RCLU180112","Reduzierung      RCLU      180.112","",30,66.150000000000006,{"$f":"G1988*(1-VLOOKUP(F1988,Konditionen!$B:$G,6,0))","v":66.150000000000006}]
["LindabSafe Formteile","RCLU","RCLU180140","Reduzierung      RCLU      180.140","",30,67.349999999999994,{"$f":"G1989*(1-VLOOKUP(F1989,Konditionen!$B:$G,6,0))","v":67.349999999999994}]
["LindabSafe Formteile","RCLU","RCLU18063","Reduzierung      RCLU      180.63","",30,66.150000000000006,{"$f":"G1990*(1-VLOOKUP(F1990,Konditionen!$B:$G,6,0))","v":66.150000000000006}]
["LindabSafe Formteile","RCLU","RCLU18080","Reduzierung      RCLU      180.80","",30,66.150000000000006,{"$f":"G1991*(1-VLOOKUP(F1991,Konditionen!$B:$G,6,0))","v":66.150000000000006}]
["LindabSafe Formteile","RCLU","RCLU200112","Reduzierung      RCLU      200.112","",30,66.150000000000006,{"$f":"G1992*(1-VLOOKUP(F1992,Konditionen!$B:$G,6,0))","v":66.150000000000006}]
["LindabSafe Formteile","RCLU","RCLU200140","Reduzierung      RCLU      200.140","",30,67.349999999999994,{"$f":"G1993*(1-VLOOKUP(F1993,Konditionen!$B:$G,6,0))","v":67.349999999999994}]
["LindabSafe Formteile","RCLU","RCLU20080","Reduzierung      RCLU      200.80","",30,66.150000000000006,{"$f":"G1994*(1-VLOOKUP(F1994,Konditionen!$B:$G,6,0))","v":66.150000000000006}]
["LindabSafe Formteile","RCLU","RCLU224100","Reduzierung      RCLU      224.100","",30,77.599999999999994,{"$f":"G1995*(1-VLOOKUP(F1995,Konditionen!$B:$G,6,0))","v":77.599999999999994}]
["LindabSafe Formteile","RCLU","RCLU224112","Reduzierung      RCLU      224.112","",30,77.599999999999994,{"$f":"G1996*(1-VLOOKUP(F1996,Konditionen!$B:$G,6,0))","v":77.599999999999994}]
["LindabSafe Formteile","RCLU","RCLU224140","Reduzierung      RCLU      224.140","",30,78.5,{"$f":"G1997*(1-VLOOKUP(F1997,Konditionen!$B:$G,6,0))","v":78.5}]
["LindabSafe Formteile","RCLU","RCLU22480","Reduzierung      RCLU      224.80","",30,77.599999999999994,{"$f":"G1998*(1-VLOOKUP(F1998,Konditionen!$B:$G,6,0))","v":77.599999999999994}]
["LindabSafe Formteile","RCLU","RCLU250100","Reduzierung      RCLU      250.100","",30,77.599999999999994,{"$f":"G1999*(1-VLOOKUP(F1999,Konditionen!$B:$G,6,0))","v":77.599999999999994}]
["LindabSafe Formteile","RCLU","RCLU250112","Reduzierung      RCLU      250.112","",30,77.599999999999994,{"$f":"G2000*(1-VLOOKUP(F2000,Konditionen!$B:$G,6,0))","v":77.599999999999994}]
["LindabSafe Formteile","RCLU","RCLU280200","Reduzierung      RCLU      280.200","",30,99.75,{"$f":"G2010*(1-VLOOKUP(F2010,Konditionen!$B:$G,6,0))","v":99.75}]
["LindabSafe Formteile","RCLU","RCLU315125","Reduzierung      RCLU      315.125","",30,105,{"$f":"G2024*(1-VLOOKUP(F2024,Konditionen!$B:$G,6,0))","v":105}]
["LindabSafe Formteile","RCLU","RCLU355180","Reduzierung      RCLU      355.180","",30,119.65,{"$f":"G2033*(1-VLOOKUP(F2033,Konditionen!$B:$G,6,0))","v":119.65}]
["LindabSafe Formteile","RCLU","RCLU450280","Reduzierung      RCLU      450.280","",30,173.55,{"$f":"G2046*(1-VLOOKUP(F2046,Konditionen!$B:$G,6,0))","v":173.55}]
["LindabSafe Formteile","RCLU","RCLU560280","Reduzierung      RCLU      560.280","",30,214.2,{"$f":"G2056*(1-VLOOKUP(F2056,Konditionen!$B:$G,6,0))","v":214.2}]
["LindabSafe Formteile","RCLU","RCLU630560","Reduzierung      RCLU      630.560","",30,259.64999999999998,{"$f":"G2072*(1-VLOOKUP(F2072,Konditionen!$B:$G,6,0))","v":259.64999999999998}]
["LindabSafe Formteile","RCLU","RCLU800600","Reduzierung      RCLU      800.600","",30,360.95,{"$f":"G2088*(1-VLOOKUP(F2088,Konditionen!$B:$G,6,0))","v":360.95}]
["LindabSafe Formteile","RCLU","RCLU800630","Reduzierung      RCLU      800.630","",30,357.7,{"$f":"G2089*(1-VLOOKUP(F2089,Konditionen!$B:$G,6,0))","v":357.7}]
["LindabSafe Formteile","SBÖJU","SBÖJU180","Etagenbogen    SBÖJU  180.L1  .L2","",30,142.35,{"$f":"G2110*(1-VLOOKUP(F2110,Konditionen!$B:$G,6,0))","v":142.35}]
["LindabSafe Formteile","SBÖJU","SBÖJU630","Etagenbogen    SBÖJU  630.L1  .L2","",30,811.1,{"$f":"G2124*(1-VLOOKUP(F2124,Konditionen!$B:$G,6,0))","v":811.1}]
["LindabSafe Formteile","TCPRCU","TCPRCU112100","T-Stück red  TCPRCU   112.    .100","",30,95.65,{"$f":"G2136*(1-VLOOKUP(F2136,Konditionen!$B:$G,6,0))","v":95.65}]
["LindabSafe Formteile","TCPRCU","TCPRCU11275","T-Stück red  TCPRCU   112.    .75","D3 Vent",30,93.05,{"$f":"G2139*(1-VLOOKUP(F2139,Konditionen!$B:$G,6,0))","v":93.05}]
["LindabSafe Formteile","TCPRCU","TCPRCU150140","T-Stück red  TCPRCU   150.    .140","",30,135.1,{"$f":"G2157*(1-VLOOKUP(F2157,Konditionen!$B:$G,6,0))","v":135.1}]
["LindabSafe Formteile","TCPRCU","TCPRCU160150","T-Stück red  TCPRCU   160.    .150","",30,135.1,{"$f":"G2165*(1-VLOOKUP(F2165,Konditionen!$B:$G,6,0))","v":135.1}]
["LindabSafe Formteile","TCPRCU","TCPRCU200140","T-Stück red  TCPRCU   200.    .140","",30,151.6,{"$f":"G2180*(1-VLOOKUP(F2180,Konditionen!$B:$G,6,0))","v":151.6}]
["LindabSafe Formteile","TCPRCU","TCPRCU250160","T-Stück red  TCPRCU   250.    .160","",30,168.4,{"$f":"G2200*(1-VLOOKUP(F2200,Konditionen!$B:$G,6,0))","v":168.4}]
["LindabSafe Formteile","TCPRCU","TCPRCU250224","T-Stück red  TCPRCU   250.    .224","",30,191.55,{"$f":"G2203*(1-VLOOKUP(F2203,Konditionen!$B:$G,6,0))","v":191.55}]
["LindabSafe Formteile","TCPRCU","TCPRCU30080","T-Stück red  TCPRCU   300.    .80","",30,182.35,{"$f":"G2225*(1-VLOOKUP(F2225,Konditionen!$B:$G,6,0))","v":182.35}]
["LindabSafe Formteile","TCPRCU","TCPRCU315150","T-Stück red  TCPRCU   315.    .150","",30,205.85,{"$f":"G2229*(1-VLOOKUP(F2229,Konditionen!$B:$G,6,0))","v":205.85}]
["LindabSafe Formteile","TCPRCU","TCPRCU400224","T-Stück red  TCPRCU   400.    .224","",30,297.75,{"$f":"G2248*(1-VLOOKUP(F2248,Konditionen!$B:$G,6,0))","v":297.75}]
["LindabSafe Formteile","TCPRCU","TCPRCU500250","T-Stück red  TCPRCU   500.    .250","",30,403.8,{"$f":"G2264*(1-VLOOKUP(F2264,Konditionen!$B:$G,6,0))","v":403.8}]
["LindabSafe Formteile","TCPRCU","TCPRCU560250","T-Stück red  TCPRCU   560.    .250","",30,453.8,{"$f":"G2271*(1-VLOOKUP(F2271,Konditionen!$B:$G,6,0))","v":453.8}]
["LindabSafe Formteile","TCPRCU","TCPRCU630315","T-Stück red  TCPRCU   630.    .315","",30,596.35,{"$f":"G2286*(1-VLOOKUP(F2286,Konditionen!$B:$G,6,0))","v":596.35}]
["LindabSafe Formteile","TCRCU","TCRCU10001250","T-Stück red  TCRCU   1000.    .1250","",30,3862,{"$f":"G2293*(1-VLOOKUP(F2293,Konditionen!$B:$G,6,0))","v":3862}]
["LindabSafe Formteile","TCRCU","TCRCU100112","T-Stück red  TCRCU    100.    .112","",30,110.15,{"$f":"G2304*(1-VLOOKUP(F2304,Konditionen!$B:$G,6,0))","v":110.15}]
["LindabSafe Formteile","TCRCU","TCRCU1120560","T-Stück red  TCRCU   1120.    .560","",30,1929,{"$f":"G2315*(1-VLOOKUP(F2315,Konditionen!$B:$G,6,0))","v":1929}]
["LindabSafe Formteile","TCRCU","TCRCU1250630","T-Stück red  TCRCU   1250.    .630","",30,2517,{"$f":"G2335*(1-VLOOKUP(F2335,Konditionen!$B:$G,6,0))","v":2517}]
["LindabSafe Formteile","TCRCU","TCRCU140224","T-Stück red  TCRCU    140.    .224","",30,191.3,{"$f":"G2350*(1-VLOOKUP(F2350,Konditionen!$B:$G,6,0))","v":191.3}]
["LindabSafe Formteile","TCRCU","TCRCU150200","T-Stück red  TCRCU    150.    .200","",30,176.1,{"$f":"G2357*(1-VLOOKUP(F2357,Konditionen!$B:$G,6,0))","v":176.1}]
["LindabSafe Formteile","TCRCU","TCRCU180200","T-Stück red  TCRCU    180.    .200","",30,167.25,{"$f":"G2372*(1-VLOOKUP(F2372,Konditionen!$B:$G,6,0))","v":167.25}]
["LindabSafe Formteile","TCRCU","TCRCU18075","T-Stück red  TCRCU    180.    .75","D3 Vent",30,128.35,{"$f":"G2379*(1-VLOOKUP(F2379,Konditionen!$B:$G,6,0))","v":128.35}]
["LindabSafe Formteile","TCRCU","TCRCU224112","T-Stück red  TCRCU    224.    .112","",30,155.15,{"$f":"G2391*(1-VLOOKUP(F2391,Konditionen!$B:$G,6,0))","v":155.15}]
["LindabSafe Formteile","TCRCU","TCRCU300280","T-Stück red  TCRCU    300.    .280","",30,238.8,{"$f":"G2414*(1-VLOOKUP(F2414,Konditionen!$B:$G,6,0))","v":238.8}]
["LindabSafe Formteile","TCRCU","TCRCU315112","T-Stück red  TCRCU    315.    .112","",30,198.85,{"$f":"G2421*(1-VLOOKUP(F2421,Konditionen!$B:$G,6,0))","v":198.85}]
["LindabSafe Formteile","TCRCU","TCRCU355400","T-Stück red  TCRCU    355.    .400","",30,425.8,{"$f":"G2436*(1-VLOOKUP(F2436,Konditionen!$B:$G,6,0))","v":425.8}]
["LindabSafe Formteile","TCRCU","TCRCU400180","T-Stück red  TCRCU    400.    .180","",30,283.7,{"$f":"G2443*(1-VLOOKUP(F2443,Konditionen!$B:$G,6,0))","v":283.7}]
["LindabSafe Formteile","TCRCU","TCRCU450500","T-Stück red  TCRCU    450.    .500","",30,618.45000000000005,{"$f":"G2459*(1-VLOOKUP(F2459,Konditionen!$B:$G,6,0))","v":618.45000000000005}]
["LindabSafe Formteile","TCRCU","TCRCU560224","T-Stück red  TCRCU    560.    .224","",30,453.8,{"$f":"G2478*(1-VLOOKUP(F2478,Konditionen!$B:$G,6,0))","v":453.8}]
["LindabSafe Formteile","TCRCU","TCRCU560450","T-Stück red  TCRCU    560.    .450","",30,555,{"$f":"G2482*(1-VLOOKUP(F2482,Konditionen!$B:$G,6,0))","v":555}]
["LindabSafe Formteile","TCRCU","TCRCU600280","T-Stück red  TCRCU    600.    .280","",30,519.45000000000005,{"$f":"G2491*(1-VLOOKUP(F2491,Konditionen!$B:$G,6,0))","v":519.45000000000005}]
["LindabSafe Formteile","TCRCU","TCRCU630450","T-Stück red  TCRCU    630.    .450","",30,700.5,{"$f":"G2507*(1-VLOOKUP(F2507,Konditionen!$B:$G,6,0))","v":700.5}]
["LindabSafe Formteile","TCRCU","TCRCU710560","T-Stück red  TCRCU    710.    .560","",30,957.5,{"$f":"G2527*(1-VLOOKUP(F2527,Konditionen!$B:$G,6,0))","v":957.5}]
["LindabSafe Formteile","TCRCU","TCRCU710630","T-Stück red  TCRCU    710.    .630","",30,1026,{"$f":"G2529*(1-VLOOKUP(F2529,Konditionen!$B:$G,6,0))","v":1026}]
["LindabSafe Formteile","TCRCU","TCRCU8071","T-Stück red  TCRCU     80.    .71","D3 Vent",30,85.4,{"$f":"G2550*(1-VLOOKUP(F2550,Konditionen!$B:$G,6,0))","v":85.4}]
["LindabSafe Formteile","TCRCU","TCRCU9001250","T-Stück red  TCRCU    900.    .1250","",30,3437,{"$f":"G2555*(1-VLOOKUP(F2555,Konditionen!$B:$G,6,0))","v":3437}]
["LindabSafe Formteile","TCU","TCU1000400","T-Stück          TCU      1000.400","",30,873.5,{"$f":"G2571*(1-VLOOKUP(F2571,Konditionen!$B:$G,6,0))","v":873.5}]
["LindabSafe Formteile","TCU","TCU100150","T-Stück          TCU       100.150","",30,82.95,{"$f":"G2583*(1-VLOOKUP(F2583,Konditionen!$B:$G,6,0))","v":82.95}]
["LindabSafe Formteile","TCU","TCU1120500","T-Stück          TCU      1120.500","",30,1186,{"$f":"G2597*(1-VLOOKUP(F2597,Konditionen!$B:$G,6,0))","v":1186}]
["LindabSafe Formteile","TCU","TCU112150","T-Stück          TCU       112.150","",30,88,{"$f":"G2606*(1-VLOOKUP(F2606,Konditionen!$B:$G,6,0))","v":88}]
["LindabSafe Formteile","TCU","TCU1250500","T-Stück          TCU      1250.500","",30,1439,{"$f":"G2619*(1-VLOOKUP(F2619,Konditionen!$B:$G,6,0))","v":1439}]
["LindabSafe Formteile","TCU","TCU12571","T-Stück          TCU       125.71","D3-Vent",30,73.55,{"$f":"G2635*(1-VLOOKUP(F2635,Konditionen!$B:$G,6,0))","v":73.55}]
["LindabSafe Formteile","TCU","TCU150200","T-Stück          TCU       150.200","",30,124.6,{"$f":"G2651*(1-VLOOKUP(F2651,Konditionen!$B:$G,6,0))","v":124.6}]
["LindabSafe Formteile","TCU","TCU160200","T-Stück          TCU       160.200","",30,124.6,{"$f":"G2661*(1-VLOOKUP(F2661,Konditionen!$B:$G,6,0))","v":124.6}]
["LindabSafe Formteile","TCU","TCU18050","T-Stück          TCU       180.50","D3 Vent",30,85.15,{"$f":"G2674*(1-VLOOKUP(F2674,Konditionen!$B:$G,6,0))","v":85.15}]
["LindabSafe Formteile","TCU","TCU200300","T-Stück          TCU       200.300","",30,173.4,{"$f":"G2683*(1-VLOOKUP(F2683,Konditionen!$B:$G,6,0))","v":173.4}]
["LindabSafe Formteile","TCU","TCU250300","T-Stück          TCU       250.300","",30,186.2,{"$f":"G2699*(1-VLOOKUP(F2699,Konditionen!$B:$G,6,0))","v":186.2}]
["LindabSafe Formteile","TCU","TCU280355","T-Stück          TCU       280.355","",30,237.1,{"$f":"G2707*(1-VLOOKUP(F2707,Konditionen!$B:$G,6,0))","v":237.1}]
["LindabSafe Formteile","TCU","TCU355450","T-Stück          TCU       355.450","",30,366.55,{"$f":"G2725*(1-VLOOKUP(F2725,Konditionen!$B:$G,6,0))","v":366.55}]
["LindabSafe Formteile","TCU","TCU450600","T-Stück          TCU       450.600","",30,522.15,{"$f":"G2742*(1-VLOOKUP(F2742,Konditionen!$B:$G,6,0))","v":522.15}]
["LindabSafe Formteile","TCU","TCU500280","T-Stück          TCU       500.280","",30,273.85000000000002,{"$f":"G2747*(1-VLOOKUP(F2747,Konditionen!$B:$G,6,0))","v":273.85000000000002}]
["LindabSafe Formteile","TCU","TCU560900","T-Stück          TCU       560.900","",30,1108,{"$f":"G2761*(1-VLOOKUP(F2761,Konditionen!$B:$G,6,0))","v":1108}]
["LindabSafe Formteile","TCU","TCU630224","T-Stück          TCU       630.224","",30,361.7,{"$f":"G2769*(1-VLOOKUP(F2769,Konditionen!$B:$G,6,0))","v":361.7}]
["LindabSafe Formteile","TCU","TCU710315","T-Stück          TCU       710.315","",30,499.6,{"$f":"G2789*(1-VLOOKUP(F2789,Konditionen!$B:$G,6,0))","v":499.6}]
["LindabSafe Formteile","TCU","TCU710800","T-Stück          TCU       710.800","",30,1269,{"$f":"G2798*(1-VLOOKUP(F2798,Konditionen!$B:$G,6,0))","v":1269}]
["LindabSafe Formteile","TCU","TCU800710","T-Stück          TCU       800.710","",30,1010,{"$f":"G2811*(1-VLOOKUP(F2811,Konditionen!$B:$G,6,0))","v":1010}]
["LindabSafe Formteile","TCU","TCU900560","T-Stück          TCU       900.560","",30,910.85,{"$f":"G2829*(1-VLOOKUP(F2829,Konditionen!$B:$G,6,0))","v":910.85}]
["LindabSafe Formteile","TCU","TCU900800","T-Stück          TCU       900.800","",30,1274,{"$f":"G2833*(1-VLOOKUP(F2833,Konditionen!$B:$G,6,0))","v":1274}]
["LindabSafe Formteile","TSTCU","TSTCU450450","Sattelstück      TSTCU     450.450","",30,207.8,{"$f":"G2853*(1-VLOOKUP(F2853,Konditionen!$B:$G,6,0))","v":207.8}]
["LindabSafe Formteile","TSTCU","TSTCU900900","Sattelstück      TSTCU     900.900","",30,593.70000000000005,{"$f":"G2862*(1-VLOOKUP(F2862,Konditionen!$B:$G,6,0))","v":593.70000000000005}]
["LindabSafe Formteile","TVRCU","TVRCU4510071","T-Stück red TVRCU 45  100.    .71","Reduziert",30,110.15,{"$f":"G2875*(1-VLOOKUP(F2875,Konditionen!$B:$G,6,0))","v":110.15}]
["LindabSafe Formteile","TVRCU","TVRCU451120800","T-Stück red TVRCU 45 1120.    .800","Reduziert",30,2675,{"$f":"G2885*(1-VLOOKUP(F2885,Konditionen!$B:$G,6,0))","v":2675}]
["LindabSafe Formteile","TVRCU","TVRCU451250560","T-Stück red TVRCU 45 1250.    .560","Reduziert",30,2701,{"$f":"G2897*(1-VLOOKUP(F2897,Konditionen!$B:$G,6,0))","v":2701}]
["LindabSafe Formteile","TVRCU","TVRCU4514090","T-Stück red TVRCU 45  140.    .90","Reduziert",30,134.75,{"$f":"G2917*(1-VLOOKUP(F2917,Konditionen!$B:$G,6,0))","v":134.75}]
["LindabSafe Formteile","TVRCU","TVRCU45160140","T-Stück red TVRCU 45  160.    .140","Reduziert",30,162.75,{"$f":"G2930*(1-VLOOKUP(F2930,Konditionen!$B:$G,6,0))","v":162.75}]
["LindabSafe Formteile","TVRCU","TVRCU45180150","T-Stück red TVRCU 45  180.    .150","Reduziert",30,179.5,{"$f":"G2939*(1-VLOOKUP(F2939,Konditionen!$B:$G,6,0))","v":179.5}]
["LindabSafe Formteile","TVRCU","TVRCU4520090","T-Stück red TVRCU 45  200.    .90","Reduziert",30,154.80000000000001,{"$f":"G2953*(1-VLOOKUP(F2953,Konditionen!$B:$G,6,0))","v":154.80000000000001}]
["LindabSafe Formteile","TVRCU","TVRCU45224200","T-Stück red TVRCU 45  224.    .200","Reduziert",30,206.6,{"$f":"G2961*(1-VLOOKUP(F2961,Konditionen!$B:$G,6,0))","v":206.6}]
["LindabSafe Formteile","TVRCU","TVRCU4525090","T-Stück red TVRCU 45  250.    .90","Reduziert",30,174.05,{"$f":"G2976*(1-VLOOKUP(F2976,Konditionen!$B:$G,6,0))","v":174.05}]
["LindabSafe Formteile","TVRCU","TVRCU45280280","T-Stück red TVRCU 45  280.    .280","Reduziert",30,276.95,{"$f":"G2987*(1-VLOOKUP(F2987,Konditionen!$B:$G,6,0))","v":276.95}]
["LindabSafe Formteile","TVRCU","TVRCU45315140","T-Stück red TVRCU 45  315.    .140","Reduziert",30,233.9,{"$f":"G3003*(1-VLOOKUP(F3003,Konditionen!$B:$G,6,0))","v":233.9}]
["LindabSafe Formteile","TVRCU","TVRCU45315250","T-Stück red TVRCU 45  315.    .250","Reduziert",30,259.05,{"$f":"G3009*(1-VLOOKUP(F3009,Konditionen!$B:$G,6,0))","v":259.05}]
["LindabSafe Formteile","TVRCU","TVRCU45400180","T-Stück red TVRCU 45  400.    .180","Reduziert",30,323.05,{"$f":"G3029*(1-VLOOKUP(F3029,Konditionen!$B:$G,6,0))","v":323.05}]
["LindabSafe Formteile","TVRCU","TVRCU45450300","T-Stück red TVRCU 45  450.    .300","Reduziert",30,456.45,{"$f":"G3044*(1-VLOOKUP(F3044,Konditionen!$B:$G,6,0))","v":456.45}]
["LindabSafe Formteile","TVRCU","TVRCU45500250","T-Stück red TVRCU 45  500.    .250","Reduziert",30,466.2,{"$f":"G3051*(1-VLOOKUP(F3051,Konditionen!$B:$G,6,0))","v":466.2}]
["LindabSafe Formteile","TVRCU","TVRCU45560500","T-Stück red TVRCU 45  560.    .500","Reduziert",30,684.5,{"$f":"G3067*(1-VLOOKUP(F3067,Konditionen!$B:$G,6,0))","v":684.5}]
["LindabSafe Formteile","TVRCU","TVRCU45600560","T-Stück red TVRCU 45  600.    .560","Reduziert",30,764.35,{"$f":"G3077*(1-VLOOKUP(F3077,Konditionen!$B:$G,6,0))","v":764.35}]
["LindabSafe Formteile","TVRCU","TVRCU45710400","T-Stück red TVRCU 45  710.    .400","Reduziert",30,932.95,{"$f":"G3093*(1-VLOOKUP(F3093,Konditionen!$B:$G,6,0))","v":932.95}]
["LindabSafe Formteile","TVRCU","TVRCU45800315","T-Stück red TVRCU 45  800.    .315","Reduziert",30,1006,{"$f":"G3100*(1-VLOOKUP(F3100,Konditionen!$B:$G,6,0))","v":1006}]
["LindabSafe Formteile","TVRCU","TVRCU45900450","T-Stück red TVRCU 45  900.    .450","Reduziert",30,1383,{"$f":"G3115*(1-VLOOKUP(F3115,Konditionen!$B:$G,6,0))","v":1383}]
["LindabSafe Formteile","TVRCU","TVRCU45900900","T-Stück red TVRCU 45  900.    .900","Reduziert",30,2171,{"$f":"G3122*(1-VLOOKUP(F3122,Konditionen!$B:$G,6,0))","v":2171}]
["LindabSafe Formteile","TVU","TVU451120800","T-Stück          TVU 45   1120.800","",30,1978,{"$f":"G3145*(1-VLOOKUP(F3145,Konditionen!$B:$G,6,0))","v":1978}]
["LindabSafe Formteile","TVU","TVU451250560","T-Stück          TVU 45   1250.560","",30,1836,{"$f":"G3157*(1-VLOOKUP(F3157,Konditionen!$B:$G,6,0))","v":1836}]
["LindabSafe Formteile","TVU","TVU4512580","T-Stück          TVU 45    125.80","",30,71.349999999999994,{"$f":"G3168*(1-VLOOKUP(F3168,Konditionen!$B:$G,6,0))","v":71.349999999999994}]
["LindabSafe Formteile","TVU","TVU45150112","T-Stück          TVU 45    150.112","",30,90.1,{"$f":"G3179*(1-VLOOKUP(F3179,Konditionen!$B:$G,6,0))","v":90.1}]
["LindabSafe Formteile","TVU","TVU4515090","T-Stück          TVU 45    150.90","D3 Vent",30,86.8,{"$f":"G3186*(1-VLOOKUP(F3186,Konditionen!$B:$G,6,0))","v":86.8}]
["LindabSafe Formteile","TVU","TVU45180180","T-Stück          TVU 45    180.180","",30,137.6,{"$f":"G3201*(1-VLOOKUP(F3201,Konditionen!$B:$G,6,0))","v":137.6}]
["LindabSafe Formteile","TVU","TVU45224200","T-Stück          TVU 45    224.200","",30,142,{"$f":"G3221*(1-VLOOKUP(F3221,Konditionen!$B:$G,6,0))","v":142}]
["LindabSafe Formteile","TVU","TVU4522490","T-Stück          TVU 45    224.90","D3 Vent",30,109.7,{"$f":"G3224*(1-VLOOKUP(F3224,Konditionen!$B:$G,6,0))","v":109.7}]
["LindabSafe Formteile","TVU","TVU45280180","T-Stück          TVU 45    280.180","",30,166,{"$f":"G3243*(1-VLOOKUP(F3243,Konditionen!$B:$G,6,0))","v":166}]
["LindabSafe Formteile","TVU","TVU45300200","T-Stück          TVU 45    300.200","",30,166,{"$f":"G3255*(1-VLOOKUP(F3255,Konditionen!$B:$G,6,0))","v":166}]
["LindabSafe Formteile","TVU","TVU45315160","T-Stück          TVU 45    315.160","",30,153.9,{"$f":"G3265*(1-VLOOKUP(F3265,Konditionen!$B:$G,6,0))","v":153.9}]
["LindabSafe Formteile","TVU","TVU45315315","T-Stück          TVU 45    315.315","",30,217.75,{"$f":"G3272*(1-VLOOKUP(F3272,Konditionen!$B:$G,6,0))","v":217.75}]
["LindabSafe Formteile","TVU","TVU45400160","T-Stück          TVU 45    400.160","",30,201.95,{"$f":"G3288*(1-VLOOKUP(F3288,Konditionen!$B:$G,6,0))","v":201.95}]
["LindabSafe Formteile","TVU","TVU45450400","T-Stück          TVU 45    450.400","",30,371.45,{"$f":"G3307*(1-VLOOKUP(F3307,Konditionen!$B:$G,6,0))","v":371.45}]
["LindabSafe Formteile","TVU","TVU45500250","T-Stück          TVU 45    500.250","",30,300.85000000000002,{"$f":"G3311*(1-VLOOKUP(F3311,Konditionen!$B:$G,6,0))","v":300.85000000000002}]
["LindabSafe Formteile","TVU","TVU45600250","T-Stück          TVU 45    600.250","",30,370.65,{"$f":"G3329*(1-VLOOKUP(F3329,Konditionen!$B:$G,6,0))","v":370.65}]
["LindabSafe Formteile","TVU","TVU45600500","T-Stück          TVU 45    600.500","",30,525.75,{"$f":"G3336*(1-VLOOKUP(F3336,Konditionen!$B:$G,6,0))","v":525.75}]
["LindabSafe Formteile","TVU","TVU45710500","T-Stück          TVU 45    710.500","",30,767.95,{"$f":"G3356*(1-VLOOKUP(F3356,Konditionen!$B:$G,6,0))","v":767.95}]
["LindabSafe Formteile","TVU","TVU458063","T-Stück          TVU 45     80.63","",30,67.95,{"$f":"G3371*(1-VLOOKUP(F3371,Konditionen!$B:$G,6,0))","v":67.95}]
["LindabSafe Formteile","TVU","TVU45900600","T-Stück          TVU 45    900.600","",30,1158,{"$f":"G3379*(1-VLOOKUP(F3379,Konditionen!$B:$G,6,0))","v":1158}]
["LindabSafe Formteile","YVU45","YVU45180125125","Hosenstück GW90  YVU45  180.125.125","",30,260.64999999999998,{"$f":"G3393*(1-VLOOKUP(F3393,Konditionen!$B:$G,6,0))","v":260.64999999999998}]
["LindabSafe Formteile","YVU45","YVU45355250250","Hosenstück GW90  YVU45  355.250.250","",30,377.8,{"$f":"G3400*(1-VLOOKUP(F3400,Konditionen!$B:$G,6,0))","v":377.8}]
["LindabSafe Formteile","BBKCU","BBKCU10010090","Reinigungsbogen BBKCU 100.100.90","",30,144.69999999999999,{"$f":"G3412*(1-VLOOKUP(F3412,Konditionen!$B:$G,6,0))","v":144.69999999999999}]
["LindabSafe Formteile","BFKCU","BFKCU40031590","Reinigungsbogen BFKCU  400.315.90","",30,823,{"$f":"G3435*(1-VLOOKUP(F3435,Konditionen!$B:$G,6,0))","v":823}]
["LindabSafe Formteile","BKCU","BKCU20020090","Bogen gepresst   BKCU   200.200.90","",30,253.1,{"$f":"G3447*(1-VLOOKUP(F3447,Konditionen!$B:$G,6,0))","v":253.1}]
["LindabSafe Formteile","BKCU","BKCU22420090","Bogen gepresst   BKCU   224.200.90","",30,401.15,{"$f":"G3448*(1-VLOOKUP(F3448,Konditionen!$B:$G,6,0))","v":401.15}]
["LindabSafe Formteile","EPFAS-1","EPFAS-1160","Enddeckel  EPF AS - 1     160","mit Wasserablaufstutzen 1/2\"",30,182.6,{"$f":"G3470*(1-VLOOKUP(F3470,Konditionen!$B:$G,6,0))","v":182.6}]
["LindabSafe Formteile","ESUAS-1","ESUAS-1150","Enddeckel  ESU AS - 1     150","mit Wasserablaufstutzen 1/2\"",30,189.6,{"$f":"G3483*(1-VLOOKUP(F3483,Konditionen!$B:$G,6,0))","v":189.6}]
["LindabSafe Formteile","ESUAS-1","ESUAS-1200","Enddeckel  ESU AS - 1     200","mit Wasserablaufstutzen 1/2\"",30,189.85,{"$f":"G3486*(1-VLOOKUP(F3486,Konditionen!$B:$G,6,0))","v":189.85}]
["LindabSafe Formteile","SMFU","SMFU125500","Schiebemuffe   SMFU     125.500","",30,58.15,{"$f":"G3503*(1-VLOOKUP(F3503,Konditionen!$B:$G,6,0))","v":58.15}]
["LindabSafe Formteile","SMFU","SMFU250500","Schiebemuffe   SMFU     250.500","",30,122.5,{"$f":"G3512*(1-VLOOKUP(F3512,Konditionen!$B:$G,6,0))","v":122.5}]
["LindabSafe Formteile","SNPU","SNPU250300","Schiebenippel  SNPU     250.300","",30,63.1,{"$f":"G3526*(1-VLOOKUP(F3526,Konditionen!$B:$G,6,0))","v":63.1}]
["LindabSafe Formteile","TMRAUSN","TMRAUSN280","Reinigungsöffnung   TMRAUSN   280","mit Schiebenippelfunktion",30,289.3,{"$f":"G3547*(1-VLOOKUP(F3547,Konditionen!$B:$G,6,0))","v":289.3}]
["LindabSafe Formteile","TMRAUSN","TMRAUSN80","Reinigungsöffnung   TMRAUSN    80","mit Schiebenippelfunktion",30,135.44999999999999,{"$f":"G3554*(1-VLOOKUP(F3554,Konditionen!$B:$G,6,0))","v":135.44999999999999}]
["LindabSafe Formteile","TMRAU","TMRAU355","Reinigungsöffng.  TMRAU        355","",30,267.89999999999998,{"$f":"G3571*(1-VLOOKUP(F3571,Konditionen!$B:$G,6,0))","v":267.89999999999998}]
["LindabSafe Formteile","TMRAU","TMRAU600","Reinigungsöffng.  TMRAU        600","",30,523.29999999999995,{"$f":"G3576*(1-VLOOKUP(F3576,Konditionen!$B:$G,6,0))","v":523.29999999999995}]
["LindabSafe Formteile","VLG","VLG315","Mauerhülse       VLG           315","d = 322 mm",30,94.6,{"$f":"G3594*(1-VLOOKUP(F3594,Konditionen!$B:$G,6,0))","v":94.6}]
["LindabSafe Formteile","DIRU","DIRU125","Irisblende       DIRU          125","",30,342.65,{"$f":"G3611*(1-VLOOKUP(F3611,Konditionen!$B:$G,6,0))","v":342.65}]
["LindabSafe Formteile","DIRU","DIRU400","Irisblende       DIRU          400","",30,1929,{"$f":"G3618*(1-VLOOKUP(F3618,Konditionen!$B:$G,6,0))","v":1929}]
["LindabSafe Formteile","DRU","DRU150","Regulierklappe   DRU           150","",30,99.9,{"$f":"G3627*(1-VLOOKUP(F3627,Konditionen!$B:$G,6,0))","v":99.9}]
["LindabSafe Formteile","DRU","DRU560","Regulierklappe   DRU           560","",30,395.1,{"$f":"G3640*(1-VLOOKUP(F3640,Konditionen!$B:$G,6,0))","v":395.1}]
["LindabSafe Formteile","DSUSN","DSUSN160230","Absperrklappe   DSUSN 230V   160","mit innenlieg. Motor CM230-L-160D.2",30,975.55,{"$f":"G3650*(1-VLOOKUP(F3650,Konditionen!$B:$G,6,0))","v":975.55}]
["LindabSafe Formteile","DSU","DSU280","Sperrklappe      DSU           280","",30,150.94999999999999,{"$f":"G3662*(1-VLOOKUP(F3662,Konditionen!$B:$G,6,0))","v":150.94999999999999}]
["LindabSafe Formteile","DTBCU","DTBCU11224","Sicherh.Klappe DTBCU   24V  112","mit Motor TF24, m.Polyamidbuchse",30,1854,{"$f":"G3681*(1-VLOOKUP(F3681,Konditionen!$B:$G,6,0))","v":1854}]
["LindabSafe Formteile","DTBCU","DTBCU18024MOD","Sicherh.Klappe DTBCU MOD 24V  180","mit Motor TF24SR, m.Polyamidbuchse",30,2494,{"$f":"G3697*(1-VLOOKUP(F3697,Konditionen!$B:$G,6,0))","v":2494}]
["LindabSafe Formteile","DTBCU","DTBCU250230","Sicherh.Klappe DTBCU   230V  250","mit Motor LF230, m.Polyamidbuchse",30,2577,{"$f":"G3704*(1-VLOOKUP(F3704,Konditionen!$B:$G,6,0))","v":2577}]
["LindabSafe Formteile","DTBCU","DTBCU31524","Sicherh.Klappe DTBCU   24V  315","mit Motor LF24, m.Polyamidbuchse",30,2853,{"$f":"G3714*(1-VLOOKUP(F3714,Konditionen!$B:$G,6,0))","v":2853}]
["LindabSafe Formteile","DTBCU","DTBCU50024","Sicherh.Klappe DTBCU   24V  500","mit Motor SF24A, m.Polyamidbuchse",30,3727,{"$f":"G3726*(1-VLOOKUP(F3726,Konditionen!$B:$G,6,0))","v":3727}]
["LindabSafe Formteile","DTBU","DTBU10024","Absperrklappe    DTBU  24V  100","m.Motor LM 24A-F, m.Polyamidbuchse",30,835,{"$f":"G3749*(1-VLOOKUP(F3749,Konditionen!$B:$G,6,0))","v":835}]
["LindabSafe Formteile","DTBU","DTBU14024","Absperrklappe    DTBU  24V  140","m.Motor LM 24A-F, m.Polyamidbuchse",30,862.3,{"$f":"G3761*(1-VLOOKUP(F3761,Konditionen!$B:$G,6,0))","v":862.3}]
["LindabSafe Formteile","DTBU","DTBU160230MOD","Absperrklappe DTBU MOD 230V  160","m.Motor LM230A-SR, m.Polyamidbuchse",30,1525,{"$f":"G3768*(1-VLOOKUP(F3768,Konditionen!$B:$G,6,0))","v":1525}]
["LindabSafe Formteile","DTBU","DTBU22424MOD","Absperrklappe DTBU MOD  24V  224","m.Motor LM24A-SR, m.Polyamidbuchse",30,1586,{"$f":"G3782*(1-VLOOKUP(F3782,Konditionen!$B:$G,6,0))","v":1586}]
["LindabSafe Formteile","DTBU","DTBU28024MOD","Absperrklappe DTBU MOD  24V  280","m.Motor LM24A-SR, m.Polyamidbuchse",30,1644,{"$f":"G3790*(1-VLOOKUP(F3790,Konditionen!$B:$G,6,0))","v":1644}]
["LindabSafe Formteile","DTBU","DTBU40024","Absperrklappe    DTBU  24V  400","m.Motor NM 24A-F, m.Polyamidbuchse",30,1261,{"$f":"G3805*(1-VLOOKUP(F3805,Konditionen!$B:$G,6,0))","v":1261}]
["LindabSafe Formteile","DTBU","DTBU63024","Absperrklappe    DTBU  24V  630","m.Motor SM 24A, m.Polyamidbuchse",30,1879,{"$f":"G3825*(1-VLOOKUP(F3825,Konditionen!$B:$G,6,0))","v":1879}]
["LindabSafe Formteile","DTFU","DTFU11224MOD","Absperrklappe, Modul.  DTFU  112","mit Motor LMQ24A-SR,m.Polyamidbuche",30,2207,{"$f":"G3832*(1-VLOOKUP(F3832,Konditionen!$B:$G,6,0))","v":2207}]
["LindabSafe Formteile","DTHU","DTHU112","Absperrklappe oh. Mot. DTHU  112","m.Konsole für LM/NM/AM/LF/AF Motor",30,198.85,{"$f":"G3850*(1-VLOOKUP(F3850,Konditionen!$B:$G,6,0))","v":198.85}]
["LindabSafe Formteile","DTHU","DTHU160","Absperrklappe oh. Mot. DTHU  160","m.Konsole für LM/NM/LF/TF Motor",30,220,{"$f":"G3854*(1-VLOOKUP(F3854,Konditionen!$B:$G,6,0))","v":220}]
["LindabSafe Formteile","DTH1U","DTH1U180","Absperrklappe oh. Mot. DTH1U   180","mit Konsole für LM-Motor",30,272.60000000000002,{"$f":"G3873*(1-VLOOKUP(F3873,Konditionen!$B:$G,6,0))","v":272.60000000000002}]
["LindabSafe Formteile","DTH2U","DTH2U160","Absperrklappe oh. Mot. DTH2U   160","m. flacher Konsole für CM-F u. LM-F",30,253.5,{"$f":"G3880*(1-VLOOKUP(F3880,Konditionen!$B:$G,6,0))","v":253.5}]
["LindabSafe Formteile","DTMU","DTMU315","Absperrklappe    DTMU          315","mit Handgriff",30,330.7,{"$f":"G3896*(1-VLOOKUP(F3896,Konditionen!$B:$G,6,0))","v":330.7}]
["LindabSafe Formteile","DTU","DTU112","Absperrklappe    DTU         112","DIN EN 1751 Dichtheitsklasse 4",30,182.9,{"$f":"G3906*(1-VLOOKUP(F3906,Konditionen!$B:$G,6,0))","v":182.9}]
["LindabSafe Formteile","DTU","DTU355","Absperrklappe    DTU         355","DIN EN 1751 Dichtheitsklasse 4",30,417.65,{"$f":"G3918*(1-VLOOKUP(F3918,Konditionen!$B:$G,6,0))","v":417.65}]
["LindabSafe Formteile","FMDU","FMDU200","Volumenstrommesser   FMDU      200","",30,260.5,{"$f":"G3929*(1-VLOOKUP(F3929,Konditionen!$B:$G,6,0))","v":260.5}]
["LindabSafe Formteile","FMU","FMU630","Volumenstrommesser     FMU     630","",30,863.3,{"$f":"G3944*(1-VLOOKUP(F3944,Konditionen!$B:$G,6,0))","v":863.3}]
["LindabSafe Formteile","TVTBU","TVTBU12524","Bypass-Klappe  TVTBU  24V      125","mit Motor LM 24A-F",30,1507,{"$f":"G3952*(1-VLOOKUP(F3952,Konditionen!$B:$G,6,0))","v":1507}]
["LindabSafe Formteile","TVTU","TVTU140","Bypass-Klappe   TVTU          140","",30,528.85,{"$f":"G3966*(1-VLOOKUP(F3966,Konditionen!$B:$G,6,0))","v":528.85}]
["LindabSafe Formteile","DACR","DACR300200M","Volumenstromregler DAC-R 300x200-M","manuelle Verstellung",30,891.6,{"$f":"G3986*(1-VLOOKUP(F3986,Konditionen!$B:$G,6,0))","v":891.6}]
["LindabSafe Formteile","DACR","DACR500500M","Volumenstromregler DAC-R 500x500-M","manuelle Verstellung",30,2263,{"$f":"G3997*(1-VLOOKUP(F3997,Konditionen!$B:$G,6,0))","v":2263}]
["LindabSafe Formteile","DACR","DACR3001501","Volumenstromregler DAC-R 300x150-1","mit Motor LM 230A",30,1809,{"$f":"G4008*(1-VLOOKUP(F4008,Konditionen!$B:$G,6,0))","v":1809}]
["LindabSafe Formteile","DACR","DACR5005001","Volumenstromregler DAC-R 500x500-1","mit 2x Motor NM 230A",30,4621,{"$f":"G4020*(1-VLOOKUP(F4020,Konditionen!$B:$G,6,0))","v":4621}]
["LindabSafe Formteile","DACR","DACR3001002","Volumenstromregler DAC-R 300x100-2","mit Motor LM 24A",30,1783,{"$f":"G4030*(1-VLOOKUP(F4030,Konditionen!$B:$G,6,0))","v":1783}]
["LindabSafe Formteile","DACR","DACR2001003","Volumenstromregler DAC-R 200x100-3","mit Motor LM 24A-SR",30,2143,{"$f":"G4050*(1-VLOOKUP(F4050,Konditionen!$B:$G,6,0))","v":2143}]
["LindabSafe Formteile","DACR","DACR3001003","Volumenstromregler DAC-R 300x100-3","mit Motor LM 24A-SR",30,2187,{"$f":"G4053*(1-VLOOKUP(F4053,Konditionen!$B:$G,6,0))","v":2187}]
["LindabSafe Formteile","DACR","DACR6006003","Volumenstromregler DAC-R 600x600-3","mit 2x Motor SM24A-SR",30,7068,{"$f":"G4072*(1-VLOOKUP(F4072,Konditionen!$B:$G,6,0))","v":7068}]
["LindabSafe Formteile","DAC","DAC400S2","Kon.Volumenstromregler DAC400-S2","mit Motor NM24A",30,2152,{"$f":"G4088*(1-VLOOKUP(F4088,Konditionen!$B:$G,6,0))","v":2152}]
["LindabSafe Formteile","DAC","DAC250S3","Kon.Volumenstromregler DAC250-S3","mit Motor LM24A-SR",30,2041,{"$f":"G4094*(1-VLOOKUP(F4094,Konditionen!$B:$G,6,0))","v":2041}]
["LindabSafe Formteile","BSLU","BSLU5030090","Bogenschalldämpfer  BSLU50  300.90","mit 50 mm Isolierung",30,962.9,{"$f":"G4114*(1-VLOOKUP(F4114,Konditionen!$B:$G,6,0))","v":962.9}]
["LindabSafe Formteile","LRBCB","LRBCB500600","Schalldämpfer    LRBCB     500.600","rechteckig, Anschluß rund",30,4190,{"$f":"G4121*(1-VLOOKUP(F4121,Konditionen!$B:$G,6,0))","v":4190}]
["LindabSafe Formteile","LRCA","LRCA3151000","Schalldämpfer    LRCA      315.1000","rechteckig, Anschluß rund",30,1482,{"$f":"G4136*(1-VLOOKUP(F4136,Konditionen!$B:$G,6,0))","v":1482}]
["LindabSafe Formteile","LRCB","LRCB3151000","Schalldämpfer    LRCB      315.1000","rechteckig, Anschluß rund",30,645.95000000000005,{"$f":"G4152*(1-VLOOKUP(F4152,Konditionen!$B:$G,6,0))","v":645.95000000000005}]
["LindabSafe Formteile","SLBU","SLBU3151200","Schalldämpfer    SLBU      315.1200","mit Mittelkulisse",30,1660,{"$f":"G4158*(1-VLOOKUP(F4158,Konditionen!$B:$G,6,0))","v":1660}]
["LindabSafe Formteile","SLBU","SLBU5601200","Schalldämpfer    SLBU      560.1200","mit Mittelkulisse",30,3735,{"$f":"G4175*(1-VLOOKUP(F4175,Konditionen!$B:$G,6,0))","v":3735}]
["LindabSafe Formteile","SLBU","SLBU6301500","Schalldämpfer    SLBU      630.1500","mit Mittelkulisse",30,4669,{"$f":"G4180*(1-VLOOKUP(F4180,Konditionen!$B:$G,6,0))","v":4669}]
["LindabSafe Formteile","SLGPU","SLGPU400600100","Schalldämpfer    SLGPU  400.600.100","Schallabsorbierender Kern",30,1765,{"$f":"G4200*(1-VLOOKUP(F4200,Konditionen!$B:$G,6,0))","v":1765}]
["LindabSafe Formteile","SLGPU","SLGPU630600100","Schalldämpfer    SLGPU  630.600.100","Schallabsorbierender Kern",30,2632,{"$f":"G4208*(1-VLOOKUP(F4208,Konditionen!$B:$G,6,0))","v":2632}]
["LindabSafe Formteile","SLGU","SLGU100600100","Schalldämpfer    SLGU 100.600","100mm Isolierung",30,468.15,{"$f":"G4222*(1-VLOOKUP(F4222,Konditionen!$B:$G,6,0))","v":468.15}]
["LindabSafe Formteile","SLGU","SLGU1401200100","Schalldämpfer    SLGU 140.1200","100mm Isolierung",30,1181,{"$f":"G4231*(1-VLOOKUP(F4231,Konditionen!$B:$G,6,0))","v":1181}]
["LindabSafe Formteile","SLGU","SLGU160900150","Schalldämpfer    SLGU 160.900","150mm Isolierung",30,1127,{"$f":"G4248*(1-VLOOKUP(F4248,Konditionen!$B:$G,6,0))","v":1127}]
["LindabSafe Formteile","SLGU","SLGU2501200100","Schalldämpfer    SLGU 250.1200","100mm Isolierung",30,1257,{"$f":"G4264*(1-VLOOKUP(F4264,Konditionen!$B:$G,6,0))","v":1257}]
["LindabSafe Formteile","SLKNU","SLKNU100120050","Schalldämpfer SLKNU 100.1200","mit 50mm Isolierung",30,684.9,{"$f":"G4276*(1-VLOOKUP(F4276,Konditionen!$B:$G,6,0))","v":684.9}]
["LindabSafe Formteile","SLKNU","SLKNU12530050","Schalldämpfer SLKNU 125.300","mit 50mm Isolierung",30,450.5,{"$f":"G4286*(1-VLOOKUP(F4286,Konditionen!$B:$G,6,0))","v":450.5}]
["LindabSafe Formteile","SLKNU","SLKNU2001200100","Schalldämpfer SLKNU 200.1200","mit 100mm Isolierung",30,1298,{"$f":"G4299*(1-VLOOKUP(F4299,Konditionen!$B:$G,6,0))","v":1298}]
["LindabSafe Formteile","SLKNU","SLKNU25060050","Schalldämpfer SLKNU 250.600","mit 50mm Isolierung",30,775.15,{"$f":"G4312*(1-VLOOKUP(F4312,Konditionen!$B:$G,6,0))","v":775.15}]
["LindabSafe Formteile","SLKNU","SLKNU500120050","Schalldämpfer SLKNU 500.1200","mit 50mm Isolierung",30,1982,{"$f":"G4328*(1-VLOOKUP(F4328,Konditionen!$B:$G,6,0))","v":1982}]
["LindabSafe Formteile","SLKNU","SLKNU630900100","Schalldämpfer SLKNU 630.900","mit 100mm Isolierung",30,2704,{"$f":"G4332*(1-VLOOKUP(F4332,Konditionen!$B:$G,6,0))","v":2704}]
["LindabSafe Formteile","SLU","SLU150900","Schalldämpfer    SLU        150.900","mit 50 mm Isolierung",30,398.95,{"$f":"G4350*(1-VLOOKUP(F4350,Konditionen!$B:$G,6,0))","v":398.95}]
["LindabSafe Formteile","SLU","SLU1801200","Schalldämpfer    SLU       180.1200","mit 50 mm Isolierung",30,586.4,{"$f":"G4355*(1-VLOOKUP(F4355,Konditionen!$B:$G,6,0))","v":586.4}]
["LindabSafe Formteile","SLU","SLU300900","Schalldämpfer    SLU        300.900","mit 100 mm Isolierung",30,818.05,{"$f":"G4376*(1-VLOOKUP(F4376,Konditionen!$B:$G,6,0))","v":818.05}]
["LindabSafe Formteile","SLU","SLU5601200","Schalldämpfer    SLU       560.1200","mit 100 mm Isolierung",30,2402,{"$f":"G4392*(1-VLOOKUP(F4392,Konditionen!$B:$G,6,0))","v":2402}]
["LindabSafe Formteile","SLU","SLU710900","Schalldämpfer    SLU        710.900","mit 100 mm Isolierung",30,2458,{"$f":"G4400*(1-VLOOKUP(F4400,Konditionen!$B:$G,6,0))","v":2458}]
["LindabSafe Formteile","SLU","SLU80600","Schalldämpfer    SLU         80.600","mit 50 mm Isolierung",30,241.6,{"$f":"G4405*(1-VLOOKUP(F4405,Konditionen!$B:$G,6,0))","v":241.6}]
["LindabSafe Formteile","SLBU","SLBU9001500","Schalldämpfer    SLBU      900.1500","mit Mittelkulisse",30,6026,{"$f":"G4423*(1-VLOOKUP(F4423,Konditionen!$B:$G,6,0))","v":6026}]
["LindabSafe Formteile","KVDPX","KVDPX160300-2","Schalldämpfer     KVDPX   160.300-2","Acutec Plus, Revisionierbar",30,946.3,{"$f":"G4440*(1-VLOOKUP(F4440,Konditionen!$B:$G,6,0))","v":946.3}]
["LindabSafe Formteile","KVDPX","KVDPX200300-2","Schalldämpfer     KVDPX   200.300-2","Acutec Plus, Revisionierbar",30,1364,{"$f":"G4446*(1-VLOOKUP(F4446,Konditionen!$B:$G,6,0))","v":1364}]
["LindabSafe Formteile","KVDPX","KVDPX4001250-2","Schalldämpfer    KVDPX   400.1250-2","Acutec Plus, Revisionierbar",30,4399,{"$f":"G4462*(1-VLOOKUP(F4462,Konditionen!$B:$G,6,0))","v":4399}]
["LindabSafe Formteile","KVDPX","KVDPX6301250-1","Schalldämpfer    KVDPX   630.1250-1","Acutec Plus",30,6589,{"$f":"G4469*(1-VLOOKUP(F4469,Konditionen!$B:$G,6,0))","v":6589}]
["LindabSafe Formteile","SLFSL","SLFSL502001500","Schalldämpfer  SLFSL50 200.1500","beidseitig Gummilippen-Anschluss",30,782.9,{"$f":"G4491*(1-VLOOKUP(F4491,Konditionen!$B:$G,6,0))","v":782.9}]
["LindabSafe Formteile","SLFSL","SLFSL50300500","Schalldämpfer  SLFSL50 300.500","beidseitig Gummilippen-Anschluss",30,378.5,{"$f":"G4504*(1-VLOOKUP(F4504,Konditionen!$B:$G,6,0))","v":378.5}]
["Schalldämpfer flexibel","SLFK","SLFK1601000","Schalldämpfer DN 160  SLFK 160.1000","Flex. Schalldämpfer B/H 285x210 mm",31,211.75,{"$f":"G4514*(1-VLOOKUP(F4514,Konditionen!$B:$G,6,0))","v":211.75}]
["Schalldämpfer flexibel","SLFL","SLFL253001000","Schalldämpfer    SLFL25   300.1000","beidseitig Gummilippen-Anschluss",31,256.64999999999998,{"$f":"G4526*(1-VLOOKUP(F4526,Konditionen!$B:$G,6,0))","v":256.64999999999998}]
["Schalldämpfer flexibel","SLFL","SLFL25160500","Schalldämpfer    SLFL25   160.500","beidseitig Gummilippen-Anschluss",31,108.3,{"$f":"G4533*(1-VLOOKUP(F4533,Konditionen!$B:$G,6,0))","v":108.3}]
["Schalldämpfer flexibel","SLFL","SLFL251401500","Schalldämpfer    SLFL25   140.1500","beidseitig Gummilippen-Anschluss",31,184.5,{"$f":"G4547*(1-VLOOKUP(F4547,Konditionen!$B:$G,6,0))","v":184.5}]
["Schalldämpfer flexibel","SLFL","SLFL252242000","Schalldämpfer    SLFL25   224.2000","beidseitig Gummilippen-Anschluss",31,331.6,{"$f":"G4568*(1-VLOOKUP(F4568,Konditionen!$B:$G,6,0))","v":331.6}]
["Schalldämpfer flexibel","SLFL","SLFL25280750","Schalldämpfer    SLFL25   280.750","beidseitig Gummilippen-Anschluss",31,247.6,{"$f":"G4578*(1-VLOOKUP(F4578,Konditionen!$B:$G,6,0))","v":247.6}]
["Schalldämpfer flexibel","SLFL","SLFL25801500","Schalldämpfer    SLFL25    80.1500","beidseitig Gummilippen-Anschluss",31,128.80000000000001,{"$f":"G4590*(1-VLOOKUP(F4590,Konditionen!$B:$G,6,0))","v":128.80000000000001}]
["Schalldämpfer flexibel","SLFL","SLFL501251000","Schalldämpfer    SLFL50   125.1000","beidseitig Gummilippen-Anschluss",31,127.45,{"$f":"G4597*(1-VLOOKUP(F4597,Konditionen!$B:$G,6,0))","v":127.45}]
["Schalldämpfer flexibel","SLFL","SLFL50180500","Schalldämpfer    SLFL50   180.500","beidseitig Gummilippen-Anschluss",31,138.35,{"$f":"G4615*(1-VLOOKUP(F4615,Konditionen!$B:$G,6,0))","v":138.35}]
["Schalldämpfer flexibel","SLFL","SLFL50200500","Schalldämpfer    SLFL50   200.500","beidseitig Gummilippen-Anschluss",31,138.35,{"$f":"G4619*(1-VLOOKUP(F4619,Konditionen!$B:$G,6,0))","v":138.35}]
["Schalldämpfer flexibel","SLFL","SLFL503001250","Schalldämpfer    SLFL50   300.1250","beidseitig Gummilippen-Anschluss",31,282.55,{"$f":"G4634*(1-VLOOKUP(F4634,Konditionen!$B:$G,6,0))","v":282.55}]
["Lindab Transfer","BSFTR","BSFTR22490","Transfer Bogen Segment BSFTR 224.90","r = 1,5xd",35,282.14999999999998,{"$f":"G4654*(1-VLOOKUP(F4654,Konditionen!$B:$G,6,0))","v":282.14999999999998}]
["Lindab Transfer","BSFTR","BSFTR25045","Transfer Bogen Segment BSFTR 250.45","r = 1,5xd",35,178.1,{"$f":"G4657*(1-VLOOKUP(F4657,Konditionen!$B:$G,6,0))","v":178.1}]
["Lindab Transfer","BSFTR","BSFTR45015","Transfer Bogen Segment BSFTR 450.15","r = 1,5xd",35,344.35,{"$f":"G4680*(1-VLOOKUP(F4680,Konditionen!$B:$G,6,0))","v":344.35}]
["Lindab Transfer","BSFTR","BSFTR45060","Transfer Bogen Segment BSFTR 450.60","r = 1,5xd",35,557.5,{"$f":"G4683*(1-VLOOKUP(F4683,Konditionen!$B:$G,6,0))","v":557.5}]
["Lindab Transfer","BSTR","BSTR15045","Transfer Bogen gepresst BSTR 150.45","",35,179.65,{"$f":"G4702*(1-VLOOKUP(F4702,Konditionen!$B:$G,6,0))","v":179.65}]
["Lindab Transfer","BTR","BTR10060","Transfer Bogen gepresst BTR  100.60","",35,75,{"$f":"G4718*(1-VLOOKUP(F4718,Konditionen!$B:$G,6,0))","v":75}]
["Lindab Transfer","BTR","BTR14015","Transfer Bogen gepresst BTR  140.15","",35,107.6,{"$f":"G4725*(1-VLOOKUP(F4725,Konditionen!$B:$G,6,0))","v":107.6}]
["Lindab Transfer","BTR","BTR18090","Transfer Bogen gepresst BTR  180.90","",35,186.4,{"$f":"G4744*(1-VLOOKUP(F4744,Konditionen!$B:$G,6,0))","v":186.4}]
["Lindab Transfer","BTR","BTR20045","Transfer Bogen gepresst BTR  200.45","",35,146.1,{"$f":"G4747*(1-VLOOKUP(F4747,Konditionen!$B:$G,6,0))","v":146.1}]
["Lindab Transfer","BTR","BTR25060","Transfer Bogen gepresst BTR  250.60","",35,226.15,{"$f":"G4758*(1-VLOOKUP(F4758,Konditionen!$B:$G,6,0))","v":226.15}]
["Lindab Transfer","ILTR","ILTR125","Transfer Bundkragen ILTR    125","",35,20.3,{"$f":"G4782*(1-VLOOKUP(F4782,Konditionen!$B:$G,6,0))","v":20.3}]
["Lindab Transfer","ILTR","ILTR400","Transfer Bundkragen ILTR    400","",35,41.45,{"$f":"G4793*(1-VLOOKUP(F4793,Konditionen!$B:$G,6,0))","v":41.45}]
["Lindab Transfer","ILTR","ILTR500","Transfer Bundkragen ILTR    500","",35,48.45,{"$f":"G4795*(1-VLOOKUP(F4795,Konditionen!$B:$G,6,0))","v":48.45}]
["Lindab Transfer","LORTR","LORTR300300","Transfer    LORTR  300.300.___._","Übergangsstück",35,568.20000000000005,{"$f":"G4811*(1-VLOOKUP(F4811,Konditionen!$B:$G,6,0))","v":568.20000000000005}]
["Lindab Transfer","LORTR","LORTR450150","Transfer    LORTR  450.150.___._","Übergangsstück",35,654.95000000000005,{"$f":"G4826*(1-VLOOKUP(F4826,Konditionen!$B:$G,6,0))","v":654.95000000000005}]
["Lindab Transfer","LORTR","LORTR500300","Transfer    LORTR  500.300.___._","Übergangsstück",35,721.55,{"$f":"G4837*(1-VLOOKUP(F4837,Konditionen!$B:$G,6,0))","v":721.55}]
["Lindab Transfer","LRTR","LRTR125500","Transfer Längsn.Rohr  LRTR 125.500","",35,54.05,{"$f":"G4849*(1-VLOOKUP(F4849,Konditionen!$B:$G,6,0))","v":54.05}]
["Lindab Transfer","LRTR","LRTR1601500","Transfer Längsn.Rohr  LRTR 160.1500","",35,153,{"$f":"G4859*(1-VLOOKUP(F4859,Konditionen!$B:$G,6,0))","v":153}]
["Lindab Transfer","LRTR","LRTR2242000","Transfer Längsn.Rohr  LRTR 224.2000","",35,295.89999999999998,{"$f":"G4872*(1-VLOOKUP(F4872,Konditionen!$B:$G,6,0))","v":295.89999999999998}]
["Lindab Transfer","LRTR","LRTR4501000","Transfer Längsn.Rohr  LRTR 450.1000","",35,300.64999999999998,{"$f":"G4894*(1-VLOOKUP(F4894,Konditionen!$B:$G,6,0))","v":300.64999999999998}]
["Lindab Transfer","LRTR","LRTR500500","Transfer Längsn.Rohr  LRTR 500.500","",35,198.1,{"$f":"G4901*(1-VLOOKUP(F4901,Konditionen!$B:$G,6,0))","v":198.1}]
["Lindab Transfer","MFTR","MFTR450","Muffe Transfer   MF  TR   450","",35,132.19999999999999,{"$f":"G4917*(1-VLOOKUP(F4917,Konditionen!$B:$G,6,0))","v":132.19999999999999}]
["Lindab Transfer","ORINGTR","ORINGTR150","Oring für Transfer    ORINGTR  150","",35,32.549999999999997,{"$f":"G4923*(1-VLOOKUP(F4923,Konditionen!$B:$G,6,0))","v":32.549999999999997}]
["Lindab Transfer","OTRTH","OTRTH100","Überg.Transf/Schlauch OTRTH  100","Transferanschluss = 100mm",35,76.7,{"$f":"G4936*(1-VLOOKUP(F4936,Konditionen!$B:$G,6,0))","v":76.7}]
["Lindab Transfer","OTR","OTR450","Transfer Übergangsstück  OTR   450","alternative Seite aufgeben",35,139.30000000000001,{"$f":"G4958*(1-VLOOKUP(F4958,Konditionen!$B:$G,6,0))","v":139.30000000000001}]
["Lindab Transfer","OUTR","OUTR160","Transfer Übergangsstück  OUTR   160","auf Safe",35,63.5,{"$f":"G4965*(1-VLOOKUP(F4965,Konditionen!$B:$G,6,0))","v":63.5}]
["Lindab Transfer","OUTR","OUTR400","Transfer Übergangsstück  OUTR   400","auf Safe",35,125.7,{"$f":"G4973*(1-VLOOKUP(F4973,Konditionen!$B:$G,6,0))","v":125.7}]
["Lindab Transfer","PSTR","PSTR315315","Transfer Sattelstutzen PSTR 315.315","",35,194.5,{"$f":"G4987*(1-VLOOKUP(F4987,Konditionen!$B:$G,6,0))","v":194.5}]
["Lindab Transfer","PSVTR","PSVTR350350","Transfer Sattel PSVTR 30   350.350","",35,373.9,{"$f":"G5004*(1-VLOOKUP(F5004,Konditionen!$B:$G,6,0))","v":373.9}]
["Lindab Transfer","PTR","PTR100","Transfer Pass-Stück   PTR      100","",35,36.950000000000003,{"$f":"G5009*(1-VLOOKUP(F5009,Konditionen!$B:$G,6,0))","v":36.950000000000003}]
["Lindab Transfer","RCLTR","RCLTR140125","Transfer Reduzierung RCLTR 140.125","",35,111.9,{"$f":"G5029*(1-VLOOKUP(F5029,Konditionen!$B:$G,6,0))","v":111.9}]
["Lindab Transfer","RCLTR","RCLTR180125","Transfer Reduzierung RCLTR 180.125","",35,141.9,{"$f":"G5041*(1-VLOOKUP(F5041,Konditionen!$B:$G,6,0))","v":141.9}]
["Lindab Transfer","RCLTR","RCLTR200180","Transfer Reduzierung RCLTR 200.180","",35,141.9,{"$f":"G5051*(1-VLOOKUP(F5051,Konditionen!$B:$G,6,0))","v":141.9}]
["Lindab Transfer","RCLTR","RCLTR22480","Transfer Reduzierung RCLTR 224.80","",35,179.65,{"$f":"G5060*(1-VLOOKUP(F5060,Konditionen!$B:$G,6,0))","v":179.65}]
["Lindab Transfer","RCLTR","RCLTR300150","Transfer Reduzierung RCLTR 300.150","",35,209.25,{"$f":"G5073*(1-VLOOKUP(F5073,Konditionen!$B:$G,6,0))","v":209.25}]
["Lindab Transfer","RCLTR","RCLTR350224","Transfer Reduzierung RCLTR 350.224","",35,243,{"$f":"G5093*(1-VLOOKUP(F5093,Konditionen!$B:$G,6,0))","v":243}]
["Lindab Transfer","RCLTR","RCLTR400350","Transfer Reduzierung RCLTR 400.350","",35,309.10000000000002,{"$f":"G5105*(1-VLOOKUP(F5105,Konditionen!$B:$G,6,0))","v":309.10000000000002}]
["Lindab Transfer","RCLTR","RCLTR500180","Transfer Reduzierung RCLTR 500.180","",35,433.7,{"$f":"G5115*(1-VLOOKUP(F5115,Konditionen!$B:$G,6,0))","v":433.7}]
["Lindab Transfer","SB","SB160","Transfer Spannring   SB        160","",35,52.8,{"$f":"G5128*(1-VLOOKUP(F5128,Konditionen!$B:$G,6,0))","v":52.8}]
["Lindab Transfer","SB2","SB2200","Transfer Spannring   SB-2      200","mit Schraubverschluß",35,28.05,{"$f":"G5137*(1-VLOOKUP(F5137,Konditionen!$B:$G,6,0))","v":28.05}]
["Lindab Transfer","SB","SB350","Transfer Spannring   SB        350","",35,84.5,{"$f":"G5151*(1-VLOOKUP(F5151,Konditionen!$B:$G,6,0))","v":84.5}]
["Lindab Transfer","SHU","SHU160315MAGNET","Saugtrichter    SHU 160.315 MAGNET","Handgriff, Dichtklappe u. Magnet",35,654.95000000000005,{"$f":"G5163*(1-VLOOKUP(F5163,Konditionen!$B:$G,6,0))","v":654.95000000000005}]
["Lindab Transfer","SKMTR","SKMTR350","Transfer Absperrschieber SKMTR  350","manuelle Betätigung",35,1022,{"$f":"G5179*(1-VLOOKUP(F5179,Konditionen!$B:$G,6,0))","v":1022}]
["Lindab Transfer","SLDTR","SLDTR1001290","Transf.Schalldämpfer SLDTR 100.1290","inspizierbar",35,1010,{"$f":"G5196*(1-VLOOKUP(F5196,Konditionen!$B:$G,6,0))","v":1010}]
["Lindab Transfer","SLDTR","SLDTR125390","Transf.Schalldämpfer SLDTR 125.390","inspizierbar",35,636.35,{"$f":"G5201*(1-VLOOKUP(F5201,Konditionen!$B:$G,6,0))","v":636.35}]
["Lindab Transfer","SLDTR","SLDTR400990","Transf.Schalldämpfer SLDTR 400.990","inspizierbar",35,3050,{"$f":"G5219*(1-VLOOKUP(F5219,Konditionen!$B:$G,6,0))","v":3050}]
["Lindab Transfer","SLDTR","SLDTR80990","Transf.Schalldämpfer SLDTR  80.990","inspizierbar",35,794.35,{"$f":"G5227*(1-VLOOKUP(F5227,Konditionen!$B:$G,6,0))","v":794.35}]
["Lindab Transfer","SLGTR","SLGTR1601290","Transf.Schalldämpfer SLGTR 160.1290","",35,1493,{"$f":"G5243*(1-VLOOKUP(F5243,Konditionen!$B:$G,6,0))","v":1493}]
["Lindab Transfer","SLGTR","SLGTR200990","Transf.Schalldämpfer SLGTR 200.990","",35,1468,{"$f":"G5252*(1-VLOOKUP(F5252,Konditionen!$B:$G,6,0))","v":1468}]
["Lindab Transfer","SLTR","SLTR125990","Transf. Schalldämpfer SLTR 125.990","",35,639.95000000000005,{"$f":"G5269*(1-VLOOKUP(F5269,Konditionen!$B:$G,6,0))","v":639.95000000000005}]
["Lindab Transfer","SLTR","SLTR150390","Transf. Schalldämpfer SLTR 150.390","",35,519.70000000000005,{"$f":"G5275*(1-VLOOKUP(F5275,Konditionen!$B:$G,6,0))","v":519.70000000000005}]
["Lindab Transfer","SLTR","SLTR224690","Transf. Schalldämpfer SLTR 224.690","",35,849.3,{"$f":"G5291*(1-VLOOKUP(F5291,Konditionen!$B:$G,6,0))","v":849.3}]
["Lindab Transfer","SLTR","SLTR450990","Transf. Schalldämpfer SLTR 450.990","",35,2319,{"$f":"G5307*(1-VLOOKUP(F5307,Konditionen!$B:$G,6,0))","v":2319}]
["Lindab Transfer","SRTR","SRTR1006000","Transfer Rohr    SRTR    100.6000","",35,353.25,{"$f":"G5320*(1-VLOOKUP(F5320,Konditionen!$B:$G,6,0))","v":353.25}]
["Lindab Transfer","SRTR","SRTR1501000","Transfer Rohr    SRTR    150.1000","",35,85.2,{"$f":"G5333*(1-VLOOKUP(F5333,Konditionen!$B:$G,6,0))","v":85.2}]
["Lindab Transfer","SRTR","SRTR160500","Transfer Rohr    SRTR    160.500","",35,46.15,{"$f":"G5343*(1-VLOOKUP(F5343,Konditionen!$B:$G,6,0))","v":46.15}]
["Lindab Transfer","SRTR","SRTR200500","Transfer Rohr    SRTR    200.500","",35,54.05,{"$f":"G5355*(1-VLOOKUP(F5355,Konditionen!$B:$G,6,0))","v":54.05}]
["Lindab Transfer","SRTR","SRTR2246000","Transfer Rohr    SRTR    224.6000","",35,751.7,{"$f":"G5362*(1-VLOOKUP(F5362,Konditionen!$B:$G,6,0))","v":751.7}]
["Lindab Transfer","SRTR","SRTR3152000","Transfer Rohr    SRTR    315.2000","",35,350.45,{"$f":"G5377*(1-VLOOKUP(F5377,Konditionen!$B:$G,6,0))","v":350.45}]
["Lindab Transfer","SRTR","SRTR450500","Transfer Rohr    SRTR    450.500","",35,126.3,{"$f":"G5397*(1-VLOOKUP(F5397,Konditionen!$B:$G,6,0))","v":126.3}]
["Lindab Transfer","TLTR","TLTR1 80","Transfer Teleskoprohr TLTR 1  80","",35,61.95,{"$f":"G5411*(1-VLOOKUP(F5411,Konditionen!$B:$G,6,0))","v":61.95}]
["Lindab Transfer","TLTR","TLTR1224","Transfer Teleskoprohr TLTR 1 224","",35,137.55000000000001,{"$f":"G5419*(1-VLOOKUP(F5419,Konditionen!$B:$G,6,0))","v":137.55000000000001}]
["Lindab Transfer","TLTR","TLTR2140","Transfer Teleskoprohr TLTR 2 140","",35,70.7,{"$f":"G5430*(1-VLOOKUP(F5430,Konditionen!$B:$G,6,0))","v":70.7}]
["Lindab Transfer","TLTR","TLTR2450","Transfer Teleskoprohr TLTR 2 450","",35,194.5,{"$f":"G5441*(1-VLOOKUP(F5441,Konditionen!$B:$G,6,0))","v":194.5}]
["Lindab Transfer","TVTR30","TVTR30125100100","Transf. T-Stck TVTR 30 125.100.100","",35,249.75,{"$f":"G5461*(1-VLOOKUP(F5461,Konditionen!$B:$G,6,0))","v":249.75}]
["Lindab Transfer","TVTR30","TVTR301408080","Transf. T-Stck TVTR 30 140. 80. 80","",35,287.60000000000002,{"$f":"G5467*(1-VLOOKUP(F5467,Konditionen!$B:$G,6,0))","v":287.60000000000002}]
["Lindab Transfer","TVTR30","TVTR30180160160","Transf. T-Stck TVTR 30 180.160.160","",35,360.55,{"$f":"G5483*(1-VLOOKUP(F5483,Konditionen!$B:$G,6,0))","v":360.55}]
["Lindab Transfer","TVTR30","TVTR30224150150","Transf. T-Stck TVTR 30 224.150.150","",35,429.15,{"$f":"G5498*(1-VLOOKUP(F5498,Konditionen!$B:$G,6,0))","v":429.15}]
["Lindab Transfer","TVTR30","TVTR30250125125","Transf. T-Stck TVTR 30 250.125.125","",35,413.15,{"$f":"G5505*(1-VLOOKUP(F5505,Konditionen!$B:$G,6,0))","v":413.15}]
["Lindab Transfer","TVTR30","TVTR30315100100","Transf. T-Stck TVTR 30 315.100.100","",35,449.7,{"$f":"G5525*(1-VLOOKUP(F5525,Konditionen!$B:$G,6,0))","v":449.7}]
["Lindab Transfer","TVTR30","TVTR30315200200","Transf. T-Stck TVTR 30 315.200.200","",35,528.15,{"$f":"G5531*(1-VLOOKUP(F5531,Konditionen!$B:$G,6,0))","v":528.15}]
["Lindab Transfer","TVTR30","TVTR30400140140","Transf. T-Stck TVTR 30 400.140.140","",35,594.15,{"$f":"G5547*(1-VLOOKUP(F5547,Konditionen!$B:$G,6,0))","v":594.15}]
["Lindab Transfer","TVTR30","TVTR30400300300","Transf. T-Stck TVTR 30 400.300.300","",35,728.1,{"$f":"G5554*(1-VLOOKUP(F5554,Konditionen!$B:$G,6,0))","v":728.1}]
["Lindab Transfer","TVTR30","TVTR30450450450","Transf. T-Stck TVTR 30 450.450.450","",35,926.6,{"$f":"G5569*(1-VLOOKUP(F5569,Konditionen!$B:$G,6,0))","v":926.6}]
["Lindab Transfer","TVTR30","TVTR30500300300","Transf. T-Stck TVTR 30 500.300.300","",35,746.65,{"$f":"G5576*(1-VLOOKUP(F5576,Konditionen!$B:$G,6,0))","v":746.65}]
["Lindab Transfer","XVTR","XVTR180125125125","Tr.Kreuzst.XVTR 30 180.125.125.125","",35,530.54999999999995,{"$f":"G5599*(1-VLOOKUP(F5599,Konditionen!$B:$G,6,0))","v":530.54999999999995}]
["Lindab Transfer","XVTR","XVTR224100100100","Tr.Kreuzst.XVTR 30 224.100.100.100","",35,590.20000000000005,{"$f":"G5611*(1-VLOOKUP(F5611,Konditionen!$B:$G,6,0))","v":590.20000000000005}]
["Lindab Transfer","XVTR","XVTR250150150150","Tr.Kreuzst.XVTR 30 250.150.150.150","",35,646.5,{"$f":"G5622*(1-VLOOKUP(F5622,Konditionen!$B:$G,6,0))","v":646.5}]
["Lindab Transfer","XVTR","XVTR300180180180","Tr.Kreuzst.XVTR 30 300.180.180.180","",35,781.3,{"$f":"G5633*(1-VLOOKUP(F5633,Konditionen!$B:$G,6,0))","v":781.3}]
["Lindab Transfer","XVTR","XVTR315200200200","Tr.Kreuzst.XVTR 30 315.200.200.200","",35,788.45,{"$f":"G5645*(1-VLOOKUP(F5645,Konditionen!$B:$G,6,0))","v":788.45}]
["Lindab Transfer","XVTR","XVTR350300300300","Tr.Kreuzst.XVTR 30 350.300.300.300","",35,919.05,{"$f":"G5659*(1-VLOOKUP(F5659,Konditionen!$B:$G,6,0))","v":919.05}]
["Lindab Transfer","XVTR","XVTR450100100100","Tr.Kreuzst.XVTR 30 450.100.100.100","",35,791.1,{"$f":"G5675*(1-VLOOKUP(F5675,Konditionen!$B:$G,6,0))","v":791.1}]
["Lindab Transfer","XVTR","XVTR450150150150","Tr.Kreuzst.XVTR 30 450.150.150.150","",35,906.1,{"$f":"G5678*(1-VLOOKUP(F5678,Konditionen!$B:$G,6,0))","v":906.1}]
["Lindab Transfer","XVTR","XVTR500400400400","Tr.Kreuzst.XVTR 30 500.400.400.400","",35,1352,{"$f":"G5701*(1-VLOOKUP(F5701,Konditionen!$B:$G,6,0))","v":1352}]
["Lindab Transfer","YVTR30","YVTR30150100100","Tr.Hosenstück  YVTR 30 150.100.100","",35,381.1,{"$f":"G5713*(1-VLOOKUP(F5713,Konditionen!$B:$G,6,0))","v":381.1}]
["Lindab Transfer","YVTR30","YVTR301608080","Tr.Hosenstück  YVTR 30 160. 80. 80","",35,381.1,{"$f":"G5723*(1-VLOOKUP(F5723,Konditionen!$B:$G,6,0))","v":381.1}]
["Lindab Transfer","YVTR30","YVTR30224100100","Tr.Hosenstück  YVTR 30 224.100.100","",35,519.70000000000005,{"$f":"G5739*(1-VLOOKUP(F5739,Konditionen!$B:$G,6,0))","v":519.70000000000005}]
["Lindab Transfer","YVTR30","YVTR30224224224","Tr.Hosenstück  YVTR 30 224.224.224","",35,740.15,{"$f":"G5746*(1-VLOOKUP(F5746,Konditionen!$B:$G,6,0))","v":740.15}]
["Lindab Transfer","YVTR30","YVTR30250160160","Tr.Hosenstück  YVTR 30 250.160.160","",35,572.85,{"$f":"G5752*(1-VLOOKUP(F5752,Konditionen!$B:$G,6,0))","v":572.85}]
["Lindab Transfer","YVTR30","YVTR30315100100","Tr.Hosenstück  YVTR 30 315.100.100","",35,642.9,{"$f":"G5769*(1-VLOOKUP(F5769,Konditionen!$B:$G,6,0))","v":642.9}]
["Lindab Transfer","YVTR30","YVTR30350200200","Tr.Hosenstück  YVTR 30 350.200.200","",35,749.85,{"$f":"G5787*(1-VLOOKUP(F5787,Konditionen!$B:$G,6,0))","v":749.85}]
["Lindab Transfer","YVTR30","YVTR30400140140","Tr.Hosenstück  YVTR 30 400.140.140","",35,787.5,{"$f":"G5794*(1-VLOOKUP(F5794,Konditionen!$B:$G,6,0))","v":787.5}]
["Lindab Transfer","YVTR30","YVTR30450350350","Tr.Hosenstück  YVTR 30 450.350.350","",35,1109,{"$f":"G5814*(1-VLOOKUP(F5814,Konditionen!$B:$G,6,0))","v":1109}]
["Lindab Transfer","YVTR30","YVTR30450450450","Tr.Hosenstück  YVTR 30 450.450.450","",35,1228,{"$f":"G5816*(1-VLOOKUP(F5816,Konditionen!$B:$G,6,0))","v":1228}]
["Panelfilter und V-Zellen","FIBOX","FIBOX250","Filterbox FIBOX 250  Safe-Anschluss","für Panelfilter 593x493x47mm",37,413.4,{"$f":"G5837*(1-VLOOKUP(F5837,Konditionen!$B:$G,6,0))","v":413.4}]
["Panelfilter und V-Zellen","SBOX","SB94","Service-Box     SB 94","Montagesatz für Panelfilter 95 mm",37,23.7,{"$f":"G5851*(1-VLOOKUP(F5851,Konditionen!$B:$G,6,0))","v":23.7}]
["Panelfilter und V-Zellen","VFR","VFR305305","Filterrahmen  VFR  305 X 305    MM","für Filter 22/47MM  287X287MM",37,65.5,{"$f":"G5856*(1-VLOOKUP(F5856,Konditionen!$B:$G,6,0))","v":65.5}]
["Panelfilter und V-Zellen","EPM170","EPM17095287593","Panelfilter EPM1-70  95mm 287x593","Filterklasse ePM1 70%",37,92.1,{"$f":"G5873*(1-VLOOKUP(F5873,Konditionen!$B:$G,6,0))","v":92.1}]
["Panelfilter und V-Zellen","EPM180","EPM18095287287","Panelfilter EPM1-80  95mm 287x287","Filterklasse ePM1 80%",37,85.45,{"$f":"G5880*(1-VLOOKUP(F5880,Konditionen!$B:$G,6,0))","v":85.45}]
["Panelfilter und V-Zellen","EPM1070","EPM107047287593","Panelfilter EPM10-70  47mm 287x593","Filterklasse ePM10 70%",37,55.8,{"$f":"G5893*(1-VLOOKUP(F5893,Konditionen!$B:$G,6,0))","v":55.8}]
["Panelfilter und V-Zellen","EPM170","EPM17047493493","Panelfilter EPM1-70  47mm 493x493","Filterklasse ePM1 70%",37,89.8,{"$f":"G5915*(1-VLOOKUP(F5915,Konditionen!$B:$G,6,0))","v":89.8}]
["Panelfilter und V-Zellen","EPM180","EPM18095493493","Panelfilter EPM1-80  95mm 493x493","Filterklasse ePM1 80%",37,155.55000000000001,{"$f":"G5924*(1-VLOOKUP(F5924,Konditionen!$B:$G,6,0))","v":155.55000000000001}]
["Panelfilter und V-Zellen","BLU170","BLU300170592287","BLU-Hybrid 300 Filter    296mm","592 x 287  Filterklasse ePM1 70%",37,96.05,{"$f":"G5937*(1-VLOOKUP(F5937,Konditionen!$B:$G,6,0))","v":96.05}]
["Panelfilter und V-Zellen","IFU-K","IFU-K200","Filterkassette   IFU-K         200","",37,48.5,{"$f":"G5944*(1-VLOOKUP(F5944,Konditionen!$B:$G,6,0))","v":48.5}]
["Panelfilter und V-Zellen","IFU","IFU400","Einsteckfilter   IFU           400","",37,263.8,{"$f":"G5957*(1-VLOOKUP(F5957,Konditionen!$B:$G,6,0))","v":263.8}]
["Panelfilter und V-Zellen","STR","STRG4500","Rohrfilter       STR G4  500","ISO Coarse 65%",37,264.25,{"$f":"G5966*(1-VLOOKUP(F5966,Konditionen!$B:$G,6,0))","v":264.25}]
["Panelfilter und V-Zellen","TF7","TF73003287287","Taschenfilter TF7-300-3 287 X 287","ISO ePM1 60%, Kunststoffrahmen",37,22.25,{"$f":"G5980*(1-VLOOKUP(F5980,Konditionen!$B:$G,6,0))","v":22.25}]
["Panelfilter und V-Zellen","TF7","TF73608592287","Taschenfilter TF7-350-8 592 X 287","ISO ePM1 60%, Kunststoffrahmen",37,42.3,{"$f":"G6001*(1-VLOOKUP(F6001,Konditionen!$B:$G,6,0))","v":42.3}]
["Panelfilter und V-Zellen","TF7","TF753510592490","Taschenfilter TF7-535-10 592 X 490","ISO ePM1 60%, Kunststoffrahmen",37,80.099999999999994,{"$f":"G6008*(1-VLOOKUP(F6008,Konditionen!$B:$G,6,0))","v":80.099999999999994}]
["Panelfilter und V-Zellen","TF7","TF76003287592","Taschenfilter TF7-600-3 287 X 592","ISO ePM1 60%, Kunststoffrahmen",37,38.15,{"$f":"G6025*(1-VLOOKUP(F6025,Konditionen!$B:$G,6,0))","v":38.15}]
["Panelfilter und V-Zellen","TF7","TF76006490592","Taschenfilter TF7-600-6 490 X 592","ISO ePM1 60%, Kunststoffrahmen",37,62.2,{"$f":"G6030*(1-VLOOKUP(F6030,Konditionen!$B:$G,6,0))","v":62.2}]
["Panelfilter und V-Zellen","TF7","TF763512592592","Taschenfilter TF7-635-12 592 X 592","ISO ePM1 60%, Kunststoffrahmen",37,113.85,{"$f":"G6048*(1-VLOOKUP(F6048,Konditionen!$B:$G,6,0))","v":113.85}]
["Panelfilter und V-Zellen","TF7","TF76358490592","Taschenfilter TF7-635-8 490 X 592","ISO ePM1 60%, Kunststoffrahmen",37,80.849999999999994,{"$f":"G6056*(1-VLOOKUP(F6056,Konditionen!$B:$G,6,0))","v":80.849999999999994}]
["Panelfilter und V-Zellen","TF9","TF93603287592","Taschenfilter TF9-350-3 287 X 592","ISO ePM1 80%, Kunststoffrahmen",37,32.799999999999997,{"$f":"G6071*(1-VLOOKUP(F6071,Konditionen!$B:$G,6,0))","v":32.799999999999997}]
["Panelfilter und V-Zellen","TF9","TF953512592892","Taschenfilter TF9-535-12 592 X 892","ISO ePM1 80%, Metallrahmen",37,160.25,{"$f":"G6091*(1-VLOOKUP(F6091,Konditionen!$B:$G,6,0))","v":160.25}]
["Panelfilter und V-Zellen","TF9","TF95355287892","Taschenfilter TF9-535-5 287 X 892","ISO ePM1 80%, Metallrahmen",37,79.5,{"$f":"G6094*(1-VLOOKUP(F6094,Konditionen!$B:$G,6,0))","v":79.5}]
["Panelfilter und V-Zellen","TF9","TF96008490892","Taschenfilter TF9-600-8 490 X 892","ISO ePM1 80%, Metallrahmen",37,130.05000000000001,{"$f":"G6116*(1-VLOOKUP(F6116,Konditionen!$B:$G,6,0))","v":130.05000000000001}]
["Panelfilter und V-Zellen","TF9","TF96008592892","Taschenfilter TF9-600-8 592 X 892","ISO ePM1 80%, Metallrahmen",37,126.15,{"$f":"G6120*(1-VLOOKUP(F6120,Konditionen!$B:$G,6,0))","v":126.15}]
["Panelfilter und V-Zellen","TG4","TG42003287287","Taschenfilter TG4-200-3 287 X 287","ISO Coarse 60%, Kunststoffrahmen",37,17.3,{"$f":"G6139*(1-VLOOKUP(F6139,Konditionen!$B:$G,6,0))","v":17.3}]
["Panelfilter und V-Zellen","TG4","TG42006592287","Taschenfilter TG4-200-6 592 X 287","ISO Coarse 60%, Kunststoffrahmen",37,22.75,{"$f":"G6142*(1-VLOOKUP(F6142,Konditionen!$B:$G,6,0))","v":22.75}]
["Panelfilter und V-Zellen","TG4","TG43606592592","Taschenfilter TG4-360-6 592 X 592","ISO Coarse 60%, Kunststoffrahmen",37,34.25,{"$f":"G6158*(1-VLOOKUP(F6158,Konditionen!$B:$G,6,0))","v":34.25}]
["Panelfilter und V-Zellen","TM5","TM52006592287","Taschenfilter TM5-200-6 592 X 287","ISO ePM10 60%, Kunststoffrahmen",37,24.05,{"$f":"G6172*(1-VLOOKUP(F6172,Konditionen!$B:$G,6,0))","v":24.05}]
["Panelfilter und V-Zellen","TM5","TM53603287592","Taschenfilter TM5-350-3 287 X 592","ISO ePM10 60%, Kunststoffrahmen",37,24.9,{"$f":"G6184*(1-VLOOKUP(F6184,Konditionen!$B:$G,6,0))","v":24.9}]
["Panelfilter und V-Zellen","TM5","TM56005490592","Taschenfilter TM5-600-5 490 X 592","ISO ePM10 60%, Kunststoffrahmen",37,41.35,{"$f":"G6195*(1-VLOOKUP(F6195,Konditionen!$B:$G,6,0))","v":41.35}]
["Panelfilter und V-Zellen","TM6","TM63006490592","Taschenfilter TM6-300-6 490 X 592","ISO ePM10 65%, Kunststoffrahmen",37,35.450000000000003,{"$f":"G6206*(1-VLOOKUP(F6206,Konditionen!$B:$G,6,0))","v":35.450000000000003}]
["Panelfilter und V-Zellen","TM6","TM653510490892","Taschenfilter TM6-535-10 490 X 892","ISO ePM10 65%, Metallrahmen",37,85.4,{"$f":"G6226*(1-VLOOKUP(F6226,Konditionen!$B:$G,6,0))","v":85.4}]
["Panelfilter und V-Zellen","TM6","TM65356287892","Taschenfilter TM6-535-6 287 X 892","ISO ePM10 65%, Metallrahmen",37,59.6,{"$f":"G6240*(1-VLOOKUP(F6240,Konditionen!$B:$G,6,0))","v":59.6}]
["Panelfilter und V-Zellen","TM6","TM66004287287","Taschenfilter TM6-600-4 287 X 287","ISO ePM10 65%, Kunststoffrahmen",37,29.2,{"$f":"G6248*(1-VLOOKUP(F6248,Konditionen!$B:$G,6,0))","v":29.2}]
["Panelfilter und V-Zellen","TM6","TM66008592892","Taschenfilter TM6-600-8 592 X 892","ISO ePM10 65%, Metallrahmen",37,80.25,{"$f":"G6263*(1-VLOOKUP(F6263,Konditionen!$B:$G,6,0))","v":80.25}]
["Panelfilter und V-Zellen","TM6","TM663512592287","Taschenfilter TM6-635-12 592 X 287","ISO ePM10 65%, Kunststoffrahmen",37,63.9,{"$f":"G6270*(1-VLOOKUP(F6270,Konditionen!$B:$G,6,0))","v":63.9}]
["Panelfilter und V-Zellen","ZL","ZLG448610610","Z-Line Filter G4 610 x 610 x 48 mm","ISO Coarse 60%, im Papprahmen",37,49.65,{"$f":"G6290*(1-VLOOKUP(F6290,Konditionen!$B:$G,6,0))","v":49.65}]
["Panelfilter und V-Zellen","ZL","ZLG496495495","Z-Line Filter G4 495 x 495 x 96 mm","ISO Coarse 60%, im Papprahmen",37,53.95,{"$f":"G6296*(1-VLOOKUP(F6296,Konditionen!$B:$G,6,0))","v":53.95}]
["Panelfilter und V-Zellen","ZL","ZLM596495495","Z-Line Filter M5 495 x 495 x 96 mm","ISO Coarse 90%, im Papprahmen",37,55.35,{"$f":"G6312*(1-VLOOKUP(F6312,Konditionen!$B:$G,6,0))","v":55.35}]
["Panelfilter und V-Zellen","TF9","TF93608592892","Taschenfilter TF9-350-8 592 X 892","ISO ePM1 80%, Metallrahmen",37,90.4,{"$f":"G6319*(1-VLOOKUP(F6319,Konditionen!$B:$G,6,0))","v":90.4}]
["Panelfilter und V-Zellen","TM5","TM56356592592","Taschenfilter TM5-635-6 592 X 592","ISO ePM10 60%, Kunststoffrahmen",37,50.45,{"$f":"G6334*(1-VLOOKUP(F6334,Konditionen!$B:$G,6,0))","v":50.45}]
["Dachhauben","QDDF","QDDF150","Dachdurchführung QDDF 1500x1500mm","0° Neigung einw. Ausführung L=1.000",53,945.15,{"$f":"G6350*(1-VLOOKUP(F6350,Konditionen!$B:$G,6,0))","v":945.15}]
["Dachhauben","QFDSVZ","QFDSVZ1000","Flachdachsockel QFDSVZ  A=1000mm","..° Dachneigung s=2.00mm verzinkt",53,978.6,{"$f":"G6356*(1-VLOOKUP(F6356,Konditionen!$B:$G,6,0))","v":978.6}]
["Dachhauben","LHPR","LHPR900900","Außen- und Fortlufthaube LHPR","900 x 900 mm, Rahmen = ?? mm",53,4061,{"$f":"G6376*(1-VLOOKUP(F6376,Konditionen!$B:$G,6,0))","v":4061}]
["Dachhauben","LHR","LHR300300-5","Lamellenhaube Quad. LHR   300X300-5","verzinkt, Rahmen = ?? mm",53,760,{"$f":"G6383*(1-VLOOKUP(F6383,Konditionen!$B:$G,6,0))","v":760}]
["Dachhauben","GISOL","GISOL1002241000","Dachdurchf. GISOL 100.224.1000.____","mit Platte aus Polymergummi,",53,629.75,{"$f":"G6398*(1-VLOOKUP(F6398,Konditionen!$B:$G,6,0))","v":629.75}]
["Dachhauben","HF","HF1000","Deflektorhaube HF              1000","m. 2 Flansche",53,2485,{"$f":"G6418*(1-VLOOKUP(F6418,Konditionen!$B:$G,6,0))","v":2485}]
["Dachhauben","HF","HF1250","Deflektorhaube   HF           1250","m. 2 Flansche",53,3702,{"$f":"G6420*(1-VLOOKUP(F6420,Konditionen!$B:$G,6,0))","v":3702}]
["Dachhauben","HN","HN250","Deflektorhaube   HN            250","",53,231.85,{"$f":"G6440*(1-VLOOKUP(F6440,Konditionen!$B:$G,6,0))","v":231.85}]
["Dachhauben","MG","MG100","Membrandurchführung MG  100","eingefasst in Aluminiumplatte",53,112.9,{"$f":"G6451*(1-VLOOKUP(F6451,Konditionen!$B:$G,6,0))","v":112.9}]
["Dachhauben","TGFV","TGFV160","Dachdurchführg. TGFV           160","H = 600 MM * mit Regenkragen",53,303.3,{"$f":"G6462*(1-VLOOKUP(F6462,Konditionen!$B:$G,6,0))","v":303.3}]
["Dachhauben","TGFV","TGFV560","Dachdurchführg. TGFV           560","H = 600 MM * mit Regenkragen",53,592.79999999999995,{"$f":"G6474*(1-VLOOKUP(F6474,Konditionen!$B:$G,6,0))","v":592.79999999999995}]
["Dachhauben","TGF","TGF1500","Dachdurchführg. TGF 0          150","H = 500 MM * ohne Regenkragen",53,149.55000000000001,{"$f":"G6488*(1-VLOOKUP(F6488,Konditionen!$B:$G,6,0))","v":149.55000000000001}]
["Dachhauben","TGF","TGF3150","Dachdurchführg. TGF 0          315","H= 500 MM  * ohne Regenkragen",53,184.45,{"$f":"G6504*(1-VLOOKUP(F6504,Konditionen!$B:$G,6,0))","v":184.45}]
["Dachhauben","TGF","TGF6301-45","Dachdurchführg. TGF 1-45 630 __Grad","ohne Regenkragen",53,455.25,{"$f":"G6519*(1-VLOOKUP(F6519,Konditionen!$B:$G,6,0))","v":455.25}]
["Dachhauben","VHA","VHA100224","Fortlufthaube verz. VHA    100/224","",53,241.15,{"$f":"G6526*(1-VLOOKUP(F6526,Konditionen!$B:$G,6,0))","v":241.15}]
["Dachhauben","VHING","VHING11231-45","Dachdurchführg.  VHING 31-45   112","mit Platte aus Polymergummi",53,229.15,{"$f":"G6542*(1-VLOOKUP(F6542,Konditionen!$B:$G,6,0))","v":229.15}]
["Dachhauben","VHING","VHING1500","Dachdurchführg.  VHING   0     150","komplett verzinkt",53,181.6,{"$f":"G6552*(1-VLOOKUP(F6552,Konditionen!$B:$G,6,0))","v":181.6}]
["Dachhauben","VHING","VHING2001-30","Dachdurchführg.  VHING  1-30   200","mit Platte aus Polymergummi",53,334.8,{"$f":"G6565*(1-VLOOKUP(F6565,Konditionen!$B:$G,6,0))","v":334.8}]
["Dachhauben","VHING","VHING25031-45","Dachdurchführg.  VHING 31-45   250","mit Platte aus Polymergummi",53,388.85,{"$f":"G6574*(1-VLOOKUP(F6574,Konditionen!$B:$G,6,0))","v":388.85}]
["Dachhauben","VHING","VHING35531-45","Dachdurchführg.  VHING 31-45   355","mit Platte aus Polymergummi",53,578.9,{"$f":"G6590*(1-VLOOKUP(F6590,Konditionen!$B:$G,6,0))","v":578.9}]
["Dachhauben","VHING","VHING45031-45","Dachdurchführg.  VHING 31-45   450","mit Platte aus Polymergummi",53,703.2,{"$f":"G6598*(1-VLOOKUP(F6598,Konditionen!$B:$G,6,0))","v":703.2}]
["Dachhauben","VHING","VHING63016-30","Dachdurchführg.  VHING 16-30   630","mit Platte aus Polymergummi",53,910.75,{"$f":"G6616*(1-VLOOKUP(F6616,Konditionen!$B:$G,6,0))","v":910.75}]
["Dachhauben","VHING","VHING71016-30","Dachdurchführg.  VHING 16-30   710","mit Platte aus Polymergummi",53,1026,{"$f":"G6621*(1-VLOOKUP(F6621,Konditionen!$B:$G,6,0))","v":1026}]
["Dachhauben","VHL","VHL160280","Lamellenhaube verz.  VHL   160/280","",53,290.64999999999998,{"$f":"G6638*(1-VLOOKUP(F6638,Konditionen!$B:$G,6,0))","v":290.64999999999998}]
["Dachhauben","VHP","VHP630800","Dachhaube       VHP        630.800","",53,1185,{"$f":"G6658*(1-VLOOKUP(F6658,Konditionen!$B:$G,6,0))","v":1185}]
["Dachhauben","VH","VH1250","Dachhaube        VH           1250","D = 2000 mm, h = 200 mm, H = 585 mm",53,1651,{"$f":"G6666*(1-VLOOKUP(F6666,Konditionen!$B:$G,6,0))","v":1651}]
["Dachhauben","VH","VH500","Dachhaube        VH            500","",53,388.35,{"$f":"G6680*(1-VLOOKUP(F6680,Konditionen!$B:$G,6,0))","v":388.35}]
["Dachhauben","WKR","WKR112","Wasserkragen     WKR           112","",53,53.35,{"$f":"G6689*(1-VLOOKUP(F6689,Konditionen!$B:$G,6,0))","v":53.35}]
["Dachhauben","WKR","WKR400","Wasserkragen     WKR           400","",53,142.35,{"$f":"G6702*(1-VLOOKUP(F6702,Konditionen!$B:$G,6,0))","v":142.35}]
["Dachhauben","WKR","WKR80","Wasserkragen     WKR            80","d2 = 160 mm, L = 50 mm, H = 40 mm",53,46.3,{"$f":"G6709*(1-VLOOKUP(F6709,Konditionen!$B:$G,6,0))","v":46.3}]
["Dachhauben","ABU","ABU140","Ausblasbogen     ABU  90       140","",53,86.7,{"$f":"G6722*(1-VLOOKUP(F6722,Konditionen!$B:$G,6,0))","v":86.7}]
["Dachhauben","ABU","ABU400135","Ausblasbogen     ABFU 135     400","",53,350.15,{"$f":"G6744*(1-VLOOKUP(F6744,Konditionen!$B:$G,6,0))","v":350.15}]
["Dachhauben","ABU","ABU80","Ausblasbogen     ABU  90       80","",53,58.9,{"$f":"G6757*(1-VLOOKUP(F6757,Konditionen!$B:$G,6,0))","v":58.9}]
["Dachhauben","AGIS","AGIS250315","Abdeckung    AGIS          250.315","für isoliertes Rohr",53,214.6,{"$f":"G6766*(1-VLOOKUP(F6766,Konditionen!$B:$G,6,0))","v":214.6}]
["Dachhauben","AGIS","AGIS400500","Abdeckung    AGIS          400.500","für isoliertes Rohr",53,234.3,{"$f":"G6773*(1-VLOOKUP(F6773,Konditionen!$B:$G,6,0))","v":234.3}]
["Dachhauben","AGU","AGU160","Ausblasstutzen   AGU           160","",53,49.6,{"$f":"G6790*(1-VLOOKUP(F6790,Konditionen!$B:$G,6,0))","v":49.6}]
["Dachhauben","AGU","AGU900","Ausblasstutzen   AGU           900","",53,180.5,{"$f":"G6808*(1-VLOOKUP(F6808,Konditionen!$B:$G,6,0))","v":180.5}]
["Dachhauben","AVU","AVU280","Ausblasstutzen   AVU           280","",53,105.4,{"$f":"G6821*(1-VLOOKUP(F6821,Konditionen!$B:$G,6,0))","v":105.4}]
["Dachhauben","AVU","AVU630","Ausblasstutzen   AVU           630","",53,290.3,{"$f":"G6830*(1-VLOOKUP(F6830,Konditionen!$B:$G,6,0))","v":290.3}]
["Edelstahl","SRDV2A","SRDV2A0,5224","Lindabrohr  SRD V2A 0,5 224  Meter","Edelstahl W.Nr.1.4301,mit Dichtung",60,321.14999999999998,{"$f":"G6844*(1-VLOOKUP(F6844,Konditionen!$B:$G,6,0))","v":321.14999999999998}]
["Edelstahl","SRDV2A","SRDV2A0,6450","Lindabrohr  SRD V2A 0,6 450  Meter","Edelstahl W.Nr.1.4301,mit Dichtung",60,696,{"$f":"G6852*(1-VLOOKUP(F6852,Konditionen!$B:$G,6,0))","v":696}]
["Edelstahl","SRV2A","SRV2A0,580","Lindabrohr   SR V2A 0,5   80 METER","Edelstahl W.Nr.1.4301",60,113.4,{"$f":"G6872*(1-VLOOKUP(F6872,Konditionen!$B:$G,6,0))","v":113.4}]
["Edelstahl","SRV2A","SRV2A0,6500","Lindabrohr   SR V2A 0,6 500  METER","Edelstahl W.Nr.1.4301",60,667.25,{"$f":"G6877*(1-VLOOKUP(F6877,Konditionen!$B:$G,6,0))","v":667.25}]
["Edelstahl","LNRV2A","LNRV2A0,5112","Längsnahtrohr LNR V2A 0,5 112 METER","Edelstahl W.Nr.1.4301",60,207.75,{"$f":"G6894*(1-VLOOKUP(F6894,Konditionen!$B:$G,6,0))","v":207.75}]
["Edelstahl","LNRV2A","LNRV2A0,5200","Längsnahtrohr LNR V2A 0,5 200 METER","Edelstahl W.Nr.1.4301",60,307,{"$f":"G6900*(1-VLOOKUP(F6900,Konditionen!$B:$G,6,0))","v":307}]
["Edelstahl","ABUV2A","ABUV2A200","Ausblasbogen       ABFU V2A     200","Edelstahl W. Nr. 1.4301",60,633.75,{"$f":"G6920*(1-VLOOKUP(F6920,Konditionen!$B:$G,6,0))","v":633.75}]
["Edelstahl","ABUV2A","ABUV2A280","Ausblasbogen       ABFU V2A     280","Edelstahl W.Nr. 1.4301",60,1028,{"$f":"G6923*(1-VLOOKUP(F6923,Konditionen!$B:$G,6,0))","v":1028}]
["Edelstahl","AGUV2A","AGUV2A250","Ausblasstutzen AGU V2A        250","Edelstahl W.Nr. 1.4301",60,212.1,{"$f":"G6945*(1-VLOOKUP(F6945,Konditionen!$B:$G,6,0))","v":212.1}]
["Edelstahl","AGUV2A","AGUV2A900","Ausblasstutzen AGU V2A        900","Edelstahl W.Nr. 1.4301",60,1127,{"$f":"G6958*(1-VLOOKUP(F6958,Konditionen!$B:$G,6,0))","v":1127}]
["Edelstahl","AVUV2A","AVUV2A250","Ausblasstutzen   AVU V2A       250","Edelstahl W.Nr. 1.4301",60,505.15,{"$f":"G6968*(1-VLOOKUP(F6968,Konditionen!$B:$G,6,0))","v":505.15}]
["Edelstahl","DSUV2A","DSUV2A125","Sperrklappe      DSU V2A       125","Edelstahl W.Nr.1.4301",60,321.3,{"$f":"G6984*(1-VLOOKUP(F6984,Konditionen!$B:$G,6,0))","v":321.3}]
["Edelstahl","DSUV2A","DSUV2A160","Sperrklappe      DSU V2A       160","Edelstahl W.Nr.1.4301",60,336.45,{"$f":"G6987*(1-VLOOKUP(F6987,Konditionen!$B:$G,6,0))","v":336.45}]
["Edelstahl","DSUV2A","DSUV2A630","Sperrklappe      DSU V2A       630","Edelstahl W.Nr.1.4301",60,1923,{"$f":"G7001*(1-VLOOKUP(F7001,Konditionen!$B:$G,6,0))","v":1923}]
["Edelstahl","DTHUV2A","DTHUV2A600","Absperrklappe oh.Mot.DTHU V2A   600","m. Konsole für LM/NM/SM/LF/AF Motor",60,3020,{"$f":"G7022*(1-VLOOKUP(F7022,Konditionen!$B:$G,6,0))","v":3020}]
["Edelstahl","DTUV2A","DTUV2A100","Absperrklappe    DTU V2A       100","Edelstahl W.Nr. 1.4301",60,539.29999999999995,{"$f":"G7024*(1-VLOOKUP(F7024,Konditionen!$B:$G,6,0))","v":539.29999999999995}]
["Edelstahl","FLV2A","FLV2A160","Flachflansch     FL V2A        160","Edelstahl W.Nr. 1.4301",60,201.65,{"$f":"G7048*(1-VLOOKUP(F7048,Konditionen!$B:$G,6,0))","v":201.65}]
["Edelstahl","FLV2A","FLV2A500","Flachflansch     FL V2A        500","Edelstahl W.Nr. 1.4301",60,403.55,{"$f":"G7059*(1-VLOOKUP(F7059,Konditionen!$B:$G,6,0))","v":403.55}]
["Edelstahl","HNV2A","HNV2A150","Deflektorhaube   HN V2A        150","Edelstahl W.Nr. 1.4301",60,785.45,{"$f":"G7070*(1-VLOOKUP(F7070,Konditionen!$B:$G,6,0))","v":785.45}]
["Edelstahl","HNV2A","HNV2A300","Deflektorhaube   HN V2A        300","Edelstahl W.Nr. 1.4301",60,1912,{"$f":"G7077*(1-VLOOKUP(F7077,Konditionen!$B:$G,6,0))","v":1912}]
["Edelstahl","TGFVV2A","TGFVV2A180","Dachdurchf. TGFV  V2A         180","H = 600 MM * W.Nr. 1.4301",60,1044,{"$f":"G7092*(1-VLOOKUP(F7092,Konditionen!$B:$G,6,0))","v":1044}]
["Edelstahl","TGFVV2A","TGFVV2A355","Dachdurchf. TGFV  V2A         355","H = 600 MM * W.Nr. 1.4301",60,1679,{"$f":"G7099*(1-VLOOKUP(F7099,Konditionen!$B:$G,6,0))","v":1679}]
["Edelstahl","TGFV2A","TGF0V2A200","Dachdurchf. TGF0  V2A   0 Grad 200","W.NR.1.4301, ohne Regenkragen,H=500",60,715.6,{"$f":"G7115*(1-VLOOKUP(F7115,Konditionen!$B:$G,6,0))","v":715.6}]
["Edelstahl","TGFV2A","TGF45V2A140","Dachdurchf. TGF45 V2A  __ Grad 140","W.NR.1.4301, ohne Regenkragen",60,1061,{"$f":"G7134*(1-VLOOKUP(F7134,Konditionen!$B:$G,6,0))","v":1061}]
["Edelstahl","TGFV2A","TGF45V2A280","Dachdurchf. TGF45 V2A  __ Grad 280","W.NR.1.4301, ohne Regenkragen",60,1627,{"$f":"G7141*(1-VLOOKUP(F7141,Konditionen!$B:$G,6,0))","v":1627}]
["Edelstahl","VHLV2A","VHLV2A560","Lamellenhaube V2A  VHL      560.690","H = 382 - 13 Lamellen  * 1.4301",60,7312,{"$f":"G7160*(1-VLOOKUP(F7160,Konditionen!$B:$G,6,0))","v":7312}]
["Edelstahl","VHLV2A","VHLV2A710","Lamellenhaube V2A  VHL      710.840","H = 506 - 17 Lamellen  * 1.4301",60,10869,{"$f":"G7163*(1-VLOOKUP(F7163,Konditionen!$B:$G,6,0))","v":10869}]
["Edelstahl","VHV2A","VHV2A355","Dachhaube        VH V2A        355","Edelstahl W.Nr. 1.4301, Nippelmaß",60,703.75,{"$f":"G7179*(1-VLOOKUP(F7179,Konditionen!$B:$G,6,0))","v":703.75}]
["Edelstahl","WKRV2A","WKRV2A280","Wasserkragen     WKR V2A       280","Edelstahl W.Nr. 1.4301",60,569.9,{"$f":"G7198*(1-VLOOKUP(F7198,Konditionen!$B:$G,6,0))","v":569.9}]
["Edelstahl","WKRV2A","WKRV2A560","Wasserkragen     WKR V2A       560","Edelstahl W.Nr. 1.4301",60,1325,{"$f":"G7205*(1-VLOOKUP(F7205,Konditionen!$B:$G,6,0))","v":1325}]
["Edelstahl","BFUV2A","BFUV2A11215","Bogen Segment    BFU V2A    112.15","Edelstahl W.Nr. 1.4301",60,149.05000000000001,{"$f":"G7216*(1-VLOOKUP(F7216,Konditionen!$B:$G,6,0))","v":149.05000000000001}]
["Edelstahl","BFUV2A","BFUV2A14030","Bogen Segment    BFU V2A    140.30","Edelstahl W.Nr. 1.4301",60,172.9,{"$f":"G7227*(1-VLOOKUP(F7227,Konditionen!$B:$G,6,0))","v":172.9}]
["Edelstahl","BFUV2A","BFUV2A20030","Bogen Segment    BFU V2A    200.30","Edelstahl W.Nr. 1.4301",60,188.1,{"$f":"G7247*(1-VLOOKUP(F7247,Konditionen!$B:$G,6,0))","v":188.1}]
["Edelstahl","BFUV2A","BFUV2A28030","Bogen Segment    BFU V2A    280.30","Edelstahl W.Nr. 1.4301",60,386.7,{"$f":"G7262*(1-VLOOKUP(F7262,Konditionen!$B:$G,6,0))","v":386.7}]
["Edelstahl","BFUV2A","BFUV2A30060","Bogen Segment    BFU V2A    300.60","Edelstahl W.Nr. 1.4301",60,457.2,{"$f":"G7269*(1-VLOOKUP(F7269,Konditionen!$B:$G,6,0))","v":457.2}]
["Edelstahl","BFUV2A","BFUV2A40060","Bogen Segment    BFU V2A    400.60","Edelstahl W.Nr. 1.4301",60,707.7,{"$f":"G7284*(1-VLOOKUP(F7284,Konditionen!$B:$G,6,0))","v":707.7}]
["Edelstahl","BFUV2A","BFUV2A50015","Bogen Segment    BFU V2A    500.15","Edelstahl W.Nr. 1.4301",60,862.1,{"$f":"G7291*(1-VLOOKUP(F7291,Konditionen!$B:$G,6,0))","v":862.1}]
["Edelstahl","BFUV2A","BFUV2A60045","Bogen Segment    BFU V2A    600.45","Edelstahl W.NR. 1.4301",60,1350,{"$f":"G7303*(1-VLOOKUP(F7303,Konditionen!$B:$G,6,0))","v":1350}]
["Edelstahl","BFUV2A","BFUV2A71045","Bogen Segment    BFU V2A    710.45","Edelstahl W.Nr. 1.4301",60,1892,{"$f":"G7313*(1-VLOOKUP(F7313,Konditionen!$B:$G,6,0))","v":1892}]
["Edelstahl","ESUV2A","ESUV2A112","Enddeckel       ESU V2A        112","Edelstahl W.Nr. 1.4301",60,68.5,{"$f":"G7326*(1-VLOOKUP(F7326,Konditionen!$B:$G,6,0))","v":68.5}]
["Edelstahl","ESUV2A","ESUV2A400","Enddeckel       ESU V2A        400","Edelstahl W.Nr. 1.4301",60,234.45,{"$f":"G7339*(1-VLOOKUP(F7339,Konditionen!$B:$G,6,0))","v":234.45}]
["Edelstahl","ILFV2A","ILFV2A200","Bundkragen      ILF V2A        200","Edelstahl W.Nr. 1.4301    Muffenmaß",60,75.599999999999994,{"$f":"G7355*(1-VLOOKUP(F7355,Konditionen!$B:$G,6,0))","v":75.599999999999994}]
["Edelstahl","ILUV2A","ILUV2A100","Bundkragen      ILU V2A        100","Edelstahl W.Nr. 1.4301",60,59.3,{"$f":"G7371*(1-VLOOKUP(F7371,Konditionen!$B:$G,6,0))","v":59.3}]
["Edelstahl","ILUV2A","ILUV2A180","Bundkragen      ILU V2A        180","Edelstahl W.Nr. 1.4301",60,75.599999999999994,{"$f":"G7377*(1-VLOOKUP(F7377,Konditionen!$B:$G,6,0))","v":75.599999999999994}]
["Edelstahl","MFV2A","MFV2A100","Muffe            MF V2A        100","Edelstahl W.Nr. 1.4301",60,25.7,{"$f":"G7394*(1-VLOOKUP(F7394,Konditionen!$B:$G,6,0))","v":25.7}]
["Edelstahl","MFV2A","MFV2A250","Muffe            MF V2A        250","Edelstahl W.Nr. 1.4301",60,65.150000000000006,{"$f":"G7403*(1-VLOOKUP(F7403,Konditionen!$B:$G,6,0))","v":65.150000000000006}]
["Edelstahl","NPUV2A","NPUV2A125","Nippel          NPU V2A        125","Edelstahl W.Nr. 1.4301",60,63.05,{"$f":"G7419*(1-VLOOKUP(F7419,Konditionen!$B:$G,6,0))","v":63.05}]
["Edelstahl","NPUV2A","NPUV2A280","Nippel          NPU V2A        280","Edelstahl W.Nr. 1.4301",60,182.75,{"$f":"G7427*(1-VLOOKUP(F7427,Konditionen!$B:$G,6,0))","v":182.75}]
["Edelstahl","PSKUV2A","PSKUV2A10080","Sattelstutzen   PSKU V2A   100.80","Edelstahl W.Nr. 1.4301",60,94.6,{"$f":"G7441*(1-VLOOKUP(F7441,Konditionen!$B:$G,6,0))","v":94.6}]
["Edelstahl","PSKUV2A","PSKUV2A160125","Sattelstutzen   PSKU V2A   160.125","Edelstahl W.Nr. 1.4301",60,110.95,{"$f":"G7462*(1-VLOOKUP(F7462,Konditionen!$B:$G,6,0))","v":110.95}]
["Edelstahl","PSKUV2A","PSKUV2A180100","Sattelstutzen   PSKU V2A   180.100","Edelstahl W.Nr. 1.4301",60,94.6,{"$f":"G7467*(1-VLOOKUP(F7467,Konditionen!$B:$G,6,0))","v":94.6}]
["Edelstahl","PSKUV2A","PSKUV2A20080","Sattelstutzen   PSKU V2A   200.80","Edelstahl W.Nr. 1.4301",60,93.95,{"$f":"G7483*(1-VLOOKUP(F7483,Konditionen!$B:$G,6,0))","v":93.95}]
["Edelstahl","PSKUV2A","PSKUV2A250112","Sattelstutzen   PSKU V2A   250.112","Edelstahl W.Nr. 1.4301",60,110.95,{"$f":"G7495*(1-VLOOKUP(F7495,Konditionen!$B:$G,6,0))","v":110.95}]
["Edelstahl","PSKUV2A","PSKUV2A280150","Sattelstutzen   PSKU V2A   280.150","Edelstahl W.Nr. 1.4301",60,126.2,{"$f":"G7509*(1-VLOOKUP(F7509,Konditionen!$B:$G,6,0))","v":126.2}]
["Edelstahl","PSKUV2A","PSKUV2A300112","Sattelstutzen   PSKU V2A   300.112","Edelstahl W.Nr. 1.4301",60,110.95,{"$f":"G7518*(1-VLOOKUP(F7518,Konditionen!$B:$G,6,0))","v":110.95}]
["Edelstahl","PSKUV2A","PSKUV2A315112","Sattelstutzen   PSKU V2A   315.112","Edelstahl W.Nr. 1.4301",60,110.95,{"$f":"G7531*(1-VLOOKUP(F7531,Konditionen!$B:$G,6,0))","v":110.95}]
["Edelstahl","PSKUV2A","PSKUV2A315300","Sattelstutzen   PSKU V2A   315.300","Edelstahl W.Nr. 1.4301",60,258.39999999999998,{"$f":"G7541*(1-VLOOKUP(F7541,Konditionen!$B:$G,6,0))","v":258.39999999999998}]
["Edelstahl","PSKUV2A","PSKUV2A355250","Sattelstutzen   PSKU V2A   355.250","Edelstahl W.Nr. 1.4301",60,192.8,{"$f":"G7553*(1-VLOOKUP(F7553,Konditionen!$B:$G,6,0))","v":192.8}]
["Edelstahl","PSKUV2A","PSKUV2A450125","Sattelstutzen   PSKU V2A   450.125","Edelstahl W.Nr. 1.4301",60,110.95,{"$f":"G7573*(1-VLOOKUP(F7573,Konditionen!$B:$G,6,0))","v":110.95}]
["Edelstahl","PSKUV2A","PSKUV2A450450","Sattelstutzen   PSKU V2A   450.450","Edelstahl W.Nr. 1.4301",60,539.70000000000005,{"$f":"G7586*(1-VLOOKUP(F7586,Konditionen!$B:$G,6,0))","v":539.70000000000005}]
["Edelstahl","PSKUV2A","PSKUV2A500250","Sattelstutzen   PSKU V2A   500.250","Edelstahl W.Nr. 1.4301",60,192.8,{"$f":"G7595*(1-VLOOKUP(F7595,Konditionen!$B:$G,6,0))","v":192.8}]
["Edelstahl","RCLUV2A","RCLUV2A11280","Reduzierung     RCLU V2A   112.80","Edelstahl W.Nr. 1.4301",60,126.3,{"$f":"G7605*(1-VLOOKUP(F7605,Konditionen!$B:$G,6,0))","v":126.3}]
["Edelstahl","RCLUV2A","RCLUV2A15080","Reduzierung     RCLU V2A   150.80","Edelstahl W.Nr. 1.4301",60,142.69999999999999,{"$f":"G7617*(1-VLOOKUP(F7617,Konditionen!$B:$G,6,0))","v":142.69999999999999}]
["Edelstahl","RCLUV2A","RCLUV2A200180","Reduzierung     RCLU V2A   200.180","Edelstahl W.Nr. 1.4301",60,159.55000000000001,{"$f":"G7637*(1-VLOOKUP(F7637,Konditionen!$B:$G,6,0))","v":159.55000000000001}]
["Edelstahl","RCLUV2A","RCLUV2A224140","Reduzierung     RCLU V2A   224.140","Edelstahl W.Nr. 1.4301",60,219.7,{"$f":"G7642*(1-VLOOKUP(F7642,Konditionen!$B:$G,6,0))","v":219.7}]
["Edelstahl","RCLUV2A","RCLUV2A280112","Reduzierung     RCLU V2A   280.112","Edelstahl W.Nr. 1.4301",60,284.95,{"$f":"G7659*(1-VLOOKUP(F7659,Konditionen!$B:$G,6,0))","v":284.95}]
["Edelstahl","RCLUV2A","RCLUV2A300160","Reduzierung     RCLU V2A   300.160","Edelstahl W.Nr. 1.4301",60,284.95,{"$f":"G7673*(1-VLOOKUP(F7673,Konditionen!$B:$G,6,0))","v":284.95}]
["Edelstahl","RCLUV2A","RCLUV2A315125","Reduzierung     RCLU V2A   315.125","Edelstahl W.Nr. 1.4301",60,287.39999999999998,{"$f":"G7681*(1-VLOOKUP(F7681,Konditionen!$B:$G,6,0))","v":287.39999999999998}]
["Edelstahl","RCLUV2A","RCLUV2A355300","Reduzierung     RCLU V2A   355.300","Edelstahl W.Nr. 1.4301",60,332.05,{"$f":"G7701*(1-VLOOKUP(F7701,Konditionen!$B:$G,6,0))","v":332.05}]
["Edelstahl","RCLUV2A","RCLUV2A400250","Reduzierung     RCLU V2A   400.250","Edelstahl W.Nr. 1.4301",60,385.95,{"$f":"G7710*(1-VLOOKUP(F7710,Konditionen!$B:$G,6,0))","v":385.95}]
["Edelstahl","RCLUV2A","RCLUV2A450355","Reduzierung     RCLU V2A   450.355","Edelstahl W.Nr. 1.4301",60,484.4,{"$f":"G7723*(1-VLOOKUP(F7723,Konditionen!$B:$G,6,0))","v":484.4}]
["Edelstahl","RCLUV2A","RCLUV2A500300","Reduzierung     RCLU V2A   500.300","Edelstahl W.Nr. 1.4301",60,524.15,{"$f":"G7729*(1-VLOOKUP(F7729,Konditionen!$B:$G,6,0))","v":524.15}]
["Edelstahl","RCLUV2A","RCLUV2A600315","Reduzierung     RCLU V2A   600.315","Edelstahl W.Nr. 1.4301",60,709.6,{"$f":"G7745*(1-VLOOKUP(F7745,Konditionen!$B:$G,6,0))","v":709.6}]
["Edelstahl","RCLUV2A","RCLUV2A710560","Reduzierung     RCLU V2A   710.560","Edelstahl W.Nr. 1.4301",60,952.15,{"$f":"G7764*(1-VLOOKUP(F7764,Konditionen!$B:$G,6,0))","v":952.15}]
["Edelstahl","RCLUV2A","RCLUV2A800500","Reduzierung     RCLU V2A   800.500","Edelstahl W.Nr. 1.4301",60,1101,{"$f":"G7771*(1-VLOOKUP(F7771,Konditionen!$B:$G,6,0))","v":1101}]
["Edelstahl","SLUV2A","SLUV2A1000120050","Schalldämpfer SLU V2A     1000.1200","50mm Isolierung",60,14249,{"$f":"G7787*(1-VLOOKUP(F7787,Konditionen!$B:$G,6,0))","v":14249}]
["Edelstahl","SLUV2A","SLUV2A10090050","Schalldämpfer SLU V2A     100.900","50mm Isolierung",60,1076,{"$f":"G7797*(1-VLOOKUP(F7797,Konditionen!$B:$G,6,0))","v":1076}]
["Edelstahl","SLUV2A","SLUV2A14090050","Schalldämpfer SLU V2A     140.900","50mm Isolierung",60,1876,{"$f":"G7809*(1-VLOOKUP(F7809,Konditionen!$B:$G,6,0))","v":1876}]
["Edelstahl","SLUV2A","SLUV2A160900100","Schalldämpfer SLU V2A     160.900","100mm Isolierung",60,2472,{"$f":"G7820*(1-VLOOKUP(F7820,Konditionen!$B:$G,6,0))","v":2472}]
["Edelstahl","SLUV2A","SLUV2A224120050","Schalldämpfer SLU V2A     224.1200","50mm Isolierung",60,3232,{"$f":"G7835*(1-VLOOKUP(F7835,Konditionen!$B:$G,6,0))","v":3232}]
["Edelstahl","SLUV2A","SLUV2A28090050","Schalldämpfer SLU V2A     280.900","50mm Isolierung",60,3448,{"$f":"G7851*(1-VLOOKUP(F7851,Konditionen!$B:$G,6,0))","v":3448}]
["Edelstahl","SLUV2A","SLUV2A355120050","Schalldämpfer SLU V2A     355.1200","50mm Isolierung",60,4425,{"$f":"G7865*(1-VLOOKUP(F7865,Konditionen!$B:$G,6,0))","v":4425}]
["Edelstahl","SLUV2A","SLUV2A450120050","Schalldämpfer SLU V2A     450.1200","50mm Isolierung",60,4839,{"$f":"G7877*(1-VLOOKUP(F7877,Konditionen!$B:$G,6,0))","v":4839}]
["Edelstahl","SLUV2A","SLUV2A5601200100","Schalldämpfer SLU V2A     560.1200","100mm Isolierung",60,8298,{"$f":"G7888*(1-VLOOKUP(F7888,Konditionen!$B:$G,6,0))","v":8298}]
["Edelstahl","SLUV2A","SLUV2A60090050","Schalldämpfer SLU V2A     600.900","50mm Isolierung",60,6680,{"$f":"G7899*(1-VLOOKUP(F7899,Konditionen!$B:$G,6,0))","v":6680}]
["Edelstahl","SLUV2A","SLUV2A80060050","Schalldämpfer SLU V2A     800.600","50mm Isolierung",60,8058,{"$f":"G7915*(1-VLOOKUP(F7915,Konditionen!$B:$G,6,0))","v":8058}]
["Edelstahl","SLUV2A","SLUV2A8060050","Schalldämpfer SLU V2A       80.600","50mm Isolierung",60,882.35,{"$f":"G7921*(1-VLOOKUP(F7921,Konditionen!$B:$G,6,0))","v":882.35}]
["Edelstahl","TCKUV2A","TCKUV2A140125","T-Stück          TCKU V2A   140.125","Edelstahl W.Nr. 1.4301",60,244.55,{"$f":"G7941*(1-VLOOKUP(F7941,Konditionen!$B:$G,6,0))","v":244.55}]
["Edelstahl","TCKUV2A","TCKUV2A150100","T-Stück          TCKU V2A   150.100","Edelstahl W.Nr. 1.4301",60,244.55,{"$f":"G7944*(1-VLOOKUP(F7944,Konditionen!$B:$G,6,0))","v":244.55}]
["Edelstahl","TCKUV2A","TCKUV2A180180","T-Stück          TCKU V2A   180.180","Edelstahl W.Nr. 1.4301",60,309.75,{"$f":"G7963*(1-VLOOKUP(F7963,Konditionen!$B:$G,6,0))","v":309.75}]
["Edelstahl","TCKUV2A","TCKUV2A224160","T-Stück          TCKU V2A   224.160","Edelstahl W.Nr. 1.4301",60,410.45,{"$f":"G7979*(1-VLOOKUP(F7979,Konditionen!$B:$G,6,0))","v":410.45}]
["Edelstahl","TCKUV2A","TCKUV2A250160","T-Stück          TCKU V2A   250.160","Edelstahl W.Nr. 1.4301",60,410.45,{"$f":"G7989*(1-VLOOKUP(F7989,Konditionen!$B:$G,6,0))","v":410.45}]
["Edelstahl","TCKUV2A","TCKUV2A280280","T-Stück          TCKU V2A   280.280","Edelstahl W.Nr. 1.4301",60,570.6,{"$f":"G8005*(1-VLOOKUP(F8005,Konditionen!$B:$G,6,0))","v":570.6}]
["Edelstahl","TCKUV2A","TCKUV2A300160","T-Stück          TCKU V2A   300.160","Edelstahl W.Nr. 1.4301",60,570.6,{"$f":"G8012*(1-VLOOKUP(F8012,Konditionen!$B:$G,6,0))","v":570.6}]
["Edelstahl","TCKUV2A","TCKUV2A315224","T-Stück          TCKU V2A   315.224","Edelstahl W.Nr. 1.4301",60,622.20000000000005,{"$f":"G8027*(1-VLOOKUP(F8027,Konditionen!$B:$G,6,0))","v":622.20000000000005}]
["Edelstahl","TCKUV2A","TCKUV2A315315","T-Stück          TCKU V2A   315.315","Edelstahl W.Nr. 1.4301",60,622.20000000000005,{"$f":"G8031*(1-VLOOKUP(F8031,Konditionen!$B:$G,6,0))","v":622.20000000000005}]
["Edelstahl","TCKUV2A","TCKUV2A400140","T-Stück         TCKU V2A   400.140","Edelstahl W.Nr. 1.4301",60,807.5,{"$f":"G8049*(1-VLOOKUP(F8049,Konditionen!$B:$G,6,0))","v":807.5}]
["Edelstahl","TCKUV2A","TCKUV2A400280","T-Stück         TCKU V2A   400.280","Edelstahl W.Nr. 1.4301",60,807.5,{"$f":"G8056*(1-VLOOKUP(F8056,Konditionen!$B:$G,6,0))","v":807.5}]
["Edelstahl","TCKUV2A","TCKUV2A500280","T-Stück         TCKU V2A   500.280","Edelstahl W.Nr. 1.4301",60,1120,{"$f":"G8080*(1-VLOOKUP(F8080,Konditionen!$B:$G,6,0))","v":1120}]
["Edelstahl","TCKUV2A","TCKUV2A560250","T-Stück         TCKU V2A   560.250","Edelstahl W.Nr. 1.4301",60,1360,{"$f":"G8091*(1-VLOOKUP(F8091,Konditionen!$B:$G,6,0))","v":1360}]
["Edelstahl","TCKUV2A","TCKUV2A560560","T-Stück         TCKU V2A   560.560","Edelstahl W.Nr. 1.4301",60,1360,{"$f":"G8099*(1-VLOOKUP(F8099,Konditionen!$B:$G,6,0))","v":1360}]
["Edelstahl","TCKUV2A","TCKUV2A630224","T-Stück         TCKU V2A   630.224","Edelstahl W.Nr. 1.4301",60,1838,{"$f":"G8113*(1-VLOOKUP(F8113,Konditionen!$B:$G,6,0))","v":1838}]
["Edelstahl","TCKUV2A","TCKUV2A630450","T-Stück         TCKU V2A   630.450","Edelstahl W.Nr. 1.4301",60,1838,{"$f":"G8120*(1-VLOOKUP(F8120,Konditionen!$B:$G,6,0))","v":1838}]
["Edelstahl","TCKUV2A","TCKUV2A710600","T-Stück         TCKU V2A   710.600","Edelstahl W.Nr. 1.4301",60,2419,{"$f":"G8136*(1-VLOOKUP(F8136,Konditionen!$B:$G,6,0))","v":2419}]
["Edelstahl","TCKUV2A","TCKUV2A900315","T-Stück         TCKU V2A   900.315","Edelstahl W.Nr. 1.4301",60,3964,{"$f":"G8155*(1-VLOOKUP(F8155,Konditionen!$B:$G,6,0))","v":3964}]
["Edelstahl","TCUV2A","TCUV2A112125","T-Stück         TCU V2A    112.125","Edelstahl W.NR. 1.4301",60,255.15,{"$f":"G8167*(1-VLOOKUP(F8167,Konditionen!$B:$G,6,0))","v":255.15}]
["Edelstahl","TCUV2A","TCUV2A300315","T-Stück         TCU V2A    300.315","Edelstahl W.NR. 1.4301",60,811.15,{"$f":"G8177*(1-VLOOKUP(F8177,Konditionen!$B:$G,6,0))","v":811.15}]
["Edelstahl","TCUV2A","TCUV2A600630","T-Stück         TCU V2A    600.630","Edelstahl W.NR. 1.4301",60,2421,{"$f":"G8184*(1-VLOOKUP(F8184,Konditionen!$B:$G,6,0))","v":2421}]
["Edelstahl","TVUV2A","TVU45V2A140125","T-Stück        TVU45 V2A   140.125","Edelstahl W.NR. 1.4301",60,336.7,{"$f":"G8200*(1-VLOOKUP(F8200,Konditionen!$B:$G,6,0))","v":336.7}]
["Edelstahl","TVUV2A","TVU45V2A180140","T-Stück        TVU45 V2A   180.140","Edelstahl W.NR. 1.4301",60,405.3,{"$f":"G8219*(1-VLOOKUP(F8219,Konditionen!$B:$G,6,0))","v":405.3}]
["Edelstahl","TVUV2A","TVU45V2A18080","T-Stück        TVU45 V2A   180.80","Edelstahl W.NR. 1.4301",60,405.3,{"$f":"G8223*(1-VLOOKUP(F8223,Konditionen!$B:$G,6,0))","v":405.3}]
["Edelstahl","TVUV2A","TVU45V2A224224","T-Stück        TVU45 V2A   224.224","Edelstahl W.NR. 1.4301",60,529.79999999999995,{"$f":"G8241*(1-VLOOKUP(F8241,Konditionen!$B:$G,6,0))","v":529.79999999999995}]
["Edelstahl","TVUV2A","TVU45V2A250140","T-Stück        TVU45 V2A   250.140","Edelstahl W.NR. 1.4301",60,529.79999999999995,{"$f":"G8246*(1-VLOOKUP(F8246,Konditionen!$B:$G,6,0))","v":529.79999999999995}]
["Edelstahl","TVUV2A","TVU45V2A300112","T-Stück        TVU45 V2A   300.112","Edelstahl W.NR. 1.4301",60,714.05,{"$f":"G8267*(1-VLOOKUP(F8267,Konditionen!$B:$G,6,0))","v":714.05}]
["Edelstahl","TVUV2A","TVU45V2A300150","T-Stück        TVU45 V2A   300.150","Edelstahl W.NR. 1.4301",60,714.05,{"$f":"G8270*(1-VLOOKUP(F8270,Konditionen!$B:$G,6,0))","v":714.05}]
["Edelstahl","TVUV2A","TVU45V2A355100","T-Stück        TVU45 V2A   355.100","Edelstahl W.NR. 1.4301",60,859.9,{"$f":"G8291*(1-VLOOKUP(F8291,Konditionen!$B:$G,6,0))","v":859.9}]
["Edelstahl","TVUV2A","TVU45V2A355160","T-Stück        TVU45 V2A   355.160","Edelstahl W.NR. 1.4301",60,859.9,{"$f":"G8296*(1-VLOOKUP(F8296,Konditionen!$B:$G,6,0))","v":859.9}]
["Edelstahl","TVUV2A","TVU45V2A400250","T-Stück        TVU45 V2A   400.250","Edelstahl W.NR. 1.4301",60,1018,{"$f":"G8314*(1-VLOOKUP(F8314,Konditionen!$B:$G,6,0))","v":1018}]
["Edelstahl","TVUV2A","TVU45V2A450355","T-Stück        TVU45 V2A   450.355","Edelstahl W.NR. 1.4301",60,1247,{"$f":"G8331*(1-VLOOKUP(F8331,Konditionen!$B:$G,6,0))","v":1247}]
["Edelstahl","TVUV2A","TVU45V2A500100","T-Stück        TVU45 V2A   500.100","Edelstahl W.NR. 1.4301",60,1410,{"$f":"G8334*(1-VLOOKUP(F8334,Konditionen!$B:$G,6,0))","v":1410}]
["Edelstahl","TVUV2A","TVU45V2A560160","T-Stück        TVU45 V2A   560.160","Edelstahl W.NR. 1.4301",60,1710,{"$f":"G8347*(1-VLOOKUP(F8347,Konditionen!$B:$G,6,0))","v":1710}]
["Edelstahl","TVUV2A","TVU45V2A600200","T-Stück        TVU45 V2A   600.200","Edelstahl W.NR. 1.4301",60,2007,{"$f":"G8360*(1-VLOOKUP(F8360,Konditionen!$B:$G,6,0))","v":2007}]
["Edelstahl","TVUV2A","TVU45V2A630560","T-Stück        TVU45 V2A   630.560","Edelstahl W.NR. 1.4301",60,2267,{"$f":"G8382*(1-VLOOKUP(F8382,Konditionen!$B:$G,6,0))","v":2267}]
["Edelstahl","TVUV2A","TVU45V2A710560","T-Stück        TVU45 V2A   710.560","Edelstahl W.NR. 1.4301",60,2978,{"$f":"G8395*(1-VLOOKUP(F8395,Konditionen!$B:$G,6,0))","v":2978}]
["Edelstahl","TVUV2A","TVU45V2A710710","T-Stück        TVU45 V2A   710.710","Edelstahl W.NR. 1.4301",60,2978,{"$f":"G8398*(1-VLOOKUP(F8398,Konditionen!$B:$G,6,0))","v":2978}]
["Edelstahl","TVUV2A","TVU45V2A900315","T-Stück        TVU45 V2A   900.315","Edelstahl W.NR. 1.4301",60,4853,{"$f":"G8415*(1-VLOOKUP(F8415,Konditionen!$B:$G,6,0))","v":4853}]
["Edelstahl","TVUV2A","TVU45V2A900800","T-Stück        TVU45 V2A   900.800","Edelstahl W.NR. 1.4301",60,4853,{"$f":"G8424*(1-VLOOKUP(F8424,Konditionen!$B:$G,6,0))","v":4853}]
["Lindab Isol","SRI","SRI50125","Lindabrohr Isol  SRI 50   125.1000","50mm Isolierung",65,211.95,{"$f":"G8438*(1-VLOOKUP(F8438,Konditionen!$B:$G,6,0))","v":211.95}]
["Lindab Isol","SRI","SRI50500","Lindabrohr Isol  SRI 50    500.1000","50mm Isolierung",65,721.5,{"$f":"G8446*(1-VLOOKUP(F8446,Konditionen!$B:$G,6,0))","v":721.5}]
["Lindab Isol","BUI","BUI2535545","Bogen isoliert   BFUI 25   355.45","25mm Isolierung",65,449.4,{"$f":"G8466*(1-VLOOKUP(F8466,Konditionen!$B:$G,6,0))","v":449.4}]
["Lindab Isol","BUI","BUI5015030","Bogen isoliert   BUI 50   150.30","50mm Isolierung",65,285.55,{"$f":"G8483*(1-VLOOKUP(F8483,Konditionen!$B:$G,6,0))","v":285.55}]
["Lindab Isol","BUI","BUI5020090","Bogen isoliert   BFUI 50   200.90","50mm Isolierung",65,507.7,{"$f":"G8488*(1-VLOOKUP(F8488,Konditionen!$B:$G,6,0))","v":507.7}]
["Lindab Isol","BUI","BUI5050090","Bogen isoliert   BFUI 50   500.90","50mm Isolierung",65,1177,{"$f":"G8506*(1-VLOOKUP(F8506,Konditionen!$B:$G,6,0))","v":1177}]
["Lindab Isol","DSUI","DSUI25200","Drosselklappe    DSUI 25 Isol  200","25mm Isolierung",65,214.65,{"$f":"G8510*(1-VLOOKUP(F8510,Konditionen!$B:$G,6,0))","v":214.65}]
["Lindab Isol","DSUI","DSUI50450","Drosselklappe    DSUI 50 Isol  450","50mm Isolierung",65,510.8,{"$f":"G8525*(1-VLOOKUP(F8525,Konditionen!$B:$G,6,0))","v":510.8}]
["Lindab Isol","EPFI","EPFI50450","Enddeckel Isol   EPFI 50       450","50mm Isolierung",65,288.60000000000002,{"$f":"G8545*(1-VLOOKUP(F8545,Konditionen!$B:$G,6,0))","v":288.60000000000002}]
["Lindab Isol","ESUI","ESUI25300","Enddeckel Isol   ESUI 25       300","25mm Isolierung",65,164.15,{"$f":"G8552*(1-VLOOKUP(F8552,Konditionen!$B:$G,6,0))","v":164.15}]
["Lindab Isol","ESUI","ESUI50300","Enddeckel Isol   ESUI 50       300","50mm Isolierung",65,196.55,{"$f":"G8562*(1-VLOOKUP(F8562,Konditionen!$B:$G,6,0))","v":196.55}]
["Lindab Isol","MFI","MFI25400","Muffe isoliert   MFI 25        400","25mm Isolierung",65,128.9,{"$f":"G8574*(1-VLOOKUP(F8574,Konditionen!$B:$G,6,0))","v":128.9}]
["Lindab Isol","NPUI","NPUI25355","Nippel isoliert  NPUI 25       355","25mm Isolierung",65,118.2,{"$f":"G8593*(1-VLOOKUP(F8593,Konditionen!$B:$G,6,0))","v":118.2}]
["Lindab Isol","RCLFUI","RCLFUI25150125","Reduzierung Isol RCFLUI 25 150.125","25mm Isolierung",65,170.65,{"$f":"G8609*(1-VLOOKUP(F8609,Konditionen!$B:$G,6,0))","v":170.65}]
["Lindab Isol","RCLFUI","RCLFUI25250200","Reduzierung Isol RCFLUI 25 250.200","25mm Isolierung",65,299.25,{"$f":"G8616*(1-VLOOKUP(F8616,Konditionen!$B:$G,6,0))","v":299.25}]
["Lindab Isol","RCLFUI","RCLFUI25355250","Reduzierung Isol RCFLUI 25 355.250","25mm Isolierung",65,433.5,{"$f":"G8626*(1-VLOOKUP(F8626,Konditionen!$B:$G,6,0))","v":433.5}]
["Lindab Isol","RCLFUI","RCLFUI25450200","Reduzierung Isol RCFLUI 25 450.200","25mm Isolierung",65,598.04999999999995,{"$f":"G8638*(1-VLOOKUP(F8638,Konditionen!$B:$G,6,0))","v":598.04999999999995}]
["Lindab Isol","RCLFUI","RCLFUI25500355","Reduzierung Isol RCFLUI 25 500.355","25mm Isolierung",65,654.45000000000005,{"$f":"G8649*(1-VLOOKUP(F8649,Konditionen!$B:$G,6,0))","v":654.45000000000005}]
["Lindab Isol","RCLFUI","RCLFUI50250150","Reduzierung Isol RCFLUI 50 250.150","50mm Isolierung",65,324.10000000000002,{"$f":"G8660*(1-VLOOKUP(F8660,Konditionen!$B:$G,6,0))","v":324.10000000000002}]
["Lindab Isol","RCLFUI","RCLFUI50450100","Reduzierung Isol RCFLUI 50 450.100","50mm Isolierung",65,702.75,{"$f":"G8680*(1-VLOOKUP(F8680,Konditionen!$B:$G,6,0))","v":702.75}]
["Lindab Isol","RCLFUI","RCLFUI50500355","Reduzierung Isol RCFLUI 50 500.355","50mm Isolierung",65,681.45,{"$f":"G8694*(1-VLOOKUP(F8694,Konditionen!$B:$G,6,0))","v":681.45}]
["Lindab Isol","RCLUI","RCLUI25200150","Reduzierung isol RCLUI 25  200.150","25mm Isolierung",65,250,{"$f":"G8702*(1-VLOOKUP(F8702,Konditionen!$B:$G,6,0))","v":250}]
["Lindab Isol","RCLUI","RCLUI25355300","Reduzierung isol RCLUI 25  355.300","25mm Isolierung",65,419.45,{"$f":"G8717*(1-VLOOKUP(F8717,Konditionen!$B:$G,6,0))","v":419.45}]
["Lindab Isol","RCLUI","RCLUI25450200","Reduzierung isol RCLUI 25  450.200","25mm Isolierung",65,598.04999999999995,{"$f":"G8728*(1-VLOOKUP(F8728,Konditionen!$B:$G,6,0))","v":598.04999999999995}]
["Lindab Isol","RCLUI","RCLUI25500400","Reduzierung isol RCLUI 25  500.400","25mm Isolierung",65,647.15,{"$f":"G8740*(1-VLOOKUP(F8740,Konditionen!$B:$G,6,0))","v":647.15}]
["Lindab Isol","RCLUI","RCLUI50250150","Reduzierung isol RCLUI 50  250.150","50mm Isolierung",65,324.10000000000002,{"$f":"G8750*(1-VLOOKUP(F8750,Konditionen!$B:$G,6,0))","v":324.10000000000002}]
["Lindab Isol","RCLUI","RCLUI50400200","Reduzierung isol RCLUI 50  400.200","50mm Isolierung",65,569.95000000000005,{"$f":"G8766*(1-VLOOKUP(F8766,Konditionen!$B:$G,6,0))","v":569.95000000000005}]
["Lindab Isol","RCLUI","RCLUI50500400","Reduzierung isol RCLUI 50  500.400","50mm Isolierung",65,672.7,{"$f":"G8785*(1-VLOOKUP(F8785,Konditionen!$B:$G,6,0))","v":672.7}]
["Lindab Isol","TCUI","TCUI25125150","T-Stück isoliert   TCUI 25 125.150","25MM Isolierung",65,344.65,{"$f":"G8792*(1-VLOOKUP(F8792,Konditionen!$B:$G,6,0))","v":344.65}]
["Lindab Isol","TCUI","TCUI25250200","T-Stück isoliert  TCPUI 25 250.200","25MM Isolierung",65,522.79999999999995,{"$f":"G8808*(1-VLOOKUP(F8808,Konditionen!$B:$G,6,0))","v":522.79999999999995}]
["Lindab Isol","TCUI","TCUI25300150","T-Stück isoliert  TCPUI 25 300.150","25MM Isolierung",65,519.29999999999995,{"$f":"G8814*(1-VLOOKUP(F8814,Konditionen!$B:$G,6,0))","v":519.29999999999995}]
["Lindab Isol","TCUI","TCUI25400125","T-Stück isoliert  TCPUI 25 400.125","25MM Isolierung",65,681.45,{"$f":"G8830*(1-VLOOKUP(F8830,Konditionen!$B:$G,6,0))","v":681.45}]
["Lindab Isol","TCUI","TCUI25450150","T-Stück isoliert  TCPUI 25 450.150","25MM Isolierung",65,784.6,{"$f":"G8841*(1-VLOOKUP(F8841,Konditionen!$B:$G,6,0))","v":784.6}]
["Lindab Isol","TCUI","TCUI25500400","T-Stück isoliert  TCUI  25 500.400","25MM Isolierung",65,1223,{"$f":"G8856*(1-VLOOKUP(F8856,Konditionen!$B:$G,6,0))","v":1223}]
["Lindab Isol","TCUI","TCUI50125150","T-Stück isoliert  TCUI  50 125.150","50MM Isolierung",65,406.75,{"$f":"G8864*(1-VLOOKUP(F8864,Konditionen!$B:$G,6,0))","v":406.75}]
["Lindab Isol","TCUI","TCUI50250125","T-Stück isoliert  TCPUI 50 250.125","50MM Isolierung",65,535.45000000000005,{"$f":"G8878*(1-VLOOKUP(F8878,Konditionen!$B:$G,6,0))","v":535.45000000000005}]
["Lindab Isol","TCUI","TCUI50355355","T-Stück isoliert  TCUI  50 355.355","50MM Isolierung",65,927.1,{"$f":"G8898*(1-VLOOKUP(F8898,Konditionen!$B:$G,6,0))","v":927.1}]
["Lindab Isol","TCUI","TCUI50400450","T-Stück isoliert  TCUI  50 400.450","50MM Isolierung",65,1308,{"$f":"G8909*(1-VLOOKUP(F8909,Konditionen!$B:$G,6,0))","v":1308}]
["Lindab Isol","TCUI","TCUI50450500","T-Stück isoliert  TCUI  50 450.500","50MM Isolierung",65,1525,{"$f":"G8920*(1-VLOOKUP(F8920,Konditionen!$B:$G,6,0))","v":1525}]
["Lindab Comfort Luftauslässe","AIRYBP","AIRYBP125","AIRY-BP-125 Luftlenkeinsatz schwarz","aus EPDM-Gummi",70,12.4,{"$f":"G8932*(1-VLOOKUP(F8932,Konditionen!$B:$G,6,0))","v":12.4}]
["Lindab Comfort Luftauslässe","AIRYFP","AIRYFP100V2AREC","AIRY Frontplatte 100 - V2A","rechteckig - RECT",70,32.9,{"$f":"G8942*(1-VLOOKUP(F8942,Konditionen!$B:$G,6,0))","v":32.9}]
["Lindab Comfort Luftauslässe","AIRYFP","AIRYFP1009010ELL","AIRY Frontplatte 100    RAL 9010","elliptisch - ELLI",70,20.55,{"$f":"G8951*(1-VLOOKUP(F8951,Konditionen!$B:$G,6,0))","v":20.55}]
["Lindab Comfort Luftauslässe","AIRYFP","AIRYFP1259003SQU","AIRY Frontplatte 125    RAL 9003","quadratisch - SQUA",70,22.9,{"$f":"G8964*(1-VLOOKUP(F8964,Konditionen!$B:$G,6,0))","v":22.9}]
["Lindab Comfort Luftauslässe","AIRYFP","AIRYFP1609010SQU","AIRY Frontplatte 160    RAL 9010","quadratisch - SQUA",70,25.45,{"$f":"G8984*(1-VLOOKUP(F8984,Konditionen!$B:$G,6,0))","v":25.45}]
["Lindab Comfort Luftauslässe","CBAZ2","CBAZ21207","Sockel              CBAZ-2-1207","Höhe 80 mm",70,125.9,{"$f":"G8996*(1-VLOOKUP(F8996,Konditionen!$B:$G,6,0))","v":125.9}]
["Lindab Comfort Luftauslässe","CBAZ3","CBAZ32510","Konsolen zur Wandmon.,  CBAZ-3-2510","Zubehör für CBA",70,67.7,{"$f":"G9006*(1-VLOOKUP(F9006,Konditionen!$B:$G,6,0))","v":67.7}]
["Lindab Comfort Luftauslässe","CCAZ2","CCAZ22010","Sockel              CCAZ-2-2010","Höhe 80 mm",70,211.55,{"$f":"G9019*(1-VLOOKUP(F9019,Konditionen!$B:$G,6,0))","v":211.55}]
["Lindab Comfort Luftauslässe","CCA","CCA2510","Verdrängungsauslaß     CCA-2510","runde Ausführung",70,1781,{"$f":"G9028*(1-VLOOKUP(F9028,Konditionen!$B:$G,6,0))","v":1781}]
["Lindab Comfort Luftauslässe","CHAZ0","CHAZ02510","Rohrverkleidung         CHAZ-0-2510","Zubehör für CHA",70,910.25,{"$f":"G9048*(1-VLOOKUP(F9048,Konditionen!$B:$G,6,0))","v":910.25}]
["Lindab Comfort Luftauslässe","CHAZ2","CHAZ22010","Sockel              CHAZ-2-2010","Höhe 80 mm",70,211.55,{"$f":"G9052*(1-VLOOKUP(F9052,Konditionen!$B:$G,6,0))","v":211.55}]
["Lindab Comfort Luftauslässe","CHA","CHA3115","Verdrängungsauslaß     CHA-3115","halbrunde Ausführung",70,2035,{"$f":"G9070*(1-VLOOKUP(F9070,Konditionen!$B:$G,6,0))","v":2035}]
["Lindab Comfort Luftauslässe","CQAZ0","CQAZ01607","Rohrverkleidung         CQAZ-0-1607","Zubehör für CQA",70,774.05,{"$f":"G9087*(1-VLOOKUP(F9087,Konditionen!$B:$G,6,0))","v":774.05}]
["Lindab Comfort Luftauslässe","CQAZ2","CQAZ21607","Sockel              CQAZ-2-1607","Höhe 80 mm",70,159.65,{"$f":"G9092*(1-VLOOKUP(F9092,Konditionen!$B:$G,6,0))","v":159.65}]
["Lindab Comfort Luftauslässe","CRAZ1","CRAZ150101000","Wandkanal          CRAZ-1-5010-____","Höhe 0 bis 1000mm, DN250",70,438.95,{"$f":"G9112*(1-VLOOKUP(F9112,Konditionen!$B:$G,6,0))","v":438.95}]
["Lindab Comfort Luftauslässe","CRAZ1","CRAZ180202000","Wandkanal          CRAZ-1-8020-____","Höhe 1501 bis 2000mm, DN400",70,1089,{"$f":"G9120*(1-VLOOKUP(F9120,Konditionen!$B:$G,6,0))","v":1089}]
["Lindab Comfort Luftauslässe","CRU1","CRU14015","Verdrängungsluftauslass  CRU-1-4015","RAL9010",70,212.25,{"$f":"G9134*(1-VLOOKUP(F9134,Konditionen!$B:$G,6,0))","v":212.25}]
["Lindab Comfort Luftauslässe","CVAZ1","CVAZ160051000","Wandkanal          CVAZ-1-6005-____","Höhe 0 bis 1000mm, DN200mm",70,258.75,{"$f":"G9143*(1-VLOOKUP(F9143,Konditionen!$B:$G,6,0))","v":258.75}]
["Lindab Comfort Luftauslässe","DCS","DCS200A","Durchlass f. Sichtmontage DCS-200-A","verst. Düsen, Zuluft, Mess-Drossel",70,685.75,{"$f":"G9160*(1-VLOOKUP(F9160,Konditionen!$B:$G,6,0))","v":685.75}]
["Lindab Comfort Luftauslässe","GD","GD","Gummidüse        GD","",70,13.2,{"$f":"G9176*(1-VLOOKUP(F9176,Konditionen!$B:$G,6,0))","v":13.2}]
["Lindab Comfort Luftauslässe","HLD","HLD1400","Verdrängungsauslass       HLD-1-400","für Wand- und abgehängte Montage",70,2357,{"$f":"G9188*(1-VLOOKUP(F9188,Konditionen!$B:$G,6,0))","v":2357}]
["Lindab Comfort Luftauslässe","HLD","HLD3400","Verdrängungsauslass       HLD-3-400","für Wand- und abgehängte Montage",70,2357,{"$f":"G9198*(1-VLOOKUP(F9198,Konditionen!$B:$G,6,0))","v":2357}]
["Lindab Comfort Luftauslässe","LAD0","LAD0160","Zuluftdüse-Aluminium      LAD-0-160","Oberfläche unbehandelt",70,127.15,{"$f":"G9211*(1-VLOOKUP(F9211,Konditionen!$B:$G,6,0))","v":127.15}]
["Lindab Comfort Luftauslässe","NR19S","NR19S500200","Wandauslaß mit Düsen NR19-S-500x200","zur Montage in Anschlußkasten    WB",70,143.75,{"$f":"G9224*(1-VLOOKUP(F9224,Konditionen!$B:$G,6,0))","v":143.75}]
["Lindab Comfort Luftauslässe","PCS2","PCS2315A","Durchlass f. Sichtmontage PCS-315-A","mit Mess-/Drosseleinheit",70,1265,{"$f":"G9234*(1-VLOOKUP(F9234,Konditionen!$B:$G,6,0))","v":1265}]
["Lindab Comfort Luftauslässe","RCWB","RCWB00315A","Dralldurchlass       RCWB-0-0-315-A","Verstellung manuell, unlackiert",70,1151,{"$f":"G9246*(1-VLOOKUP(F9246,Konditionen!$B:$G,6,0))","v":1151}]
["Lindab Comfort Luftauslässe","RCWB","RCWB11630A","Dralldurchlass       RCWB-1-1-630-A","Verstellung motorisch modulierend",70,3295,{"$f":"G9262*(1-VLOOKUP(F9262,Konditionen!$B:$G,6,0))","v":3295}]
["Lindab Comfort Luftauslässe","RCWB","RCWB20630A","Dralldurchlass       RCWB-2-0-630-A","Verstellung motorisch on/off",70,2827,{"$f":"G9267*(1-VLOOKUP(F9267,Konditionen!$B:$G,6,0))","v":2827}]
["Lindab Comfort Luftauslässe","RCW","RCW1315A","Dralldurchlass          RCW-1-315-A","Verstellung motorisch modulierend",70,1694,{"$f":"G9288*(1-VLOOKUP(F9288,Konditionen!$B:$G,6,0))","v":1694}]
["Lindab Comfort Luftauslässe","RCW","RCW1500A","Dralldurchlass          RCW-1-500-A","Verstellung motorisch modulierend",70,1909,{"$f":"G9290*(1-VLOOKUP(F9290,Konditionen!$B:$G,6,0))","v":1909}]
["Lindab Comfort Luftauslässe","ULV","ULV10","Außenluftventil             ULV-1-0","Abmessung 540X240mm",70,244.15,{"$f":"G9310*(1-VLOOKUP(F9310,Konditionen!$B:$G,6,0))","v":244.15}]
["Lindab Comfort Luftauslässe","VRU","VRU-125-MF","VVS-Regler               VRU-125-MF","Min. 0cbm/h - Max. 309cbm/h",70,1027,{"$f":"G9317*(1-VLOOKUP(F9317,Konditionen!$B:$G,6,0))","v":1027}]
["Lindab Comfort Luftauslässe","WB","WB2300100","Anschlusskasten   WB-2  300 x 100mm","Anschluss seitlich DN80mm",70,164,{"$f":"G9335*(1-VLOOKUP(F9335,Konditionen!$B:$G,6,0))","v":164}]
["Lindab Comfort Luftauslässe","VBX","VBX1600300","Anschlusskasten     VBX-1-600x300mm","Anschluss rückseitig, DN 400mm",70,427.95,{"$f":"G9352*(1-VLOOKUP(F9352,Konditionen!$B:$G,6,0))","v":427.95}]
["Lindab Comfort Luftauslässe","VBX","VBX2400200","Anschlusskasten     VBX-2-400x200mm","Anschluss seitlich, DN 250mm",70,256.8,{"$f":"G9358*(1-VLOOKUP(F9358,Konditionen!$B:$G,6,0))","v":256.8}]
["Lindab Comfort Luftauslässe","VBX","VBX4500200","Anschlusskasten     VBX-4-500x200mm","Anschluss oberseitig, DN 315mm",70,341.75,{"$f":"G9374*(1-VLOOKUP(F9374,Konditionen!$B:$G,6,0))","v":341.75}]
["Lindab Comfort Luftauslässe","OLC","OLC1609010","Rundes Nachströmventil      OLC-160","RAL9010, OLCZ-160 separat bestellen",70,161.85,{"$f":"G9381*(1-VLOOKUP(F9381,Konditionen!$B:$G,6,0))","v":161.85}]
["Lindab Comfort Luftauslässe","FTCU","FTCU100BT","Ultralink Vol.str.regl. FTCU-100-BT","Regelklappe, Display, Bluetooth",70,908.2,{"$f":"G9391*(1-VLOOKUP(F9391,Konditionen!$B:$G,6,0))","v":908.2}]
["Lindab Comfort Luftauslässe","LTD25","LTD251300S0D0","Schlitzdurchlass LTD-25-1-300-S0-D0","Profil Alu elox., Lamellen RAL9005",70,97.35,{"$f":"G9403*(1-VLOOKUP(F9403,Konditionen!$B:$G,6,0))","v":97.35}]
["Lindab Comfort Luftauslässe","LTD25","LTD2511250S0D0","Schlitzdurchl.  LTD-25-1-1250-S0-D0","Profil Alu elox., Lamellen RAL9005",70,138.1,{"$f":"G9422*(1-VLOOKUP(F9422,Konditionen!$B:$G,6,0))","v":138.1}]
["Lindab Comfort Luftauslässe","LTD25","LTD252300S0D0","Schlitzdurchlass LTD-25-2-300-S0-D0","Profil Alu elox., Lamellen RAL9005",70,111.2,{"$f":"G9438*(1-VLOOKUP(F9438,Konditionen!$B:$G,6,0))","v":111.2}]
["Lindab Comfort Luftauslässe","LTD25","LTD252650S0D0","Schlitzdurchlass LTD-25-2-650-S0-D0","Profil Alu elox., Lamellen RAL9005",70,130.9,{"$f":"G9445*(1-VLOOKUP(F9445,Konditionen!$B:$G,6,0))","v":130.9}]
["Lindab Comfort Luftauslässe","LTD25","LTD2521400S0D0","Schlitzdurchl.  LTD-25-2-1400-S0-D0","Profil Alu elox., Lamellen RAL9005",70,183.05,{"$f":"G9460*(1-VLOOKUP(F9460,Konditionen!$B:$G,6,0))","v":183.05}]
["Lindab Comfort Luftauslässe","LTD25","LTD2521750S0D0","Schlitzdurchl.  LTD-25-2-1750-S0-D0","Profil Alu elox., Lamellen RAL9005",70,227.15,{"$f":"G9467*(1-VLOOKUP(F9467,Konditionen!$B:$G,6,0))","v":227.15}]
["Lindab Comfort Luftauslässe","LTD25","LTD2531150S0D0","Schlitzdurchl.  LTD-25-3-1150-S0-D0","Profil Alu elox., Lamellen RAL9005",70,206.95,{"$f":"G9490*(1-VLOOKUP(F9490,Konditionen!$B:$G,6,0))","v":206.95}]
["Lindab Comfort Luftauslässe","LTD25","LTD2531750S0D0","Schlitzdurchl.  LTD-25-3-1750-S0-D0","Profil Alu elox., Lamellen RAL9005",70,281.75,{"$f":"G9502*(1-VLOOKUP(F9502,Konditionen!$B:$G,6,0))","v":281.75}]
["Lindab Comfort Luftauslässe","LTD25","LTD254550S0D0","Schlitzdurchlass LTD-25-4-550-S0-D0","Profil Alu elox., Lamellen RAL9005",70,177.75,{"$f":"G9513*(1-VLOOKUP(F9513,Konditionen!$B:$G,6,0))","v":177.75}]
["Lindab Comfort Luftauslässe","LTD25","LTD2541100S0D0","Schlitzdurchl.  LTD-25-4-1100-S0-D0","Profil Alu elox., Lamellen RAL9005",70,244.35,{"$f":"G9524*(1-VLOOKUP(F9524,Konditionen!$B:$G,6,0))","v":244.35}]
["Lindab Comfort Luftauslässe","LTD25","LTD2541450S0D0","Schlitzdurchl.  LTD-25-4-1450-S0-D0","Profil Alu elox., Lamellen RAL9005",70,282.64999999999998,{"$f":"G9531*(1-VLOOKUP(F9531,Konditionen!$B:$G,6,0))","v":282.64999999999998}]
["Lindab Comfort Luftauslässe","LTD25","LTD255450S0D0","Schlitzdurchlass LTD-25-5-450-S0-D0","Profil Alu elox., Lamellen RAL9005",70,188.3,{"$f":"G9546*(1-VLOOKUP(F9546,Konditionen!$B:$G,6,0))","v":188.3}]
["Lindab Comfort Luftauslässe","LTD25","LTD2551450S0D0","Schlitzdurchl.  LTD-25-5-1450-S0-D0","Profil Alu elox., Lamellen RAL9005",70,328.25,{"$f":"G9566*(1-VLOOKUP(F9566,Konditionen!$B:$G,6,0))","v":328.25}]
["Lindab Comfort Luftauslässe","LTD25","LTD2551600S0D0","Schlitzdurchl.  LTD-25-5-1600-S0-D0","Profil Alu elox., Lamellen RAL9005",70,374.7,{"$f":"G9569*(1-VLOOKUP(F9569,Konditionen!$B:$G,6,0))","v":374.7}]
["Lindab Comfort Luftauslässe","LTD25","LTD256350S0D0","Schlitzdurchlass LTD-25-6-350-S0-D0","Profil Alu elox., Lamellen RAL9005",70,195.1,{"$f":"G9579*(1-VLOOKUP(F9579,Konditionen!$B:$G,6,0))","v":195.1}]
["Lindab Comfort Luftauslässe","LTD25","LTD2561150S0D0","Schlitzdurchl.  LTD-25-6-1150-S0-D0","Profil Alu elox., Lamellen RAL9005",70,328.25,{"$f":"G9595*(1-VLOOKUP(F9595,Konditionen!$B:$G,6,0))","v":328.25}]
["Lindab Comfort Luftauslässe","LTD25","LTD251350S1D0","Schlitzdurchlass LTD-25-1-350-S1-D0","Profil RAL9010, Lamellen RAL9005",70,98.85,{"$f":"G9614*(1-VLOOKUP(F9614,Konditionen!$B:$G,6,0))","v":98.85}]
["Lindab Comfort Luftauslässe","LTD25","LTD251500S1D0","Schlitzdurchlass LTD-25-1-500-S1-D0","Profil RAL9010, Lamellen RAL9005",70,103.05,{"$f":"G9617*(1-VLOOKUP(F9617,Konditionen!$B:$G,6,0))","v":103.05}]
["Lindab Comfort Luftauslässe","LTD25","LTD2511500S1D0","Schlitzdurchl.  LTD-25-1-1500-S1-D0","Profil RAL9010, Lamellen RAL9005",70,145.25,{"$f":"G9637*(1-VLOOKUP(F9637,Konditionen!$B:$G,6,0))","v":145.25}]
["Lindab Comfort Luftauslässe","LTD25","LTD2511800S1D0","Schlitzdurchl.  LTD-25-1-1800-S1-D0","Profil RAL9010, Lamellen RAL9005",70,174.95,{"$f":"G9643*(1-VLOOKUP(F9643,Konditionen!$B:$G,6,0))","v":174.95}]
["Lindab Comfort Luftauslässe","LTD25","LTD252850S1D0","Schlitzdurchlass LTD-25-2-850-S1-D0","Profil RAL9010, Lamellen RAL9005",70,148.05000000000001,{"$f":"G9659*(1-VLOOKUP(F9659,Konditionen!$B:$G,6,0))","v":148.05000000000001}]
["Lindab Comfort Luftauslässe","LTD25","LTD2521400S1D0","Schlitzdurchl.  LTD-25-2-1400-S1-D0","Profil RAL9010, Lamellen RAL9005",70,183.05,{"$f":"G9670*(1-VLOOKUP(F9670,Konditionen!$B:$G,6,0))","v":183.05}]
["Lindab Comfort Luftauslässe","LTD25","LTD253400S1D0","Schlitzdurchlass LTD-25-3-400-S1-D0","Profil RAL9010, Lamellen RAL9005",70,136.1,{"$f":"G9685*(1-VLOOKUP(F9685,Konditionen!$B:$G,6,0))","v":136.1}]
["Lindab Comfort Luftauslässe","LTD25","LTD253800S1D0","Schlitzdurchlass LTD-25-3-800-S1-D0","Profil RAL9010, Lamellen RAL9005",70,171.05,{"$f":"G9693*(1-VLOOKUP(F9693,Konditionen!$B:$G,6,0))","v":171.05}]
["Lindab Comfort Luftauslässe","LTD25","LTD2531500S1D0","Schlitzdurchl.  LTD-25-3-1500-S1-D0","Profil RAL9010, Lamellen RAL9005",70,236.25,{"$f":"G9707*(1-VLOOKUP(F9707,Konditionen!$B:$G,6,0))","v":236.25}]
["Lindab Comfort Luftauslässe","LTD25","LTD254800S1D0","Schlitzdurchlass LTD-25-4-800-S1-D0","Profil RAL9010, Lamellen RAL9005",70,204.1,{"$f":"G9728*(1-VLOOKUP(F9728,Konditionen!$B:$G,6,0))","v":204.1}]
["Lindab Comfort Luftauslässe","LTD25","LTD2541500S1D0","Schlitzdurchl.  LTD-25-4-1500-S1-D0","Profil RAL9010, Lamellen RAL9005",70,288.45,{"$f":"G9742*(1-VLOOKUP(F9742,Konditionen!$B:$G,6,0))","v":288.45}]
["Lindab Comfort Luftauslässe","LTD25","LTD2541850S1D0","Schlitzdurchl.  LTD-25-4-1850-S1-D0","Profil RAL9010, Lamellen RAL9005",70,350.8,{"$f":"G9749*(1-VLOOKUP(F9749,Konditionen!$B:$G,6,0))","v":350.8}]
["Lindab Comfort Luftauslässe","LTD25","LTD255700S1D0","Schlitzdurchlass LTD-25-5-700-S1-D0","Profil RAL9010, Lamellen RAL9005",70,221.45,{"$f":"G9761*(1-VLOOKUP(F9761,Konditionen!$B:$G,6,0))","v":221.45}]
["Lindab Comfort Luftauslässe","LTD25","LTD2551200S1D0","Schlitzdurchl.  LTD-25-5-1200-S1-D0","Profil RAL9010, Lamellen RAL9005",70,296.14999999999998,{"$f":"G9771*(1-VLOOKUP(F9771,Konditionen!$B:$G,6,0))","v":296.14999999999998}]
["Lindab Comfort Luftauslässe","LTD25","LTD2551850S1D0","Schlitzdurchl.  LTD-25-5-1850-S1-D0","Profil RAL9010, Lamellen RAL9005",70,408.1,{"$f":"G9784*(1-VLOOKUP(F9784,Konditionen!$B:$G,6,0))","v":408.1}]
["Lindab Comfort Luftauslässe","LTD25","LTD256550S1D0","Schlitzdurchlass LTD-25-6-550-S1-D0","Profil RAL9010, Lamellen RAL9005",70,225.7,{"$f":"G9793*(1-VLOOKUP(F9793,Konditionen!$B:$G,6,0))","v":225.7}]
["Lindab Comfort Luftauslässe","LTD25","LTD2561550S1D0","Schlitzdurchl.  LTD-25-6-1550-S1-D0","Profil RAL9010, Lamellen RAL9005",70,417.9,{"$f":"G9813*(1-VLOOKUP(F9813,Konditionen!$B:$G,6,0))","v":417.9}]
["Lindab Comfort Luftauslässe","LTD25","LTD251600S2D0","Schlitzdurchlass LTD-25-1-600-S2-D0","Profil RAL9003, Lamellen RAL9005",70,108.85,{"$f":"G9829*(1-VLOOKUP(F9829,Konditionen!$B:$G,6,0))","v":108.85}]
["Lindab Comfort Luftauslässe","LTD25","LTD251900S2D0","Schlitzdurchlass LTD-25-1-900-S2-D0","Profil RAL9003, Lamellen RAL9005",70,123.1,{"$f":"G9835*(1-VLOOKUP(F9835,Konditionen!$B:$G,6,0))","v":123.1}]
["Lindab Comfort Luftauslässe","LTD25","LTD2511550S2D0","Schlitzdurchl.  LTD-25-1-1550-S2-D0","Profil RAL9003, Lamellen RAL9005",70,165.75,{"$f":"G9848*(1-VLOOKUP(F9848,Konditionen!$B:$G,6,0))","v":165.75}]
["Lindab Comfort Luftauslässe","LTD25","LTD2512000S2D0","Schlitzdurchl.  LTD-25-1-2000-S2-D0","Profil RAL9003, Lamellen RAL9005",70,183.05,{"$f":"G9857*(1-VLOOKUP(F9857,Konditionen!$B:$G,6,0))","v":183.05}]
["Lindab Comfort Luftauslässe","LTD25","LTD2521250S2D0","Schlitzdurchl.  LTD-25-2-1250-S2-D0","Profil RAL9003, Lamellen RAL9005",70,173.5,{"$f":"G9877*(1-VLOOKUP(F9877,Konditionen!$B:$G,6,0))","v":173.5}]
["Lindab Comfort Luftauslässe","LTD25","LTD2521650S2D0","Schlitzdurchl.  LTD-25-2-1650-S2-D0","Profil RAL9003, Lamellen RAL9005",70,220.5,{"$f":"G9885*(1-VLOOKUP(F9885,Konditionen!$B:$G,6,0))","v":220.5}]
["Lindab Comfort Luftauslässe","LTD25","LTD253600S2D0","Schlitzdurchlass LTD-25-3-600-S2-D0","Profil RAL9003, Lamellen RAL9005",70,153.94999999999999,{"$f":"G9899*(1-VLOOKUP(F9899,Konditionen!$B:$G,6,0))","v":153.94999999999999}]
["Lindab Comfort Luftauslässe","LTD25","LTD2531450S2D0","Schlitzdurchl.  LTD-25-3-1450-S2-D0","Profil RAL9003, Lamellen RAL9005",70,232.4,{"$f":"G9916*(1-VLOOKUP(F9916,Konditionen!$B:$G,6,0))","v":232.4}]
["Lindab Comfort Luftauslässe","LTD25","LTD2531700S2D0","Schlitzdurchl.  LTD-25-3-1700-S2-D0","Profil RAL9003, Lamellen RAL9005",70,277.35000000000002,{"$f":"G9921*(1-VLOOKUP(F9921,Konditionen!$B:$G,6,0))","v":277.35000000000002}]
["Lindab Comfort Luftauslässe","LTD25","LTD254850S2D0","Schlitzdurchlass LTD-25-4-850-S2-D0","Profil RAL9003, Lamellen RAL9005",70,217.6,{"$f":"G9939*(1-VLOOKUP(F9939,Konditionen!$B:$G,6,0))","v":217.6}]
["Lindab Comfort Luftauslässe","LTD25","LTD2541700S2D0","Schlitzdurchl.  LTD-25-4-1700-S2-D0","Profil RAL9003, Lamellen RAL9005",70,334.95,{"$f":"G9956*(1-VLOOKUP(F9956,Konditionen!$B:$G,6,0))","v":334.95}]
["Lindab Comfort Luftauslässe","LTD25","LTD255300S2D0","Schlitzdurchlass LTD-25-5-300-S2-D0","Profil RAL9003, Lamellen RAL9005",70,168.15,{"$f":"G9963*(1-VLOOKUP(F9963,Konditionen!$B:$G,6,0))","v":168.15}]
["Lindab Comfort Luftauslässe","LTD25","LTD255750S2D0","Schlitzdurchlass LTD-25-5-750-S2-D0","Profil RAL9003, Lamellen RAL9005",70,228.15,{"$f":"G9972*(1-VLOOKUP(F9972,Konditionen!$B:$G,6,0))","v":228.15}]
["Lindab Comfort Luftauslässe","LTD25","LTD2551400S2D0","Schlitzdurchl.  LTD-25-5-1400-S2-D0","Profil RAL9003, Lamellen RAL9005",70,321.60000000000002,{"$f":"G9985*(1-VLOOKUP(F9985,Konditionen!$B:$G,6,0))","v":321.60000000000002}]
["Lindab Comfort Luftauslässe","LTD25","LTD2551900S2D0","Schlitzdurchl.  LTD-25-5-1900-S2-D0","Profil RAL9003, Lamellen RAL9005",70,414.95,{"$f":"G9995*(1-VLOOKUP(F9995,Konditionen!$B:$G,6,0))","v":414.95}]
["Lindab Comfort Luftauslässe","LTD25","LTD256950S2D0","Schlitzdurchlass LTD-25-6-950-S2-D0","Profil RAL9003, Lamellen RAL9005",70,297.45,{"$f":"G10011*(1-VLOOKUP(F10011,Konditionen!$B:$G,6,0))","v":297.45}]
["Lindab Comfort Luftauslässe","LTD25","LTD2561750S2D0","Schlitzdurchl.  LTD-25-6-1750-S2-D0","Profil RAL9003, Lamellen RAL9005",70,448.5,{"$f":"G10027*(1-VLOOKUP(F10027,Konditionen!$B:$G,6,0))","v":448.5}]
["Lindab Comfort Luftauslässe","LTD25","LTD251650S0D4","Schlitzdurchlass LTD-25-1-650-S0-D4","Profil Alu elox, Lamellen Alu elox.",70,110.25,{"$f":"G10040*(1-VLOOKUP(F10040,Konditionen!$B:$G,6,0))","v":110.25}]
["Lindab Comfort Luftauslässe","LTD25","LTD2511100S0D4","Schlitzdurchl.  LTD-25-1-1100-S0-D4","Profil Alu elox, Lamellen Alu elox.",70,133.25,{"$f":"G10049*(1-VLOOKUP(F10049,Konditionen!$B:$G,6,0))","v":133.25}]
["Lindab Comfort Luftauslässe","LTD25","LTD2511800S0D4","Schlitzdurchl.  LTD-25-1-1800-S0-D4","Profil Alu elox, Lamellen Alu elox.",70,174.95,{"$f":"G10063*(1-VLOOKUP(F10063,Konditionen!$B:$G,6,0))","v":174.95}]
["Lindab Comfort Luftauslässe","LTD25","LTD252650S0D4","Schlitzdurchlass LTD-25-2-650-S0-D4","Profil Alu elox, Lamellen Alu elox.",70,130.9,{"$f":"G10075*(1-VLOOKUP(F10075,Konditionen!$B:$G,6,0))","v":130.9}]
["Lindab Comfort Luftauslässe","LTD25","LTD2521450S0D4","Schlitzdurchl.  LTD-25-2-1450-S0-D4","Profil Alu elox, Lamellen Alu elox.",70,186.85,{"$f":"G10091*(1-VLOOKUP(F10091,Konditionen!$B:$G,6,0))","v":186.85}]
["Lindab Comfort Luftauslässe","LTD25","LTD2521700S0D4","Schlitzdurchl.  LTD-25-2-1700-S0-D4","Profil Alu elox, Lamellen Alu elox.",70,224.25,{"$f":"G10096*(1-VLOOKUP(F10096,Konditionen!$B:$G,6,0))","v":224.25}]
["Lindab Comfort Luftauslässe","LTD25","LTD2531000S0D4","Schlitzdurchl.  LTD-25-3-1000-S0-D4","Profil Alu elox, Lamellen Alu elox.",70,193.6,{"$f":"G10117*(1-VLOOKUP(F10117,Konditionen!$B:$G,6,0))","v":193.6}]
["Lindab Comfort Luftauslässe","LTD25","LTD2531700S0D4","Schlitzdurchl.  LTD-25-3-1700-S0-D4","Profil Alu elox, Lamellen Alu elox.",70,277.35000000000002,{"$f":"G10131*(1-VLOOKUP(F10131,Konditionen!$B:$G,6,0))","v":277.35000000000002}]
["Lindab Comfort Luftauslässe","LTD25","LTD254350S0D4","Schlitzdurchlass LTD-25-4-350-S0-D4","Profil Alu elox, Lamellen Alu elox.",70,156.19999999999999,{"$f":"G10139*(1-VLOOKUP(F10139,Konditionen!$B:$G,6,0))","v":156.19999999999999}]
["Lindab Comfort Luftauslässe","LTD25","LTD2541100S0D4","Schlitzdurchl.  LTD-25-4-1100-S0-D4","Profil Alu elox, Lamellen Alu elox.",70,244.35,{"$f":"G10154*(1-VLOOKUP(F10154,Konditionen!$B:$G,6,0))","v":244.35}]
["Lindab Comfort Luftauslässe","LTD25","LTD2541450S0D4","Schlitzdurchl.  LTD-25-4-1450-S0-D4","Profil Alu elox, Lamellen Alu elox.",70,282.64999999999998,{"$f":"G10161*(1-VLOOKUP(F10161,Konditionen!$B:$G,6,0))","v":282.64999999999998}]
["Lindab Comfort Luftauslässe","LTD25","LTD255700S0D4","Schlitzdurchlass LTD-25-5-700-S0-D4","Profil Alu elox, Lamellen Alu elox.",70,221.45,{"$f":"G10181*(1-VLOOKUP(F10181,Konditionen!$B:$G,6,0))","v":221.45}]
["Lindab Comfort Luftauslässe","LTD25","LTD2551000S0D4","Schlitzdurchl.  LTD-25-5-1000-S0-D4","Profil Alu elox, Lamellen Alu elox.",70,269.8,{"$f":"G10187*(1-VLOOKUP(F10187,Konditionen!$B:$G,6,0))","v":269.8}]
["Lindab Comfort Luftauslässe","LTD25","LTD2551800S0D4","Schlitzdurchl.  LTD-25-5-1800-S0-D4","Profil Alu elox, Lamellen Alu elox.",70,401.5,{"$f":"G10203*(1-VLOOKUP(F10203,Konditionen!$B:$G,6,0))","v":401.5}]
["Lindab Comfort Luftauslässe","LTD25","LTD256400S0D4","Schlitzdurchlass LTD-25-6-400-S0-D4","Profil Alu elox, Lamellen Alu elox.",70,202.65,{"$f":"G10210*(1-VLOOKUP(F10210,Konditionen!$B:$G,6,0))","v":202.65}]
["Lindab Comfort Luftauslässe","LTD25","LTD2561150S0D4","Schlitzdurchl.  LTD-25-6-1150-S0-D4","Profil Alu elox, Lamellen Alu elox.",70,328.25,{"$f":"G10225*(1-VLOOKUP(F10225,Konditionen!$B:$G,6,0))","v":328.25}]
["Lindab Comfort Luftauslässe","LTD25","LTD251400S1D4","Schlitzdurchlass LTD-25-1-400-S1-D4","Profil RAL9010, Lamellen Alu elox.",70,100.2,{"$f":"G10245*(1-VLOOKUP(F10245,Konditionen!$B:$G,6,0))","v":100.2}]
["Lindab Comfort Luftauslässe","LTD25","LTD251900S1D4","Schlitzdurchlass LTD-25-1-900-S1-D4","Profil RAL9010, Lamellen Alu elox.",70,123.1,{"$f":"G10255*(1-VLOOKUP(F10255,Konditionen!$B:$G,6,0))","v":123.1}]
["Lindab Comfort Luftauslässe","LTD25","LTD2511500S1D4","Schlitzdurchl.  LTD-25-1-1500-S1-D4","Profil RAL9010, Lamellen Alu elox.",70,145.25,{"$f":"G10267*(1-VLOOKUP(F10267,Konditionen!$B:$G,6,0))","v":145.25}]
["Lindab Comfort Luftauslässe","LTD25","LTD2511850S1D4","Schlitzdurchl.  LTD-25-1-1850-S1-D4","Profil RAL9010, Lamellen Alu elox.",70,177.75,{"$f":"G10274*(1-VLOOKUP(F10274,Konditionen!$B:$G,6,0))","v":177.75}]
["Lindab Comfort Luftauslässe","LTD25","LTD252850S1D4","Schlitzdurchlass LTD-25-2-850-S1-D4","Profil RAL9010, Lamellen Alu elox.",70,148.05000000000001,{"$f":"G10289*(1-VLOOKUP(F10289,Konditionen!$B:$G,6,0))","v":148.05000000000001}]
["Lindab Comfort Luftauslässe","LTD25","LTD2521850S1D4","Schlitzdurchl.  LTD-25-2-1850-S1-D4","Profil RAL9010, Lamellen Alu elox.",70,233.45,{"$f":"G10309*(1-VLOOKUP(F10309,Konditionen!$B:$G,6,0))","v":233.45}]
["Lindab Comfort Luftauslässe","LTD25","LTD2521950S1D4","Schlitzdurchl.  LTD-25-2-1950-S1-D4","Profil RAL9010, Lamellen Alu elox.",70,240.05,{"$f":"G10311*(1-VLOOKUP(F10311,Konditionen!$B:$G,6,0))","v":240.05}]
["Lindab Comfort Luftauslässe","LTD25","LTD2531200S1D4","Schlitzdurchl.  LTD-25-3-1200-S1-D4","Profil RAL9010, Lamellen Alu elox.",70,210.95,{"$f":"G10331*(1-VLOOKUP(F10331,Konditionen!$B:$G,6,0))","v":210.95}]
["Lindab Comfort Luftauslässe","LTD25","LTD2531750S1D4","Schlitzdurchl.  LTD-25-3-1750-S1-D4","Profil RAL9010, Lamellen Alu elox.",70,281.75,{"$f":"G10342*(1-VLOOKUP(F10342,Konditionen!$B:$G,6,0))","v":281.75}]
["Lindab Comfort Luftauslässe","LTD25","LTD254550S1D4","Schlitzdurchlass LTD-25-4-550-S1-D4","Profil RAL9010, Lamellen Alu elox.",70,177.75,{"$f":"G10353*(1-VLOOKUP(F10353,Konditionen!$B:$G,6,0))","v":177.75}]
["Lindab Comfort Luftauslässe","LTD25","LTD254900S1D4","Schlitzdurchlass LTD-25-4-900-S1-D4","Profil RAL9010, Lamellen Alu elox.",70,222.8,{"$f":"G10360*(1-VLOOKUP(F10360,Konditionen!$B:$G,6,0))","v":222.8}]
["Lindab Comfort Luftauslässe","LTD25","LTD2541850S1D4","Schlitzdurchl.  LTD-25-4-1850-S1-D4","Profil RAL9010, Lamellen Alu elox.",70,350.8,{"$f":"G10379*(1-VLOOKUP(F10379,Konditionen!$B:$G,6,0))","v":350.8}]
["Lindab Comfort Luftauslässe","LTD25","LTD255900S1D4","Schlitzdurchlass LTD-25-5-900-S1-D4","Profil RAL9010, Lamellen Alu elox.",70,256.3,{"$f":"G10395*(1-VLOOKUP(F10395,Konditionen!$B:$G,6,0))","v":256.3}]
["Lindab Comfort Luftauslässe","LTD25","LTD2551050S1D4","Schlitzdurchl.  LTD-25-5-1050-S1-D4","Profil RAL9010, Lamellen Alu elox.",70,276.45,{"$f":"G10398*(1-VLOOKUP(F10398,Konditionen!$B:$G,6,0))","v":276.45}]
["Lindab Comfort Luftauslässe","LTD25","LTD2552000S1D4","Schlitzdurchl.  LTD-25-5-2000-S1-D4","Profil RAL9010, Lamellen Alu elox.",70,428.4,{"$f":"G10417*(1-VLOOKUP(F10417,Konditionen!$B:$G,6,0))","v":428.4}]
["Lindab Comfort Luftauslässe","LTD25","LTD2561050S1D4","Schlitzdurchl.  LTD-25-6-1050-S1-D4","Profil RAL9010, Lamellen Alu elox.",70,313.35000000000002,{"$f":"G10433*(1-VLOOKUP(F10433,Konditionen!$B:$G,6,0))","v":313.35000000000002}]
["Lindab Comfort Luftauslässe","LTD25","LTD2561550S1D4","Schlitzdurchl.  LTD-25-6-1550-S1-D4","Profil RAL9010, Lamellen Alu elox.",70,417.9,{"$f":"G10443*(1-VLOOKUP(F10443,Konditionen!$B:$G,6,0))","v":417.9}]
["Lindab Comfort Luftauslässe","LTD25","LTD251600S2D4","Schlitzdurchlass LTD-25-1-600-S2-D4","Profil RAL9003, Lamellen Alu elox.",70,108.85,{"$f":"G10459*(1-VLOOKUP(F10459,Konditionen!$B:$G,6,0))","v":108.85}]
["Lindab Comfort Luftauslässe","LTD25","LTD251950S2D4","Schlitzdurchlass LTD-25-1-950-S2-D4","Profil RAL9003, Lamellen Alu elox.",70,124.65,{"$f":"G10466*(1-VLOOKUP(F10466,Konditionen!$B:$G,6,0))","v":124.65}]
["Lindab Comfort Luftauslässe","LTD25","LTD2511700S2D4","Schlitzdurchl.  LTD-25-1-1700-S2-D4","Profil RAL9003, Lamellen Alu elox.",70,171.5,{"$f":"G10481*(1-VLOOKUP(F10481,Konditionen!$B:$G,6,0))","v":171.5}]
["Lindab Comfort Luftauslässe","LTD25","LTD252350S2D4","Schlitzdurchlass LTD-25-2-350-S2-D4","Profil RAL9003, Lamellen Alu elox.",70,113.7,{"$f":"G10489*(1-VLOOKUP(F10489,Konditionen!$B:$G,6,0))","v":113.7}]
["Lindab Comfort Luftauslässe","LTD25","LTD2521250S2D4","Schlitzdurchl.  LTD-25-2-1250-S2-D4","Profil RAL9003, Lamellen Alu elox.",70,173.5,{"$f":"G10507*(1-VLOOKUP(F10507,Konditionen!$B:$G,6,0))","v":173.5}]
["Lindab Comfort Luftauslässe","LTD25","LTD253300S2D4","Schlitzdurchlass LTD-25-3-300-S2-D4","Profil RAL9003, Lamellen Alu elox.",70,128.5,{"$f":"G10523*(1-VLOOKUP(F10523,Konditionen!$B:$G,6,0))","v":128.5}]
["Lindab Comfort Luftauslässe","LTD25","LTD253850S2D4","Schlitzdurchlass LTD-25-3-850-S2-D4","Profil RAL9003, Lamellen Alu elox.",70,180.3,{"$f":"G10534*(1-VLOOKUP(F10534,Konditionen!$B:$G,6,0))","v":180.3}]
["Lindab Comfort Luftauslässe","LTD25","LTD253950S2D4","Schlitzdurchlass LTD-25-3-950-S2-D4","Profil RAL9003, Lamellen Alu elox.",70,189.85,{"$f":"G10536*(1-VLOOKUP(F10536,Konditionen!$B:$G,6,0))","v":189.85}]
["Lindab Comfort Luftauslässe","LTD25","LTD2532000S2D4","Schlitzdurchl.  LTD-25-3-2000-S2-D4","Profil RAL9003, Lamellen Alu elox.",70,302.85000000000002,{"$f":"G10557*(1-VLOOKUP(F10557,Konditionen!$B:$G,6,0))","v":302.85000000000002}]
["Lindab Comfort Luftauslässe","LTD25","LTD254950S2D4","Schlitzdurchlass LTD-25-4-950-S2-D4","Profil RAL9003, Lamellen Alu elox.",70,228.15,{"$f":"G10571*(1-VLOOKUP(F10571,Konditionen!$B:$G,6,0))","v":228.15}]
["Lindab Comfort Luftauslässe","LTD25","LTD2541100S2D4","Schlitzdurchl.  LTD-25-4-1100-S2-D4","Profil RAL9003, Lamellen Alu elox.",70,244.35,{"$f":"G10574*(1-VLOOKUP(F10574,Konditionen!$B:$G,6,0))","v":244.35}]
["Lindab Comfort Luftauslässe","LTD25","LTD2541900S2D4","Schlitzdurchl.  LTD-25-4-1900-S2-D4","Profil RAL9003, Lamellen Alu elox.",70,357.4,{"$f":"G10590*(1-VLOOKUP(F10590,Konditionen!$B:$G,6,0))","v":357.4}]
["Lindab Comfort Luftauslässe","LTD25","LTD255650S2D4","Schlitzdurchlass LTD-25-5-650-S2-D4","Profil RAL9003, Lamellen Alu elox.",70,215.15,{"$f":"G10600*(1-VLOOKUP(F10600,Konditionen!$B:$G,6,0))","v":215.15}]
["Lindab Comfort Luftauslässe","LTD25","LTD2551300S2D4","Schlitzdurchl.  LTD-25-5-1300-S2-D4","Profil RAL9003, Lamellen Alu elox.",70,309.64999999999998,{"$f":"G10613*(1-VLOOKUP(F10613,Konditionen!$B:$G,6,0))","v":309.64999999999998}]
["Lindab Comfort Luftauslässe","LTD25","LTD256650S2D4","Schlitzdurchlass LTD-25-6-650-S2-D4","Profil RAL9003, Lamellen Alu elox.",70,241.5,{"$f":"G10635*(1-VLOOKUP(F10635,Konditionen!$B:$G,6,0))","v":241.5}]
["Lindab Comfort Luftauslässe","LTD25","LTD2561300S2D4","Schlitzdurchl.  LTD-25-6-1300-S2-D4","Profil RAL9003, Lamellen Alu elox.",70,352.25,{"$f":"G10648*(1-VLOOKUP(F10648,Konditionen!$B:$G,6,0))","v":352.25}]
["Lindab Comfort Luftauslässe","LTD25","LTD2561750S2D4","Schlitzdurchl.  LTD-25-6-1750-S2-D4","Profil RAL9003, Lamellen Alu elox.",70,448.5,{"$f":"G10657*(1-VLOOKUP(F10657,Konditionen!$B:$G,6,0))","v":448.5}]
["Lindab Comfort Luftauslässe","LTD25","LTD251350S0D3","Schlitzdurchlass LTD-25-1-350-S0-D3","Profil Alu elox., Ohne Lamellen",70,94,{"$f":"G10664*(1-VLOOKUP(F10664,Konditionen!$B:$G,6,0))","v":94}]
["Lindab Comfort Luftauslässe","LTD25","LTD2511200S0D3","Schlitzdurchl.  LTD-25-1-1200-S0-D3","Profil Alu elox., Ohne Lamellen",70,130.05000000000001,{"$f":"G10681*(1-VLOOKUP(F10681,Konditionen!$B:$G,6,0))","v":130.05000000000001}]
["Lindab Comfort Luftauslässe","LTD25","LTD252350S0D3","Schlitzdurchlass LTD-25-2-350-S0-D3","Profil Alu elox., Ohne Lamellen",70,108.25,{"$f":"G10699*(1-VLOOKUP(F10699,Konditionen!$B:$G,6,0))","v":108.25}]
["Lindab Comfort Luftauslässe","LTD25","LTD252400S0D3","Schlitzdurchlass LTD-25-2-400-S0-D3","Profil Alu elox., Ohne Lamellen",70,110.95,{"$f":"G10700*(1-VLOOKUP(F10700,Konditionen!$B:$G,6,0))","v":110.95}]
["Lindab Comfort Luftauslässe","LTD25","LTD2521450S0D3","Schlitzdurchl.  LTD-25-2-1450-S0-D3","Profil Alu elox., Ohne Lamellen",70,178,{"$f":"G10721*(1-VLOOKUP(F10721,Konditionen!$B:$G,6,0))","v":178}]
["Lindab Comfort Luftauslässe","LTD25","LTD2521800S0D3","Schlitzdurchl.  LTD-25-2-1800-S0-D3","Profil Alu elox., Ohne Lamellen",70,219.95,{"$f":"G10728*(1-VLOOKUP(F10728,Konditionen!$B:$G,6,0))","v":219.95}]
["Lindab Comfort Luftauslässe","LTD25","LTD2531100S0D3","Schlitzdurchl.  LTD-25-3-1100-S0-D3","Profil Alu elox., Ohne Lamellen",70,192.15,{"$f":"G10749*(1-VLOOKUP(F10749,Konditionen!$B:$G,6,0))","v":192.15}]
["Lindab Comfort Luftauslässe","LTD25","LTD2531150S0D3","Schlitzdurchl.  LTD-25-3-1150-S0-D3","Profil Alu elox., Ohne Lamellen",70,197.05,{"$f":"G10750*(1-VLOOKUP(F10750,Konditionen!$B:$G,6,0))","v":197.05}]
["Lindab Comfort Luftauslässe","LTD25","LTD254300S0D3","Schlitzdurchlass LTD-25-4-300-S0-D3","Profil Alu elox., Ohne Lamellen",70,143.80000000000001,{"$f":"G10768*(1-VLOOKUP(F10768,Konditionen!$B:$G,6,0))","v":143.80000000000001}]
["Lindab Comfort Luftauslässe","LTD25","LTD2541150S0D3","Schlitzdurchl.  LTD-25-4-1150-S0-D3","Profil Alu elox., Ohne Lamellen",70,237.8,{"$f":"G10785*(1-VLOOKUP(F10785,Konditionen!$B:$G,6,0))","v":237.8}]
["Lindab Comfort Luftauslässe","LTD25","LTD2541500S0D3","Schlitzdurchl.  LTD-25-4-1500-S0-D3","Profil Alu elox., Ohne Lamellen",70,274.7,{"$f":"G10792*(1-VLOOKUP(F10792,Konditionen!$B:$G,6,0))","v":274.7}]
["Lindab Comfort Luftauslässe","LTD25","LTD2541950S0D3","Schlitzdurchl.  LTD-25-4-1950-S0-D3","Profil Alu elox., Ohne Lamellen",70,344.5,{"$f":"G10801*(1-VLOOKUP(F10801,Konditionen!$B:$G,6,0))","v":344.5}]
["Lindab Comfort Luftauslässe","LTD25","LTD255850S0D3","Schlitzdurchlass LTD-25-5-850-S0-D3","Profil Alu elox., Ohne Lamellen",70,237.8,{"$f":"G10814*(1-VLOOKUP(F10814,Konditionen!$B:$G,6,0))","v":237.8}]
["Lindab Comfort Luftauslässe","LTD25","LTD2551950S0D3","Schlitzdurchl.  LTD-25-5-1950-S0-D3","Profil Alu elox., Ohne Lamellen",70,400.15,{"$f":"G10836*(1-VLOOKUP(F10836,Konditionen!$B:$G,6,0))","v":400.15}]
["Lindab Comfort Luftauslässe","LTD25","LTD256850S0D3","Schlitzdurchlass LTD-25-6-850-S0-D3","Profil Alu elox., Ohne Lamellen",70,269.3,{"$f":"G10849*(1-VLOOKUP(F10849,Konditionen!$B:$G,6,0))","v":269.3}]
["Lindab Comfort Luftauslässe","LTD25","LTD2561200S0D3","Schlitzdurchl.  LTD-25-6-1200-S0-D3","Profil Alu elox., Ohne Lamellen",70,320.45,{"$f":"G10856*(1-VLOOKUP(F10856,Konditionen!$B:$G,6,0))","v":320.45}]
["Lindab Comfort Luftauslässe","LTD25","LTD2561850S0D3","Schlitzdurchl.  LTD-25-6-1850-S0-D3","Profil Alu elox., Ohne Lamellen",70,442.15,{"$f":"G10869*(1-VLOOKUP(F10869,Konditionen!$B:$G,6,0))","v":442.15}]
["Lindab Comfort Luftauslässe","LTD25","LTD251550S1D3","Schlitzdurchlass LTD-25-1-550-S1-D3","Profil RAL9010, Ohne Lamellen",70,102.3,{"$f":"G10878*(1-VLOOKUP(F10878,Konditionen!$B:$G,6,0))","v":102.3}]
["Lindab Comfort Luftauslässe","LTD25","LTD2511250S1D3","Schlitzdurchl.  LTD-25-1-1250-S1-D3","Profil RAL9010, Ohne Lamellen",70,131.55000000000001,{"$f":"G10892*(1-VLOOKUP(F10892,Konditionen!$B:$G,6,0))","v":131.55000000000001}]
["Lindab Comfort Luftauslässe","LTD25","LTD252550S1D3","Schlitzdurchlass LTD-25-2-550-S1-D3","Profil RAL9010, Ohne Lamellen",70,119.55,{"$f":"G10913*(1-VLOOKUP(F10913,Konditionen!$B:$G,6,0))","v":119.55}]
["Lindab Comfort Luftauslässe","LTD25","LTD252650S1D3","Schlitzdurchlass LTD-25-2-650-S1-D3","Profil RAL9010, Ohne Lamellen",70,124.65,{"$f":"G10915*(1-VLOOKUP(F10915,Konditionen!$B:$G,6,0))","v":124.65}]
["Lindab Comfort Luftauslässe","LTD25","LTD2521200S1D3","Schlitzdurchl.  LTD-25-2-1200-S1-D3","Profil RAL9010, Ohne Lamellen",70,163,{"$f":"G10926*(1-VLOOKUP(F10926,Konditionen!$B:$G,6,0))","v":163}]
["Lindab Comfort Luftauslässe","LTD25","LTD2522000S1D3","Schlitzdurchl.  LTD-25-2-2000-S1-D3","Profil RAL9010, Ohne Lamellen",70,231.3,{"$f":"G10942*(1-VLOOKUP(F10942,Konditionen!$B:$G,6,0))","v":231.3}]
["Lindab Comfort Luftauslässe","LTD25","LTD2531150S1D3","Schlitzdurchl.  LTD-25-3-1150-S1-D3","Profil RAL9010, Ohne Lamellen",70,197.05,{"$f":"G10960*(1-VLOOKUP(F10960,Konditionen!$B:$G,6,0))","v":197.05}]
["Lindab Comfort Luftauslässe","LTD25","LTD2531550S1D3","Schlitzdurchl.  LTD-25-3-1550-S1-D3","Profil RAL9010, Ohne Lamellen",70,251.95,{"$f":"G10968*(1-VLOOKUP(F10968,Konditionen!$B:$G,6,0))","v":251.95}]
["Lindab Comfort Luftauslässe","LTD25","LTD254550S1D3","Schlitzdurchlass LTD-25-4-550-S1-D3","Profil RAL9010, Ohne Lamellen",70,169.35,{"$f":"G10983*(1-VLOOKUP(F10983,Konditionen!$B:$G,6,0))","v":169.35}]
["Lindab Comfort Luftauslässe","LTD25","LTD254900S1D3","Schlitzdurchlass LTD-25-4-900-S1-D3","Profil RAL9010, Ohne Lamellen",70,212.25,{"$f":"G10990*(1-VLOOKUP(F10990,Konditionen!$B:$G,6,0))","v":212.25}]
["Lindab Comfort Luftauslässe","LTD25","LTD2541700S1D3","Schlitzdurchl.  LTD-25-4-1700-S1-D3","Profil RAL9010, Ohne Lamellen",70,318.89999999999998,{"$f":"G11006*(1-VLOOKUP(F11006,Konditionen!$B:$G,6,0))","v":318.89999999999998}]
["Lindab Comfort Luftauslässe","LTD25","LTD255450S1D3","Schlitzdurchlass LTD-25-5-450-S1-D3","Profil RAL9010, Ohne Lamellen",70,179.35,{"$f":"G11016*(1-VLOOKUP(F11016,Konditionen!$B:$G,6,0))","v":179.35}]
["Lindab Comfort Luftauslässe","LTD25","LTD2551250S1D3","Schlitzdurchl.  LTD-25-5-1250-S1-D3","Profil RAL9010, Ohne Lamellen",70,288.45,{"$f":"G11032*(1-VLOOKUP(F11032,Konditionen!$B:$G,6,0))","v":288.45}]
["Lindab Comfort Luftauslässe","LTD25","LTD256450S1D3","Schlitzdurchlass LTD-25-6-450-S1-D3","Profil RAL9010, Ohne Lamellen",70,199.45,{"$f":"G11051*(1-VLOOKUP(F11051,Konditionen!$B:$G,6,0))","v":199.45}]
["Lindab Comfort Luftauslässe","LTD25","LTD256600S1D3","Schlitzdurchlass LTD-25-6-600-S1-D3","Profil RAL9010, Ohne Lamellen",70,222.2,{"$f":"G11054*(1-VLOOKUP(F11054,Konditionen!$B:$G,6,0))","v":222.2}]
["Lindab Comfort Luftauslässe","LTD25","LTD2561400S1D3","Schlitzdurchl.  LTD-25-6-1400-S1-D3","Profil RAL9010, Ohne Lamellen",70,349.6,{"$f":"G11070*(1-VLOOKUP(F11070,Konditionen!$B:$G,6,0))","v":349.6}]
["Lindab Comfort Luftauslässe","LTD25","LTD251350S2D3","Schlitzdurchlass LTD-25-1-350-S2-D3","Profil RAL9003, Ohne Lamellen",70,94,{"$f":"G11084*(1-VLOOKUP(F11084,Konditionen!$B:$G,6,0))","v":94}]
["Lindab Comfort Luftauslässe","LTD25","LTD251950S2D3","Schlitzdurchlass LTD-25-1-950-S2-D3","Profil RAL9003, Ohne Lamellen",70,118.65,{"$f":"G11096*(1-VLOOKUP(F11096,Konditionen!$B:$G,6,0))","v":118.65}]
["Lindab Comfort Luftauslässe","LTD25","LTD2511500S2D3","Schlitzdurchl.  LTD-25-1-1500-S2-D3","Profil RAL9003, Ohne Lamellen",70,138.30000000000001,{"$f":"G11107*(1-VLOOKUP(F11107,Konditionen!$B:$G,6,0))","v":138.30000000000001}]
["Lindab Comfort Luftauslässe","LTD25","LTD252300S2D3","Schlitzdurchlass LTD-25-2-300-S2-D3","Profil RAL9003, Ohne Lamellen",70,106.05,{"$f":"G11118*(1-VLOOKUP(F11118,Konditionen!$B:$G,6,0))","v":106.05}]
["Lindab Comfort Luftauslässe","LTD25","LTD2521300S2D3","Schlitzdurchl.  LTD-25-2-1300-S2-D3","Profil RAL9003, Ohne Lamellen",70,169.35,{"$f":"G11138*(1-VLOOKUP(F11138,Konditionen!$B:$G,6,0))","v":169.35}]
["Lindab Comfort Luftauslässe","LTD25","LTD2521400S2D3","Schlitzdurchl.  LTD-25-2-1400-S2-D3","Profil RAL9003, Ohne Lamellen",70,174.4,{"$f":"G11140*(1-VLOOKUP(F11140,Konditionen!$B:$G,6,0))","v":174.4}]
["Lindab Comfort Luftauslässe","LTD25","LTD253650S2D3","Schlitzdurchlass LTD-25-3-650-S2-D3","Profil RAL9003, Ohne Lamellen",70,150.25,{"$f":"G11160*(1-VLOOKUP(F11160,Konditionen!$B:$G,6,0))","v":150.25}]
["Lindab Comfort Luftauslässe","LTD25","LTD2531400S2D3","Schlitzdurchl.  LTD-25-3-1400-S2-D3","Profil RAL9003, Ohne Lamellen",70,217.3,{"$f":"G11175*(1-VLOOKUP(F11175,Konditionen!$B:$G,6,0))","v":217.3}]
["Lindab Comfort Luftauslässe","LTD25","LTD2531750S2D3","Schlitzdurchl.  LTD-25-3-1750-S2-D3","Profil RAL9003, Ohne Lamellen",70,268.35000000000002,{"$f":"G11182*(1-VLOOKUP(F11182,Konditionen!$B:$G,6,0))","v":268.35000000000002}]
["Lindab Comfort Luftauslässe","LTD25","LTD254600S2D3","Schlitzdurchlass LTD-25-4-600-S2-D3","Profil RAL9003, Ohne Lamellen",70,174.4,{"$f":"G11194*(1-VLOOKUP(F11194,Konditionen!$B:$G,6,0))","v":174.4}]
["Lindab Comfort Luftauslässe","LTD25","LTD2541100S2D3","Schlitzdurchl.  LTD-25-4-1100-S2-D3","Profil RAL9003, Ohne Lamellen",70,232.75,{"$f":"G11204*(1-VLOOKUP(F11204,Konditionen!$B:$G,6,0))","v":232.75}]
["Lindab Comfort Luftauslässe","LTD25","LTD255350S2D3","Schlitzdurchlass LTD-25-5-350-S2-D3","Profil RAL9003, Ohne Lamellen",70,166.6,{"$f":"G11224*(1-VLOOKUP(F11224,Konditionen!$B:$G,6,0))","v":166.6}]
["Lindab Comfort Luftauslässe","LTD25","LTD2551100S2D3","Schlitzdurchl.  LTD-25-5-1100-S2-D3","Profil RAL9003, Ohne Lamellen",70,269.3,{"$f":"G11239*(1-VLOOKUP(F11239,Konditionen!$B:$G,6,0))","v":269.3}]
["Lindab Comfort Luftauslässe","LTD25","LTD2551450S2D3","Schlitzdurchl.  LTD-25-5-1450-S2-D3","Profil RAL9003, Ohne Lamellen",70,312.7,{"$f":"G11246*(1-VLOOKUP(F11246,Konditionen!$B:$G,6,0))","v":312.7}]
["Lindab Comfort Luftauslässe","LTD25","LTD256500S2D3","Schlitzdurchlass LTD-25-6-500-S2-D3","Profil RAL9003, Ohne Lamellen",70,207.2,{"$f":"G11262*(1-VLOOKUP(F11262,Konditionen!$B:$G,6,0))","v":207.2}]
["Lindab Comfort Luftauslässe","LTD25","LTD256800S2D3","Schlitzdurchlass LTD-25-6-800-S2-D3","Profil RAL9003, Ohne Lamellen",70,251.95,{"$f":"G11268*(1-VLOOKUP(F11268,Konditionen!$B:$G,6,0))","v":251.95}]
["Lindab Comfort Luftauslässe","LTD25","LTD2561800S2D3","Schlitzdurchl.  LTD-25-6-1800-S2-D3","Profil RAL9003, Ohne Lamellen",70,434.35,{"$f":"G11288*(1-VLOOKUP(F11288,Konditionen!$B:$G,6,0))","v":434.35}]
["Lindab Comfort Luftauslässe","LTD25","LTD251400S0D2","Schlitzdurchlass LTD-25-1-400-S0-D2","Profil Alu elox., Lamellen RAL9003",70,100.2,{"$f":"G11295*(1-VLOOKUP(F11295,Konditionen!$B:$G,6,0))","v":100.2}]
["Lindab Comfort Luftauslässe","LTD25","LTD2511150S0D2","Schlitzdurchl.  LTD-25-1-1150-S0-D2","Profil Alu elox., Lamellen RAL9003",70,134.69999999999999,{"$f":"G11310*(1-VLOOKUP(F11310,Konditionen!$B:$G,6,0))","v":134.69999999999999}]
["Lindab Comfort Luftauslässe","LTD25","LTD2511550S0D2","Schlitzdurchl.  LTD-25-1-1550-S0-D2","Profil Alu elox., Lamellen RAL9003",70,165.75,{"$f":"G11318*(1-VLOOKUP(F11318,Konditionen!$B:$G,6,0))","v":165.75}]
["Lindab Comfort Luftauslässe","LTD25","LTD252500S0D2","Schlitzdurchlass LTD-25-2-500-S0-D2","Profil Alu elox., Lamellen RAL9003",70,121.75,{"$f":"G11332*(1-VLOOKUP(F11332,Konditionen!$B:$G,6,0))","v":121.75}]
["Lindab Comfort Luftauslässe","LTD25","LTD2521550S0D2","Schlitzdurchl.  LTD-25-2-1550-S0-D2","Profil Alu elox., Lamellen RAL9003",70,215.15,{"$f":"G11353*(1-VLOOKUP(F11353,Konditionen!$B:$G,6,0))","v":215.15}]
["Lindab Comfort Luftauslässe","LTD25","LTD2521800S0D2","Schlitzdurchl.  LTD-25-2-1800-S0-D2","Profil Alu elox., Lamellen RAL9003",70,231,{"$f":"G11358*(1-VLOOKUP(F11358,Konditionen!$B:$G,6,0))","v":231}]
["Lindab Comfort Luftauslässe","LTD25","LTD253850S0D2","Schlitzdurchlass LTD-25-3-850-S0-D2","Profil Alu elox., Lamellen RAL9003",70,180.3,{"$f":"G11374*(1-VLOOKUP(F11374,Konditionen!$B:$G,6,0))","v":180.3}]
["Lindab Comfort Luftauslässe","LTD25","LTD2531450S0D2","Schlitzdurchl.  LTD-25-3-1450-S0-D2","Profil Alu elox., Lamellen RAL9003",70,232.4,{"$f":"G11386*(1-VLOOKUP(F11386,Konditionen!$B:$G,6,0))","v":232.4}]
["Lindab Comfort Luftauslässe","LTD25","LTD254400S0D2","Schlitzdurchlass LTD-25-4-400-S0-D2","Profil Alu elox., Lamellen RAL9003",70,161.55000000000001,{"$f":"G11400*(1-VLOOKUP(F11400,Konditionen!$B:$G,6,0))","v":161.55000000000001}]
["Lindab Comfort Luftauslässe","LTD25","LTD254850S0D2","Schlitzdurchlass LTD-25-4-850-S0-D2","Profil Alu elox., Lamellen RAL9003",70,217.6,{"$f":"G11409*(1-VLOOKUP(F11409,Konditionen!$B:$G,6,0))","v":217.6}]
["Lindab Comfort Luftauslässe","LTD25","LTD2541500S0D2","Schlitzdurchl.  LTD-25-4-1500-S0-D2","Profil Alu elox., Lamellen RAL9003",70,288.45,{"$f":"G11422*(1-VLOOKUP(F11422,Konditionen!$B:$G,6,0))","v":288.45}]
["Lindab Comfort Luftauslässe","LTD25","LTD255550S0D2","Schlitzdurchlass LTD-25-5-550-S0-D2","Profil Alu elox., Lamellen RAL9003",70,201.75,{"$f":"G11438*(1-VLOOKUP(F11438,Konditionen!$B:$G,6,0))","v":201.75}]
["Lindab Comfort Luftauslässe","LTD25","LTD2551350S0D2","Schlitzdurchl.  LTD-25-5-1350-S0-D2","Profil Alu elox., Lamellen RAL9003",70,314.75,{"$f":"G11454*(1-VLOOKUP(F11454,Konditionen!$B:$G,6,0))","v":314.75}]
["Lindab Comfort Luftauslässe","LTD25","LTD2551850S0D2","Schlitzdurchl.  LTD-25-5-1850-S0-D2","Profil Alu elox., Lamellen RAL9003",70,408.1,{"$f":"G11464*(1-VLOOKUP(F11464,Konditionen!$B:$G,6,0))","v":408.1}]
["Lindab Comfort Luftauslässe","LTD25","LTD256750S0D2","Schlitzdurchlass LTD-25-6-750-S0-D2","Profil Alu elox., Lamellen RAL9003",70,256.3,{"$f":"G11477*(1-VLOOKUP(F11477,Konditionen!$B:$G,6,0))","v":256.3}]
["Lindab Comfort Luftauslässe","LTD25","LTD2561200S0D2","Schlitzdurchl.  LTD-25-6-1200-S0-D2","Profil Alu elox., Lamellen RAL9003",70,336.4,{"$f":"G11486*(1-VLOOKUP(F11486,Konditionen!$B:$G,6,0))","v":336.4}]
["Lindab Comfort Luftauslässe","LTD25","LTD2562000S0D2","Schlitzdurchl.  LTD-25-6-2000-S0-D2","Profil Alu elox., Lamellen RAL9003",70,486.85,{"$f":"G11502*(1-VLOOKUP(F11502,Konditionen!$B:$G,6,0))","v":486.85}]
["Lindab Comfort Luftauslässe","LTD25","LTD251650S2D2","Schlitzdurchlass LTD-25-1-650-S2-D2","Profil RAL9003, Lamellen RAL9003",70,110.25,{"$f":"G11510*(1-VLOOKUP(F11510,Konditionen!$B:$G,6,0))","v":110.25}]
["Lindab Comfort Luftauslässe","LTD25","LTD2511550S2D2","Schlitzdurchl.  LTD-25-1-1550-S2-D2","Profil RAL9003, Lamellen RAL9003",70,165.75,{"$f":"G11528*(1-VLOOKUP(F11528,Konditionen!$B:$G,6,0))","v":165.75}]
["Lindab Comfort Luftauslässe","LTD25","LTD2511800S2D2","Schlitzdurchl.  LTD-25-1-1800-S2-D2","Profil RAL9003, Lamellen RAL9003",70,174.95,{"$f":"G11533*(1-VLOOKUP(F11533,Konditionen!$B:$G,6,0))","v":174.95}]
["Lindab Comfort Luftauslässe","LTD25","LTD252900S2D2","Schlitzdurchlass LTD-25-2-900-S2-D2","Profil RAL9003, Lamellen RAL9003",70,152.44999999999999,{"$f":"G11550*(1-VLOOKUP(F11550,Konditionen!$B:$G,6,0))","v":152.44999999999999}]
["Lindab Comfort Luftauslässe","LTD25","LTD2521250S2D2","Schlitzdurchl.  LTD-25-2-1250-S2-D2","Profil RAL9003, Lamellen RAL9003",70,173.5,{"$f":"G11557*(1-VLOOKUP(F11557,Konditionen!$B:$G,6,0))","v":173.5}]
["Lindab Comfort Luftauslässe","LTD25","LTD253550S2D2","Schlitzdurchlass LTD-25-3-550-S2-D2","Profil RAL9003, Lamellen RAL9003",70,149.5,{"$f":"G11578*(1-VLOOKUP(F11578,Konditionen!$B:$G,6,0))","v":149.5}]
["Lindab Comfort Luftauslässe","LTD25","LTD2531250S2D2","Schlitzdurchl.  LTD-25-3-1250-S2-D2","Profil RAL9003, Lamellen RAL9003",70,215.15,{"$f":"G11592*(1-VLOOKUP(F11592,Konditionen!$B:$G,6,0))","v":215.15}]
["Lindab Comfort Luftauslässe","LTD25","LTD2531700S2D2","Schlitzdurchl.  LTD-25-3-1700-S2-D2","Profil RAL9003, Lamellen RAL9003",70,277.35000000000002,{"$f":"G11601*(1-VLOOKUP(F11601,Konditionen!$B:$G,6,0))","v":277.35000000000002}]
["Lindab Comfort Luftauslässe","LTD25","LTD254600S2D2","Schlitzdurchlass LTD-25-4-600-S2-D2","Profil RAL9003, Lamellen RAL9003",70,183.05,{"$f":"G11614*(1-VLOOKUP(F11614,Konditionen!$B:$G,6,0))","v":183.05}]
["Lindab Comfort Luftauslässe","LTD25","LTD254900S2D2","Schlitzdurchlass LTD-25-4-900-S2-D2","Profil RAL9003, Lamellen RAL9003",70,222.8,{"$f":"G11620*(1-VLOOKUP(F11620,Konditionen!$B:$G,6,0))","v":222.8}]
["Lindab Comfort Luftauslässe","LTD25","LTD2541700S2D2","Schlitzdurchl.  LTD-25-4-1700-S2-D2","Profil RAL9003, Lamellen RAL9003",70,334.95,{"$f":"G11636*(1-VLOOKUP(F11636,Konditionen!$B:$G,6,0))","v":334.95}]
["Lindab Comfort Luftauslässe","LTD25","LTD255950S2D2","Schlitzdurchlass LTD-25-5-950-S2-D2","Profil RAL9003, Lamellen RAL9003",70,262.95,{"$f":"G11656*(1-VLOOKUP(F11656,Konditionen!$B:$G,6,0))","v":262.95}]
["Lindab Comfort Luftauslässe","LTD25","LTD2551400S2D2","Schlitzdurchl.  LTD-25-5-1400-S2-D2","Profil RAL9003, Lamellen RAL9003",70,321.60000000000002,{"$f":"G11665*(1-VLOOKUP(F11665,Konditionen!$B:$G,6,0))","v":321.60000000000002}]
["Lindab Comfort Luftauslässe","LTD25","LTD256300S2D2","Schlitzdurchlass LTD-25-6-300-S2-D2","Profil RAL9003, Lamellen RAL9003",70,186.85,{"$f":"G11678*(1-VLOOKUP(F11678,Konditionen!$B:$G,6,0))","v":186.85}]
["Lindab Comfort Luftauslässe","LTD25","LTD256800S2D2","Schlitzdurchlass LTD-25-6-800-S2-D2","Profil RAL9003, Lamellen RAL9003",70,264.45,{"$f":"G11688*(1-VLOOKUP(F11688,Konditionen!$B:$G,6,0))","v":264.45}]
["Lindab Comfort Luftauslässe","LTD25","LTD2561400S2D2","Schlitzdurchl.  LTD-25-6-1400-S2-D2","Profil RAL9003, Lamellen RAL9003",70,367,{"$f":"G11700*(1-VLOOKUP(F11700,Konditionen!$B:$G,6,0))","v":367}]
["Lindab Comfort Luftauslässe","LTD25","LTD2561750S2D2","Schlitzdurchl.  LTD-25-6-1750-S2-D2","Profil RAL9003, Lamellen RAL9003",70,448.5,{"$f":"G11707*(1-VLOOKUP(F11707,Konditionen!$B:$G,6,0))","v":448.5}]
["Lindab Comfort Luftauslässe","LTD25","LTD251700S0D1","Schlitzdurchlass LTD-25-1-700-S0-D1","Profil Alu elox., Lamellen RAL9010",70,112.1,{"$f":"G11721*(1-VLOOKUP(F11721,Konditionen!$B:$G,6,0))","v":112.1}]
["Lindab Comfort Luftauslässe","LTD25","LTD2511750S0D1","Schlitzdurchl.  LTD-25-1-1750-S0-D1","Profil Alu elox., Lamellen RAL9010",70,173.5,{"$f":"G11742*(1-VLOOKUP(F11742,Konditionen!$B:$G,6,0))","v":173.5}]
["Lindab Comfort Luftauslässe","LTD25","LTD252700S0D1","Schlitzdurchlass LTD-25-2-700-S0-D1","Profil Alu elox., Lamellen RAL9010",70,135.15,{"$f":"G11756*(1-VLOOKUP(F11756,Konditionen!$B:$G,6,0))","v":135.15}]
["Lindab Comfort Luftauslässe","LTD25","LTD2521100S0D1","Schlitzdurchl.  LTD-25-2-1100-S0-D1","Profil Alu elox., Lamellen RAL9010",70,164.45,{"$f":"G11764*(1-VLOOKUP(F11764,Konditionen!$B:$G,6,0))","v":164.45}]
["Lindab Comfort Luftauslässe","LTD25","LTD2521450S0D1","Schlitzdurchl.  LTD-25-2-1450-S0-D1","Profil Alu elox., Lamellen RAL9010",70,186.85,{"$f":"G11771*(1-VLOOKUP(F11771,Konditionen!$B:$G,6,0))","v":186.85}]
["Lindab Comfort Luftauslässe","LTD25","LTD253600S0D1","Schlitzdurchlass LTD-25-3-600-S0-D1","Profil Alu elox., Lamellen RAL9010",70,153.94999999999999,{"$f":"G11789*(1-VLOOKUP(F11789,Konditionen!$B:$G,6,0))","v":153.94999999999999}]
["Lindab Comfort Luftauslässe","LTD25","LTD2531450S0D1","Schlitzdurchl.  LTD-25-3-1450-S0-D1","Profil Alu elox., Lamellen RAL9010",70,232.4,{"$f":"G11806*(1-VLOOKUP(F11806,Konditionen!$B:$G,6,0))","v":232.4}]
["Lindab Comfort Luftauslässe","LTD25","LTD2531750S0D1","Schlitzdurchl.  LTD-25-3-1750-S0-D1","Profil Alu elox., Lamellen RAL9010",70,281.75,{"$f":"G11812*(1-VLOOKUP(F11812,Konditionen!$B:$G,6,0))","v":281.75}]
["Lindab Comfort Luftauslässe","LTD25","LTD2541000S0D1","Schlitzdurchl.  LTD-25-4-1000-S0-D1","Profil Alu elox., Lamellen RAL9010",70,233.45,{"$f":"G11832*(1-VLOOKUP(F11832,Konditionen!$B:$G,6,0))","v":233.45}]
["Lindab Comfort Luftauslässe","LTD25","LTD2541150S0D1","Schlitzdurchl.  LTD-25-4-1150-S0-D1","Profil Alu elox., Lamellen RAL9010",70,249.75,{"$f":"G11835*(1-VLOOKUP(F11835,Konditionen!$B:$G,6,0))","v":249.75}]
["Lindab Comfort Luftauslässe","LTD25","LTD255350S0D1","Schlitzdurchlass LTD-25-5-350-S0-D1","Profil Alu elox., Lamellen RAL9010",70,174.95,{"$f":"G11854*(1-VLOOKUP(F11854,Konditionen!$B:$G,6,0))","v":174.95}]
["Lindab Comfort Luftauslässe","LTD25","LTD2551150S0D1","Schlitzdurchl.  LTD-25-5-1150-S0-D1","Profil Alu elox., Lamellen RAL9010",70,289.35000000000002,{"$f":"G11870*(1-VLOOKUP(F11870,Konditionen!$B:$G,6,0))","v":289.35000000000002}]
["Lindab Comfort Luftauslässe","LTD25","LTD2551650S0D1","Schlitzdurchl.  LTD-25-5-1650-S0-D1","Profil Alu elox., Lamellen RAL9010",70,381.35,{"$f":"G11880*(1-VLOOKUP(F11880,Konditionen!$B:$G,6,0))","v":381.35}]
["Lindab Comfort Luftauslässe","LTD25","LTD2551800S0D1","Schlitzdurchl.  LTD-25-5-1800-S0-D1","Profil Alu elox., Lamellen RAL9010",70,401.5,{"$f":"G11883*(1-VLOOKUP(F11883,Konditionen!$B:$G,6,0))","v":401.5}]
["Lindab Comfort Luftauslässe","LTD25","LTD2561050S0D1","Schlitzdurchl.  LTD-25-6-1050-S0-D1","Profil Alu elox., Lamellen RAL9010",70,313.35000000000002,{"$f":"G11903*(1-VLOOKUP(F11903,Konditionen!$B:$G,6,0))","v":313.35000000000002}]
["Lindab Comfort Luftauslässe","LTD25","LTD2561800S0D1","Schlitzdurchl.  LTD-25-6-1800-S0-D1","Profil Alu elox., Lamellen RAL9010",70,456.05,{"$f":"G11918*(1-VLOOKUP(F11918,Konditionen!$B:$G,6,0))","v":456.05}]
["Lindab Comfort Luftauslässe","LTD25","LTD251400S1D1","Schlitzdurchlass LTD-25-1-400-S1-D1","Profil RAL9010, Lamellen RAL9010",70,100.2,{"$f":"G11925*(1-VLOOKUP(F11925,Konditionen!$B:$G,6,0))","v":100.2}]
["Lindab Comfort Luftauslässe","LTD25","LTD251950S1D1","Schlitzdurchlass LTD-25-1-950-S1-D1","Profil RAL9010, Lamellen RAL9010",70,124.65,{"$f":"G11936*(1-VLOOKUP(F11936,Konditionen!$B:$G,6,0))","v":124.65}]
["Lindab Comfort Luftauslässe","LTD25","LTD2511500S1D1","Schlitzdurchl.  LTD-25-1-1500-S1-D1","Profil RAL9010, Lamellen RAL9010",70,145.25,{"$f":"G11947*(1-VLOOKUP(F11947,Konditionen!$B:$G,6,0))","v":145.25}]
["Lindab Comfort Luftauslässe","LTD25","LTD252350S1D1","Schlitzdurchlass LTD-25-2-350-S1-D1","Profil RAL9010, Lamellen RAL9010",70,113.7,{"$f":"G11959*(1-VLOOKUP(F11959,Konditionen!$B:$G,6,0))","v":113.7}]
["Lindab Comfort Luftauslässe","LTD25","LTD2521500S1D1","Schlitzdurchl.  LTD-25-2-1500-S1-D1","Profil RAL9010, Lamellen RAL9010",70,189.85,{"$f":"G11982*(1-VLOOKUP(F11982,Konditionen!$B:$G,6,0))","v":189.85}]
["Lindab Comfort Luftauslässe","LTD25","LTD2521850S1D1","Schlitzdurchl.  LTD-25-2-1850-S1-D1","Profil RAL9010, Lamellen RAL9010",70,233.45,{"$f":"G11989*(1-VLOOKUP(F11989,Konditionen!$B:$G,6,0))","v":233.45}]
["Lindab Comfort Luftauslässe","LTD25","LTD253850S1D1","Schlitzdurchlass LTD-25-3-850-S1-D1","Profil RAL9010, Lamellen RAL9010",70,180.3,{"$f":"G12004*(1-VLOOKUP(F12004,Konditionen!$B:$G,6,0))","v":180.3}]
["Lindab Comfort Luftauslässe","LTD25","LTD2531200S1D1","Schlitzdurchl.  LTD-25-3-1200-S1-D1","Profil RAL9010, Lamellen RAL9010",70,210.95,{"$f":"G12011*(1-VLOOKUP(F12011,Konditionen!$B:$G,6,0))","v":210.95}]
["Lindab Comfort Luftauslässe","LTD25","LTD2532000S1D1","Schlitzdurchl.  LTD-25-3-2000-S1-D1","Profil RAL9010, Lamellen RAL9010",70,302.85000000000002,{"$f":"G12027*(1-VLOOKUP(F12027,Konditionen!$B:$G,6,0))","v":302.85000000000002}]
["Lindab Comfort Luftauslässe","LTD25","LTD2541200S1D1","Schlitzdurchl.  LTD-25-4-1200-S1-D1","Profil RAL9010, Lamellen RAL9010",70,256.3,{"$f":"G12046*(1-VLOOKUP(F12046,Konditionen!$B:$G,6,0))","v":256.3}]
["Lindab Comfort Luftauslässe","LTD25","LTD2541550S1D1","Schlitzdurchl.  LTD-25-4-1550-S1-D1","Profil RAL9010, Lamellen RAL9010",70,319.05,{"$f":"G12053*(1-VLOOKUP(F12053,Konditionen!$B:$G,6,0))","v":319.05}]
["Lindab Comfort Luftauslässe","LTD25","LTD2541900S1D1","Schlitzdurchl.  LTD-25-4-1900-S1-D1","Profil RAL9010, Lamellen RAL9010",70,357.4,{"$f":"G12060*(1-VLOOKUP(F12060,Konditionen!$B:$G,6,0))","v":357.4}]
["Lindab Comfort Luftauslässe","LTD25","LTD255900S1D1","Schlitzdurchlass LTD-25-5-900-S1-D1","Profil RAL9010, Lamellen RAL9010",70,256.3,{"$f":"G12075*(1-VLOOKUP(F12075,Konditionen!$B:$G,6,0))","v":256.3}]
["Lindab Comfort Luftauslässe","LTD25","LTD2551700S1D1","Schlitzdurchl.  LTD-25-5-1700-S1-D1","Profil RAL9010, Lamellen RAL9010",70,388.05,{"$f":"G12091*(1-VLOOKUP(F12091,Konditionen!$B:$G,6,0))","v":388.05}]
["Lindab Comfort Luftauslässe","LTD25","LTD2552000S1D1","Schlitzdurchl.  LTD-25-5-2000-S1-D1","Profil RAL9010, Lamellen RAL9010",70,428.4,{"$f":"G12097*(1-VLOOKUP(F12097,Konditionen!$B:$G,6,0))","v":428.4}]
["Lindab Comfort Luftauslässe","LTD25","LTD2561100S1D1","Schlitzdurchl.  LTD-25-6-1100-S1-D1","Profil RAL9010, Lamellen RAL9010",70,321.60000000000002,{"$f":"G12114*(1-VLOOKUP(F12114,Konditionen!$B:$G,6,0))","v":321.60000000000002}]
["Lindab Comfort Luftauslässe","LTD25","LTD2562000S1D1","Schlitzdurchl.  LTD-25-6-2000-S1-D1","Profil RAL9010, Lamellen RAL9010",70,486.85,{"$f":"G12132*(1-VLOOKUP(F12132,Konditionen!$B:$G,6,0))","v":486.85}]
["Lindab Comfort Luftauslässe","GBC","GBC251600","Anschlusskasten LTD   GB-C-25-1-600","1-Spaltig, Länge 600 mm, Zuluft",70,167.5,{"$f":"G12139*(1-VLOOKUP(F12139,Konditionen!$B:$G,6,0))","v":167.5}]
["Lindab Comfort Luftauslässe","GBC","GBC2511600","Anschlusskasten LTD  GB-C-25-1-1600","1-Spaltig, Länge 1600 mm, Zuluft",70,310.89999999999998,{"$f":"G12159*(1-VLOOKUP(F12159,Konditionen!$B:$G,6,0))","v":310.89999999999998}]
["Lindab Comfort Luftauslässe","GBC","GBC2511700","Anschlusskasten LTD  GB-C-25-1-1700","1-Spaltig, Länge 1700 mm, Zuluft",70,326.10000000000002,{"$f":"G12161*(1-VLOOKUP(F12161,Konditionen!$B:$G,6,0))","v":326.10000000000002}]
["Lindab Comfort Luftauslässe","GBC","GBC2521000","Anschlusskasten LTD  GB-C-25-2-1000","2-Spaltig, Länge 1000 mm, Zuluft",70,206.8,{"$f":"G12182*(1-VLOOKUP(F12182,Konditionen!$B:$G,6,0))","v":206.8}]
["Lindab Comfort Luftauslässe","GBC","GBC2521700","Anschlusskasten LTD  GB-C-25-2-1700","2-Spaltig, Länge 1700 mm, Zuluft",70,312.95,{"$f":"G12196*(1-VLOOKUP(F12196,Konditionen!$B:$G,6,0))","v":312.95}]
["Lindab Comfort Luftauslässe","GBC","GBC253300","Anschlusskasten LTD   GB-C-25-3-300","3-Spaltig, Länge 300 mm, Zuluft",70,158.69999999999999,{"$f":"G12203*(1-VLOOKUP(F12203,Konditionen!$B:$G,6,0))","v":158.69999999999999}]
["Lindab Comfort Luftauslässe","GBC","GBC253900","Anschlusskasten LTD   GB-C-25-3-900","3-Spaltig, Länge 900 mm, Zuluft",70,208.5,{"$f":"G12215*(1-VLOOKUP(F12215,Konditionen!$B:$G,6,0))","v":208.5}]
["Lindab Comfort Luftauslässe","GBC","GBC2531400","Anschlusskasten LTD  GB-C-25-3-1400","3-Spaltig, Länge 1400 mm, Zuluft",70,330.1,{"$f":"G12225*(1-VLOOKUP(F12225,Konditionen!$B:$G,6,0))","v":330.1}]
["Lindab Comfort Luftauslässe","GBC","GBC254300","Anschlusskasten LTD   GB-C-25-4-300","4-Spaltig, Länge 300 mm, Zuluft",70,178,{"$f":"G12238*(1-VLOOKUP(F12238,Konditionen!$B:$G,6,0))","v":178}]
["Lindab Comfort Luftauslässe","GBC","GBC254950","Anschlusskasten LTD   GB-C-25-4-950","4-Spaltig, Länge 950 mm, Zuluft",70,269.3,{"$f":"G12251*(1-VLOOKUP(F12251,Konditionen!$B:$G,6,0))","v":269.3}]
["Lindab Comfort Luftauslässe","GBC","GBC2541750","Anschlusskasten LTD  GB-C-25-4-1750","4-Spaltig, Länge 1750 mm, Zuluft",70,434.2,{"$f":"G12267*(1-VLOOKUP(F12267,Konditionen!$B:$G,6,0))","v":434.2}]
["Lindab Comfort Luftauslässe","GBC","GBC255800","Anschlusskasten LTD   GB-C-25-5-800","5-Spaltig, Länge 800 mm, Zuluft",70,263.10000000000002,{"$f":"G12283*(1-VLOOKUP(F12283,Konditionen!$B:$G,6,0))","v":263.10000000000002}]
["Lindab Comfort Luftauslässe","GBC","GBC2551100","Anschlusskasten LTD  GB-C-25-5-1100","5-Spaltig, Länge 1100 mm, Zuluft",70,296.8,{"$f":"G12289*(1-VLOOKUP(F12289,Konditionen!$B:$G,6,0))","v":296.8}]
["Lindab Comfort Luftauslässe","GBC","GBC2551950","Anschlusskasten LTD  GB-C-25-5-1950","5-Spaltig, Länge 1950 mm, Zuluft",70,465.95,{"$f":"G12306*(1-VLOOKUP(F12306,Konditionen!$B:$G,6,0))","v":465.95}]
["Lindab Comfort Luftauslässe","GBC","GBC256650","Anschlusskasten LTD   GB-C-25-6-650","6-Spaltig, Länge 650 mm, Zuluft",70,248.85,{"$f":"G12315*(1-VLOOKUP(F12315,Konditionen!$B:$G,6,0))","v":248.85}]
["Lindab Comfort Luftauslässe","GBC","GBC2561350","Anschlusskasten LTD  GB-C-25-6-1350","6-Spaltig, Länge 1350 mm, Zuluft",70,408.85,{"$f":"G12329*(1-VLOOKUP(F12329,Konditionen!$B:$G,6,0))","v":408.85}]
["Lindab Comfort Luftauslässe","GBC","GBC2561750","Anschlusskasten LTD  GB-C-25-6-1750","6-Spaltig, Länge 1750 mm, Zuluft",70,458.35,{"$f":"G12337*(1-VLOOKUP(F12337,Konditionen!$B:$G,6,0))","v":458.35}]
["Lindab Comfort Luftauslässe","GBE","GBE2511000","Anschlusskasten LTD  GB-E-25-1-1000","1-Spaltig, Länge 1000 mm, Abluft",70,213.45,{"$f":"G12357*(1-VLOOKUP(F12357,Konditionen!$B:$G,6,0))","v":213.45}]
["Lindab Comfort Luftauslässe","GBE","GBE2511250","Anschlusskasten LTD  GB-E-25-1-1250","1-Spaltig, Länge 1250 mm, Abluft",70,285.10000000000002,{"$f":"G12362*(1-VLOOKUP(F12362,Konditionen!$B:$G,6,0))","v":285.10000000000002}]
["Lindab Comfort Luftauslässe","GBE","GBE252350","Anschlusskasten LTD   GB-E-25-2-350","2-Spaltig, Länge 350 mm, Abluft",70,146.75,{"$f":"G12379*(1-VLOOKUP(F12379,Konditionen!$B:$G,6,0))","v":146.75}]
["Lindab Comfort Luftauslässe","GBE","GBE2521250","Anschlusskasten LTD  GB-E-25-2-1250","2-Spaltig, Länge 1250 mm, Abluft",70,274.2,{"$f":"G12397*(1-VLOOKUP(F12397,Konditionen!$B:$G,6,0))","v":274.2}]
["Lindab Comfort Luftauslässe","GBE","GBE2521450","Anschlusskasten LTD  GB-E-25-2-1450","2-Spaltig, Länge 1450 mm, Abluft",70,287.5,{"$f":"G12401*(1-VLOOKUP(F12401,Konditionen!$B:$G,6,0))","v":287.5}]
["Lindab Comfort Luftauslässe","GBE","GBE253700","Anschlusskasten LTD   GB-E-25-3-700","3-Spaltig, Länge 700 mm, Abluft",70,187.8,{"$f":"G12421*(1-VLOOKUP(F12421,Konditionen!$B:$G,6,0))","v":187.8}]
["Lindab Comfort Luftauslässe","GBE","GBE2531150","Anschlusskasten LTD  GB-E-25-3-1150","3-Spaltig, Länge 1150 mm, Abluft",70,285.10000000000002,{"$f":"G12430*(1-VLOOKUP(F12430,Konditionen!$B:$G,6,0))","v":285.10000000000002}]
["Lindab Comfort Luftauslässe","GBE","GBE2531800","Anschlusskasten LTD  GB-E-25-3-1800","3-Spaltig, Länge 1800 mm, Abluft",70,370.45,{"$f":"G12443*(1-VLOOKUP(F12443,Konditionen!$B:$G,6,0))","v":370.45}]
["Lindab Comfort Luftauslässe","GBE","GBE254550","Anschlusskasten LTD   GB-E-25-4-550","4-Spaltig, Länge 550 mm, Abluft",70,199.65,{"$f":"G12453*(1-VLOOKUP(F12453,Konditionen!$B:$G,6,0))","v":199.65}]
["Lindab Comfort Luftauslässe","GBE","GBE2541150","Anschlusskasten LTD  GB-E-25-4-1150","4-Spaltig, Länge 1150 mm, Abluft",70,363.65,{"$f":"G12465*(1-VLOOKUP(F12465,Konditionen!$B:$G,6,0))","v":363.65}]
["Lindab Comfort Luftauslässe","GBE","GBE255400","Anschlusskasten LTD   GB-E-25-5-400","5-Spaltig, Länge 400 mm, Abluft",70,192.15,{"$f":"G12485*(1-VLOOKUP(F12485,Konditionen!$B:$G,6,0))","v":192.15}]
["Lindab Comfort Luftauslässe","GBE","GBE2551050","Anschlusskasten LTD  GB-E-25-5-1050","5-Spaltig, Länge 1050 mm, Abluft",70,291.89999999999998,{"$f":"G12498*(1-VLOOKUP(F12498,Konditionen!$B:$G,6,0))","v":291.89999999999998}]
["Lindab Comfort Luftauslässe","GBE","GBE2551500","Anschlusskasten LTD  GB-E-25-5-1500","5-Spaltig, Länge 1500 mm, Abluft",70,413.25,{"$f":"G12507*(1-VLOOKUP(F12507,Konditionen!$B:$G,6,0))","v":413.25}]
["Lindab Comfort Luftauslässe","GBE","GBE2552000","Anschlusskasten LTD  GB-E-25-5-2000","5-Spaltig, Länge 2000 mm, Abluft",70,470.8,{"$f":"G12517*(1-VLOOKUP(F12517,Konditionen!$B:$G,6,0))","v":470.8}]
["Lindab Comfort Luftauslässe","GBE","GBE256850","Anschlusskasten LTD   GB-E-25-6-850","6-Spaltig, Länge 850 mm, Abluft",70,275.95,{"$f":"G12529*(1-VLOOKUP(F12529,Konditionen!$B:$G,6,0))","v":275.95}]
["Lindab Comfort Luftauslässe","GBE","GBE2561850","Anschlusskasten LTD  GB-E-25-6-1850","6-Spaltig, Länge 1850 mm, Abluft",70,468.6,{"$f":"G12549*(1-VLOOKUP(F12549,Konditionen!$B:$G,6,0))","v":468.6}]
["Lindab Comfort Luftauslässe","SECTH","SECTH","Bluetoothsensor SECTH für UltraBT","CO2, Temperatur, rel. Feuchte",70,789.05,{"$f":"G12554*(1-VLOOKUP(F12554,Konditionen!$B:$G,6,0))","v":789.05}]
["Lindab Comfort Luftauslässe","DAZ","DAZ250","Luftlenkblech               DAZ-250","Satz bestehend aus 3 STK",70,44.15,{"$f":"G12571*(1-VLOOKUP(F12571,Konditionen!$B:$G,6,0))","v":44.15}]
["Lindab Comfort Luftauslässe","DDZ","DDZ315","Montagesatz f. PCA/LCA      DDZ-315","für Montage ohne Kasten MBB nötig",70,22.75,{"$f":"G12585*(1-VLOOKUP(F12585,Konditionen!$B:$G,6,0))","v":22.75}]
["Lindab Comfort Luftauslässe","DRZ","DRZ125","Regulierklappe          DRZ-100/125","",70,20,{"$f":"G12593*(1-VLOOKUP(F12593,Konditionen!$B:$G,6,0))","v":20}]
["Lindab Comfort Luftauslässe","GS","GS23H-E-2-250-21","Deckendurchlass   GS23-H-E-2-250-21","Rasterlamell., Abluft, Mess/Drossel",70,663.1,{"$f":"G12608*(1-VLOOKUP(F12608,Konditionen!$B:$G,6,0))","v":663.1}]
["Lindab Comfort Luftauslässe","LCA","LCA315","Deckenauslaß rund           LCA-315","ohne Zubehör(DAZ,DDZ,DRZ sep.best.)",70,373.65,{"$f":"G12619*(1-VLOOKUP(F12619,Konditionen!$B:$G,6,0))","v":373.65}]
["Lindab Comfort Luftauslässe","LKA","LKA315","Deckenauslaß quadratisch    LKA-315","ohne Zubehör(DAZ,DKZ,DRZ sep.best.)",70,433.55,{"$f":"G12635*(1-VLOOKUP(F12635,Konditionen!$B:$G,6,0))","v":433.55}]
["Lindab Comfort Luftauslässe","LKP","LKP315-1","Quad. Deckendurchlass     LKP-315-1","Zu- und Abluft, Deckensystem 1",70,334.3,{"$f":"G12641*(1-VLOOKUP(F12641,Konditionen!$B:$G,6,0))","v":334.3}]
["Lindab Comfort Luftauslässe","MBB","MBB-160-200-E","Anschlußkasten        MBB-160-200-E","Meß-/Drosseleinheit f. Abluft",70,278.55,{"$f":"G12657*(1-VLOOKUP(F12657,Konditionen!$B:$G,6,0))","v":278.55}]
["Lindab Comfort Luftauslässe","MBB","MBB-200-250-S","Anschlußkasten        MBB-200-250-S","Meß-/Drosseleinheit f. Zuluft",70,344.2,{"$f":"G12664*(1-VLOOKUP(F12664,Konditionen!$B:$G,6,0))","v":344.2}]
["Lindab Comfort Luftauslässe","MBZ","MBZ-400","Verlängerungsstutzen        MBZ-400","passend zum Anschlusskasten MBB",70,30.15,{"$f":"G12683*(1-VLOOKUP(F12683,Konditionen!$B:$G,6,0))","v":30.15}]
["Lindab Comfort Luftauslässe","NS19V","NS19V-S-0-200-21","Deckendurchlass   NS19-V-S-0-200-21","mit einstellbaren Düsen, Zuluft",70,426.3,{"$f":"G12699*(1-VLOOKUP(F12699,Konditionen!$B:$G,6,0))","v":426.3}]
["Lindab Comfort Luftauslässe","PCA","PCA400","Deckenauslaß rund perfor.   PCA-400","ohne Zubehör(DAZ,DDZ,DRZ sep.best.)",70,428.75,{"$f":"G12709*(1-VLOOKUP(F12709,Konditionen!$B:$G,6,0))","v":428.75}]
["Lindab Comfort Luftauslässe","PC6","PC6S250","Runder Deckendurchlass    PC6-S-250","Stutzen vertikal DN250, RAL 9010",70,504.65,{"$f":"G12721*(1-VLOOKUP(F12721,Konditionen!$B:$G,6,0))","v":504.65}]
["Lindab Comfort Luftauslässe","PKA","PKA400","Deckenauslaß quad. perfor.  PKA-400","ohne Zubehör(DAZ,DKZ,DRZ sep.best.)",70,501.1,{"$f":"G12732*(1-VLOOKUP(F12732,Konditionen!$B:$G,6,0))","v":501.1}]
["Lindab Comfort Luftauslässe","PS1","PS1H-S-2-315-21","Deckendurchlass    PS1-H-S-2-315-21","perf. Frontp., Zuluft, Mess/Drossel",70,746.3,{"$f":"G12747*(1-VLOOKUP(F12747,Konditionen!$B:$G,6,0))","v":746.3}]
["Lindab Comfort Luftauslässe","PS8","PS8V-S-0-200-21","Dralldurchlass     PS8-V-S-0-200-21","perf. Frontplatte, Zuluft, RAL9010",70,450.85,{"$f":"G12763*(1-VLOOKUP(F12763,Konditionen!$B:$G,6,0))","v":450.85}]
["Lindab Comfort Luftauslässe","PS8","PS8V-S-0-315-21","Dralldurchlass     PS8-V-S-0-315-21","perf. Frontplatte, Zuluft, RAL9010",70,574.70000000000005,{"$f":"G12765*(1-VLOOKUP(F12765,Konditionen!$B:$G,6,0))","v":574.70000000000005}]
["Lindab Comfort Luftauslässe","RS14","RS14H-S-2-125-21","Dralldurchlass    RS14-H-S-2-125-21","feste Lamell., Zuluft, Mess/Drossel",70,375,{"$f":"G12789*(1-VLOOKUP(F12789,Konditionen!$B:$G,6,0))","v":375}]
["Lindab Comfort Luftauslässe","RS14","RS14V-S-0-250-21","Dralldurchlass    RS14-V-S-0-250-21","feste Lamellen, Zuluft",70,380.1,{"$f":"G12800*(1-VLOOKUP(F12800,Konditionen!$B:$G,6,0))","v":380.1}]
["Lindab Comfort Luftauslässe","RS15","RS15V-E-0-250-21","Dralldurchlass    RS15-V-E-0-250-21","ohne Lamellen, Abluft",70,403.15,{"$f":"G12811*(1-VLOOKUP(F12811,Konditionen!$B:$G,6,0))","v":403.15}]
["Lindab Comfort Luftauslässe","MBBV","MBBV-125-200-OC","Anschlußkasten       MBBV-125-200-S","ohne Regula Connect Schaltkarte",70,1097,{"$f":"G12823*(1-VLOOKUP(F12823,Konditionen!$B:$G,6,0))","v":1097}]
["Lindab Comfort Luftauslässe","RGS","RGS01025125","Rohreinbaugitter  RGS-0  1025 X 125","Stahl verzinkt",70,162.65,{"$f":"G12833*(1-VLOOKUP(F12833,Konditionen!$B:$G,6,0))","v":162.65}]
["Lindab Comfort Luftauslässe","RGS","RGS0122575","Rohreinbaugitter  RGS-0  1225 X  75","Stahl verzinkt",70,179.35,{"$f":"G12840*(1-VLOOKUP(F12840,Konditionen!$B:$G,6,0))","v":179.35}]
["Lindab Comfort Luftauslässe","RGS","RGS062575","Rohreinbaugitter  RGS-0   625 X  75","Stahl verzinkt",70,88.35,{"$f":"G12856*(1-VLOOKUP(F12856,Konditionen!$B:$G,6,0))","v":88.35}]
["Lindab Comfort Luftauslässe","RGS","RGS1425225","Rohreinbaugitter  RGS-1   425 X 225","mit Gleichrichtersatz, Stahl verz.",70,94,{"$f":"G12875*(1-VLOOKUP(F12875,Konditionen!$B:$G,6,0))","v":94}]
["Lindab Comfort Luftauslässe","RGS","RGS1525225","Rohreinbaugitter  RGS-1   525 X 225","mit Gleichrichtersatz, Stahl verz.",70,105.45,{"$f":"G12879*(1-VLOOKUP(F12879,Konditionen!$B:$G,6,0))","v":105.45}]
["Lindab Comfort Luftauslässe","RGS","RGS2325125","Rohreinbaugitter  RGS-2   325 X 125","mit Schöpfzunge, Stahl verz.",70,102.6,{"$f":"G12897*(1-VLOOKUP(F12897,Konditionen!$B:$G,6,0))","v":102.6}]
["Lindab Comfort Luftauslässe","RGS","RGS242575","Rohreinbaugitter  RGS-2   425 X  75","mit Schöpfzunge, Stahl verz.",70,111.4,{"$f":"G12904*(1-VLOOKUP(F12904,Konditionen!$B:$G,6,0))","v":111.4}]
["Lindab Comfort Luftauslässe","RGS","RGS3122575","Rohreinbaugitter  RGS-3  1225 X  75","mit Gleichrichters. u. Schöpfzunge",70,231,{"$f":"G12924*(1-VLOOKUP(F12924,Konditionen!$B:$G,6,0))","v":231}]
["Lindab Comfort Luftauslässe","RGS","RGS3625225","Rohreinbaugitter  RGS-3   625 X 225","mit Gleichrichters. u. Schöpfzunge",70,195.25,{"$f":"G12939*(1-VLOOKUP(F12939,Konditionen!$B:$G,6,0))","v":195.25}]
["Lindab Comfort Luftauslässe","RGS","RGS3825225","Rohreinbaugitter  RGS-3   825 X 225","mit Gleichrichters. u. Schöpfzunge",70,266.35000000000002,{"$f":"G12943*(1-VLOOKUP(F12943,Konditionen!$B:$G,6,0))","v":266.35000000000002}]
["Lindab Comfort Luftauslässe","RGS","RGS4525125","Rohreinbaugitter  RGS-4   525 X 125","mit geradem Schlitzschieber",70,138,{"$f":"G12961*(1-VLOOKUP(F12961,Konditionen!$B:$G,6,0))","v":138}]
["Lindab Comfort Luftauslässe","RGS","RGS462575","Rohreinbaugitter  RGS-4   625 X  75","mit geradem Schlitzschieber",70,135.5,{"$f":"G12968*(1-VLOOKUP(F12968,Konditionen!$B:$G,6,0))","v":135.5}]
["Lindab Comfort Luftauslässe","RGS","RGS6122575","Rohreinbaugitter  RGS-6  1225 X  75","mit schrägem Schlitzschieber",70,297.89999999999998,{"$f":"G12980*(1-VLOOKUP(F12980,Konditionen!$B:$G,6,0))","v":297.89999999999998}]
["Lindab Comfort Luftauslässe","RGS","RGS71025225","Rohreinbaugitter  RGS-7  1025 X 225","mit Gleichrichter/schr. Schieber",70,364.1,{"$f":"G13003*(1-VLOOKUP(F13003,Konditionen!$B:$G,6,0))","v":364.1}]
["Lindab Comfort Luftauslässe","RGS","RGS7325225","Rohreinbaugitter  RGS-7   325 X 225","mit Gleichrichter/schr. Schieber",70,149.5,{"$f":"G13011*(1-VLOOKUP(F13011,Konditionen!$B:$G,6,0))","v":149.5}]
["Lindab Comfort Luftauslässe","RGS","RGS7825125","Rohreinbaugitter  RGS-7   825 X 125","mit Gleichrichter/schr. Schieber",70,240.65,{"$f":"G13025*(1-VLOOKUP(F13025,Konditionen!$B:$G,6,0))","v":240.65}]
["Lindab Comfort Luftauslässe","RGZ","RGZ182575","Schlitzschieber   RGZ-1   825 X  75","gerade für Rohreinbaugitter RGS",70,79.599999999999994,{"$f":"G13034*(1-VLOOKUP(F13034,Konditionen!$B:$G,6,0))","v":79.599999999999994}]
["Lindab Comfort Luftauslässe","RGS","RGSFP625125","Rohreinbaugitter  RGSFP   625 X 125","Stahl verzinkt",70,89.05,{"$f":"G13051*(1-VLOOKUP(F13051,Konditionen!$B:$G,6,0))","v":89.05}]
["Lindab Comfort Luftauslässe","RGS","RGSFP1225125","Rohreinbaugitter  RGSFP  1225 X 125","Stahl verzinkt",70,186.1,{"$f":"G13054*(1-VLOOKUP(F13054,Konditionen!$B:$G,6,0))","v":186.1}]
["Lindab Comfort Luftauslässe","RGS","RGSFP1025225","Rohreinbaugitter  RGSFP  1025 X 225","Stahl verzinkt",70,173.35,{"$f":"G13067*(1-VLOOKUP(F13067,Konditionen!$B:$G,6,0))","v":173.35}]
["Lindab Comfort Luftauslässe","F50","F50-400-RAL9010","Rundes Abluftgitter Alu     F50-400","Rasterlamellen, RAL9010",70,203.35,{"$f":"G13089*(1-VLOOKUP(F13089,Konditionen!$B:$G,6,0))","v":203.35}]
["Lindab Comfort Luftauslässe","F51","F51-125-RAL9010","Rundes Abluftgitter Alu     F51-125","Rasterlamellen, RAL9010",70,90.6,{"$f":"G13102*(1-VLOOKUP(F13102,Konditionen!$B:$G,6,0))","v":90.6}]
["Lindab Comfort Luftauslässe","F51","F51-315-RAL9003","Rundes Abluftgitter Alu     F51-315","Rasterlamellen, RAL9003",70,152.75,{"$f":"G13115*(1-VLOOKUP(F13115,Konditionen!$B:$G,6,0))","v":152.75}]
["Lindab Comfort Luftauslässe","F51","F51-630-RAL9003","Rundes Abluftgitter Alu     F51-630","Rasterlamellen, RAL9003",70,372.05,{"$f":"G13118*(1-VLOOKUP(F13118,Konditionen!$B:$G,6,0))","v":372.05}]
["Lindab Comfort Luftauslässe","OPF","OPF125","Abluftventil     OPF           125","Kunststoff mit Montagering",70,15.65,{"$f":"G13135*(1-VLOOKUP(F13135,Konditionen!$B:$G,6,0))","v":15.65}]
["Lindab Comfort Luftauslässe","VRGM","VRGM100","Montagering VRGM  100","",70,6.4,{"$f":"G13153*(1-VLOOKUP(F13153,Konditionen!$B:$G,6,0))","v":6.4}]
["Lindab Comfort Luftauslässe","VRGU","VRGU125","Montagering VRGU  125","mit Doppellippendichtung",70,7.55,{"$f":"G13158*(1-VLOOKUP(F13158,Konditionen!$B:$G,6,0))","v":7.55}]
["Lindab Comfort Luftauslässe","KZSM","KZSM4","Anschlußkasten KZSM 4 - 588x360/248","OD8/K1-600/24-625/24-600/48",70,127.7,{"$f":"G13179*(1-VLOOKUP(F13179,Konditionen!$B:$G,6,0))","v":127.7}]
["Lindab Comfort Luftauslässe","KD1A","KD1A8","Deckenluftdurchlaß      KD-1A Gr. 8","RAL 9010, 619 x 619 mm",70,124.15,{"$f":"G13182*(1-VLOOKUP(F13182,Konditionen!$B:$G,6,0))","v":124.15}]
["Lindab Comfort Luftauslässe","OD8K1","OD8K1A50016","Dralldurchlass     OD-8/K1/A/500/16","RAL 9010, Abluft, ohne Lamellen",70,37.15,{"$f":"G13203*(1-VLOOKUP(F13203,Konditionen!$B:$G,6,0))","v":37.15}]
["Lindab Comfort Luftauslässe","KZSM","KZSM1A","Anschlußkasten KZSM 1A 323x270/158","für KD-1A Gr. 3",70,83.7,{"$f":"G13208*(1-VLOOKUP(F13208,Konditionen!$B:$G,6,0))","v":83.7}]
["Lindab Comfort Luftauslässe","AD","AD11V825125ELOX","Gitter Aluminium   AD11-V-825x125mm","sicht. Schraubbef., natureloxiert",70,76.45,{"$f":"G13226*(1-VLOOKUP(F13226,Konditionen!$B:$G,6,0))","v":76.45}]
["Lindab Comfort Luftauslässe","AD","AD11V325225ELOX","Gitter Aluminium   AD11-V-325x225mm","sicht. Schraubbef., natureloxiert",70,48.7,{"$f":"G13230*(1-VLOOKUP(F13230,Konditionen!$B:$G,6,0))","v":48.7}]
["Lindab Comfort Luftauslässe","AD","AD11V325425ELOX","Gitter Aluminium   AD11-V-325x425mm","sicht. Schraubbef., natureloxiert",70,69.5,{"$f":"G13246*(1-VLOOKUP(F13246,Konditionen!$B:$G,6,0))","v":69.5}]
["Lindab Comfort Luftauslässe","AD","AD11V1025525ELOX","Gitter Aluminium  AD11-V-1025x525mm","sicht. Schraubbef., natureloxiert",70,192.55,{"$f":"G13259*(1-VLOOKUP(F13259,Konditionen!$B:$G,6,0))","v":192.55}]
["Lindab Comfort Luftauslässe","AD","AD12V525125ELOX","Gitter Aluminium   AD12-V-525x125mm","sicht. Schraubbef., natureloxiert",70,57.95,{"$f":"G13272*(1-VLOOKUP(F13272,Konditionen!$B:$G,6,0))","v":57.95}]
["Lindab Comfort Luftauslässe","AD","AD12V825225ELOX","Gitter Aluminium   AD12-V-825x225mm","sicht. Schraubbef., natureloxiert",70,104.75,{"$f":"G13282*(1-VLOOKUP(F13282,Konditionen!$B:$G,6,0))","v":104.75}]
["Lindab Comfort Luftauslässe","AD","AD12V325425ELOX","Gitter Aluminium   AD12-V-325x425mm","sicht. Schraubbef., natureloxiert",70,67.349999999999994,{"$f":"G13294*(1-VLOOKUP(F13294,Konditionen!$B:$G,6,0))","v":67.349999999999994}]
["Lindab Comfort Luftauslässe","AD","AD21V225125ELOX","Gitter Aluminium   AD21-V-225x125mm","sicht. Schraubbef., natureloxiert",70,48.2,{"$f":"G13317*(1-VLOOKUP(F13317,Konditionen!$B:$G,6,0))","v":48.2}]
["Lindab Comfort Luftauslässe","AD","AD21V625225ELOX","Gitter Aluminium   AD21-V-625x225mm","sicht. Schraubbef., natureloxiert",70,124.65,{"$f":"G13329*(1-VLOOKUP(F13329,Konditionen!$B:$G,6,0))","v":124.65}]
["Lindab Comfort Luftauslässe","AD","AD21V525325ELOX","Gitter Aluminium   AD21-V-525x325mm","sicht. Schraubbef., natureloxiert",70,123.7,{"$f":"G13336*(1-VLOOKUP(F13336,Konditionen!$B:$G,6,0))","v":123.7}]
["Lindab Comfort Luftauslässe","AD","AD21V325525ELOX","Gitter Aluminium   AD21-V-325x525mm","sicht. Schraubbef., natureloxiert",70,123.7,{"$f":"G13350*(1-VLOOKUP(F13350,Konditionen!$B:$G,6,0))","v":123.7}]
["Lindab Comfort Luftauslässe","AD","AD22V32575ELOX","Gitter Aluminium    AD22-V-325x75mm","sicht. Schraubbef., natureloxiert",70,48.7,{"$f":"G13358*(1-VLOOKUP(F13358,Konditionen!$B:$G,6,0))","v":48.7}]
["Lindab Comfort Luftauslässe","AD","AD22V625125ELOX","Gitter Aluminium   AD22-V-625x125mm","sicht. Schraubbef., natureloxiert",70,96,{"$f":"G13369*(1-VLOOKUP(F13369,Konditionen!$B:$G,6,0))","v":96}]
["Lindab Comfort Luftauslässe","AD","AD22V625425ELOX","Gitter Aluminium   AD22-V-625x425mm","sicht. Schraubbef., natureloxiert",70,186.15,{"$f":"G13393*(1-VLOOKUP(F13393,Konditionen!$B:$G,6,0))","v":186.15}]
["Lindab Comfort Luftauslässe","AD","AD22V525525ELOX","Gitter Aluminium   AD22-V-525x525mm","sicht. Schraubbef., natureloxiert",70,174.55,{"$f":"G13400*(1-VLOOKUP(F13400,Konditionen!$B:$G,6,0))","v":174.55}]
["Lindab Comfort Luftauslässe","AD","AD11V8251259010","Gitter Aluminium   AD11-V-825x125mm","sicht. Schraubbefestigung, RAL9010",70,76.45,{"$f":"G13418*(1-VLOOKUP(F13418,Konditionen!$B:$G,6,0))","v":76.45}]
["Lindab Comfort Luftauslässe","AD","AD11V3252259010","Gitter Aluminium   AD11-V-325x225mm","sicht. Schraubbefestigung, RAL9010",70,48.7,{"$f":"G13422*(1-VLOOKUP(F13422,Konditionen!$B:$G,6,0))","v":48.7}]
["Lindab Comfort Luftauslässe","AD","AD11V2254259010","Gitter Aluminium   AD11-V-225x425mm","sicht. Schraubbefestigung, RAL9010",70,60.05,{"$f":"G13437*(1-VLOOKUP(F13437,Konditionen!$B:$G,6,0))","v":60.05}]
["Lindab Comfort Luftauslässe","AD","AD11V12254259010","Gitter Aluminium  AD11-V-1225x425mm","sicht. Schraubbefestigung, RAL9010",70,187.4,{"$f":"G13444*(1-VLOOKUP(F13444,Konditionen!$B:$G,6,0))","v":187.4}]
["Lindab Comfort Luftauslässe","AD","AD12V5251259010","Gitter Aluminium   AD12-V-525x125mm","sicht. Schraubbefestigung, RAL9010",70,57.95,{"$f":"G13464*(1-VLOOKUP(F13464,Konditionen!$B:$G,6,0))","v":57.95}]
["Lindab Comfort Luftauslässe","AD","AD12V3252259010","Gitter Aluminium   AD12-V-325x225mm","sicht. Schraubbefestigung, RAL9010",70,51.3,{"$f":"G13470*(1-VLOOKUP(F13470,Konditionen!$B:$G,6,0))","v":51.3}]
["Lindab Comfort Luftauslässe","AD","AD12V3254259010","Gitter Aluminium   AD12-V-325x425mm","sicht. Schraubbefestigung, RAL9010",70,67.349999999999994,{"$f":"G13486*(1-VLOOKUP(F13486,Konditionen!$B:$G,6,0))","v":67.349999999999994}]
["Lindab Comfort Luftauslässe","AD","AD21V625759010","Gitter Aluminium    AD21-V-625x75mm","sicht. Schraubbefestigung, RAL9010",70,81.349999999999994,{"$f":"G13505*(1-VLOOKUP(F13505,Konditionen!$B:$G,6,0))","v":81.349999999999994}]
["Lindab Comfort Luftauslässe","AD","AD21V1225759010","Gitter Aluminium   AD21-V-1225x75mm","sicht. Schraubbefestigung, RAL9010",70,141.4,{"$f":"G13508*(1-VLOOKUP(F13508,Konditionen!$B:$G,6,0))","v":141.4}]
["Lindab Comfort Luftauslässe","AD","AD21V5253259010","Gitter Aluminium   AD21-V-525x325mm","sicht. Schraubbefestigung, RAL9010",70,123.7,{"$f":"G13528*(1-VLOOKUP(F13528,Konditionen!$B:$G,6,0))","v":123.7}]
["Lindab Comfort Luftauslässe","AD","AD21V3254259010","Gitter Aluminium   AD21-V-325x425mm","sicht. Schraubbefestigung, RAL9010",70,106.9,{"$f":"G13534*(1-VLOOKUP(F13534,Konditionen!$B:$G,6,0))","v":106.9}]
["Lindab Comfort Luftauslässe","AD","AD22V325759010","Gitter Aluminium    AD22-V-325x75mm","sicht. Schraubbefestigung, RAL9010",70,48.7,{"$f":"G13550*(1-VLOOKUP(F13550,Konditionen!$B:$G,6,0))","v":48.7}]
["Lindab Comfort Luftauslässe","AD","AD22V6251259010","Gitter Aluminium   AD22-V-625x125mm","sicht. Schraubbefestigung, RAL9010",70,96,{"$f":"G13561*(1-VLOOKUP(F13561,Konditionen!$B:$G,6,0))","v":96}]
["Lindab Comfort Luftauslässe","AD","AD22V12252259010","Gitter Aluminium  AD22-V-1225x225mm","sicht. Schraubbefestigung, RAL9010",70,221.7,{"$f":"G13572*(1-VLOOKUP(F13572,Konditionen!$B:$G,6,0))","v":221.7}]
["Lindab Comfort Luftauslässe","AD","AD22V5254259010","Gitter Aluminium   AD22-V-525x425mm","sicht. Schraubbefestigung, RAL9010",70,149,{"$f":"G13584*(1-VLOOKUP(F13584,Konditionen!$B:$G,6,0))","v":149}]
["Lindab Comfort Luftauslässe","AD","AD11V325759003","Gitter Aluminium    AD11-V-325x75mm","sicht. Schraubbefestigung, RAL9003",70,33.799999999999997,{"$f":"G13598*(1-VLOOKUP(F13598,Konditionen!$B:$G,6,0))","v":33.799999999999997}]
["Lindab Comfort Luftauslässe","AD","AD11V3252259003","Gitter Aluminium   AD11-V-325x225mm","sicht. Schraubbefestigung, RAL9003",70,48.7,{"$f":"G13614*(1-VLOOKUP(F13614,Konditionen!$B:$G,6,0))","v":48.7}]
["Lindab Comfort Luftauslässe","AD","AD11V2254259003","Gitter Aluminium   AD11-V-225x425mm","sicht. Schraubbefestigung, RAL9003",70,60.05,{"$f":"G13629*(1-VLOOKUP(F13629,Konditionen!$B:$G,6,0))","v":60.05}]
["Lindab Comfort Luftauslässe","AD","AD11V5255259003","Gitter Aluminium   AD11-V-525x525mm","sicht. Schraubbefestigung, RAL9003",70,104.5,{"$f":"G13640*(1-VLOOKUP(F13640,Konditionen!$B:$G,6,0))","v":104.5}]
["Lindab Comfort Luftauslässe","AD","AD12V1225759003","Gitter Aluminium   AD12-V-1225x75mm","sicht. Schraubbefestigung, RAL9003",70,103.55,{"$f":"G13652*(1-VLOOKUP(F13652,Konditionen!$B:$G,6,0))","v":103.55}]
["Lindab Comfort Luftauslässe","AD","AD12V3252259003","Gitter Aluminium   AD12-V-325x225mm","sicht. Schraubbefestigung, RAL9003",70,51.3,{"$f":"G13662*(1-VLOOKUP(F13662,Konditionen!$B:$G,6,0))","v":51.3}]
["Lindab Comfort Luftauslässe","AD","AD12V3254259003","Gitter Aluminium   AD12-V-325x425mm","sicht. Schraubbefestigung, RAL9003",70,67.349999999999994,{"$f":"G13678*(1-VLOOKUP(F13678,Konditionen!$B:$G,6,0))","v":67.349999999999994}]
["Lindab Comfort Luftauslässe","AD","AD12V2255259003","Gitter Aluminium   AD12-V-225x525mm","sicht. Schraubbefestigung, RAL9003",70,61.55,{"$f":"G13685*(1-VLOOKUP(F13685,Konditionen!$B:$G,6,0))","v":61.55}]
["Lindab Comfort Luftauslässe","AD","AD21V5251259003","Gitter Aluminium   AD21-V-525x125mm","sicht. Schraubbefestigung, RAL9003",70,77.05,{"$f":"G13704*(1-VLOOKUP(F13704,Konditionen!$B:$G,6,0))","v":77.05}]
["Lindab Comfort Luftauslässe","AD","AD21V5253259003","Gitter Aluminium   AD21-V-525x325mm","sicht. Schraubbefestigung, RAL9003",70,123.7,{"$f":"G13720*(1-VLOOKUP(F13720,Konditionen!$B:$G,6,0))","v":123.7}]
["Lindab Comfort Luftauslässe","AD","AD21V3254259003","Gitter Aluminium   AD21-V-325x425mm","sicht. Schraubbefestigung, RAL9003",70,106.9,{"$f":"G13726*(1-VLOOKUP(F13726,Konditionen!$B:$G,6,0))","v":106.9}]
["Lindab Comfort Luftauslässe","AD","AD22V825759003","Gitter Aluminium    AD22-V-825x75mm","sicht. Schraubbefestigung, RAL9003",70,102.7,{"$f":"G13746*(1-VLOOKUP(F13746,Konditionen!$B:$G,6,0))","v":102.7}]
["Lindab Comfort Luftauslässe","AD","AD22V6251259003","Gitter Aluminium   AD22-V-625x125mm","sicht. Schraubbefestigung, RAL9003",70,96,{"$f":"G13753*(1-VLOOKUP(F13753,Konditionen!$B:$G,6,0))","v":96}]
["Lindab Comfort Luftauslässe","AD","AD22V5253259003","Gitter Aluminium   AD22-V-525x325mm","sicht. Schraubbefestigung, RAL9003",70,123.7,{"$f":"G13768*(1-VLOOKUP(F13768,Konditionen!$B:$G,6,0))","v":123.7}]
["Lindab Comfort Luftauslässe","AD","AD22V5254259003","Gitter Aluminium   AD22-V-525x425mm","sicht. Schraubbefestigung, RAL9003",70,149,{"$f":"G13776*(1-VLOOKUP(F13776,Konditionen!$B:$G,6,0))","v":149}]
["Lindab Comfort Luftauslässe","AD","AD11C32575ELOX","Gitter Aluminium    AD11-C-325x75mm","mit Klemmfedern, natureloxiert",70,33.799999999999997,{"$f":"G13790*(1-VLOOKUP(F13790,Konditionen!$B:$G,6,0))","v":33.799999999999997}]
["Lindab Comfort Luftauslässe","AD","AD11C425225ELOX","Gitter Aluminium   AD11-C-425x225mm","mit Klemmfedern, natureloxiert",70,55.5,{"$f":"G13807*(1-VLOOKUP(F13807,Konditionen!$B:$G,6,0))","v":55.5}]
["Lindab Comfort Luftauslässe","AD","AD11C1225225ELOX","Gitter Aluminium  AD11-C-1225x225mm","mit Klemmfedern, natureloxiert",70,124.65,{"$f":"G13812*(1-VLOOKUP(F13812,Konditionen!$B:$G,6,0))","v":124.65}]
["Lindab Comfort Luftauslässe","AD","AD11C525525ELOX","Gitter Aluminium   AD11-C-525x525mm","mit Klemmfedern, natureloxiert",70,104.5,{"$f":"G13832*(1-VLOOKUP(F13832,Konditionen!$B:$G,6,0))","v":104.5}]
["Lindab Comfort Luftauslässe","AD","AD12C122575ELOX","Gitter Aluminium   AD12-C-1225x75mm","mit Klemmfedern, natureloxiert",70,103.55,{"$f":"G13844*(1-VLOOKUP(F13844,Konditionen!$B:$G,6,0))","v":103.55}]
["Lindab Comfort Luftauslässe","AD","AD12C325225ELOX","Gitter Aluminium   AD12-C-325x225mm","mit Klemmfedern, natureloxiert",70,51.3,{"$f":"G13854*(1-VLOOKUP(F13854,Konditionen!$B:$G,6,0))","v":51.3}]
["Lindab Comfort Luftauslässe","AD","AD12C425325ELOX","Gitter Aluminium   AD12-C-425x325mm","mit Klemmfedern, natureloxiert",70,69.5,{"$f":"G13863*(1-VLOOKUP(F13863,Konditionen!$B:$G,6,0))","v":69.5}]
["Lindab Comfort Luftauslässe","AD","AD12C1225425ELOX","Gitter Aluminium  AD12-C-1225x425mm","mit Klemmfedern, natureloxiert",70,190.35,{"$f":"G13876*(1-VLOOKUP(F13876,Konditionen!$B:$G,6,0))","v":190.35}]
["Lindab Comfort Luftauslässe","AD","AD21C525125ELOX","Gitter Aluminium   AD21-C-525x125mm","mit Klemmfedern, natureloxiert",70,77.05,{"$f":"G13896*(1-VLOOKUP(F13896,Konditionen!$B:$G,6,0))","v":77.05}]
["Lindab Comfort Luftauslässe","AD","AD21C1225225ELOX","Gitter Aluminium  AD21-C-1225x225mm","mit Klemmfedern, natureloxiert",70,221.7,{"$f":"G13908*(1-VLOOKUP(F13908,Konditionen!$B:$G,6,0))","v":221.7}]
["Lindab Comfort Luftauslässe","AD","AD21C325425ELOX","Gitter Aluminium   AD21-C-325x425mm","mit Klemmfedern, natureloxiert",70,106.9,{"$f":"G13918*(1-VLOOKUP(F13918,Konditionen!$B:$G,6,0))","v":106.9}]
["Lindab Comfort Luftauslässe","AD","AD21C1025525ELOX","Gitter Aluminium  AD21-C-1025x525mm","mit Klemmfedern, natureloxiert",70,327,{"$f":"G13931*(1-VLOOKUP(F13931,Konditionen!$B:$G,6,0))","v":327}]
["Lindab Comfort Luftauslässe","AD","AD22C122575ELOX","Gitter Aluminium   AD22-C-1225x75mm","mit Klemmfedern, natureloxiert",70,141.4,{"$f":"G13940*(1-VLOOKUP(F13940,Konditionen!$B:$G,6,0))","v":141.4}]
["Lindab Comfort Luftauslässe","AD","AD22C525325ELOX","Gitter Aluminium   AD22-C-525x325mm","mit Klemmfedern, natureloxiert",70,123.7,{"$f":"G13960*(1-VLOOKUP(F13960,Konditionen!$B:$G,6,0))","v":123.7}]
["Lindab Comfort Luftauslässe","AD","AD22C1225325ELOX","Gitter Aluminium  AD22-C-1225x325mm","mit Klemmfedern, natureloxiert",70,276.85000000000002,{"$f":"G13964*(1-VLOOKUP(F13964,Konditionen!$B:$G,6,0))","v":276.85000000000002}]
["Lindab Comfort Luftauslässe","AD","AD11C325759010","Gitter Aluminium    AD11-C-325x75mm","Rahmen mit Klemmfedern, RAL9010",70,33.799999999999997,{"$f":"G13982*(1-VLOOKUP(F13982,Konditionen!$B:$G,6,0))","v":33.799999999999997}]
["Lindab Comfort Luftauslässe","AD","AD11C1025759010","Gitter Aluminium   AD11-C-1025x75mm","Rahmen mit Klemmfedern, RAL9010",70,73.8,{"$f":"G13987*(1-VLOOKUP(F13987,Konditionen!$B:$G,6,0))","v":73.8}]
["Lindab Comfort Luftauslässe","AD","AD11C12252259010","Gitter Aluminium  AD11-C-1225x225mm","Rahmen mit Klemmfedern, RAL9010",70,124.65,{"$f":"G14004*(1-VLOOKUP(F14004,Konditionen!$B:$G,6,0))","v":124.65}]
["Lindab Comfort Luftauslässe","AD","AD11C3255259010","Gitter Aluminium   AD11-C-325x525mm","Rahmen mit Klemmfedern, RAL9010",70,79.45,{"$f":"G14022*(1-VLOOKUP(F14022,Konditionen!$B:$G,6,0))","v":79.45}]
["Lindab Comfort Luftauslässe","AD","AD12C325759010","Gitter Aluminium    AD12-C-325x75mm","Rahmen mit Klemmfedern, RAL9010",70,40.25,{"$f":"G14030*(1-VLOOKUP(F14030,Konditionen!$B:$G,6,0))","v":40.25}]
["Lindab Comfort Luftauslässe","AD","AD12C3252259010","Gitter Aluminium   AD12-C-325x225mm","Rahmen mit Klemmfedern, RAL9010",70,51.3,{"$f":"G14046*(1-VLOOKUP(F14046,Konditionen!$B:$G,6,0))","v":51.3}]
["Lindab Comfort Luftauslässe","AD","AD12C4253259010","Gitter Aluminium   AD12-C-425x325mm","Rahmen mit Klemmfedern, RAL9010",70,69.5,{"$f":"G14055*(1-VLOOKUP(F14055,Konditionen!$B:$G,6,0))","v":69.5}]
["Lindab Comfort Luftauslässe","AD","AD12C5255259010","Gitter Aluminium   AD12-C-525x525mm","Rahmen mit Klemmfedern, RAL9010",70,104.5,{"$f":"G14072*(1-VLOOKUP(F14072,Konditionen!$B:$G,6,0))","v":104.5}]
["Lindab Comfort Luftauslässe","AD","AD21C325759010","Gitter Aluminium    AD21-C-325x75mm","Rahmen mit Klemmfedern, RAL9010",70,48.7,{"$f":"G14078*(1-VLOOKUP(F14078,Konditionen!$B:$G,6,0))","v":48.7}]
["Lindab Comfort Luftauslässe","AD","AD21C3252259010","Gitter Aluminium   AD21-C-325x225mm","Rahmen mit Klemmfedern, RAL9010",70,72.849999999999994,{"$f":"G14094*(1-VLOOKUP(F14094,Konditionen!$B:$G,6,0))","v":72.849999999999994}]
["Lindab Comfort Luftauslässe","AD","AD21C3254259010","Gitter Aluminium   AD21-C-325x425mm","Rahmen mit Klemmfedern, RAL9010",70,106.9,{"$f":"G14110*(1-VLOOKUP(F14110,Konditionen!$B:$G,6,0))","v":106.9}]
["Lindab Comfort Luftauslässe","AD","AD21C10255259010","Gitter Aluminium  AD21-C-1025x525mm","Rahmen mit Klemmfedern, RAL9010",70,327,{"$f":"G14123*(1-VLOOKUP(F14123,Konditionen!$B:$G,6,0))","v":327}]
["Lindab Comfort Luftauslässe","AD","AD22C5251259010","Gitter Aluminium   AD22-C-525x125mm","Rahmen mit Klemmfedern, RAL9010",70,77.05,{"$f":"G14136*(1-VLOOKUP(F14136,Konditionen!$B:$G,6,0))","v":77.05}]
["Lindab Comfort Luftauslässe","AD","AD22C8252259010","Gitter Aluminium   AD22-C-825x225mm","Rahmen mit Klemmfedern, RAL9010",70,160.15,{"$f":"G14146*(1-VLOOKUP(F14146,Konditionen!$B:$G,6,0))","v":160.15}]
["Lindab Comfort Luftauslässe","AD","AD22C3254259010","Gitter Aluminium   AD22-C-325x425mm","Rahmen mit Klemmfedern, RAL9010",70,106.9,{"$f":"G14158*(1-VLOOKUP(F14158,Konditionen!$B:$G,6,0))","v":106.9}]
["Lindab Comfort Luftauslässe","AD","AD22C2255259010","Gitter Aluminium   AD22-C-225x525mm","Rahmen mit Klemmfedern, RAL9010",70,100.2,{"$f":"G14165*(1-VLOOKUP(F14165,Konditionen!$B:$G,6,0))","v":100.2}]
["Lindab Comfort Luftauslässe","AD","AD11C1025759003","Gitter Aluminium   AD11-C-1025x75mm","Rahmen mit Klemmfedern, RAL9003",70,73.8,{"$f":"G14179*(1-VLOOKUP(F14179,Konditionen!$B:$G,6,0))","v":73.8}]
["Lindab Comfort Luftauslässe","AD","AD11C10251259003","Gitter Aluminium  AD11-C-1025x125mm","Rahmen mit Klemmfedern, RAL9003",70,86.55,{"$f":"G14187*(1-VLOOKUP(F14187,Konditionen!$B:$G,6,0))","v":86.55}]
["Lindab Comfort Luftauslässe","AD","AD11C8253259003","Gitter Aluminium   AD11-C-825x325mm","Rahmen mit Klemmfedern, RAL9003",70,123.25,{"$f":"G14202*(1-VLOOKUP(F14202,Konditionen!$B:$G,6,0))","v":123.25}]
["Lindab Comfort Luftauslässe","AD","AD12C325759003","Gitter Aluminium    AD12-C-325x75mm","Rahmen mit Klemmfedern, RAL9003",70,40.25,{"$f":"G14222*(1-VLOOKUP(F14222,Konditionen!$B:$G,6,0))","v":40.25}]
["Lindab Comfort Luftauslässe","AD","AD12C6251259003","Gitter Aluminium   AD12-C-625x125mm","Rahmen mit Klemmfedern, RAL9003",70,69.75,{"$f":"G14233*(1-VLOOKUP(F14233,Konditionen!$B:$G,6,0))","v":69.75}]
["Lindab Comfort Luftauslässe","AD","AD12C12252259003","Gitter Aluminium  AD12-C-1225x225mm","Rahmen mit Klemmfedern, RAL9003",70,138.9,{"$f":"G14244*(1-VLOOKUP(F14244,Konditionen!$B:$G,6,0))","v":138.9}]
["Lindab Comfort Luftauslässe","AD","AD12C10253259003","Gitter Aluminium  AD12-C-1025x325mm","Rahmen mit Klemmfedern, RAL9003",70,142.6,{"$f":"G14251*(1-VLOOKUP(F14251,Konditionen!$B:$G,6,0))","v":142.6}]
["Lindab Comfort Luftauslässe","AD","AD21C325759003","Gitter Aluminium    AD21-C-325x75mm","Rahmen mit Klemmfedern, RAL9003",70,48.7,{"$f":"G14270*(1-VLOOKUP(F14270,Konditionen!$B:$G,6,0))","v":48.7}]
["Lindab Comfort Luftauslässe","AD","AD21C3252259003","Gitter Aluminium   AD21-C-325x225mm","Rahmen mit Klemmfedern, RAL9003",70,72.849999999999994,{"$f":"G14286*(1-VLOOKUP(F14286,Konditionen!$B:$G,6,0))","v":72.849999999999994}]
["Lindab Comfort Luftauslässe","AD","AD21C6252259003","Gitter Aluminium   AD21-C-625x225mm","Rahmen mit Klemmfedern, RAL9003",70,124.65,{"$f":"G14289*(1-VLOOKUP(F14289,Konditionen!$B:$G,6,0))","v":124.65}]
["Lindab Comfort Luftauslässe","AD","AD21C12254259003","Gitter Aluminium  AD21-C-1225x425mm","Rahmen mit Klemmfedern, RAL9003",70,336.25,{"$f":"G14308*(1-VLOOKUP(F14308,Konditionen!$B:$G,6,0))","v":336.25}]
["Lindab Comfort Luftauslässe","AD","AD21C10255259003","Gitter Aluminium  AD21-C-1025x525mm","Rahmen mit Klemmfedern, RAL9003",70,327,{"$f":"G14315*(1-VLOOKUP(F14315,Konditionen!$B:$G,6,0))","v":327}]
["Lindab Comfort Luftauslässe","AD","AD22C3252259003","Gitter Aluminium   AD22-C-325x225mm","Rahmen mit Klemmfedern, RAL9003",70,72.849999999999994,{"$f":"G14334*(1-VLOOKUP(F14334,Konditionen!$B:$G,6,0))","v":72.849999999999994}]
["Lindab Comfort Luftauslässe","AD","AD22C3254259003","Gitter Aluminium   AD22-C-325x425mm","Rahmen mit Klemmfedern, RAL9003",70,106.9,{"$f":"G14350*(1-VLOOKUP(F14350,Konditionen!$B:$G,6,0))","v":106.9}]
["Lindab Comfort Luftauslässe","AD","AD22C2255259003","Gitter Aluminium   AD22-C-225x525mm","Rahmen mit Klemmfedern, RAL9003",70,100.2,{"$f":"G14357*(1-VLOOKUP(F14357,Konditionen!$B:$G,6,0))","v":100.2}]
["Lindab Comfort Luftauslässe","MFA","MFA122575","Einbaurahmen Stahl    MFA-1225x75mm","zum Zusammenstecken",70,17.100000000000001,{"$f":"G14372*(1-VLOOKUP(F14372,Konditionen!$B:$G,6,0))","v":17.100000000000001}]
["Lindab Comfort Luftauslässe","MFA","MFA1025125","Einbaurahmen Stahl   MFA-1025x125mm","zum Zusammenstecken",70,15.55,{"$f":"G14379*(1-VLOOKUP(F14379,Konditionen!$B:$G,6,0))","v":15.55}]
["Lindab Comfort Luftauslässe","MFA","MFA325325","Einbaurahmen Stahl    MFA-325x325mm","zum Zusammenstecken",70,11.35,{"$f":"G14390*(1-VLOOKUP(F14390,Konditionen!$B:$G,6,0))","v":11.35}]
["Lindab Comfort Luftauslässe","MFA","MFA625425","Einbaurahmen Stahl    MFA-625x425mm","zum Zusammenstecken",70,14.9,{"$f":"G14401*(1-VLOOKUP(F14401,Konditionen!$B:$G,6,0))","v":14.9}]
["Lindab Comfort Luftauslässe","DGA","DGA625125","Mengeneinstellsatz    DGA-625x125mm","als gegenläufige Mengenregulierung",70,57.95,{"$f":"G14425*(1-VLOOKUP(F14425,Konditionen!$B:$G,6,0))","v":57.95}]
["Lindab Comfort Luftauslässe","DGA","DGA1225225","Mengeneinstellsatz   DGA-1225x225mm","als gegenläufige Mengenregulierung",70,177,{"$f":"G14436*(1-VLOOKUP(F14436,Konditionen!$B:$G,6,0))","v":177}]
["Lindab Comfort Luftauslässe","DGA","DGA1025325","Mengeneinstellsatz   DGA-1025x325mm","als gegenläufige Mengenregulierung",70,137.69999999999999,{"$f":"G14443*(1-VLOOKUP(F14443,Konditionen!$B:$G,6,0))","v":137.69999999999999}]
["Lindab Comfort Luftauslässe","DGA","DGA825525","Mengeneinstellsatz    DGA-825x525mm","als gegenläufige Mengenregulierung",70,117.85,{"$f":"G14458*(1-VLOOKUP(F14458,Konditionen!$B:$G,6,0))","v":117.85}]
["Lindab Comfort Luftauslässe","AE","AE11C62575ELOX","Gitter Aluminium    AE11-C-625x75mm","mit Klemmfedern, natureloxiert",70,53.7,{"$f":"G14465*(1-VLOOKUP(F14465,Konditionen!$B:$G,6,0))","v":53.7}]
["Lindab Comfort Luftauslässe","AE","AE11C625225ELOX","Gitter Aluminium   AE11-C-625x225mm","mit Klemmfedern, natureloxiert",70,82.25,{"$f":"G14481*(1-VLOOKUP(F14481,Konditionen!$B:$G,6,0))","v":82.25}]
["Lindab Comfort Luftauslässe","AE","AE11C1025325ELOX","Gitter Aluminium  AE11-C-1025x325mm","mit Klemmfedern, natureloxiert",70,146.5,{"$f":"G14491*(1-VLOOKUP(F14491,Konditionen!$B:$G,6,0))","v":146.5}]
["Lindab Comfort Luftauslässe","AE","AE11C525525ELOX","Gitter Aluminium   AE11-C-525x525mm","mit Klemmfedern, natureloxiert",70,120.4,{"$f":"G14504*(1-VLOOKUP(F14504,Konditionen!$B:$G,6,0))","v":120.4}]
["Lindab Comfort Luftauslässe","AE","AE11C3252259010","Gitter Aluminium   AE11-C-325x225mm","Rahmen mit Klemmfedern, RAL9010",70,56.95,{"$f":"G14526*(1-VLOOKUP(F14526,Konditionen!$B:$G,6,0))","v":56.95}]
["Lindab Comfort Luftauslässe","AE","AE11C6252259010","Gitter Aluminium   AE11-C-625x225mm","Rahmen mit Klemmfedern, RAL9010",70,82.25,{"$f":"G14529*(1-VLOOKUP(F14529,Konditionen!$B:$G,6,0))","v":82.25}]
["Lindab Comfort Luftauslässe","AE","AE11C2255259010","Gitter Aluminium   AE11-C-225x525mm","Rahmen mit Klemmfedern, RAL9010",70,72.849999999999994,{"$f":"G14549*(1-VLOOKUP(F14549,Konditionen!$B:$G,6,0))","v":72.849999999999994}]
["Lindab Comfort Luftauslässe","AE","AE11C10255259010","Gitter Aluminium  AE11-C-1025x525mm","Rahmen mit Klemmfedern, RAL9010",70,207.05,{"$f":"G14555*(1-VLOOKUP(F14555,Konditionen!$B:$G,6,0))","v":207.05}]
["Lindab Comfort Luftauslässe","AE","AE11C12251259003","Gitter Aluminium  AE11-C-1225x125mm","Rahmen mit Klemmfedern, RAL9003",70,113.35,{"$f":"G14572*(1-VLOOKUP(F14572,Konditionen!$B:$G,6,0))","v":113.35}]
["Lindab Comfort Luftauslässe","AE","AE11C6252259003","Gitter Aluminium   AE11-C-625x225mm","Rahmen mit Klemmfedern, RAL9003",70,82.25,{"$f":"G14577*(1-VLOOKUP(F14577,Konditionen!$B:$G,6,0))","v":82.25}]
["Lindab Comfort Luftauslässe","AE","AE11C2255259003","Gitter Aluminium   AE11-C-225x525mm","Rahmen mit Klemmfedern, RAL9003",70,72.849999999999994,{"$f":"G14597*(1-VLOOKUP(F14597,Konditionen!$B:$G,6,0))","v":72.849999999999994}]
["Lindab Comfort Luftauslässe","AE","AE11V22575ELOX","Gitter Aluminium    AE11-V-225x75mm","sicht. Schraubbef., natureloxiert",70,35.700000000000003,{"$f":"G14605*(1-VLOOKUP(F14605,Konditionen!$B:$G,6,0))","v":35.700000000000003}]
["Lindab Comfort Luftauslässe","AE","AE11V1025125ELOX","Gitter Aluminium  AE11-V-1025x125mm","sicht. Schraubbef., natureloxiert",70,90.15,{"$f":"G14619*(1-VLOOKUP(F14619,Konditionen!$B:$G,6,0))","v":90.15}]
["Lindab Comfort Luftauslässe","AE","AE11V1225225ELOX","Gitter Aluminium  AE11-V-1225x225mm","sicht. Schraubbef., natureloxiert",70,148.6,{"$f":"G14628*(1-VLOOKUP(F14628,Konditionen!$B:$G,6,0))","v":148.6}]
["Lindab Comfort Luftauslässe","AE","AE11V625425ELOX","Gitter Aluminium   AE11-V-625x425mm","sicht. Schraubbef., natureloxiert",70,117.3,{"$f":"G14641*(1-VLOOKUP(F14641,Konditionen!$B:$G,6,0))","v":117.3}]
["Lindab Comfort Luftauslässe","AE","AE11V2251259010","Gitter Aluminium   AE11-V-225x125mm","sicht. Schraubbefestigung, RAL9010",70,41.8,{"$f":"G14661*(1-VLOOKUP(F14661,Konditionen!$B:$G,6,0))","v":41.8}]
["Lindab Comfort Luftauslässe","AE","AE11V6252259010","Gitter Aluminium   AE11-V-625x225mm","sicht. Schraubbefestigung, RAL9010",70,82.25,{"$f":"G14673*(1-VLOOKUP(F14673,Konditionen!$B:$G,6,0))","v":82.25}]
["Lindab Comfort Luftauslässe","AE","AE11V10253259010","Gitter Aluminium  AE11-V-1025x325mm","sicht. Schraubbefestigung, RAL9010",70,146.5,{"$f":"G14683*(1-VLOOKUP(F14683,Konditionen!$B:$G,6,0))","v":146.5}]
["Lindab Comfort Luftauslässe","AE","AE11V5255259010","Gitter Aluminium   AE11-V-525x525mm","sicht. Schraubbefestigung, RAL9010",70,120.4,{"$f":"G14696*(1-VLOOKUP(F14696,Konditionen!$B:$G,6,0))","v":120.4}]
["Lindab Comfort Luftauslässe","AE","AE11V625759003","Gitter Aluminium    AE11-V-625x75mm","sicht. Schraubbefestigung, RAL9003",70,53.7,{"$f":"G14705*(1-VLOOKUP(F14705,Konditionen!$B:$G,6,0))","v":53.7}]
["Lindab Comfort Luftauslässe","AE","AE11V4253259003","Gitter Aluminium   AE11-V-425x325mm","sicht. Schraubbefestigung, RAL9003",70,76.45,{"$f":"G14727*(1-VLOOKUP(F14727,Konditionen!$B:$G,6,0))","v":76.45}]
["Lindab Comfort Luftauslässe","AE","AE11V12254259003","Gitter Aluminium  AE11-V-1225x425mm","sicht. Schraubbefestigung, RAL9003",70,216,{"$f":"G14740*(1-VLOOKUP(F14740,Konditionen!$B:$G,6,0))","v":216}]
["Lindab Comfort Luftauslässe","AE","AE11V10255259003","Gitter Aluminium  AE11-V-1025x525mm","sicht. Schraubbefestigung, RAL9003",70,207.05,{"$f":"G14747*(1-VLOOKUP(F14747,Konditionen!$B:$G,6,0))","v":207.05}]
["Lindab Comfort Luftauslässe","AE","AE12C525125ELOX","Gitter Aluminium   AE12-C-525x125mm","mit Klemmfedern, natureloxiert",70,70,{"$f":"G14760*(1-VLOOKUP(F14760,Konditionen!$B:$G,6,0))","v":70}]
["Lindab Comfort Luftauslässe","AE","AE12C625225ELOX","Gitter Aluminium   AE12-C-625x225mm","mit Klemmfedern, natureloxiert",70,99.35,{"$f":"G14769*(1-VLOOKUP(F14769,Konditionen!$B:$G,6,0))","v":99.35}]
["Lindab Comfort Luftauslässe","AE","AE12C425425ELOX","Gitter Aluminium   AE12-C-425x425mm","mit Klemmfedern, natureloxiert",70,109.35,{"$f":"G14783*(1-VLOOKUP(F14783,Konditionen!$B:$G,6,0))","v":109.35}]
["Lindab Comfort Luftauslässe","AE","AE12C425525ELOX","Gitter Aluminium   AE12-C-425x525mm","mit Klemmfedern, natureloxiert",70,127.05,{"$f":"G14791*(1-VLOOKUP(F14791,Konditionen!$B:$G,6,0))","v":127.05}]
["Lindab Comfort Luftauslässe","AE","AE12C10251259010","Gitter Aluminium  AE12-C-1025x125mm","Rahmen mit Klemmfedern, RAL9010",70,107.15,{"$f":"G14811*(1-VLOOKUP(F14811,Konditionen!$B:$G,6,0))","v":107.15}]
["Lindab Comfort Luftauslässe","AE","AE12C12253259010","Gitter Aluminium  AE12-C-1225x325mm","Rahmen mit Klemmfedern, RAL9010",70,222.9,{"$f":"G14828*(1-VLOOKUP(F14828,Konditionen!$B:$G,6,0))","v":222.9}]
["Lindab Comfort Luftauslässe","AE","AE12C6254259010","Gitter Aluminium   AE12-C-625x425mm","Rahmen mit Klemmfedern, RAL9010",70,142.6,{"$f":"G14833*(1-VLOOKUP(F14833,Konditionen!$B:$G,6,0))","v":142.6}]
["Lindab Comfort Luftauslässe","AE","AE12C1025759003","Gitter Aluminium   AE12-C-1025x75mm","Rahmen mit Klemmfedern, RAL9003",70,88.95,{"$f":"G14851*(1-VLOOKUP(F14851,Konditionen!$B:$G,6,0))","v":88.95}]
["Lindab Comfort Luftauslässe","AE","AE12C10251259003","Gitter Aluminium  AE12-C-1025x125mm","Rahmen mit Klemmfedern, RAL9003",70,107.15,{"$f":"G14859*(1-VLOOKUP(F14859,Konditionen!$B:$G,6,0))","v":107.15}]
["Lindab Comfort Luftauslässe","AE","AE12C10253259003","Gitter Aluminium  AE12-C-1025x325mm","Rahmen mit Klemmfedern, RAL9003",70,176.75,{"$f":"G14875*(1-VLOOKUP(F14875,Konditionen!$B:$G,6,0))","v":176.75}]
["Lindab Comfort Luftauslässe","AE","AE12C12254259003","Gitter Aluminium  AE12-C-1225x425mm","Rahmen mit Klemmfedern, RAL9003",70,263.35000000000002,{"$f":"G14884*(1-VLOOKUP(F14884,Konditionen!$B:$G,6,0))","v":263.35000000000002}]
["Lindab Comfort Luftauslässe","AE","AE12V62575ELOX","Gitter Aluminium    AE12-V-625x75mm","sicht. Schraubbef., natureloxiert",70,64.25,{"$f":"G14897*(1-VLOOKUP(F14897,Konditionen!$B:$G,6,0))","v":64.25}]
["Lindab Comfort Luftauslässe","AE","AE12V1025125ELOX","Gitter Aluminium  AE12-V-1025x125mm","sicht. Schraubbef., natureloxiert",70,107.15,{"$f":"G14907*(1-VLOOKUP(F14907,Konditionen!$B:$G,6,0))","v":107.15}]
["Lindab Comfort Luftauslässe","AE","AE12V1025325ELOX","Gitter Aluminium  AE12-V-1025x325mm","sicht. Schraubbef., natureloxiert",70,176.75,{"$f":"G14923*(1-VLOOKUP(F14923,Konditionen!$B:$G,6,0))","v":176.75}]
["Lindab Comfort Luftauslässe","AE","AE12V1025525ELOX","Gitter Aluminium  AE12-V-1025x525mm","sicht. Schraubbef., natureloxiert",70,250.6,{"$f":"G14939*(1-VLOOKUP(F14939,Konditionen!$B:$G,6,0))","v":250.6}]
["Lindab Comfort Luftauslässe","AE","AE12V5251259010","Gitter Aluminium   AE12-V-525x125mm","sicht. Schraubbefestigung, RAL9010",70,70,{"$f":"G14952*(1-VLOOKUP(F14952,Konditionen!$B:$G,6,0))","v":70}]
["Lindab Comfort Luftauslässe","AE","AE12V6252259010","Gitter Aluminium   AE12-V-625x225mm","sicht. Schraubbefestigung, RAL9010",70,99.35,{"$f":"G14961*(1-VLOOKUP(F14961,Konditionen!$B:$G,6,0))","v":99.35}]
["Lindab Comfort Luftauslässe","AE","AE12V4254259010","Gitter Aluminium   AE12-V-425x425mm","sicht. Schraubbefestigung, RAL9010",70,109.35,{"$f":"G14975*(1-VLOOKUP(F14975,Konditionen!$B:$G,6,0))","v":109.35}]
["Lindab Comfort Luftauslässe","AE","AE12V10255259010","Gitter Aluminium  AE12-V-1025x525mm","sicht. Schraubbefestigung, RAL9010",70,250.6,{"$f":"G14987*(1-VLOOKUP(F14987,Konditionen!$B:$G,6,0))","v":250.6}]
["Lindab Comfort Luftauslässe","AE","AE12V3251259003","Gitter Aluminium   AE12-V-325x125mm","sicht. Schraubbefestigung, RAL9003",70,56.05,{"$f":"G14998*(1-VLOOKUP(F14998,Konditionen!$B:$G,6,0))","v":56.05}]
["Lindab Comfort Luftauslässe","AE","AE12V6252259003","Gitter Aluminium   AE12-V-625x225mm","sicht. Schraubbefestigung, RAL9003",70,99.35,{"$f":"G15009*(1-VLOOKUP(F15009,Konditionen!$B:$G,6,0))","v":99.35}]
["Lindab Comfort Luftauslässe","AE","AE12V2255259003","Gitter Aluminium   AE12-V-225x525mm","sicht. Schraubbefestigung, RAL9003",70,88.05,{"$f":"G15029*(1-VLOOKUP(F15029,Konditionen!$B:$G,6,0))","v":88.05}]
["Lindab Comfort Luftauslässe","AE","AE12V4255259003","Gitter Aluminium   AE12-V-425x525mm","sicht. Schraubbefestigung, RAL9003",70,127.05,{"$f":"G15031*(1-VLOOKUP(F15031,Konditionen!$B:$G,6,0))","v":127.05}]
["Lindab Comfort Luftauslässe","AG10A","AG10A600600","Bodengitter Alu     AG-10-A-600x600","höhenverstellbarer Rahmen",70,492.45,{"$f":"G15051*(1-VLOOKUP(F15051,Konditionen!$B:$G,6,0))","v":492.45}]
["Lindab Comfort Luftauslässe","AG10AD","AG10AD600600","Bodengitter Alu   AG-10-A-D-600x600","mit Mengenregulierung",70,577.35,{"$f":"G15066*(1-VLOOKUP(F15066,Konditionen!$B:$G,6,0))","v":577.35}]
["Lindab Comfort Luftauslässe","AG10AB","AG10AB600200","Bodengitter Alu   AG-10-A-B-600x200","mit Schmutzfangkorb",70,324.39999999999998,{"$f":"G15073*(1-VLOOKUP(F15073,Konditionen!$B:$G,6,0))","v":324.39999999999998}]
["Lindab Comfort Luftauslässe","AG10ADB","AG10ADB800300","Bodengitter Alu  AG-10-A-DB-800x300","Mengenregulier. und Schmutzfangkorb",70,692.85,{"$f":"G15093*(1-VLOOKUP(F15093,Konditionen!$B:$G,6,0))","v":692.85}]
["Lindab Comfort Luftauslässe","AL","AL10C42575ELOX","Gitter Aluminium    AL10-C-425x75mm","mit Klemmfedern, natureloxiert",70,50.35,{"$f":"G15099*(1-VLOOKUP(F15099,Konditionen!$B:$G,6,0))","v":50.35}]
["Lindab Comfort Luftauslässe","AL","AL10C425225ELOX","Gitter Aluminium   AL10-C-425x225mm","mit Klemmfedern, natureloxiert",70,89.2,{"$f":"G15115*(1-VLOOKUP(F15115,Konditionen!$B:$G,6,0))","v":89.2}]
["Lindab Comfort Luftauslässe","AL","AL10C325325ELOX","Gitter Aluminium   AL10-C-325x325mm","mit Klemmfedern, natureloxiert",70,98.15,{"$f":"G15122*(1-VLOOKUP(F15122,Konditionen!$B:$G,6,0))","v":98.15}]
["Lindab Comfort Luftauslässe","AL","AL10C225525ELOX","Gitter Aluminium   AL10-C-225x525mm","mit Klemmfedern, natureloxiert",70,122.1,{"$f":"G15137*(1-VLOOKUP(F15137,Konditionen!$B:$G,6,0))","v":122.1}]
["Lindab Comfort Luftauslässe","AL","AL10C1225525ELOX","Gitter Aluminium  AL10-C-1225x525mm","mit Klemmfedern, natureloxiert",70,358.25,{"$f":"G15144*(1-VLOOKUP(F15144,Konditionen!$B:$G,6,0))","v":358.25}]
["Lindab Comfort Luftauslässe","AL","AL10C10252259010","Gitter Aluminium  AL10-C-1025x225mm","Rahmen mit Klemmfedern, RAL9010",70,157.6,{"$f":"G15167*(1-VLOOKUP(F15167,Konditionen!$B:$G,6,0))","v":157.6}]
["Lindab Comfort Luftauslässe","AL","AL10C4254259010","Gitter Aluminium   AL10-C-425x425mm","Rahmen mit Klemmfedern, RAL9010",70,143.19999999999999,{"$f":"G15179*(1-VLOOKUP(F15179,Konditionen!$B:$G,6,0))","v":143.19999999999999}]
["Lindab Comfort Luftauslässe","AL","AL10C3255259010","Gitter Aluminium   AL10-C-325x525mm","Rahmen mit Klemmfedern, RAL9010",70,142.6,{"$f":"G15186*(1-VLOOKUP(F15186,Konditionen!$B:$G,6,0))","v":142.6}]
["Lindab Comfort Luftauslässe","AL","AL10C2251259003","Gitter Aluminium   AL10-C-225x125mm","Rahmen mit Klemmfedern, RAL9003",70,48.2,{"$f":"G15201*(1-VLOOKUP(F15201,Konditionen!$B:$G,6,0))","v":48.2}]
["Lindab Comfort Luftauslässe","AL","AL10C2252259003","Gitter Aluminium   AL10-C-225x225mm","Rahmen mit Klemmfedern, RAL9003",70,66.400000000000006,{"$f":"G15209*(1-VLOOKUP(F15209,Konditionen!$B:$G,6,0))","v":66.400000000000006}]
["Lindab Comfort Luftauslässe","AL","AL10C10253259003","Gitter Aluminium  AL10-C-1025x325mm","Rahmen mit Klemmfedern, RAL9003",70,209.2,{"$f":"G15223*(1-VLOOKUP(F15223,Konditionen!$B:$G,6,0))","v":209.2}]
["Lindab Comfort Luftauslässe","AL","AL10V42575ELOX","Gitter Aluminium    AL10-V-425x75mm","sicht. Schraubbef., natureloxiert",70,50.35,{"$f":"G15243*(1-VLOOKUP(F15243,Konditionen!$B:$G,6,0))","v":50.35}]
["Lindab Comfort Luftauslässe","AL","AL10V825125ELOX","Gitter Aluminium   AL10-V-825x125mm","sicht. Schraubbef., natureloxiert",70,88.7,{"$f":"G15254*(1-VLOOKUP(F15254,Konditionen!$B:$G,6,0))","v":88.7}]
["Lindab Comfort Luftauslässe","AL","AL10V225325ELOX","Gitter Aluminium   AL10-V-225x325mm","sicht. Schraubbef., natureloxiert",70,85.35,{"$f":"G15265*(1-VLOOKUP(F15265,Konditionen!$B:$G,6,0))","v":85.35}]
["Lindab Comfort Luftauslässe","AL","AL10V625425ELOX","Gitter Aluminium   AL10-V-625x425mm","sicht. Schraubbef., natureloxiert",70,180.05,{"$f":"G15277*(1-VLOOKUP(F15277,Konditionen!$B:$G,6,0))","v":180.05}]
["Lindab Comfort Luftauslässe","AL","AL10V425759010","Gitter Aluminium    AL10-V-425x75mm","sicht. Schraubbefestigung, RAL9010",70,50.35,{"$f":"G15291*(1-VLOOKUP(F15291,Konditionen!$B:$G,6,0))","v":50.35}]
["Lindab Comfort Luftauslässe","AL","AL10V4252259010","Gitter Aluminium   AL10-V-425x225mm","sicht. Schraubbefestigung, RAL9010",70,89.2,{"$f":"G15307*(1-VLOOKUP(F15307,Konditionen!$B:$G,6,0))","v":89.2}]
["Lindab Comfort Luftauslässe","AL","AL10V8252259010","Gitter Aluminium   AL10-V-825x225mm","sicht. Schraubbefestigung, RAL9010",70,132.5,{"$f":"G15310*(1-VLOOKUP(F15310,Konditionen!$B:$G,6,0))","v":132.5}]
["Lindab Comfort Luftauslässe","AL","AL10V2255259010","Gitter Aluminium   AL10-V-225x525mm","sicht. Schraubbefestigung, RAL9010",70,122.1,{"$f":"G15329*(1-VLOOKUP(F15329,Konditionen!$B:$G,6,0))","v":122.1}]
["Lindab Comfort Luftauslässe","AL","AL10V6255259010","Gitter Aluminium   AL10-V-625x525mm","sicht. Schraubbefestigung, RAL9010",70,215.3,{"$f":"G15333*(1-VLOOKUP(F15333,Konditionen!$B:$G,6,0))","v":215.3}]
["Lindab Comfort Luftauslässe","AL","AL10V4252259003","Gitter Aluminium   AL10-V-425x225mm","sicht. Schraubbefestigung, RAL9003",70,89.2,{"$f":"G15355*(1-VLOOKUP(F15355,Konditionen!$B:$G,6,0))","v":89.2}]
["Lindab Comfort Luftauslässe","AL","AL10V8252259003","Gitter Aluminium   AL10-V-825x225mm","sicht. Schraubbefestigung, RAL9003",70,132.5,{"$f":"G15358*(1-VLOOKUP(F15358,Konditionen!$B:$G,6,0))","v":132.5}]
["Lindab Comfort Luftauslässe","AL","AL10V3255259003","Gitter Aluminium   AL10-V-325x525mm","sicht. Schraubbefestigung, RAL9003",70,142.6,{"$f":"G15378*(1-VLOOKUP(F15378,Konditionen!$B:$G,6,0))","v":142.6}]
["Lindab Comfort Luftauslässe","AL","AL11C225125ELOX","Gitter Aluminium   AL11-C-225x125mm","mit Klemmfedern, natureloxiert",70,48.45,{"$f":"G15393*(1-VLOOKUP(F15393,Konditionen!$B:$G,6,0))","v":48.45}]
["Lindab Comfort Luftauslässe","AL","AL11C225225ELOX","Gitter Aluminium   AL11-C-225x225mm","mit Klemmfedern, natureloxiert",70,67.599999999999994,{"$f":"G15401*(1-VLOOKUP(F15401,Konditionen!$B:$G,6,0))","v":67.599999999999994}]
["Lindab Comfort Luftauslässe","AL","AL11C425425ELOX","Gitter Aluminium   AL11-C-425x425mm","mit Klemmfedern, natureloxiert",70,147.4,{"$f":"G15419*(1-VLOOKUP(F15419,Konditionen!$B:$G,6,0))","v":147.4}]
["Lindab Comfort Luftauslässe","AL","AL11C1225425ELOX","Gitter Aluminium  AL11-C-1225x425mm","mit Klemmfedern, natureloxiert",70,312.10000000000002,{"$f":"G15424*(1-VLOOKUP(F15424,Konditionen!$B:$G,6,0))","v":312.10000000000002}]
["Lindab Comfort Luftauslässe","AL","AL11C2251259010","Gitter Aluminium   AL11-C-225x125mm","Rahmen mit Klemmfedern, RAL9010",70,48.45,{"$f":"G15441*(1-VLOOKUP(F15441,Konditionen!$B:$G,6,0))","v":48.45}]
["Lindab Comfort Luftauslässe","AL","AL11C12251259010","Gitter Aluminium  AL11-C-1225x125mm","Rahmen mit Klemmfedern, RAL9010",70,122.5,{"$f":"G15448*(1-VLOOKUP(F15448,Konditionen!$B:$G,6,0))","v":122.5}]
["Lindab Comfort Luftauslässe","AL","AL11C6254259010","Gitter Aluminium   AL11-C-625x425mm","Rahmen mit Klemmfedern, RAL9010",70,186.15,{"$f":"G15469*(1-VLOOKUP(F15469,Konditionen!$B:$G,6,0))","v":186.15}]
["Lindab Comfort Luftauslässe","AL","AL11C425759003","Gitter Aluminium    AL11-C-425x75mm","Rahmen mit Klemmfedern, RAL9003",70,50.9,{"$f":"G15483*(1-VLOOKUP(F15483,Konditionen!$B:$G,6,0))","v":50.9}]
["Lindab Comfort Luftauslässe","AL","AL11C5251259003","Gitter Aluminium   AL11-C-525x125mm","Rahmen mit Klemmfedern, RAL9003",70,69.75,{"$f":"G15492*(1-VLOOKUP(F15492,Konditionen!$B:$G,6,0))","v":69.75}]
["Lindab Comfort Luftauslässe","AL","AL11C2253259003","Gitter Aluminium   AL11-C-225x325mm","Rahmen mit Klemmfedern, RAL9003",70,86.8,{"$f":"G15505*(1-VLOOKUP(F15505,Konditionen!$B:$G,6,0))","v":86.8}]
["Lindab Comfort Luftauslässe","AL","AL11C12253259003","Gitter Aluminium  AL11-C-1225x325mm","Rahmen mit Klemmfedern, RAL9003",70,248.45,{"$f":"G15512*(1-VLOOKUP(F15512,Konditionen!$B:$G,6,0))","v":248.45}]
["Lindab Comfort Luftauslässe","AL","AL11C6255259003","Gitter Aluminium   AL11-C-625x525mm","Rahmen mit Klemmfedern, RAL9003",70,222.9,{"$f":"G15525*(1-VLOOKUP(F15525,Konditionen!$B:$G,6,0))","v":222.9}]
["Lindab Comfort Luftauslässe","AL","AL11V82575ELOX","Gitter Aluminium    AL11-V-825x75mm","sicht. Schraubbef., natureloxiert",70,70.95,{"$f":"G15534*(1-VLOOKUP(F15534,Konditionen!$B:$G,6,0))","v":70.95}]
["Lindab Comfort Luftauslässe","AL","AL11V525325ELOX","Gitter Aluminium   AL11-V-525x325mm","sicht. Schraubbef., natureloxiert",70,133.65,{"$f":"G15556*(1-VLOOKUP(F15556,Konditionen!$B:$G,6,0))","v":133.65}]
["Lindab Comfort Luftauslässe","AL","AL11V225525ELOX","Gitter Aluminium   AL11-V-225x525mm","sicht. Schraubbef., natureloxiert",70,124.9,{"$f":"G15569*(1-VLOOKUP(F15569,Konditionen!$B:$G,6,0))","v":124.9}]
["Lindab Comfort Luftauslässe","AL","AL11V1225525ELOX","Gitter Aluminium  AL11-V-1225x525mm","sicht. Schraubbef., natureloxiert",70,373.35,{"$f":"G15576*(1-VLOOKUP(F15576,Konditionen!$B:$G,6,0))","v":373.35}]
["Lindab Comfort Luftauslässe","AL","AL11V2252259010","Gitter Aluminium   AL11-V-225x225mm","sicht. Schraubbefestigung, RAL9010",70,67.599999999999994,{"$f":"G15593*(1-VLOOKUP(F15593,Konditionen!$B:$G,6,0))","v":67.599999999999994}]
["Lindab Comfort Luftauslässe","AL","AL11V8252259010","Gitter Aluminium   AL11-V-825x225mm","sicht. Schraubbefestigung, RAL9010",70,136.5,{"$f":"G15598*(1-VLOOKUP(F15598,Konditionen!$B:$G,6,0))","v":136.5}]
["Lindab Comfort Luftauslässe","AL","AL11V5254259010","Gitter Aluminium   AL11-V-525x425mm","sicht. Schraubbefestigung, RAL9010",70,166.05,{"$f":"G15612*(1-VLOOKUP(F15612,Konditionen!$B:$G,6,0))","v":166.05}]
["Lindab Comfort Luftauslässe","AL","AL11V2251259003","Gitter Aluminium   AL11-V-225x125mm","sicht. Schraubbefestigung, RAL9003",70,48.45,{"$f":"G15633*(1-VLOOKUP(F15633,Konditionen!$B:$G,6,0))","v":48.45}]
["Lindab Comfort Luftauslässe","AL","AL11V12251259003","Gitter Aluminium  AL11-V-1225x125mm","sicht. Schraubbefestigung, RAL9003",70,122.5,{"$f":"G15640*(1-VLOOKUP(F15640,Konditionen!$B:$G,6,0))","v":122.5}]
["Lindab Comfort Luftauslässe","AL","AL11V2253259003","Gitter Aluminium   AL11-V-225x325mm","sicht. Schraubbefestigung, RAL9003",70,86.8,{"$f":"G15649*(1-VLOOKUP(F15649,Konditionen!$B:$G,6,0))","v":86.8}]
["Lindab Comfort Luftauslässe","AL","AL11V8254259003","Gitter Aluminium   AL11-V-825x425mm","sicht. Schraubbefestigung, RAL9003",70,228.55,{"$f":"G15662*(1-VLOOKUP(F15662,Konditionen!$B:$G,6,0))","v":228.55}]
["Lindab Comfort Luftauslässe","AL","AL10C500150ELOX","Gitter Aluminium   AL10-C-500x150mm","mit Klemmfedern, natureloxiert",70,74.7,{"$f":"G15680*(1-VLOOKUP(F15680,Konditionen!$B:$G,6,0))","v":74.7}]
["Lindab Comfort Luftauslässe","AL","AL10C6002009010","Gitter Aluminium   AL10-C-600x200mm","Rahmen mit Klemmfedern, RAL9010",70,98.4,{"$f":"G15697*(1-VLOOKUP(F15697,Konditionen!$B:$G,6,0))","v":98.4}]
["Lindab Comfort Luftauslässe","AL","AL10C6001009003","Gitter Aluminium   AL10-C-600x100mm","Rahmen mit Klemmfedern, RAL9003",70,65.25,{"$f":"G15703*(1-VLOOKUP(F15703,Konditionen!$B:$G,6,0))","v":65.25}]
["Lindab Comfort Luftauslässe","AL","AL10C6002009003","Gitter Aluminium   AL10-C-600x200mm","Rahmen mit Klemmfedern, RAL9003",70,98.4,{"$f":"G15710*(1-VLOOKUP(F15710,Konditionen!$B:$G,6,0))","v":98.4}]
["Lindab Comfort Luftauslässe","AD","AD11C3001009010","Gitter Aluminium   AD11-C-300x100mm","Rahmen mit Klemmfedern, RAL9010",70,33.799999999999997,{"$f":"G15726*(1-VLOOKUP(F15726,Konditionen!$B:$G,6,0))","v":33.799999999999997}]
["Lindab Comfort Luftauslässe","AD","AD11C6002009010","Gitter Aluminium   AD11-C-600x200mm","Rahmen mit Klemmfedern, RAL9010",70,60.05,{"$f":"G15736*(1-VLOOKUP(F15736,Konditionen!$B:$G,6,0))","v":60.05}]
["Lindab Comfort Luftauslässe","AD","AD11C5002009003","Gitter Aluminium   AD11-C-500x200mm","Rahmen mit Klemmfedern, RAL9003",70,54.35,{"$f":"G15748*(1-VLOOKUP(F15748,Konditionen!$B:$G,6,0))","v":54.35}]
["Lindab Comfort Luftauslässe","AD","AD21C5001509010","Gitter Aluminium   AD21-C-500x150mm","Rahmen mit Klemmfedern, RAL9010",70,75.599999999999994,{"$f":"G15771*(1-VLOOKUP(F15771,Konditionen!$B:$G,6,0))","v":75.599999999999994}]
["Lindab Comfort Luftauslässe","AD","AD21C5002009010","Gitter Aluminium   AD21-C-500x200mm","Rahmen mit Klemmfedern, RAL9010",70,85.6,{"$f":"G15774*(1-VLOOKUP(F15774,Konditionen!$B:$G,6,0))","v":85.6}]
["Lindab Comfort Luftauslässe","AE","AE11C200100ELOX","Gitter Aluminium   AE11-C-200x100mm","mit Klemmfedern, natureloxiert",70,38.700000000000003,{"$f":"G15790*(1-VLOOKUP(F15790,Konditionen!$B:$G,6,0))","v":38.700000000000003}]
["Lindab Comfort Luftauslässe","AE","AE11C3001009010","Gitter Aluminium   AE11-C-300x100mm","Rahmen mit Klemmfedern, RAL9010",70,43.25,{"$f":"G15804*(1-VLOOKUP(F15804,Konditionen!$B:$G,6,0))","v":43.25}]
["Lindab Comfort Luftauslässe","AE","AE11C4002009010","Gitter Aluminium   AE11-C-400x200mm","Rahmen mit Klemmfedern, RAL9010",70,60.05,{"$f":"G15812*(1-VLOOKUP(F15812,Konditionen!$B:$G,6,0))","v":60.05}]
["Lindab Comfort Luftauslässe","AE","AE11C6002009003","Gitter Aluminium   AE11-C-600x200mm","Rahmen mit Klemmfedern, RAL9003",70,75.2,{"$f":"G15827*(1-VLOOKUP(F15827,Konditionen!$B:$G,6,0))","v":75.2}]
["Lindab Comfort Luftauslässe","AR11C","AR11C400200ELOX","Gitter Aluminium   AR11-C-400x200mm","mit Klemmfedern, natureloxiert",70,58.85,{"$f":"G15838*(1-VLOOKUP(F15838,Konditionen!$B:$G,6,0))","v":58.85}]
["Lindab Comfort Luftauslässe","AR11C","AR11C6003009010","Gitter Aluminium   AR11-C-600x300mm","Rahmen mit Klemmfedern, RAL9010",70,98.7,{"$f":"G15854*(1-VLOOKUP(F15854,Konditionen!$B:$G,6,0))","v":98.7}]
["Lindab Comfort Luftauslässe","MFA","MFA600100","Einbaurahmen Stahl    MFA-600x100mm","zum Zusammenstecken",70,12.05,{"$f":"G15872*(1-VLOOKUP(F15872,Konditionen!$B:$G,6,0))","v":12.05}]
["Lindab Comfort Luftauslässe","MFA","MFA600300","Einbaurahmen Stahl    MFA-600x300mm","zum Zusammenstecken",70,13.75,{"$f":"G15880*(1-VLOOKUP(F15880,Konditionen!$B:$G,6,0))","v":13.75}]
["Lindab Comfort Luftauslässe","AL","AL20C32575ELOX","Gitter Aluminium    AL20-C-325x75mm","mit Klemmfedern, natureloxiert",70,60.7,{"$f":"G15895*(1-VLOOKUP(F15895,Konditionen!$B:$G,6,0))","v":60.7}]
["Lindab Comfort Luftauslässe","AL","AL20C225125ELOX","Gitter Aluminium   AL20-C-225x125mm","mit Klemmfedern, natureloxiert",70,64.25,{"$f":"G15902*(1-VLOOKUP(F15902,Konditionen!$B:$G,6,0))","v":64.25}]
["Lindab Comfort Luftauslässe","AL","AL20C225325ELOX","Gitter Aluminium   AL20-C-225x325mm","mit Klemmfedern, natureloxiert",70,109.35,{"$f":"G15918*(1-VLOOKUP(F15918,Konditionen!$B:$G,6,0))","v":109.35}]
["Lindab Comfort Luftauslässe","AL","AL20C1025325ELOX","Gitter Aluminium  AL20-C-1025x325mm","mit Klemmfedern, natureloxiert",70,302.7,{"$f":"G15924*(1-VLOOKUP(F15924,Konditionen!$B:$G,6,0))","v":302.7}]
["Lindab Comfort Luftauslässe","AL","AL20C425759010","Gitter Aluminium    AL20-C-425x75mm","Rahmen mit Klemmfedern, RAL9010",70,72.2,{"$f":"G15944*(1-VLOOKUP(F15944,Konditionen!$B:$G,6,0))","v":72.2}]
["Lindab Comfort Luftauslässe","AL","AL20C3251259010","Gitter Aluminium   AL20-C-325x125mm","Rahmen mit Klemmfedern, RAL9010",70,74.7,{"$f":"G15951*(1-VLOOKUP(F15951,Konditionen!$B:$G,6,0))","v":74.7}]
["Lindab Comfort Luftauslässe","AL","AL20C2253259010","Gitter Aluminium   AL20-C-225x325mm","Rahmen mit Klemmfedern, RAL9010",70,109.35,{"$f":"G15966*(1-VLOOKUP(F15966,Konditionen!$B:$G,6,0))","v":109.35}]
["Lindab Comfort Luftauslässe","AL","AL20C2255259010","Gitter Aluminium   AL20-C-225x525mm","Rahmen mit Klemmfedern, RAL9010",70,154.69999999999999,{"$f":"G15982*(1-VLOOKUP(F15982,Konditionen!$B:$G,6,0))","v":154.69999999999999}]
["Lindab Comfort Luftauslässe","AL","AL20C10255259010","Gitter Aluminium  AL20-C-1025x525mm","Rahmen mit Klemmfedern, RAL9010",70,441.55,{"$f":"G15988*(1-VLOOKUP(F15988,Konditionen!$B:$G,6,0))","v":441.55}]
["Lindab Comfort Luftauslässe","AL","AL20C4252259003","Gitter Aluminium   AL20-C-425x225mm","Rahmen mit Klemmfedern, RAL9003",70,122.75,{"$f":"G16008*(1-VLOOKUP(F16008,Konditionen!$B:$G,6,0))","v":122.75}]
["Lindab Comfort Luftauslässe","AL","AL20C8253259003","Gitter Aluminium   AL20-C-825x325mm","Rahmen mit Klemmfedern, RAL9003",70,254.1,{"$f":"G16019*(1-VLOOKUP(F16019,Konditionen!$B:$G,6,0))","v":254.1}]
["Lindab Comfort Luftauslässe","AL","AL20C2255259003","Gitter Aluminium   AL20-C-225x525mm","Rahmen mit Klemmfedern, RAL9003",70,154.69999999999999,{"$f":"G16030*(1-VLOOKUP(F16030,Konditionen!$B:$G,6,0))","v":154.69999999999999}]
["Lindab Comfort Luftauslässe","AL","AL20V22575ELOX","Gitter Aluminium    AL20-V-225x75mm","sicht. Schraubbef., natureloxiert",70,52.45,{"$f":"G16038*(1-VLOOKUP(F16038,Konditionen!$B:$G,6,0))","v":52.45}]
["Lindab Comfort Luftauslässe","AL","AL20V1025125ELOX","Gitter Aluminium  AL20-V-1025x125mm","sicht. Schraubbef., natureloxiert",70,165.4,{"$f":"G16052*(1-VLOOKUP(F16052,Konditionen!$B:$G,6,0))","v":165.4}]
["Lindab Comfort Luftauslässe","AL","AL20V425425ELOX","Gitter Aluminium   AL20-V-425x425mm","sicht. Schraubbef., natureloxiert",70,191.9,{"$f":"G16072*(1-VLOOKUP(F16072,Konditionen!$B:$G,6,0))","v":191.9}]
["Lindab Comfort Luftauslässe","AL","AL20V325759010","Gitter Aluminium    AL20-V-325x75mm","sicht. Schraubbefestigung, RAL9010",70,60.7,{"$f":"G16087*(1-VLOOKUP(F16087,Konditionen!$B:$G,6,0))","v":60.7}]
["Lindab Comfort Luftauslässe","AL","AL20V2251259010","Gitter Aluminium   AL20-V-225x125mm","sicht. Schraubbefestigung, RAL9010",70,64.25,{"$f":"G16094*(1-VLOOKUP(F16094,Konditionen!$B:$G,6,0))","v":64.25}]
["Lindab Comfort Luftauslässe","AL","AL20V6252259010","Gitter Aluminium   AL20-V-625x225mm","sicht. Schraubbefestigung, RAL9010",70,156.30000000000001,{"$f":"G16106*(1-VLOOKUP(F16106,Konditionen!$B:$G,6,0))","v":156.30000000000001}]
["Lindab Comfort Luftauslässe","AL","AL20V10253259010","Gitter Aluminium  AL20-V-1025x325mm","sicht. Schraubbefestigung, RAL9010",70,302.7,{"$f":"G16116*(1-VLOOKUP(F16116,Konditionen!$B:$G,6,0))","v":302.7}]
["Lindab Comfort Luftauslässe","AL","AL20V425759003","Gitter Aluminium    AL20-V-425x75mm","sicht. Schraubbefestigung, RAL9003",70,72.2,{"$f":"G16136*(1-VLOOKUP(F16136,Konditionen!$B:$G,6,0))","v":72.2}]
["Lindab Comfort Luftauslässe","AL","AL20V825759003","Gitter Aluminium    AL20-V-825x75mm","sicht. Schraubbefestigung, RAL9003",70,110.95,{"$f":"G16139*(1-VLOOKUP(F16139,Konditionen!$B:$G,6,0))","v":110.95}]
["Lindab Comfort Luftauslässe","AL","AL20V2253259003","Gitter Aluminium   AL20-V-225x325mm","sicht. Schraubbefestigung, RAL9003",70,109.35,{"$f":"G16158*(1-VLOOKUP(F16158,Konditionen!$B:$G,6,0))","v":109.35}]
["Lindab Comfort Luftauslässe","AL","AL20V2255259003","Gitter Aluminium   AL20-V-225x525mm","sicht. Schraubbefestigung, RAL9003",70,154.69999999999999,{"$f":"G16174*(1-VLOOKUP(F16174,Konditionen!$B:$G,6,0))","v":154.69999999999999}]
["Lindab Comfort Luftauslässe","AL","AL20V10255259003","Gitter Aluminium  AL20-V-1025x525mm","sicht. Schraubbefestigung, RAL9003",70,441.55,{"$f":"G16180*(1-VLOOKUP(F16180,Konditionen!$B:$G,6,0))","v":441.55}]
["Lindab Comfort Luftauslässe","AL","AL21C1225125ELOX","Gitter Aluminium  AL21-C-1225x125mm","mit Klemmfedern, natureloxiert",70,192.55,{"$f":"G16197*(1-VLOOKUP(F16197,Konditionen!$B:$G,6,0))","v":192.55}]
["Lindab Comfort Luftauslässe","AL","AL21C225325ELOX","Gitter Aluminium   AL21-C-225x325mm","mit Klemmfedern, natureloxiert",70,110.95,{"$f":"G16206*(1-VLOOKUP(F16206,Konditionen!$B:$G,6,0))","v":110.95}]
["Lindab Comfort Luftauslässe","AL","AL21C225525ELOX","Gitter Aluminium   AL21-C-225x525mm","mit Klemmfedern, natureloxiert",70,157.1,{"$f":"G16222*(1-VLOOKUP(F16222,Konditionen!$B:$G,6,0))","v":157.1}]
["Lindab Comfort Luftauslässe","AL","AL21C225759010","Gitter Aluminium    AL21-C-225x75mm","Rahmen mit Klemmfedern, RAL9010",70,53,{"$f":"G16230*(1-VLOOKUP(F16230,Konditionen!$B:$G,6,0))","v":53}]
["Lindab Comfort Luftauslässe","AL","AL21C10251259010","Gitter Aluminium  AL21-C-1025x125mm","Rahmen mit Klemmfedern, RAL9010",70,167.5,{"$f":"G16244*(1-VLOOKUP(F16244,Konditionen!$B:$G,6,0))","v":167.5}]
["Lindab Comfort Luftauslässe","AL","AL21C12252259010","Gitter Aluminium  AL21-C-1225x225mm","Rahmen mit Klemmfedern, RAL9010",70,274.95,{"$f":"G16253*(1-VLOOKUP(F16253,Konditionen!$B:$G,6,0))","v":274.95}]
["Lindab Comfort Luftauslässe","AL","AL21C2255259010","Gitter Aluminium   AL21-C-225x525mm","Rahmen mit Klemmfedern, RAL9010",70,157.1,{"$f":"G16270*(1-VLOOKUP(F16270,Konditionen!$B:$G,6,0))","v":157.1}]
["Lindab Comfort Luftauslässe","AL","AL21C2251259003","Gitter Aluminium   AL21-C-225x125mm","Rahmen mit Klemmfedern, RAL9003",70,65,{"$f":"G16286*(1-VLOOKUP(F16286,Konditionen!$B:$G,6,0))","v":65}]
["Lindab Comfort Luftauslässe","AL","AL21C6252259003","Gitter Aluminium   AL21-C-625x225mm","Rahmen mit Klemmfedern, RAL9003",70,159,{"$f":"G16298*(1-VLOOKUP(F16298,Konditionen!$B:$G,6,0))","v":159}]
["Lindab Comfort Luftauslässe","AL","AL21C4254259003","Gitter Aluminium   AL21-C-425x425mm","Rahmen mit Klemmfedern, RAL9003",70,195.85,{"$f":"G16312*(1-VLOOKUP(F16312,Konditionen!$B:$G,6,0))","v":195.85}]
["Lindab Comfort Luftauslässe","AL","AL21C5255259003","Gitter Aluminium   AL21-C-525x525mm","Rahmen mit Klemmfedern, RAL9003",70,265.95,{"$f":"G16321*(1-VLOOKUP(F16321,Konditionen!$B:$G,6,0))","v":265.95}]
["Lindab Comfort Luftauslässe","AL","AL21V225125ELOX","Gitter Aluminium   AL21-V-225x125mm","sicht. Schraubbef., natureloxiert",70,65,{"$f":"G16334*(1-VLOOKUP(F16334,Konditionen!$B:$G,6,0))","v":65}]
["Lindab Comfort Luftauslässe","AL","AL21V225325ELOX","Gitter Aluminium   AL21-V-225x325mm","sicht. Schraubbef., natureloxiert",70,110.95,{"$f":"G16350*(1-VLOOKUP(F16350,Konditionen!$B:$G,6,0))","v":110.95}]
["Lindab Comfort Luftauslässe","AL","AL21V625325ELOX","Gitter Aluminium   AL21-V-625x325mm","sicht. Schraubbef., natureloxiert",70,206.15,{"$f":"G16354*(1-VLOOKUP(F16354,Konditionen!$B:$G,6,0))","v":206.15}]
["Lindab Comfort Luftauslässe","AL","AL21V425759010","Gitter Aluminium    AL21-V-425x75mm","sicht. Schraubbefestigung, RAL9010",70,72.849999999999994,{"$f":"G16376*(1-VLOOKUP(F16376,Konditionen!$B:$G,6,0))","v":72.849999999999994}]
["Lindab Comfort Luftauslässe","AL","AL21V12251259010","Gitter Aluminium  AL21-V-1225x125mm","sicht. Schraubbefestigung, RAL9010",70,192.55,{"$f":"G16389*(1-VLOOKUP(F16389,Konditionen!$B:$G,6,0))","v":192.55}]
["Lindab Comfort Luftauslässe","AL","AL21V2253259010","Gitter Aluminium   AL21-V-225x325mm","sicht. Schraubbefestigung, RAL9010",70,110.95,{"$f":"G16398*(1-VLOOKUP(F16398,Konditionen!$B:$G,6,0))","v":110.95}]
["Lindab Comfort Luftauslässe","AL","AL21V4254259010","Gitter Aluminium   AL21-V-425x425mm","sicht. Schraubbefestigung, RAL9010",70,195.85,{"$f":"G16408*(1-VLOOKUP(F16408,Konditionen!$B:$G,6,0))","v":195.85}]
["Lindab Comfort Luftauslässe","AL","AL21V10255259010","Gitter Aluminium  AL21-V-1025x525mm","sicht. Schraubbefestigung, RAL9010",70,454.1,{"$f":"G16420*(1-VLOOKUP(F16420,Konditionen!$B:$G,6,0))","v":454.1}]
["Lindab Comfort Luftauslässe","AL","AL21V4252259003","Gitter Aluminium   AL21-V-425x225mm","sicht. Schraubbefestigung, RAL9003",70,124.65,{"$f":"G16440*(1-VLOOKUP(F16440,Konditionen!$B:$G,6,0))","v":124.65}]
["Lindab Comfort Luftauslässe","AL","AL21V12252259003","Gitter Aluminium  AL21-V-1225x225mm","sicht. Schraubbefestigung, RAL9003",70,274.95,{"$f":"G16445*(1-VLOOKUP(F16445,Konditionen!$B:$G,6,0))","v":274.95}]
["Lindab Comfort Luftauslässe","AL","AL21V2255259003","Gitter Aluminium   AL21-V-225x525mm","sicht. Schraubbefestigung, RAL9003",70,157.1,{"$f":"G16462*(1-VLOOKUP(F16462,Konditionen!$B:$G,6,0))","v":157.1}]
["Lindab Comfort Luftauslässe","AR11C","AR11C102575ELOX","Gitter Aluminium   AR11-C-1025x75mm","mit Klemmfedern, natureloxiert",70,72.849999999999994,{"$f":"G16476*(1-VLOOKUP(F16476,Konditionen!$B:$G,6,0))","v":72.849999999999994}]
["Lindab Comfort Luftauslässe","AR11C","AR11C1025125ELOX","Gitter Aluminium  AR11-C-1025x125mm","mit Klemmfedern, natureloxiert",70,96.9,{"$f":"G16484*(1-VLOOKUP(F16484,Konditionen!$B:$G,6,0))","v":96.9}]
["Lindab Comfort Luftauslässe","AR11C","AR11C825225ELOX","Gitter Aluminium   AR11-C-825x225mm","mit Klemmfedern, natureloxiert",70,119.95,{"$f":"G16491*(1-VLOOKUP(F16491,Konditionen!$B:$G,6,0))","v":119.95}]
["Lindab Comfort Luftauslässe","AR11C","AR11C525525ELOX","Gitter Aluminium   AR11-C-525x525mm","mit Klemmfedern, natureloxiert",70,137.69999999999999,{"$f":"G16513*(1-VLOOKUP(F16513,Konditionen!$B:$G,6,0))","v":137.69999999999999}]
["Lindab Comfort Luftauslässe","AR11C","AR11C2251259010","Gitter Aluminium   AR11-C-225x125mm","Rahmen mit Klemmfedern, RAL9010",70,35,{"$f":"G16526*(1-VLOOKUP(F16526,Konditionen!$B:$G,6,0))","v":35}]
["Lindab Comfort Luftauslässe","AR11C","AR11C10251259010","Gitter Aluminium  AR11-C-1025x125mm","Rahmen mit Klemmfedern, RAL9010",70,96.9,{"$f":"G16532*(1-VLOOKUP(F16532,Konditionen!$B:$G,6,0))","v":96.9}]
["Lindab Comfort Luftauslässe","AR11C","AR11C10253259010","Gitter Aluminium  AR11-C-1025x325mm","Rahmen mit Klemmfedern, RAL9010",70,178.8,{"$f":"G16548*(1-VLOOKUP(F16548,Konditionen!$B:$G,6,0))","v":178.8}]
["Lindab Comfort Luftauslässe","AR11C","AR11C8254259010","Gitter Aluminium   AR11-C-825x425mm","Rahmen mit Klemmfedern, RAL9010",70,192.15,{"$f":"G16555*(1-VLOOKUP(F16555,Konditionen!$B:$G,6,0))","v":192.15}]
["Lindab Comfort Luftauslässe","AR11C","AR11C5251259003","Gitter Aluminium   AR11-C-525x125mm","Rahmen mit Klemmfedern, RAL9003",70,52.45,{"$f":"G16577*(1-VLOOKUP(F16577,Konditionen!$B:$G,6,0))","v":52.45}]
["Lindab Comfort Luftauslässe","AR11C","AR11C2253259003","Gitter Aluminium   AR11-C-225x325mm","Rahmen mit Klemmfedern, RAL9003",70,57.7,{"$f":"G16590*(1-VLOOKUP(F16590,Konditionen!$B:$G,6,0))","v":57.7}]
["Lindab Comfort Luftauslässe","AR11C","AR11C4254259003","Gitter Aluminium   AR11-C-425x425mm","Rahmen mit Klemmfedern, RAL9003",70,101.15,{"$f":"G16600*(1-VLOOKUP(F16600,Konditionen!$B:$G,6,0))","v":101.15}]
["Lindab Comfort Luftauslässe","AR11C","AR11C10255259003","Gitter Aluminium  AR11-C-1025x525mm","Rahmen mit Klemmfedern, RAL9003",70,265.3,{"$f":"G16612*(1-VLOOKUP(F16612,Konditionen!$B:$G,6,0))","v":265.3}]
["Lindab Comfort Luftauslässe","AR11V","AR11V325125ELOX","Gitter Aluminium   AR11-V-325x125mm","sicht. Schraubbef., natureloxiert",70,40.25,{"$f":"G16623*(1-VLOOKUP(F16623,Konditionen!$B:$G,6,0))","v":40.25}]
["Lindab Comfort Luftauslässe","AR11V","AR11V225325ELOX","Gitter Aluminium   AR11-V-225x325mm","sicht. Schraubbef., natureloxiert",70,57.7,{"$f":"G16638*(1-VLOOKUP(F16638,Konditionen!$B:$G,6,0))","v":57.7}]
["Lindab Comfort Luftauslässe","AR11V","AR11V225525ELOX","Gitter Aluminium   AR11-V-225x525mm","sicht. Schraubbef., natureloxiert",70,82,{"$f":"G16654*(1-VLOOKUP(F16654,Konditionen!$B:$G,6,0))","v":82}]
["Lindab Comfort Luftauslässe","AR11V","AR11V425525ELOX","Gitter Aluminium   AR11-V-425x525mm","sicht. Schraubbef., natureloxiert",70,119.4,{"$f":"G16656*(1-VLOOKUP(F16656,Konditionen!$B:$G,6,0))","v":119.4}]
["Lindab Comfort Luftauslässe","AR11V","AR11V825759010","Gitter Aluminium    AR11-V-825x75mm","sicht. Schraubbefestigung, RAL9010",70,65.25,{"$f":"G16667*(1-VLOOKUP(F16667,Konditionen!$B:$G,6,0))","v":65.25}]
["Lindab Comfort Luftauslässe","AR11V","AR11V8253259010","Gitter Aluminium   AR11-V-825x325mm","sicht. Schraubbefestigung, RAL9010",70,154.69999999999999,{"$f":"G16691*(1-VLOOKUP(F16691,Konditionen!$B:$G,6,0))","v":154.69999999999999}]
["Lindab Comfort Luftauslässe","AR11V","AR11V2255259010","Gitter Aluminium   AR11-V-225x525mm","sicht. Schraubbefestigung, RAL9010",70,82,{"$f":"G16702*(1-VLOOKUP(F16702,Konditionen!$B:$G,6,0))","v":82}]
["Lindab Comfort Luftauslässe","AR11V","AR11V5255259010","Gitter Aluminium   AR11-V-525x525mm","sicht. Schraubbefestigung, RAL9010",70,137.69999999999999,{"$f":"G16705*(1-VLOOKUP(F16705,Konditionen!$B:$G,6,0))","v":137.69999999999999}]
["Lindab Comfort Luftauslässe","AR11V","AR11V10251259003","Gitter Aluminium  AR11-V-1025x125mm","sicht. Schraubbefestigung, RAL9003",70,96.9,{"$f":"G16724*(1-VLOOKUP(F16724,Konditionen!$B:$G,6,0))","v":96.9}]
["Lindab Comfort Luftauslässe","AR11V","AR11V8252259003","Gitter Aluminium   AR11-V-825x225mm","sicht. Schraubbefestigung, RAL9003",70,119.95,{"$f":"G16731*(1-VLOOKUP(F16731,Konditionen!$B:$G,6,0))","v":119.95}]
["Lindab Comfort Luftauslässe","AR11V","AR11V8254259003","Gitter Aluminium   AR11-V-825x425mm","sicht. Schraubbefestigung, RAL9003",70,192.15,{"$f":"G16747*(1-VLOOKUP(F16747,Konditionen!$B:$G,6,0))","v":192.15}]
["Lindab Comfort Luftauslässe","WLA","WLA22VN1400250","WSG Alu        WLA22-V-N-1400x250mm","Wetterschutzgitter, mit Vogelschutz",70,288.45,{"$f":"G16766*(1-VLOOKUP(F16766,Konditionen!$B:$G,6,0))","v":288.45}]
["Lindab Comfort Luftauslässe","WLA","WLA22VN2000250","WSG Alu        WLA22-V-N-2000x250mm","Wetterschutzgitter, mit Vogelschutz",70,382.9,{"$f":"G16769*(1-VLOOKUP(F16769,Konditionen!$B:$G,6,0))","v":382.9}]
["Lindab Comfort Luftauslässe","WLA","WLA22VN1800400","WSG Alu        WLA22-V-N-1800x400mm","Wetterschutzgitter, mit Vogelschutz",70,512.6,{"$f":"G16792*(1-VLOOKUP(F16792,Konditionen!$B:$G,6,0))","v":512.6}]
["Lindab Comfort Luftauslässe","WLA","WLA22VN500500","WSG Alu         WLA22-V-N-500x500mm","Wetterschutzgitter, mit Vogelschutz",70,223.55,{"$f":"G16795*(1-VLOOKUP(F16795,Konditionen!$B:$G,6,0))","v":223.55}]
["Lindab Comfort Luftauslässe","WLA","WLA22VN1600600","WSG Alu        WLA22-V-N-1600x600mm","Wetterschutzgitter, mit Vogelschutz",70,642.5,{"$f":"G16815*(1-VLOOKUP(F16815,Konditionen!$B:$G,6,0))","v":642.5}]
["Lindab Comfort Luftauslässe","WLA","WLA22VN400800","WSG Alu         WLA22-V-N-400x800mm","Wetterschutzgitter, mit Vogelschutz",70,280.8,{"$f":"G16830*(1-VLOOKUP(F16830,Konditionen!$B:$G,6,0))","v":280.8}]
["Lindab Comfort Luftauslässe","WLA","WLA22VN1200800","WSG Alu        WLA22-V-N-1200x800mm","Wetterschutzgitter, mit Vogelschutz",70,663.55,{"$f":"G16837*(1-VLOOKUP(F16837,Konditionen!$B:$G,6,0))","v":663.55}]
["Lindab Comfort Luftauslässe","WLA","WLA22VN1000900","WSG Alu        WLA22-V-N-1000x900mm","Wetterschutzgitter, mit Vogelschutz",70,620.70000000000005,{"$f":"G16848*(1-VLOOKUP(F16848,Konditionen!$B:$G,6,0))","v":620.70000000000005}]
["Lindab Comfort Luftauslässe","WLA","WLA22VN9001000","WSG Alu        WLA22-V-N-900x1000mm","Wetterschutzgitter, mit Vogelschutz",70,596.04999999999995,{"$f":"G16859*(1-VLOOKUP(F16859,Konditionen!$B:$G,6,0))","v":596.04999999999995}]
["Lindab Comfort Luftauslässe","WLA","WLA22VN9001200","WSG Alu        WLA22-V-N-900x1200mm","Wetterschutzgitter, mit Vogelschutz",70,706.8,{"$f":"G16871*(1-VLOOKUP(F16871,Konditionen!$B:$G,6,0))","v":706.8}]
["Lindab Comfort Luftauslässe","WLA","WLA22VN7001400","WSG Alu        WLA22-V-N-700x1400mm","Wetterschutzgitter, mit Vogelschutz",70,665.05,{"$f":"G16881*(1-VLOOKUP(F16881,Konditionen!$B:$G,6,0))","v":665.05}]
["Lindab Comfort Luftauslässe","WLA","WLA22VN4001800","WSG Alu        WLA22-V-N-400x1800mm","Wetterschutzgitter, mit Vogelschutz",70,573.4,{"$f":"G16902*(1-VLOOKUP(F16902,Konditionen!$B:$G,6,0))","v":573.4}]
["Lindab Comfort Luftauslässe","WLA","WLA22VN6002000","WSG Alu        WLA22-V-N-600x2000mm","Wetterschutzgitter, mit Vogelschutz",70,831.1,{"$f":"G16916*(1-VLOOKUP(F16916,Konditionen!$B:$G,6,0))","v":831.1}]
["Lindab Comfort Luftauslässe","WLA","WLA22VN16002000","WSG Alu       WLA22-V-N-1600x2000mm","Wetterschutzgitter, mit Vogelschutz",70,1924,{"$f":"G16923*(1-VLOOKUP(F16923,Konditionen!$B:$G,6,0))","v":1924}]
["Lindab Comfort Luftauslässe","AT","AT21V3001009010","Türeinbaugitter    AT21-V-300x100mm","sicht. Schraubbefestigung, RAL9010",70,68.599999999999994,{"$f":"G16939*(1-VLOOKUP(F16939,Konditionen!$B:$G,6,0))","v":68.599999999999994}]
["Lindab Comfort Luftauslässe","AT","AT21V3003009010","Türeinbaugitter    AT21-V-300x300mm","sicht. Schraubbefestigung, RAL9010",70,108.35,{"$f":"G16945*(1-VLOOKUP(F16945,Konditionen!$B:$G,6,0))","v":108.35}]
["Lindab Comfort Luftauslässe","AT","AT21V4003009003","Türeinbaugitter    AT21-V-400x300mm","sicht. Schraubbefestigung, RAL9003",70,120.1,{"$f":"G16958*(1-VLOOKUP(F16958,Konditionen!$B:$G,6,0))","v":120.1}]
["Lindab Comfort Luftauslässe","AT","AT21V600300ELOX","Türeinbaugitter    AT21-V-600x300mm","sicht. Schraubbef., natureloxiert",70,143.80000000000001,{"$f":"G16980*(1-VLOOKUP(F16980,Konditionen!$B:$G,6,0))","v":143.80000000000001}]
["Lindab Comfort Luftauslässe","SD","SD11V225125VZ","Gitter Stahl       SD11-V-225x125mm","Rahmen mit Warzenlöchern, verzinkt",70,31.4,{"$f":"G16987*(1-VLOOKUP(F16987,Konditionen!$B:$G,6,0))","v":31.4}]
["Lindab Comfort Luftauslässe","SD","SD11V825225VZ","Gitter Stahl       SD11-V-825x225mm","Rahmen mit Warzenlöchern, verzinkt",70,83.25,{"$f":"G17003*(1-VLOOKUP(F17003,Konditionen!$B:$G,6,0))","v":83.25}]
["Lindab Comfort Luftauslässe","SD","SD11V1025225VZ","Gitter Stahl      SD11-V-1025x225mm","Rahmen mit Warzenlöchern, verzinkt",70,93.85,{"$f":"G17009*(1-VLOOKUP(F17009,Konditionen!$B:$G,6,0))","v":93.85}]
["Lindab Comfort Luftauslässe","SD","SD12V122575VZ","Gitter Stahl       SD12-V-1225x75mm","Rahmen mit Warzenlöchern, verzinkt",70,99.6,{"$f":"G17026*(1-VLOOKUP(F17026,Konditionen!$B:$G,6,0))","v":99.6}]
["Lindab Comfort Luftauslässe","SD","SD12V425325VZ","Gitter Stahl       SD12-V-425x325mm","Rahmen mit Warzenlöchern, verzinkt",70,64.5,{"$f":"G17044*(1-VLOOKUP(F17044,Konditionen!$B:$G,6,0))","v":64.5}]
["Lindab Comfort Luftauslässe","SD","SD12V525425VZ","Gitter Stahl       SD12-V-525x425mm","Rahmen mit Warzenlöchern, verzinkt",70,81.599999999999994,{"$f":"G17051*(1-VLOOKUP(F17051,Konditionen!$B:$G,6,0))","v":81.599999999999994}]
["Lindab Comfort Luftauslässe","SD","SD12V1025525VZ","Gitter Stahl      SD12-V-1025x525mm","Rahmen mit Warzenlöchern, verzinkt",70,155.94999999999999,{"$f":"G17059*(1-VLOOKUP(F17059,Konditionen!$B:$G,6,0))","v":155.94999999999999}]
["Lindab Comfort Luftauslässe","SD","SD21V625125VZ","Gitter Stahl       SD21-V-625x125mm","Rahmen mit Warzenlöchern, verzinkt",70,81.599999999999994,{"$f":"G17073*(1-VLOOKUP(F17073,Konditionen!$B:$G,6,0))","v":81.599999999999994}]
["Lindab Comfort Luftauslässe","SD","SD21V625425VZ","Gitter Stahl       SD21-V-625x425mm","Rahmen mit Warzenlöchern, verzinkt",70,142.15,{"$f":"G17094*(1-VLOOKUP(F17094,Konditionen!$B:$G,6,0))","v":142.15}]
["Lindab Comfort Luftauslässe","SD","SD21V625525VZ","Gitter Stahl       SD21-V-625x525mm","Rahmen mit Warzenlöchern, verzinkt",70,161.75,{"$f":"G17099*(1-VLOOKUP(F17099,Konditionen!$B:$G,6,0))","v":161.75}]
["Lindab Comfort Luftauslässe","SD","SD22V1025125VZ","Gitter Stahl      SD22-V-1025x125mm","Rahmen mit Warzenlöchern, verzinkt",70,123,{"$f":"G17117*(1-VLOOKUP(F17117,Konditionen!$B:$G,6,0))","v":123}]
["Lindab Comfort Luftauslässe","SD","SD22V425225VZ","Gitter Stahl       SD22-V-425x225mm","Rahmen mit Warzenlöchern, verzinkt",70,78.05,{"$f":"G17121*(1-VLOOKUP(F17121,Konditionen!$B:$G,6,0))","v":78.05}]
["Lindab Comfort Luftauslässe","SD","SD22V825425VZ","Gitter Stahl       SD22-V-825x425mm","Rahmen mit Warzenlöchern, verzinkt",70,189.75,{"$f":"G17137*(1-VLOOKUP(F17137,Konditionen!$B:$G,6,0))","v":189.75}]
["Lindab Comfort Luftauslässe","MFS","MFS82575","Einbaurahmen Stahl     MFS-825x75mm","zum Zusammenstecken",70,24.8,{"$f":"G17150*(1-VLOOKUP(F17150,Konditionen!$B:$G,6,0))","v":24.8}]
["Lindab Comfort Luftauslässe","MFS","MFS425225","Einbaurahmen Stahl    MFS-425x225mm","zum Zusammenstecken",70,18,{"$f":"G17163*(1-VLOOKUP(F17163,Konditionen!$B:$G,6,0))","v":18}]
["Lindab Comfort Luftauslässe","MFS","MFS825325","Einbaurahmen Stahl    MFS-825x325mm","zum Zusammenstecken",70,27.1,{"$f":"G17173*(1-VLOOKUP(F17173,Konditionen!$B:$G,6,0))","v":27.1}]
["Lindab Comfort Luftauslässe","MFS","MFS1025525","Einbaurahmen Stahl   MFS-1025x525mm","zum Zusammenstecken",70,40.9,{"$f":"G17185*(1-VLOOKUP(F17185,Konditionen!$B:$G,6,0))","v":40.9}]
["Lindab Comfort Luftauslässe","DGS","DGS1025125","Mengeneinstellsatz   DGS-1025x125mm","als gegenläufige Mengenregulierung",70,78.3,{"$f":"G17201*(1-VLOOKUP(F17201,Konditionen!$B:$G,6,0))","v":78.3}]
["Lindab Comfort Luftauslässe","DGS","DGS425425","Mengeneinstellsatz    DGS-425x425mm","als gegenläufige Mengenregulierung",70,67.849999999999994,{"$f":"G17218*(1-VLOOKUP(F17218,Konditionen!$B:$G,6,0))","v":67.849999999999994}]
["Lindab Comfort Luftauslässe","DGS","DGS1025525","Mengeneinstellsatz   DGS-1025x525mm","als gegenläufige Mengenregulierung",70,152.1,{"$f":"G17227*(1-VLOOKUP(F17227,Konditionen!$B:$G,6,0))","v":152.1}]
["Lindab Comfort Luftauslässe","SD","SD11V6253259010","Gitter Stahl       SD11-V-625x325mm","Rahmen mit Warzenlöchern, RAL9010",70,77.349999999999994,{"$f":"G17241*(1-VLOOKUP(F17241,Konditionen!$B:$G,6,0))","v":77.349999999999994}]
["Lindab Comfort Luftauslässe","SD","SD11V8255259010","Gitter Stahl       SD11-V-825x525mm","Rahmen mit Warzenlöchern, RAL9010",70,137.69999999999999,{"$f":"G17249*(1-VLOOKUP(F17249,Konditionen!$B:$G,6,0))","v":137.69999999999999}]
["Lindab Comfort Luftauslässe","SD","SD12V1225759010","Gitter Stahl       SD12-V-1225x75mm","Rahmen mit Warzenlöchern, RAL9010",70,99.6,{"$f":"G17269*(1-VLOOKUP(F17269,Konditionen!$B:$G,6,0))","v":99.6}]
["Lindab Comfort Luftauslässe","SD","SD12V6251259010","Gitter Stahl       SD12-V-625x125mm","Rahmen mit Warzenlöchern, RAL9010",70,68.599999999999994,{"$f":"G17274*(1-VLOOKUP(F17274,Konditionen!$B:$G,6,0))","v":68.599999999999994}]
["Lindab Comfort Luftauslässe","SD","SD12V10253259010","Gitter Stahl      SD12-V-1025x325mm","Rahmen mit Warzenlöchern, RAL9010",70,129.44999999999999,{"$f":"G17291*(1-VLOOKUP(F17291,Konditionen!$B:$G,6,0))","v":129.44999999999999}]
["Lindab Comfort Luftauslässe","SD","SD12V10254259010","Gitter Stahl      SD12-V-1025x425mm","Rahmen mit Warzenlöchern, RAL9010",70,142.6,{"$f":"G17297*(1-VLOOKUP(F17297,Konditionen!$B:$G,6,0))","v":142.6}]
["Lindab Comfort Luftauslässe","SD","SD21V3251259010","Gitter Stahl       SD21-V-325x125mm","Rahmen mit Warzenlöchern, RAL9010",70,53,{"$f":"G17313*(1-VLOOKUP(F17313,Konditionen!$B:$G,6,0))","v":53}]
["Lindab Comfort Luftauslässe","SD","SD21V10253259010","Gitter Stahl      SD21-V-1025x325mm","Rahmen mit Warzenlöchern, RAL9010",70,191.65,{"$f":"G17333*(1-VLOOKUP(F17333,Konditionen!$B:$G,6,0))","v":191.65}]
["Lindab Comfort Luftauslässe","SD","SD21V6255259010","Gitter Stahl       SD21-V-625x525mm","Rahmen mit Warzenlöchern, RAL9010",70,161.75,{"$f":"G17342*(1-VLOOKUP(F17342,Konditionen!$B:$G,6,0))","v":161.75}]
["Lindab Comfort Luftauslässe","SD","SD22V3251259010","Gitter Stahl       SD22-V-325x125mm","Rahmen mit Warzenlöchern, RAL9010",70,53,{"$f":"G17355*(1-VLOOKUP(F17355,Konditionen!$B:$G,6,0))","v":53}]
["Lindab Comfort Luftauslässe","SD","SD22V12251259010","Gitter Stahl      SD22-V-1225x125mm","Rahmen mit Warzenlöchern, RAL9010",70,140.94999999999999,{"$f":"G17361*(1-VLOOKUP(F17361,Konditionen!$B:$G,6,0))","v":140.94999999999999}]
["Lindab Comfort Luftauslässe","SD","SD22V4254259010","Gitter Stahl       SD22-V-425x425mm","Rahmen mit Warzenlöchern, RAL9010",70,106.05,{"$f":"G17377*(1-VLOOKUP(F17377,Konditionen!$B:$G,6,0))","v":106.05}]
["Lindab Comfort Luftauslässe","SD","SD11V5255259003","Gitter Stahl       SD11-V-525x525mm","Rahmen mit Warzenlöchern, RAL9003",70,87.5,{"$f":"G17396*(1-VLOOKUP(F17396,Konditionen!$B:$G,6,0))","v":87.5}]
["Lindab Comfort Luftauslässe","SD","SD11V6252259003","Gitter Stahl       SD11-V-625x225mm","Rahmen mit Warzenlöchern, RAL9003",70,64.5,{"$f":"G17399*(1-VLOOKUP(F17399,Konditionen!$B:$G,6,0))","v":64.5}]
["Lindab Comfort Luftauslässe","SD","SD11V12254259003","Gitter Stahl      SD11-V-1225x425mm","Rahmen mit Warzenlöchern, RAL9003",70,161.75,{"$f":"G17419*(1-VLOOKUP(F17419,Konditionen!$B:$G,6,0))","v":161.75}]
["Lindab Comfort Luftauslässe","SD","SD12V2251259003","Gitter Stahl       SD12-V-225x125mm","Rahmen mit Warzenlöchern, RAL9003",70,35.950000000000003,{"$f":"G17429*(1-VLOOKUP(F17429,Konditionen!$B:$G,6,0))","v":35.950000000000003}]
["Lindab Comfort Luftauslässe","SD","SD12V6252259003","Gitter Stahl       SD12-V-625x225mm","Rahmen mit Warzenlöchern, RAL9003",70,80.400000000000006,{"$f":"G17441*(1-VLOOKUP(F17441,Konditionen!$B:$G,6,0))","v":80.400000000000006}]
["Lindab Comfort Luftauslässe","SD","SD12V4254259003","Gitter Stahl       SD12-V-425x425mm","Rahmen mit Warzenlöchern, RAL9003",70,70.45,{"$f":"G17452*(1-VLOOKUP(F17452,Konditionen!$B:$G,6,0))","v":70.45}]
["Lindab Comfort Luftauslässe","SD","SD21V225759003","Gitter Stahl        SD21-V-225x75mm","Rahmen mit Warzenlöchern, RAL9003",70,42.3,{"$f":"G17463*(1-VLOOKUP(F17463,Konditionen!$B:$G,6,0))","v":42.3}]
["Lindab Comfort Luftauslässe","SD","SD21V6252259003","Gitter Stahl       SD21-V-625x225mm","Rahmen mit Warzenlöchern, RAL9003",70,103.85,{"$f":"G17483*(1-VLOOKUP(F17483,Konditionen!$B:$G,6,0))","v":103.85}]
["Lindab Comfort Luftauslässe","SD","SD21V8254259003","Gitter Stahl       SD21-V-825x425mm","Rahmen mit Warzenlöchern, RAL9003",70,191.25,{"$f":"G17497*(1-VLOOKUP(F17497,Konditionen!$B:$G,6,0))","v":191.25}]
["Lindab Comfort Luftauslässe","SD","SD22V225759003","Gitter Stahl        SD22-V-225x75mm","Rahmen mit Warzenlöchern, RAL9003",70,40.9,{"$f":"G17505*(1-VLOOKUP(F17505,Konditionen!$B:$G,6,0))","v":40.9}]
["Lindab Comfort Luftauslässe","SD","SD22V12251259003","Gitter Stahl      SD22-V-1225x125mm","Rahmen mit Warzenlöchern, RAL9003",70,140.94999999999999,{"$f":"G17520*(1-VLOOKUP(F17520,Konditionen!$B:$G,6,0))","v":140.94999999999999}]
["Lindab Comfort Luftauslässe","SD","SD22V5253259003","Gitter Stahl       SD22-V-525x325mm","Rahmen mit Warzenlöchern, RAL9003",70,105.8,{"$f":"G17531*(1-VLOOKUP(F17531,Konditionen!$B:$G,6,0))","v":105.8}]
["Lindab Comfort Luftauslässe","SD","SD11C22575VZ","Gitter Stahl        SD11-C-225x75mm","Rahmen mit Klemmfedern, verzinkt",70,27.7,{"$f":"G17547*(1-VLOOKUP(F17547,Konditionen!$B:$G,6,0))","v":27.7}]
["Lindab Comfort Luftauslässe","SD","SD11C525325VZ","Gitter Stahl       SD11-C-525x325mm","Rahmen mit Klemmfedern, verzinkt",70,65.8,{"$f":"G17553*(1-VLOOKUP(F17553,Konditionen!$B:$G,6,0))","v":65.8}]
["Lindab Comfort Luftauslässe","SD","SD11C1025125VZ","Gitter Stahl      SD11-C-1025x125mm","Rahmen mit Klemmfedern, verzinkt",70,69.25,{"$f":"G17569*(1-VLOOKUP(F17569,Konditionen!$B:$G,6,0))","v":69.25}]
["Lindab Comfort Luftauslässe","SD","SD11C1225225VZ","Gitter Stahl      SD11-C-1225x225mm","Rahmen mit Klemmfedern, verzinkt",70,107.6,{"$f":"G17576*(1-VLOOKUP(F17576,Konditionen!$B:$G,6,0))","v":107.6}]
["Lindab Comfort Luftauslässe","SD","SD12C1225125VZ","Gitter Stahl      SD12-C-1225x125mm","Rahmen mit Klemmfedern, verzinkt",70,112.1,{"$f":"G17595*(1-VLOOKUP(F17595,Konditionen!$B:$G,6,0))","v":112.1}]
["Lindab Comfort Luftauslässe","SD","SD12C525225VZ","Gitter Stahl       SD12-C-525x225mm","Rahmen mit Klemmfedern, verzinkt",70,67.349999999999994,{"$f":"G17599*(1-VLOOKUP(F17599,Konditionen!$B:$G,6,0))","v":67.349999999999994}]
["Lindab Comfort Luftauslässe","SD","SD12C525525VZ","Gitter Stahl       SD12-C-525x525mm","Rahmen mit Klemmfedern, verzinkt",70,88.7,{"$f":"G17617*(1-VLOOKUP(F17617,Konditionen!$B:$G,6,0))","v":88.7}]
["Lindab Comfort Luftauslässe","SD","SD21C525125VZ","Gitter Stahl       SD21-C-525x125mm","Rahmen mit Klemmfedern, verzinkt",70,69.25,{"$f":"G17633*(1-VLOOKUP(F17633,Konditionen!$B:$G,6,0))","v":69.25}]
["Lindab Comfort Luftauslässe","SD","SD21C1025225VZ","Gitter Stahl      SD21-C-1025x225mm","Rahmen mit Klemmfedern, verzinkt",70,157.80000000000001,{"$f":"G17644*(1-VLOOKUP(F17644,Konditionen!$B:$G,6,0))","v":157.80000000000001}]
["Lindab Comfort Luftauslässe","SD","SD21C525525VZ","Gitter Stahl       SD21-C-525x525mm","Rahmen mit Klemmfedern, verzinkt",70,138.9,{"$f":"G17659*(1-VLOOKUP(F17659,Konditionen!$B:$G,6,0))","v":138.9}]
["Lindab Comfort Luftauslässe","SD","SD22C52575VZ","Gitter Stahl        SD22-C-525x75mm","Rahmen mit Klemmfedern, verzinkt",70,62.8,{"$f":"G17667*(1-VLOOKUP(F17667,Konditionen!$B:$G,6,0))","v":62.8}]
["Lindab Comfort Luftauslässe","SD","SD22C325225VZ","Gitter Stahl       SD22-C-325x225mm","Rahmen mit Klemmfedern, verzinkt",70,67.599999999999994,{"$f":"G17681*(1-VLOOKUP(F17681,Konditionen!$B:$G,6,0))","v":67.599999999999994}]
["Lindab Comfort Luftauslässe","SD","SD22C325325VZ","Gitter Stahl       SD22-C-325x325mm","Rahmen mit Klemmfedern, verzinkt",70,78.900000000000006,{"$f":"G17688*(1-VLOOKUP(F17688,Konditionen!$B:$G,6,0))","v":78.900000000000006}]
["Lindab Comfort Luftauslässe","SD","SD22C1225425VZ","Gitter Stahl      SD22-C-1225x425mm","Rahmen mit Klemmfedern, verzinkt",70,260.7,{"$f":"G17700*(1-VLOOKUP(F17700,Konditionen!$B:$G,6,0))","v":260.7}]
["Lindab Comfort Luftauslässe","SD","SD11C8252259010","Gitter Stahl       SD11-C-825x225mm","Rahmen mit Klemmfedern, RAL9010",70,83.25,{"$f":"G17723*(1-VLOOKUP(F17723,Konditionen!$B:$G,6,0))","v":83.25}]
["Lindab Comfort Luftauslässe","SD","SD11C12252259010","Gitter Stahl      SD11-C-1225x225mm","Rahmen mit Klemmfedern, RAL9010",70,107.6,{"$f":"G17735*(1-VLOOKUP(F17735,Konditionen!$B:$G,6,0))","v":107.6}]
["Lindab Comfort Luftauslässe","SD","SD12C1025759010","Gitter Stahl       SD12-C-1025x75mm","Rahmen mit Klemmfedern, RAL9010",70,87.75,{"$f":"G17745*(1-VLOOKUP(F17745,Konditionen!$B:$G,6,0))","v":87.75}]
["Lindab Comfort Luftauslässe","SD","SD12C8251259010","Gitter Stahl       SD12-C-825x125mm","Rahmen mit Klemmfedern, RAL9010",70,82.8,{"$f":"G17752*(1-VLOOKUP(F17752,Konditionen!$B:$G,6,0))","v":82.8}]
["Lindab Comfort Luftauslässe","SD","SD12C10253259010","Gitter Stahl      SD12-C-1025x325mm","Rahmen mit Klemmfedern, RAL9010",70,129.44999999999999,{"$f":"G17768*(1-VLOOKUP(F17768,Konditionen!$B:$G,6,0))","v":129.44999999999999}]
["Lindab Comfort Luftauslässe","SD","SD21C1025759010","Gitter Stahl       SD21-C-1025x75mm","Rahmen mit Klemmfedern, RAL9010",70,115.15,{"$f":"G17787*(1-VLOOKUP(F17787,Konditionen!$B:$G,6,0))","v":115.15}]
["Lindab Comfort Luftauslässe","SD","SD21C4252259010","Gitter Stahl       SD21-C-425x225mm","Rahmen mit Klemmfedern, RAL9010",70,78.05,{"$f":"G17799*(1-VLOOKUP(F17799,Konditionen!$B:$G,6,0))","v":78.05}]
["Lindab Comfort Luftauslässe","SD","SD21C8253259010","Gitter Stahl       SD21-C-825x325mm","Rahmen mit Klemmfedern, RAL9010",70,163.9,{"$f":"G17809*(1-VLOOKUP(F17809,Konditionen!$B:$G,6,0))","v":163.9}]
["Lindab Comfort Luftauslässe","SD","SD21C10254259010","Gitter Stahl      SD21-C-1025x425mm","Rahmen mit Klemmfedern, RAL9010",70,223.85,{"$f":"G17816*(1-VLOOKUP(F17816,Konditionen!$B:$G,6,0))","v":223.85}]
["Lindab Comfort Luftauslässe","SD","SD22C8251259010","Gitter Stahl       SD22-C-825x125mm","Rahmen mit Klemmfedern, RAL9010",70,105.8,{"$f":"G17836*(1-VLOOKUP(F17836,Konditionen!$B:$G,6,0))","v":105.8}]
["Lindab Comfort Luftauslässe","SD","SD22C12251259010","Gitter Stahl      SD22-C-1225x125mm","Rahmen mit Klemmfedern, RAL9010",70,140.94999999999999,{"$f":"G17838*(1-VLOOKUP(F17838,Konditionen!$B:$G,6,0))","v":140.94999999999999}]
["Lindab Comfort Luftauslässe","SD","SD22C5254259010","Gitter Stahl       SD22-C-525x425mm","Rahmen mit Klemmfedern, RAL9010",70,122.1,{"$f":"G17855*(1-VLOOKUP(F17855,Konditionen!$B:$G,6,0))","v":122.1}]
["Lindab Comfort Luftauslässe","SD","SD11C5255259003","Gitter Stahl       SD11-C-525x525mm","Rahmen mit Klemmfedern, RAL9003",70,87.5,{"$f":"G17873*(1-VLOOKUP(F17873,Konditionen!$B:$G,6,0))","v":87.5}]
["Lindab Comfort Luftauslässe","SD","SD11C6254259003","Gitter Stahl       SD11-C-625x425mm","Rahmen mit Klemmfedern, RAL9003",70,89.65,{"$f":"G17878*(1-VLOOKUP(F17878,Konditionen!$B:$G,6,0))","v":89.65}]
["Lindab Comfort Luftauslässe","SD","SD11C12253259003","Gitter Stahl      SD11-C-1225x325mm","Rahmen mit Klemmfedern, RAL9003",70,135.85,{"$f":"G17895*(1-VLOOKUP(F17895,Konditionen!$B:$G,6,0))","v":135.85}]
["Lindab Comfort Luftauslässe","SD","SD12C625759003","Gitter Stahl        SD12-C-625x75mm","Rahmen mit Klemmfedern, RAL9003",70,62.2,{"$f":"G17902*(1-VLOOKUP(F17902,Konditionen!$B:$G,6,0))","v":62.2}]
["Lindab Comfort Luftauslässe","SD","SD12C4253259003","Gitter Stahl       SD12-C-425x325mm","Rahmen mit Klemmfedern, RAL9003",70,64.5,{"$f":"G17923*(1-VLOOKUP(F17923,Konditionen!$B:$G,6,0))","v":64.5}]
["Lindab Comfort Luftauslässe","SD","SD12C8255259003","Gitter Stahl       SD12-C-825x525mm","Rahmen mit Klemmfedern, RAL9003",70,130.05000000000001,{"$f":"G17937*(1-VLOOKUP(F17937,Konditionen!$B:$G,6,0))","v":130.05000000000001}]
["Lindab Comfort Luftauslässe","SD","SD21C1025759003","Gitter Stahl       SD21-C-1025x75mm","Rahmen mit Klemmfedern, RAL9003",70,115.15,{"$f":"G17946*(1-VLOOKUP(F17946,Konditionen!$B:$G,6,0))","v":115.15}]
["Lindab Comfort Luftauslässe","SD","SD21C12252259003","Gitter Stahl      SD21-C-1225x225mm","Rahmen mit Klemmfedern, RAL9003",70,184.05,{"$f":"G17963*(1-VLOOKUP(F17963,Konditionen!$B:$G,6,0))","v":184.05}]
["Lindab Comfort Luftauslässe","SD","SD21C5253259003","Gitter Stahl       SD21-C-525x325mm","Rahmen mit Klemmfedern, RAL9003",70,105.8,{"$f":"G17966*(1-VLOOKUP(F17966,Konditionen!$B:$G,6,0))","v":105.8}]
["Lindab Comfort Luftauslässe","SD","SD21C8255259003","Gitter Stahl       SD21-C-825x525mm","Rahmen mit Klemmfedern, RAL9003",70,219.55,{"$f":"G17979*(1-VLOOKUP(F17979,Konditionen!$B:$G,6,0))","v":219.55}]
["Lindab Comfort Luftauslässe","SD","SD22C5252259003","Gitter Stahl       SD22-C-525x225mm","Rahmen mit Klemmfedern, RAL9003",70,88.7,{"$f":"G18001*(1-VLOOKUP(F18001,Konditionen!$B:$G,6,0))","v":88.7}]
["Lindab Comfort Luftauslässe","SD","SD22C6252259003","Gitter Stahl       SD22-C-625x225mm","Rahmen mit Klemmfedern, RAL9003",70,103.85,{"$f":"G18002*(1-VLOOKUP(F18002,Konditionen!$B:$G,6,0))","v":103.85}]
["Lindab Comfort Luftauslässe","SD","SD22C5254259003","Gitter Stahl       SD22-C-525x425mm","Rahmen mit Klemmfedern, RAL9003",70,122.1,{"$f":"G18014*(1-VLOOKUP(F18014,Konditionen!$B:$G,6,0))","v":122.1}]
["Lindab Comfort Luftauslässe","SD","SD11C3252259010","Gitter Stahl       SD11-C-325x225mm","Rahmen mit Klemmfedern, RAL9010",70,46.05,{"$f":"G18030*(1-VLOOKUP(F18030,Konditionen!$B:$G,6,0))","v":46.05}]
["Lindab Comfort Luftauslässe","SD","SD11V3253259003","Gitter Stahl       SD11-V-325x325mm","Rahmen mit Warzenlöchern, RAL9003",70,54.35,{"$f":"G18047*(1-VLOOKUP(F18047,Konditionen!$B:$G,6,0))","v":54.35}]
["Lindab Comfort Luftauslässe","SD","SD11C425425VZ","Gitter Stahl       SD11-C-425x425mm","Rahmen mit Klemmfedern, verzinkt",70,69.5,{"$f":"G18052*(1-VLOOKUP(F18052,Konditionen!$B:$G,6,0))","v":69.5}]
["Lindab Comfort Luftauslässe","SD","SD11V4252259010","Gitter Stahl       SD11-V-425x225mm","Rahmen mit Warzenlöchern, RAL9010",70,50.05,{"$f":"G18070*(1-VLOOKUP(F18070,Konditionen!$B:$G,6,0))","v":50.05}]
["Lindab Comfort Luftauslässe","SSD11V","SSD11V22575V2A","Gitter Edelstahl   SSD11-V-225x75mm","sicht. Schraubbefestigung, V2A",70,84.15,{"$f":"G18078*(1-VLOOKUP(F18078,Konditionen!$B:$G,6,0))","v":84.15}]
["Lindab Comfort Luftauslässe","SSD11V","SSD11V1225125V2A","Gitter Edelstahl SSD11-V-1225x125mm","sicht. Schraubbefestigung, V2A",70,243.4,{"$f":"G18093*(1-VLOOKUP(F18093,Konditionen!$B:$G,6,0))","v":243.4}]
["Lindab Comfort Luftauslässe","SSD11V","SSD11V1025425V2A","Gitter Edelstahl SSD11-V-1025x425mm","sicht. Schraubbefestigung, V2A",70,486.6,{"$f":"G18113*(1-VLOOKUP(F18113,Konditionen!$B:$G,6,0))","v":486.6}]
["Lindab Comfort Luftauslässe","SSD12V","SSD12V22575V2A","Gitter Edelstahl   SSD12-V-225x75mm","sicht. Schraubbefestigung, V2A",70,97.7,{"$f":"G18120*(1-VLOOKUP(F18120,Konditionen!$B:$G,6,0))","v":97.7}]
["Lindab Comfort Luftauslässe","SSD12V","SSD12V925125V2A","Gitter Edelstahl  SSD12-V-925x125mm","sicht. Schraubbefestigung, V2A",70,262.60000000000002,{"$f":"G18138*(1-VLOOKUP(F18138,Konditionen!$B:$G,6,0))","v":262.60000000000002}]
["Lindab Comfort Luftauslässe","SSD12V","SSD12V225225V2A","Gitter Edelstahl  SSD12-V-225x225mm","sicht. Schraubbefestigung, V2A",70,124.65,{"$f":"G18142*(1-VLOOKUP(F18142,Konditionen!$B:$G,6,0))","v":124.65}]
["Lindab Comfort Luftauslässe","SSD12V","SSD12V1125325V2A","Gitter Edelstahl SSD12-V-1125x325mm","sicht. Schraubbefestigung, V2A",70,465.95,{"$f":"G18161*(1-VLOOKUP(F18161,Konditionen!$B:$G,6,0))","v":465.95}]
["Lindab Comfort Luftauslässe","SSD12V","SSD12V1025525V2A","Gitter Edelstahl SSD12-V-1025x525mm","sicht. Schraubbefestigung, V2A",70,583.15,{"$f":"G18177*(1-VLOOKUP(F18177,Konditionen!$B:$G,6,0))","v":583.15}]
["Lindab Comfort Luftauslässe","SSD22V","SSD22V62575V2A","Gitter Edelstahl   SSD22-V-625x75mm","sicht. Schraubbefestigung, V2A",70,196.8,{"$f":"G18184*(1-VLOOKUP(F18184,Konditionen!$B:$G,6,0))","v":196.8}]
["Lindab Comfort Luftauslässe","SSD22V","SSD22V525125V2A","Gitter Edelstahl  SSD22-V-525x125mm","sicht. Schraubbefestigung, V2A",70,216.55,{"$f":"G18194*(1-VLOOKUP(F18194,Konditionen!$B:$G,6,0))","v":216.55}]
["Lindab Comfort Luftauslässe","SSD22V","SSD22V625225V2A","Gitter Edelstahl  SSD22-V-625x225mm","sicht. Schraubbefestigung, V2A",70,335.95,{"$f":"G18206*(1-VLOOKUP(F18206,Konditionen!$B:$G,6,0))","v":335.95}]
["Lindab Comfort Luftauslässe","SSD22V","SSD22V625425V2A","Gitter Edelstahl  SSD22-V-625x425mm","sicht. Schraubbefestigung, V2A",70,517.04999999999995,{"$f":"G18225*(1-VLOOKUP(F18225,Konditionen!$B:$G,6,0))","v":517.04999999999995}]
["Lindab Comfort Luftauslässe","SSD22V","SSD22V925425V2A","Gitter Edelstahl  SSD22-V-925x425mm","sicht. Schraubbefestigung, V2A",70,751.85,{"$f":"G18228*(1-VLOOKUP(F18228,Konditionen!$B:$G,6,0))","v":751.85}]
["Lindab Comfort Luftauslässe","WLS","WLS22VN1000200","WSG Stahl      WLS22-V-N-1000x200mm","Wetterschutzgitter, mit Vogelschutz",70,171.75,{"$f":"G18248*(1-VLOOKUP(F18248,Konditionen!$B:$G,6,0))","v":171.75}]
["Lindab Comfort Luftauslässe","WLS","WLS22VN1000300","WSG Stahl      WLS22-V-N-1000x300mm","Wetterschutzgitter, mit Vogelschutz",70,193.95,{"$f":"G18262*(1-VLOOKUP(F18262,Konditionen!$B:$G,6,0))","v":193.95}]
["Lindab Comfort Luftauslässe","WLS","WLS22VN400400","WSG Stahl       WLS22-V-N-400x400mm","Wetterschutzgitter, mit Vogelschutz",70,153.85,{"$f":"G18270*(1-VLOOKUP(F18270,Konditionen!$B:$G,6,0))","v":153.85}]
["Lindab Comfort Luftauslässe","WLS","WLS22VN2000400","WSG Stahl      WLS22-V-N-2000x400mm","Wetterschutzgitter, mit Vogelschutz",70,321.3,{"$f":"G18281*(1-VLOOKUP(F18281,Konditionen!$B:$G,6,0))","v":321.3}]
["Lindab Comfort Luftauslässe","WLS","WLS22VN1400500","WSG Stahl      WLS22-V-N-1400x500mm","Wetterschutzgitter, mit Vogelschutz",70,303.10000000000002,{"$f":"G18292*(1-VLOOKUP(F18292,Konditionen!$B:$G,6,0))","v":303.10000000000002}]
["Lindab Comfort Luftauslässe","WLS","WLS22VN1000600","WSG Stahl      WLS22-V-N-1000x600mm","Wetterschutzgitter, mit Vogelschutz",70,272.3,{"$f":"G18304*(1-VLOOKUP(F18304,Konditionen!$B:$G,6,0))","v":272.3}]
["Lindab Comfort Luftauslässe","WLS","WLS22VN500800","WSG Stahl       WLS22-V-N-500x800mm","Wetterschutzgitter, mit Vogelschutz",70,235.7,{"$f":"G18327*(1-VLOOKUP(F18327,Konditionen!$B:$G,6,0))","v":235.7}]
["Lindab Comfort Luftauslässe","WLS","WLS22VN1400800","WSG Stahl      WLS22-V-N-1400x800mm","Wetterschutzgitter, mit Vogelschutz",70,405.35,{"$f":"G18334*(1-VLOOKUP(F18334,Konditionen!$B:$G,6,0))","v":405.35}]
["Lindab Comfort Luftauslässe","WLS","WLS22VN1600900","WSG Stahl      WLS22-V-N-1600x900mm","Wetterschutzgitter, mit Vogelschutz",70,474.15,{"$f":"G18349*(1-VLOOKUP(F18349,Konditionen!$B:$G,6,0))","v":474.15}]
["Lindab Comfort Luftauslässe","WLS","WLS22VN6001000","WSG Stahl      WLS22-V-N-600x1000mm","Wetterschutzgitter, mit Vogelschutz",70,283.05,{"$f":"G18356*(1-VLOOKUP(F18356,Konditionen!$B:$G,6,0))","v":283.05}]
["Lindab Comfort Luftauslässe","WLS","WLS22VN8001200","WSG Stahl      WLS22-V-N-800x1200mm","Wetterschutzgitter, mit Vogelschutz",70,363.9,{"$f":"G18372*(1-VLOOKUP(F18372,Konditionen!$B:$G,6,0))","v":363.9}]
["Lindab Comfort Luftauslässe","WLS","WLS22VN4001400","WSG Stahl      WLS22-V-N-400x1400mm","Wetterschutzgitter, mit Vogelschutz",70,315.2,{"$f":"G18382*(1-VLOOKUP(F18382,Konditionen!$B:$G,6,0))","v":315.2}]
["Lindab Comfort Luftauslässe","WLS","WLS22VN6001600","WSG Stahl      WLS22-V-N-600x1600mm","Wetterschutzgitter, mit Vogelschutz",70,395.25,{"$f":"G18398*(1-VLOOKUP(F18398,Konditionen!$B:$G,6,0))","v":395.25}]
["Lindab Comfort Luftauslässe","WLS","WLS22VN16001600","WSG Stahl     WLS22-V-N-1600x1600mm","Wetterschutzgitter, mit Vogelschutz",70,870.65,{"$f":"G18405*(1-VLOOKUP(F18405,Konditionen!$B:$G,6,0))","v":870.65}]
["Lindab Comfort Luftauslässe","WLS","WLS22VN18001800","WSG Stahl     WLS22-V-N-1800x1800mm","Wetterschutzgitter, mit Vogelschutz",70,1029,{"$f":"G18420*(1-VLOOKUP(F18420,Konditionen!$B:$G,6,0))","v":1029}]
["Entrauchung","SDRS","SDRS180280230","Entrauchungsklappe SDR-S","B=180 H=280 mit Belimo BEN-230",80,505.4,{"$f":"G18440*(1-VLOOKUP(F18440,Konditionen!$B:$G,6,0))","v":505.4}]
["Entrauchung","SDRS","SDRS180500230","Entrauchungsklappe SDR-S","B=180 H=500 mit Belimo BEN-230",80,572.25,{"$f":"G18446*(1-VLOOKUP(F18446,Konditionen!$B:$G,6,0))","v":572.25}]
["Entrauchung","SDRS","SDRS200280230","Entrauchungsklappe SDR-S","B=200 H=280 mit Belimo BEN-230",80,509.55,{"$f":"G18462*(1-VLOOKUP(F18462,Konditionen!$B:$G,6,0))","v":509.55}]
["Entrauchung","SDRS","SDRS200650230","Entrauchungsklappe SDR-S","B=200 H=650 mit Belimo BEN-230",80,609.25,{"$f":"G18473*(1-VLOOKUP(F18473,Konditionen!$B:$G,6,0))","v":609.25}]
["Entrauchung","SDRS","SDRS225400230","Entrauchungsklappe SDR-S","B=225 H=400 mit Belimo BEN-230",80,536.75,{"$f":"G18488*(1-VLOOKUP(F18488,Konditionen!$B:$G,6,0))","v":536.75}]
["Entrauchung","SDRS","SDRS225700230","Entrauchungsklappe SDR-S","B=225 H=700 mit Belimo BEN-230",80,628.04999999999995,{"$f":"G18496*(1-VLOOKUP(F18496,Konditionen!$B:$G,6,0))","v":628.04999999999995}]
["Entrauchung","SDRS","SDRS250400230","Entrauchungsklappe SDR-S","B=250 H=400 mit Belimo BEN-230",80,542.9,{"$f":"G18510*(1-VLOOKUP(F18510,Konditionen!$B:$G,6,0))","v":542.9}]
["Entrauchung","SDRS","SDRS280225230","Entrauchungsklappe SDR-S","B=280 H=225 mit Belimo BEN-230",80,514.95000000000005,{"$f":"G18526*(1-VLOOKUP(F18526,Konditionen!$B:$G,6,0))","v":514.95000000000005}]
["Entrauchung","SDRS","SDRS280710230","Entrauchungsklappe SDR-S","B=280 H=710 mit Belimo BEN-230",80,650.70000000000005,{"$f":"G18541*(1-VLOOKUP(F18541,Konditionen!$B:$G,6,0))","v":650.70000000000005}]
["Entrauchung","SDRS","SDRS300315230","Entrauchungsklappe SDR-S","B=300 H=315 mit Belimo BEN-230",80,537.45000000000005,{"$f":"G18552*(1-VLOOKUP(F18552,Konditionen!$B:$G,6,0))","v":537.45000000000005}]
["Entrauchung","SDRS","SDRS300750230","Entrauchungsklappe SDR-S","B=300 H=750 mit Belimo BEN-230",80,682,{"$f":"G18564*(1-VLOOKUP(F18564,Konditionen!$B:$G,6,0))","v":682}]
["Entrauchung","SDRS","SDRS315315230","Entrauchungsklappe SDR-S","B=315 H=315 mit Belimo BEN-230",80,540.70000000000005,{"$f":"G18574*(1-VLOOKUP(F18574,Konditionen!$B:$G,6,0))","v":540.70000000000005}]
["Entrauchung","SDRS","SDRS315800230","Entrauchungsklappe SDR-S","B=315 H=800 mit Belimo BEN-230",80,699.45,{"$f":"G18587*(1-VLOOKUP(F18587,Konditionen!$B:$G,6,0))","v":699.45}]
["Entrauchung","SDRS","SDRS355315230","Entrauchungsklappe SDR-S","B=355 H=315 mit Belimo BEN-230",80,550.15,{"$f":"G18596*(1-VLOOKUP(F18596,Konditionen!$B:$G,6,0))","v":550.15}]
["Entrauchung","SDRS","SDRS400280230","Entrauchungsklappe SDR-S","B=400 H=280 mit Belimo BEN-230",80,551.45000000000005,{"$f":"G18616*(1-VLOOKUP(F18616,Konditionen!$B:$G,6,0))","v":551.45000000000005}]
["Entrauchung","SDRS","SDRS400400230","Entrauchungsklappe SDR-S","B=400 H=400 mit Belimo BEN-230",80,580.54999999999995,{"$f":"G18620*(1-VLOOKUP(F18620,Konditionen!$B:$G,6,0))","v":580.54999999999995}]
["Entrauchung","SDRS","SDRS450280230","Entrauchungsklappe SDR-S","B=450 H=280 mit Belimo BEN-230",80,561.75,{"$f":"G18638*(1-VLOOKUP(F18638,Konditionen!$B:$G,6,0))","v":561.75}]
["Entrauchung","SDRS","SDRS450710230","Entrauchungsklappe SDR-S","B=450 H=710 mit Belimo BEN-230",80,729.45,{"$f":"G18651*(1-VLOOKUP(F18651,Konditionen!$B:$G,6,0))","v":729.45}]
["Entrauchung","SDRS","SDRS500280230","Entrauchungsklappe SDR-S","B=500 H=280 mit Belimo BEN-230",80,579.54999999999995,{"$f":"G18660*(1-VLOOKUP(F18660,Konditionen!$B:$G,6,0))","v":579.54999999999995}]
["Entrauchung","SDRS","SDRS550225230","Entrauchungsklappe SDR-S","B=550 H=225 mit Belimo BEN-230",80,597.85,{"$f":"G18680*(1-VLOOKUP(F18680,Konditionen!$B:$G,6,0))","v":597.85}]
["Entrauchung","SDRS","SDRS550500230","Entrauchungsklappe SDR-S","B=550 H=500 mit Belimo BEN-230",80,699.3,{"$f":"G18688*(1-VLOOKUP(F18688,Konditionen!$B:$G,6,0))","v":699.3}]
["Entrauchung","SDRS","SDRS560225230","Entrauchungsklappe SDR-S","B=560 H=225 mit Belimo BEN-230",80,599.9,{"$f":"G18702*(1-VLOOKUP(F18702,Konditionen!$B:$G,6,0))","v":599.9}]
["Entrauchung","SDRS","SDRS560355230","Entrauchungsklappe SDR-S","B=560 H=355 mit Belimo BEN-230",80,641.95000000000005,{"$f":"G18707*(1-VLOOKUP(F18707,Konditionen!$B:$G,6,0))","v":641.95000000000005}]
["Entrauchung","SDRS","SDRS600225230","Entrauchungsklappe SDR-S","B=600 H=225 mit Belimo BEN-230",80,608.95000000000005,{"$f":"G18724*(1-VLOOKUP(F18724,Konditionen!$B:$G,6,0))","v":608.95000000000005}]
["Entrauchung","SDRS","SDRS630180230","Entrauchungsklappe SDR-S","B=630 H=180 mit Belimo BEN-230",80,599.54999999999995,{"$f":"G18744*(1-VLOOKUP(F18744,Konditionen!$B:$G,6,0))","v":599.54999999999995}]
["Entrauchung","SDRS","SDRS630560230","Entrauchungsklappe SDR-S","B=630 H=560 mit Belimo BEN-230",80,744.75,{"$f":"G18756*(1-VLOOKUP(F18756,Konditionen!$B:$G,6,0))","v":744.75}]
["Entrauchung","SDRS","SDRS650180230","Entrauchungsklappe SDR-S","B=650 H=180 mit Belimo BEN-230",80,604.20000000000005,{"$f":"G18766*(1-VLOOKUP(F18766,Konditionen!$B:$G,6,0))","v":604.20000000000005}]
["Entrauchung","SDRS","SDRS650450230","Entrauchungsklappe SDR-S","B=650 H=450 mit Belimo BEN-230",80,712.6,{"$f":"G18775*(1-VLOOKUP(F18775,Konditionen!$B:$G,6,0))","v":712.6}]
["Entrauchung","SDRS","SDRS700180230","Entrauchungsklappe SDR-S","B=700 H=180 mit Belimo BEN-230",80,613.54999999999995,{"$f":"G18788*(1-VLOOKUP(F18788,Konditionen!$B:$G,6,0))","v":613.54999999999995}]
["Entrauchung","SDRS","SDRS700500230","Entrauchungsklappe SDR-S","B=700 H=500 mit Belimo BEN-230",80,745.65,{"$f":"G18798*(1-VLOOKUP(F18798,Konditionen!$B:$G,6,0))","v":745.65}]
["Entrauchung","SDRS","SDRS710280230","Entrauchungsklappe SDR-S","B=710 H=280 mit Belimo BEN-230",80,652.79999999999995,{"$f":"G18814*(1-VLOOKUP(F18814,Konditionen!$B:$G,6,0))","v":652.79999999999995}]
["Entrauchung","SDRS","SDRS710900230","Entrauchungsklappe SDR-S","B=710 H=900 mit Belimo BEE-230",80,1141,{"$f":"G18830*(1-VLOOKUP(F18830,Konditionen!$B:$G,6,0))","v":1141}]
["Entrauchung","SDRS","SDRS750550230","Entrauchungsklappe SDR-S","B=750 H=550 mit Belimo BEN-230",80,780.6,{"$f":"G18843*(1-VLOOKUP(F18843,Konditionen!$B:$G,6,0))","v":780.6}]
["Entrauchung","SDRS","SDRS750900230","Entrauchungsklappe SDR-S","B=750 H=900 mit Belimo BEE-230",80,1159,{"$f":"G18852*(1-VLOOKUP(F18852,Konditionen!$B:$G,6,0))","v":1159}]
["Entrauchung","SDRS","SDRS800560230","Entrauchungsklappe SDR-S","B=800 H=560 mit Belimo BEN-230",80,800.45,{"$f":"G18866*(1-VLOOKUP(F18866,Konditionen!$B:$G,6,0))","v":800.45}]
["Entrauchung","SDRS","SDRS900225230","Entrauchungsklappe SDR-S","B=900 H=225 mit Belimo BEN-230",80,686.55,{"$f":"G18878*(1-VLOOKUP(F18878,Konditionen!$B:$G,6,0))","v":686.55}]
["Entrauchung","SDRS","SDRS900750230","Entrauchungsklappe SDR-S","B=900 H=750 mit Belimo BEE-230",80,1159,{"$f":"G18894*(1-VLOOKUP(F18894,Konditionen!$B:$G,6,0))","v":1159}]
["Entrauchung","SDRS","SDRS1000200230","Entrauchungsklappe SDR-S","B=1000 H=200 mit Belimo BEN-230",80,696.75,{"$f":"G18899*(1-VLOOKUP(F18899,Konditionen!$B:$G,6,0))","v":696.75}]
["Entrauchung","SDRS","SDRS1100180230","Entrauchungsklappe SDR-S","B=1100 H=180 mit Belimo BEN-230",80,706.35,{"$f":"G18920*(1-VLOOKUP(F18920,Konditionen!$B:$G,6,0))","v":706.35}]
["Entrauchung","SDRS","SDRS1100225230","Entrauchungsklappe SDR-S","B=1100 H=225 mit Belimo BEN-230",80,729.2,{"$f":"G18922*(1-VLOOKUP(F18922,Konditionen!$B:$G,6,0))","v":729.2}]
["Entrauchung","SDRS","SDRS1250180230","Entrauchungsklappe SDR-S","B=1250 H=180 mit Belimo BEN-230",80,735.9,{"$f":"G18942*(1-VLOOKUP(F18942,Konditionen!$B:$G,6,0))","v":735.9}]
["Entrauchung","SDRS","SDRS1250700230","Entrauchungsklappe SDR-S","B=1250 H=700 mit Belimo BEE-230",80,1268,{"$f":"G18958*(1-VLOOKUP(F18958,Konditionen!$B:$G,6,0))","v":1268}]
["Entrauchung","SDRS","SDRS1400250230","Entrauchungsklappe SDR-S","B=1400 H=250 mit Belimo BEN-230",80,808.25,{"$f":"G18967*(1-VLOOKUP(F18967,Konditionen!$B:$G,6,0))","v":808.25}]
["Entrauchung","SDRS","SDRS1400355230","Entrauchungsklappe SDR-S","B=1400 H=355 mit Belimo BEN-230",80,872.25,{"$f":"G18971*(1-VLOOKUP(F18971,Konditionen!$B:$G,6,0))","v":872.25}]
["Entrauchung","SDRS","SDRS1500280230","Entrauchungsklappe SDR-S","B=1500 H=280 mit Belimo BEN-230",80,850.3,{"$f":"G18990*(1-VLOOKUP(F18990,Konditionen!$B:$G,6,0))","v":850.3}]
["Entrauchung","SDRS","SDRS1500900230","Entrauchungsklappe SDR-S","B=1500 H=900 mit InMax 50.75",80,3680,{"$f":"G19006*(1-VLOOKUP(F19006,Konditionen!$B:$G,6,0))","v":3680}]
["Entrauchung","SDRS","SDRS1600200230","Entrauchungsklappe SDR-S","B=1600 H=200 mit Belimo BEN-230",80,819.9,{"$f":"G19009*(1-VLOOKUP(F19009,Konditionen!$B:$G,6,0))","v":819.9}]
["Entrauchung","SDRS","SDRS1600650230","Entrauchungsklappe SDR-S","B=1600 H=650 mit Belimo BE-230",80,1365,{"$f":"G19023*(1-VLOOKUP(F19023,Konditionen!$B:$G,6,0))","v":1365}]
["Entrauchung","SDRS","SDRS18030024","Entrauchungsklappe SDR-S","B=180 H=300 mit Belimo BEN-24",80,454,{"$f":"G19035*(1-VLOOKUP(F19035,Konditionen!$B:$G,6,0))","v":454}]
["Entrauchung","SDRS","SDRS20031524","Entrauchungsklappe SDR-S","B=200 H=315 mit Belimo BEN-24",80,460.9,{"$f":"G19058*(1-VLOOKUP(F19058,Konditionen!$B:$G,6,0))","v":460.9}]
["Entrauchung","SDRS","SDRS20075024","Entrauchungsklappe SDR-S","B=200 H=750 mit Belimo BEN-24",80,574.04999999999995,{"$f":"G19070*(1-VLOOKUP(F19070,Konditionen!$B:$G,6,0))","v":574.04999999999995}]
["Entrauchung","SDRS","SDRS22525024","Entrauchungsklappe SDR-S","B=225 H=250 mit Belimo BEN-24",80,454.45,{"$f":"G19077*(1-VLOOKUP(F19077,Konditionen!$B:$G,6,0))","v":454.45}]
["Entrauchung","SDRS","SDRS22575024","Entrauchungsklappe SDR-S","B=225 H=750 mit Belimo BEN-24",80,583.70000000000005,{"$f":"G19092*(1-VLOOKUP(F19092,Konditionen!$B:$G,6,0))","v":583.70000000000005}]
["Entrauchung","SDRS","SDRS25025024","Entrauchungsklappe SDR-S","B=250 H=250 mit Belimo BEN-24",80,459.4,{"$f":"G19099*(1-VLOOKUP(F19099,Konditionen!$B:$G,6,0))","v":459.4}]
["Entrauchung","SDRS","SDRS25075024","Entrauchungsklappe SDR-S","B=250 H=750 mit Belimo BEN-24",80,597.5,{"$f":"G19114*(1-VLOOKUP(F19114,Konditionen!$B:$G,6,0))","v":597.5}]
["Entrauchung","SDRS","SDRS28070024","Entrauchungsklappe SDR-S","B=280 H=700 mit Belimo BEN-24",80,593.5,{"$f":"G19134*(1-VLOOKUP(F19134,Konditionen!$B:$G,6,0))","v":593.5}]
["Entrauchung","SDRS","SDRS30030024","Entrauchungsklappe SDR-S","B=300 H=300 mit Belimo BEN-24",80,479.55,{"$f":"G19145*(1-VLOOKUP(F19145,Konditionen!$B:$G,6,0))","v":479.55}]
["Entrauchung","SDRS","SDRS30070024","Entrauchungsklappe SDR-S","B=300 H=700 mit Belimo BEN-24",80,605.25,{"$f":"G19156*(1-VLOOKUP(F19156,Konditionen!$B:$G,6,0))","v":605.25}]
["Entrauchung","SDRS","SDRS31520024","Entrauchungsklappe SDR-S","B=315 H=200 mit Belimo BEN-24",80,461.25,{"$f":"G19163*(1-VLOOKUP(F19163,Konditionen!$B:$G,6,0))","v":461.25}]
["Entrauchung","SDRS","SDRS31590024","Entrauchungsklappe SDR-S","B=315 H=900 mit Belimo BEN-24",80,668.9,{"$f":"G19182*(1-VLOOKUP(F19182,Konditionen!$B:$G,6,0))","v":668.9}]
["Entrauchung","SDRS","SDRS35520024","Entrauchungsklappe SDR-S","B=355 H=200 mit Belimo BEN-24",80,469.1,{"$f":"G19185*(1-VLOOKUP(F19185,Konditionen!$B:$G,6,0))","v":469.1}]
["Entrauchung","SDRS","SDRS35571024","Entrauchungsklappe SDR-S","B=355 H=710 mit Belimo BEN-24",80,638.6,{"$f":"G19201*(1-VLOOKUP(F19201,Konditionen!$B:$G,6,0))","v":638.6}]
["Entrauchung","SDRS","SDRS40063024","Entrauchungsklappe SDR-S","B=400 H=630 mit Belimo BEN-24",80,633.5,{"$f":"G19220*(1-VLOOKUP(F19220,Konditionen!$B:$G,6,0))","v":633.5}]
["Entrauchung","SDRS","SDRS400100024","Entrauchungsklappe SDR-S","B=400 H=1000 mit Belimo BEN-24",80,734.25,{"$f":"G19227*(1-VLOOKUP(F19227,Konditionen!$B:$G,6,0))","v":734.25}]
["Entrauchung","SDRS","SDRS45075024","Entrauchungsklappe SDR-S","B=450 H=750 mit Belimo BEN-24",80,685.9,{"$f":"G19246*(1-VLOOKUP(F19246,Konditionen!$B:$G,6,0))","v":685.9}]
["Entrauchung","SDRS","SDRS450100024","Entrauchungsklappe SDR-S","B=450 H=1000 mit Belimo BEE-24",80,933.15,{"$f":"G19249*(1-VLOOKUP(F19249,Konditionen!$B:$G,6,0))","v":933.15}]
["Entrauchung","SDRS","SDRS50080024","Entrauchungsklappe SDR-S","B=500 H=800 mit Belimo BEN-24",80,720.75,{"$f":"G19269*(1-VLOOKUP(F19269,Konditionen!$B:$G,6,0))","v":720.75}]
["Entrauchung","SDRS","SDRS55056024","Entrauchungsklappe SDR-S","B=550 H=560 mit Belimo BEN-24",80,663.5,{"$f":"G19284*(1-VLOOKUP(F19284,Konditionen!$B:$G,6,0))","v":663.5}]
["Entrauchung","SDRS","SDRS55090024","Entrauchungsklappe SDR-S","B=550 H=900 mit Belimo BEE-24",80,948.25,{"$f":"G19292*(1-VLOOKUP(F19292,Konditionen!$B:$G,6,0))","v":948.25}]
["Entrauchung","SDRS","SDRS56070024","Entrauchungsklappe SDR-S","B=560 H=700 mit Belimo BEN-24",80,712.45,{"$f":"G19310*(1-VLOOKUP(F19310,Konditionen!$B:$G,6,0))","v":712.45}]
["Entrauchung","SDRS","SDRS56080024","Entrauchungsklappe SDR-S","B=560 H=800 mit Belimo BEN-24",80,745,{"$f":"G19313*(1-VLOOKUP(F19313,Konditionen!$B:$G,6,0))","v":745}]
["Entrauchung","SDRS","SDRS60045024","Entrauchungsklappe SDR-S","B=600 H=450 mit Belimo BEN-24",80,643.54999999999995,{"$f":"G19325*(1-VLOOKUP(F19325,Konditionen!$B:$G,6,0))","v":643.54999999999995}]
["Entrauchung","SDRS","SDRS63020024","Entrauchungsklappe SDR-S","B=630 H=200 mit Belimo BEN-24",80,551.70000000000005,{"$f":"G19339*(1-VLOOKUP(F19339,Konditionen!$B:$G,6,0))","v":551.70000000000005}]
["Entrauchung","SDRS","SDRS65018024","Entrauchungsklappe SDR-S","B=650 H=180 mit Belimo BEN-24",80,549.45000000000005,{"$f":"G19360*(1-VLOOKUP(F19360,Konditionen!$B:$G,6,0))","v":549.45000000000005}]
["Entrauchung","SDRS","SDRS65020024","Entrauchungsklappe SDR-S","B=650 H=200 mit Belimo BEN-24",80,556.45000000000005,{"$f":"G19361*(1-VLOOKUP(F19361,Konditionen!$B:$G,6,0))","v":556.45000000000005}]
["Entrauchung","SDRS","SDRS65071024","Entrauchungsklappe SDR-S","B=650 H=710 mit Belimo BEN-24",80,751.5,{"$f":"G19377*(1-VLOOKUP(F19377,Konditionen!$B:$G,6,0))","v":751.5}]
["Entrauchung","SDRS","SDRS70055024","Entrauchungsklappe SDR-S","B=700 H=550 mit Belimo BEN-24",80,709.3,{"$f":"G19393*(1-VLOOKUP(F19393,Konditionen!$B:$G,6,0))","v":709.3}]
["Entrauchung","SDRS","SDRS700100024","Entrauchungsklappe SDR-S","B=700 H=1000 mit Belimo BE-24",80,1052,{"$f":"G19403*(1-VLOOKUP(F19403,Konditionen!$B:$G,6,0))","v":1052}]
["Entrauchung","SDRS","SDRS71056024","Entrauchungsklappe SDR-S","B=710 H=560 mit Belimo BEN-24",80,717.05,{"$f":"G19416*(1-VLOOKUP(F19416,Konditionen!$B:$G,6,0))","v":717.05}]
["Entrauchung","SDRS","SDRS710100024","Entrauchungsklappe SDR-S","B=710 H=1000 mit Belimo BE-24",80,1058,{"$f":"G19425*(1-VLOOKUP(F19425,Konditionen!$B:$G,6,0))","v":1058}]
["Entrauchung","SDRS","SDRS75065024","Entrauchungsklappe SDR-S","B=750 H=650 mit Belimo BEN-24",80,765.6,{"$f":"G19441*(1-VLOOKUP(F19441,Konditionen!$B:$G,6,0))","v":765.6}]
["Entrauchung","SDRS","SDRS80060024","Entrauchungsklappe SDR-S","B=800 H=600 mit Belimo BEN-24",80,762.6,{"$f":"G19461*(1-VLOOKUP(F19461,Konditionen!$B:$G,6,0))","v":762.6}]
["Entrauchung","SDRS","SDRS80080024","Entrauchungsklappe SDR-S","B=800 H=800 mit Belimo BEE-24",80,1018,{"$f":"G19467*(1-VLOOKUP(F19467,Konditionen!$B:$G,6,0))","v":1018}]
["Entrauchung","SDRS","SDRS90063024","Entrauchungsklappe SDR-S","B=900 H=630 mit Belimo BEN-24",80,810.35,{"$f":"G19484*(1-VLOOKUP(F19484,Konditionen!$B:$G,6,0))","v":810.35}]
["Entrauchung","SDRS","SDRS90080024","Entrauchungsklappe SDR-S","B=900 H=800 mit Belimo BEE-24",80,1059,{"$f":"G19489*(1-VLOOKUP(F19489,Konditionen!$B:$G,6,0))","v":1059}]
["Entrauchung","SDRS","SDRS100055024","Entrauchungsklappe SDR-S","B=1000 H=550 mit Belimo BEN-24",80,807.35,{"$f":"G19503*(1-VLOOKUP(F19503,Konditionen!$B:$G,6,0))","v":807.35}]
["Entrauchung","SDRS","SDRS110050024","Entrauchungsklappe SDR-S","B=1100 H=500 mit Belimo BEN-24",80,813.8,{"$f":"G19524*(1-VLOOKUP(F19524,Konditionen!$B:$G,6,0))","v":813.8}]
["Entrauchung","SDRS","SDRS110071024","Entrauchungsklappe SDR-S","B=1100 H=710 mit Belimo BEN-24",80,1096,{"$f":"G19531*(1-VLOOKUP(F19531,Konditionen!$B:$G,6,0))","v":1096}]
["Entrauchung","SDRS","SDRS125028024","Entrauchungsklappe SDR-S","B=1250 H=280 mit Belimo BEN-24",80,736.5,{"$f":"G19540*(1-VLOOKUP(F19540,Konditionen!$B:$G,6,0))","v":736.5}]
["Entrauchung","SDRS","SDRS125071024","Entrauchungsklappe SDR-S","B=1250 H=710 mit Belimo BEE-24",80,1152,{"$f":"G19553*(1-VLOOKUP(F19553,Konditionen!$B:$G,6,0))","v":1152}]
["Entrauchung","SDRS","SDRS140060024","Entrauchungsklappe SDR-S","B=1400 H=600 mit Belimo BEE-24",80,1141,{"$f":"G19571*(1-VLOOKUP(F19571,Konditionen!$B:$G,6,0))","v":1141}]
["Entrauchung","SDRS","SDRS140071024","Entrauchungsklappe SDR-S","B=1400 H=710 mit Belimo BE-24",80,1177,{"$f":"G19575*(1-VLOOKUP(F19575,Konditionen!$B:$G,6,0))","v":1177}]
["Entrauchung","SDRS","SDRS150065024","Entrauchungsklappe SDR-S","B=1500 H=650 mit Belimo BE-24",80,1208,{"$f":"G19595*(1-VLOOKUP(F19595,Konditionen!$B:$G,6,0))","v":1208}]
["Entrauchung","SDRS","SDRS160022524","Entrauchungsklappe SDR-S","B=1600 H=225 mit Belimo BEN-24",80,782.15,{"$f":"G19604*(1-VLOOKUP(F19604,Konditionen!$B:$G,6,0))","v":782.15}]
["Entrauchung","SDRS","SDRS160065024","Entrauchungsklappe SDR-S","B=1600 H=650 mit Belimo BE-24",80,1141,{"$f":"G19617*(1-VLOOKUP(F19617,Konditionen!$B:$G,6,0))","v":1141}]
["Entrauchung","SDJRS1","SDJRS1200400","Jalousie-Entrauchungsklappe SDJR-S","B=200 H=400 mit Belimo BEN-230",80,690,{"$f":"G19627*(1-VLOOKUP(F19627,Konditionen!$B:$G,6,0))","v":690}]
["Entrauchung","SDJRS1","SDJRS1250400","Jalousie-Entrauchungsklappe SDJR-S","B=250 H=400 mit Belimo BEN-230",80,695.1,{"$f":"G19639*(1-VLOOKUP(F19639,Konditionen!$B:$G,6,0))","v":695.1}]
["Entrauchung","SDJRS1","SDJRS1350250","Jalousie-Entrauchungsklappe SDJR-S","B=350 H=250 mit Belimo BEN-230",80,661.15,{"$f":"G19659*(1-VLOOKUP(F19659,Konditionen!$B:$G,6,0))","v":661.15}]
["Entrauchung","SDJRS1","SDJRS1400250","Jalousie-Entrauchungsklappe SDJR-S","B=400 H=250 mit Belimo BEN-230",80,668,{"$f":"G19672*(1-VLOOKUP(F19672,Konditionen!$B:$G,6,0))","v":668}]
["Entrauchung","SDJRS1","SDJRS1400900","Jalousie-Entrauchungsklappe SDJR-S","B=400 H=900 mit Belimo BEE-230",80,956.3,{"$f":"G19681*(1-VLOOKUP(F19681,Konditionen!$B:$G,6,0))","v":956.3}]
["Entrauchung","SDJRS1","SDJRS1450900","Jalousie-Entrauchungsklappe SDJR-S","B=450 H=900 mit Belimo BEE-230",80,959.5,{"$f":"G19695*(1-VLOOKUP(F19695,Konditionen!$B:$G,6,0))","v":959.5}]
["Entrauchung","SDJRS1","SDJRS1500450","Jalousie-Entrauchungsklappe SDJR-S","B=500 H=450 mit Belimo BEN-230",80,838.25,{"$f":"G19703*(1-VLOOKUP(F19703,Konditionen!$B:$G,6,0))","v":838.25}]
["Entrauchung","SDJRS1","SDJRS16001100","Jalousie-Entrauchungsklappe SDJR-S","B=600 H=1100 mit Belimo BE-230",80,1269,{"$f":"G19723*(1-VLOOKUP(F19723,Konditionen!$B:$G,6,0))","v":1269}]
["Entrauchung","SDJRS1","SDJRS1700350","Jalousie-Entrauchungsklappe SDJR-S","B=700 H=350 mit Belimo BEN-230",80,837.05,{"$f":"G19728*(1-VLOOKUP(F19728,Konditionen!$B:$G,6,0))","v":837.05}]
["Entrauchung","SDJRS1","SDJRS1800500","Jalousie-Entrauchungsklappe SDJR-S","B=800 H=500 mit Belimo BEN-230",80,898.5,{"$f":"G19745*(1-VLOOKUP(F19745,Konditionen!$B:$G,6,0))","v":898.5}]
["Entrauchung","SDJRS1","SDJRS1900900","Jalousie-Entrauchungsklappe SDJR-S","B=900 H=900 mit Belimo BE-230",80,1325,{"$f":"G19763*(1-VLOOKUP(F19763,Konditionen!$B:$G,6,0))","v":1325}]
["Entrauchung","SDJRS1","SDJRS11000400","Jalousie-Entrauchungsklappe SDJR-S","B=1000 H=400 mit Belimo BEN-230",80,891.3,{"$f":"G19771*(1-VLOOKUP(F19771,Konditionen!$B:$G,6,0))","v":891.3}]
["Entrauchung","SDJRS1","SDJRS11100600","Jalousie-Entrauchungsklappe SDJR-S","B=1100 H=600 mit Belimo BEE-230",80,1220,{"$f":"G19786*(1-VLOOKUP(F19786,Konditionen!$B:$G,6,0))","v":1220}]
["Entrauchung","SDJRS1","SDJRS11200200","Jalousie-Entrauchungsklappe SDJR-S","B=1200 H=200 mit Belimo BEN-230",80,866.8,{"$f":"G19793*(1-VLOOKUP(F19793,Konditionen!$B:$G,6,0))","v":866.8}]
["Entrauchung","SDJRS2","SDJRS2200300","Jalousie-Entrauchungsklappe SDJR-S","B=200 H=300 mit Belimo BEN-24",80,634.85,{"$f":"G19809*(1-VLOOKUP(F19809,Konditionen!$B:$G,6,0))","v":634.85}]
["Entrauchung","SDJRS2","SDJRS2250200","Jalousie-Entrauchungsklappe SDJR-S","B=250 H=200 mit Belimo BEN-24",80,609.70000000000005,{"$f":"G19819*(1-VLOOKUP(F19819,Konditionen!$B:$G,6,0))","v":609.70000000000005}]
["Entrauchung","SDJRS2","SDJRS2300600","Jalousie-Entrauchungsklappe SDJR-S","B=300 H=600 mit Belimo BEN-24",80,818.65,{"$f":"G19835*(1-VLOOKUP(F19835,Konditionen!$B:$G,6,0))","v":818.65}]
["Entrauchung","SDJRS2","SDJRS2350250","Jalousie-Entrauchungsklappe SDJR-S","B=350 H=250 mit Belimo BEN-24",80,623.54999999999995,{"$f":"G19842*(1-VLOOKUP(F19842,Konditionen!$B:$G,6,0))","v":623.54999999999995}]
["Entrauchung","SDJRS2","SDJRS2400350","Jalousie-Entrauchungsklappe SDJR-S","B=400 H=350 mit Belimo BEN-24",80,666.3,{"$f":"G19857*(1-VLOOKUP(F19857,Konditionen!$B:$G,6,0))","v":666.3}]
["Entrauchung","SDJRS2","SDJRS2450450","Jalousie-Entrauchungsklappe SDJR-S","B=450 H=450 mit Belimo BEN-24",80,801.6,{"$f":"G19873*(1-VLOOKUP(F19873,Konditionen!$B:$G,6,0))","v":801.6}]
["Entrauchung","SDJRS2","SDJRS2500500","Jalousie-Entrauchungsklappe SDJR-S","B=500 H=500 mit Belimo BEN-24",80,823.4,{"$f":"G19887*(1-VLOOKUP(F19887,Konditionen!$B:$G,6,0))","v":823.4}]
["Entrauchung","SDJRS2","SDJRS2600450","Jalousie-Entrauchungsklappe SDJR-S","B=600 H=450 mit Belimo BEN-24",80,825.6,{"$f":"G19899*(1-VLOOKUP(F19899,Konditionen!$B:$G,6,0))","v":825.6}]
["Entrauchung","SDJRS2","SDJRS2700300","Jalousie-Entrauchungsklappe SDJR-S","B=700 H=300 mit Belimo BEN-24",80,787.65,{"$f":"G19910*(1-VLOOKUP(F19910,Konditionen!$B:$G,6,0))","v":787.65}]
["Entrauchung","SDJRS2","SDJRS27001200","Jalousie-Entrauchungsklappe SDJR-S","B=700 H=1200 mit Belimo BE-24",80,1411,{"$f":"G19921*(1-VLOOKUP(F19921,Konditionen!$B:$G,6,0))","v":1411}]
["Entrauchung","SDJRS2","SDJRS2800500","Jalousie-Entrauchungsklappe SDJR-S","B=800 H=500 mit Belimo BEN-24",80,861,{"$f":"G19928*(1-VLOOKUP(F19928,Konditionen!$B:$G,6,0))","v":861}]
["Entrauchung","SDJRS2","SDJRS2900600","Jalousie-Entrauchungsklappe SDJR-S","B=900 H=600 mit Belimo BEE-24",80,919.3,{"$f":"G19943*(1-VLOOKUP(F19943,Konditionen!$B:$G,6,0))","v":919.3}]
["Entrauchung","SDJRS2","SDJRS21100200","Jalousie-Entrauchungsklappe SDJR-S","B=1100 H=200 mit Belimo BEN-24",80,733.65,{"$f":"G19963*(1-VLOOKUP(F19963,Konditionen!$B:$G,6,0))","v":733.65}]
["Entrauchung","SDJRS2","SDJRS21100350","Jalousie-Entrauchungsklappe SDJR-S","B=1100 H=350 mit Belimo BEN-24",80,859.3,{"$f":"G19966*(1-VLOOKUP(F19966,Konditionen!$B:$G,6,0))","v":859.3}]
["Entrauchung","SDJRS2","SDJRS21200800","Jalousie-Entrauchungsklappe SDJR-S","B=1100 H=800 mit Belimo BE-24",80,1359,{"$f":"G19985*(1-VLOOKUP(F19985,Konditionen!$B:$G,6,0))","v":1359}]
["Entrauchung","SDJRM1","SDJRM12001830","Jalousie-Entrauchungsklappe SDJR-M","B=200 H=1830 mit Belimo BEE-230",80,2776,{"$f":"G19997*(1-VLOOKUP(F19997,Konditionen!$B:$G,6,0))","v":2776}]
["Entrauchung","SDJRM1","SDJRM12502030","Jalousie-Entrauchungsklappe SDJR-M","B=250 H=2030 mit Belimo BEE-230",80,3053,{"$f":"G20007*(1-VLOOKUP(F20007,Konditionen!$B:$G,6,0))","v":3053}]
["Entrauchung","SDJRM1","SDJRM1400630","Jalousie-Entrauchungsklappe SDJR-M","B=400 H=630 mit Belimo BEN-230",80,1563,{"$f":"G20027*(1-VLOOKUP(F20027,Konditionen!$B:$G,6,0))","v":1563}]
["Entrauchung","SDJRM1","SDJRM14001230","Jalousie-Entrauchungsklappe SDJR-M","B=400 H=1230 mit Belimo BEE-230",80,2297,{"$f":"G20030*(1-VLOOKUP(F20030,Konditionen!$B:$G,6,0))","v":2297}]
["Entrauchung","SDJRM1","SDJRM15001430","Jalousie-Entrauchungsklappe SDJR-M","B=500 H=1430 mit Belimo BEE-230",80,2921,{"$f":"G20049*(1-VLOOKUP(F20049,Konditionen!$B:$G,6,0))","v":2921}]
["Entrauchung","SDJRM1","SDJRM16001030","Jalousie-Entrauchungsklappe SDJR-M","B=600 H=1030 mit Belimo BEE-230",80,2498,{"$f":"G20065*(1-VLOOKUP(F20065,Konditionen!$B:$G,6,0))","v":2498}]
["Entrauchung","SDJRM1","SDJRM1650430","Jalousie-Entrauchungsklappe SDJR-M","B=650 H=430 mit Belimo BEN-230",80,1453,{"$f":"G20071*(1-VLOOKUP(F20071,Konditionen!$B:$G,6,0))","v":1453}]
["Entrauchung","SDJRM1","SDJRM1750830","Jalousie-Entrauchungsklappe SDJR-M","B=750 H=830 mit Belimo BEE-230",80,2329,{"$f":"G20091*(1-VLOOKUP(F20091,Konditionen!$B:$G,6,0))","v":2329}]
["Entrauchung","SDJRM1","SDJRM1800430","Jalousie-Entrauchungsklappe SDJR-M","B=800 H=430 mit Belimo BEN-230",80,1549,{"$f":"G20098*(1-VLOOKUP(F20098,Konditionen!$B:$G,6,0))","v":1549}]
["Entrauchung","SDJRM1","SDJRM18501630","Jalousie-Entrauchungsklappe SDJR-M","B=850 H=1630 mit Belimo BE-230",80,3572,{"$f":"G20113*(1-VLOOKUP(F20113,Konditionen!$B:$G,6,0))","v":3572}]
["Entrauchung","SDJRM1","SDJRM19001430","Jalousie-Entrauchungsklappe SDJR-M","B=900 H=1430 mit Belimo BE-230",80,3329,{"$f":"G20121*(1-VLOOKUP(F20121,Konditionen!$B:$G,6,0))","v":3329}]
["Entrauchung","SDJRM1","SDJRM11000630","Jalousie-Entrauchungsklappe SDJR-M","B=1000 H=630 mit Belimo BEN-230",80,2196,{"$f":"G20135*(1-VLOOKUP(F20135,Konditionen!$B:$G,6,0))","v":2196}]
["Entrauchung","SDJRM1","SDJRM110002030","Jalousie-Entrauchungsklappe SDJR-M","B=1000 H=2030 mit Belimo BE-230",80,4323,{"$f":"G20142*(1-VLOOKUP(F20142,Konditionen!$B:$G,6,0))","v":4323}]
["Entrauchung","SDJRM1","SDJRM111501430","Jalousie-Entrauchungsklappe SDJR-M","B=1150 H=1430 mit Belimo BE-230",80,3577,{"$f":"G20166*(1-VLOOKUP(F20166,Konditionen!$B:$G,6,0))","v":3577}]
["Entrauchung","SDJRM1","SDJRM112001830","Jalousie-Entrauchungsklappe SDJR-M","B=1200 H=1830 mit Belimo BE-230",80,4272,{"$f":"G20177*(1-VLOOKUP(F20177,Konditionen!$B:$G,6,0))","v":4272}]
["Entrauchung","SDJRM2","SDJRM2250630","Jalousie-Entrauchungsklappe SDJR-M","B=250 H=630 mit Belimo BEN-24",80,1416,{"$f":"G20189*(1-VLOOKUP(F20189,Konditionen!$B:$G,6,0))","v":1416}]
["Entrauchung","SDJRM2","SDJRM23001630","Jalousie-Entrauchungsklappe SDJR-M","B=300 H=1630 mit Belimo BEE-24",80,2613,{"$f":"G20203*(1-VLOOKUP(F20203,Konditionen!$B:$G,6,0))","v":2613}]
["Entrauchung","SDJRM2","SDJRM2350430","Jalousie-Entrauchungsklappe SDJR-M","B=350 H=430 mit Belimo BEN-24",80,1251,{"$f":"G20206*(1-VLOOKUP(F20206,Konditionen!$B:$G,6,0))","v":1251}]
["Entrauchung","SDJRM2","SDJRM24001830","Jalousie-Entrauchungsklappe SDJR-M","B=400 H=1830 mit Belimo BEE-24",80,3154,{"$f":"G20222*(1-VLOOKUP(F20222,Konditionen!$B:$G,6,0))","v":3154}]
["Entrauchung","SDJRM2","SDJRM25002030","Jalousie-Entrauchungsklappe SDJR-M","B=500 H=2030 mit Belimo BE-24",80,3508,{"$f":"G20241*(1-VLOOKUP(F20241,Konditionen!$B:$G,6,0))","v":3508}]
["Entrauchung","SDJRM2","SDJRM25501030","Jalousie-Entrauchungsklappe SDJR-M","B=550 H=1030 mit Belimo BEE-24",80,2139,{"$f":"G20245*(1-VLOOKUP(F20245,Konditionen!$B:$G,6,0))","v":2139}]
["Entrauchung","SDJRM2","SDJRM26501830","Jalousie-Entrauchungsklappe SDJR-M","B=650 H=1830 mit Belimo BE-24",80,3468,{"$f":"G20267*(1-VLOOKUP(F20267,Konditionen!$B:$G,6,0))","v":3468}]
["Entrauchung","SDJRM2","SDJRM26502030","Jalousie-Entrauchungsklappe SDJR-M","B=650 H=2030 mit Belimo BE-24",80,3722,{"$f":"G20268*(1-VLOOKUP(F20268,Konditionen!$B:$G,6,0))","v":3722}]
["Entrauchung","SDJRM2","SDJRM2800830","Jalousie-Entrauchungsklappe SDJR-M","B=800 H=830 mit Belimo BEE-24",80,2215,{"$f":"G20289*(1-VLOOKUP(F20289,Konditionen!$B:$G,6,0))","v":2215}]
["Entrauchung","SDJRM2","SDJRM2850430","Jalousie-Entrauchungsklappe SDJR-M","B=850 H=430 mit Belimo BEN-24",80,1510,{"$f":"G20296*(1-VLOOKUP(F20296,Konditionen!$B:$G,6,0))","v":1510}]
["Entrauchung","SDJRM2","SDJRM29002030","Jalousie-Entrauchungsklappe SDJR-M","B=900 H=2030 mit Belimo BE-24",80,4043,{"$f":"G20313*(1-VLOOKUP(F20313,Konditionen!$B:$G,6,0))","v":4043}]
["Entrauchung","SDJRM2","SDJRM29501230","Jalousie-Entrauchungsklappe SDJR-M","B=950 H=1230 mit Belimo BE-24",80,2930,{"$f":"G20318*(1-VLOOKUP(F20318,Konditionen!$B:$G,6,0))","v":2930}]
["Entrauchung","SDJRM2","SDJRM210501230","Jalousie-Entrauchungsklappe SDJR-M","B=1050 H=1230 mit Belimo BE-24",80,3018,{"$f":"G20336*(1-VLOOKUP(F20336,Konditionen!$B:$G,6,0))","v":3018}]
["Entrauchung","SDJRM2","SDJRM211501030","Jalousie-Entrauchungsklappe SDJR-M","B=1150 H=1030 mit Belimo BE-24",80,2792,{"$f":"G20353*(1-VLOOKUP(F20353,Konditionen!$B:$G,6,0))","v":2792}]
["Entrauchung","SDJRM2","SDJRM21200630","Jalousie-Entrauchungsklappe SDJR-M","B=1200 H=630 mit Belimo BEN-24",80,2162,{"$f":"G20360*(1-VLOOKUP(F20360,Konditionen!$B:$G,6,0))","v":2162}]
["Entrauchung","SDR2M1","SDR2M1200250","Entrauchungsklappe SDR2-M","B=200 H=250 mit Belimo BEN-230",80,1375,{"$f":"G20369*(1-VLOOKUP(F20369,Konditionen!$B:$G,6,0))","v":1375}]
["Entrauchung","SDR2M1","SDR2M12001000","Entrauchungsklappe SDR2-M","B=200 H=1000 mit Belimo BEE-230",80,1921,{"$f":"G20382*(1-VLOOKUP(F20382,Konditionen!$B:$G,6,0))","v":1921}]
["Entrauchung","SDR2M1","SDR2M1250500","Entrauchungsklappe SDR2-M","B=250 H=500 mit Belimo BEN-230",80,1617,{"$f":"G20404*(1-VLOOKUP(F20404,Konditionen!$B:$G,6,0))","v":1617}]
["Entrauchung","SDR2M1","SDR2M1280400","Entrauchungsklappe SDR2-M","B=280 H=400 mit Belimo BEN-230",80,1574,{"$f":"G20417*(1-VLOOKUP(F20417,Konditionen!$B:$G,6,0))","v":1574}]
["Entrauchung","SDR2M1","SDR2M1280750","Entrauchungsklappe SDR2-M","B=280 H=750 mit Belimo BEN-230",80,1840,{"$f":"G20424*(1-VLOOKUP(F20424,Konditionen!$B:$G,6,0))","v":1840}]
["Entrauchung","SDR2M1","SDR2M1300650","Entrauchungsklappe SDR2-M","B=300 H=650 mit Belimo BEN-230",80,1761,{"$f":"G20437*(1-VLOOKUP(F20437,Konditionen!$B:$G,6,0))","v":1761}]
["Entrauchung","SDR2M1","SDR2M1315355","Entrauchungsklappe SDR2-M","B=315 H=355 mit Belimo BEN-230",80,1523,{"$f":"G20446*(1-VLOOKUP(F20446,Konditionen!$B:$G,6,0))","v":1523}]
["Entrauchung","SDR2M1","SDR2M1355700","Entrauchungsklappe SDR2-M","B=355 H=700 mit Belimo BEN-230",80,1876,{"$f":"G20468*(1-VLOOKUP(F20468,Konditionen!$B:$G,6,0))","v":1876}]
["Entrauchung","SDR2M1","SDR2M1400600","Entrauchungsklappe SDR2-M","B=400 H=600 mit Belimo BEN-230",80,1815,{"$f":"G20481*(1-VLOOKUP(F20481,Konditionen!$B:$G,6,0))","v":1815}]
["Entrauchung","SDR2M1","SDR2M1450355","Entrauchungsklappe SDR2-M","B=450 H=355 mit Belimo BEN-230",80,1670,{"$f":"G20491*(1-VLOOKUP(F20491,Konditionen!$B:$G,6,0))","v":1670}]
["Entrauchung","SDR2M1","SDR2M1500200","Entrauchungsklappe SDR2-M","B=500 H=200 mit Belimo BEN-230",80,1585,{"$f":"G20503*(1-VLOOKUP(F20503,Konditionen!$B:$G,6,0))","v":1585}]
["Entrauchung","SDR2M1","SDR2M1500550","Entrauchungsklappe SDR2-M","B=500 H=550 mit Belimo BEN-230",80,1893,{"$f":"G20510*(1-VLOOKUP(F20510,Konditionen!$B:$G,6,0))","v":1893}]
["Entrauchung","SDR2M1","SDR2M1550500","Entrauchungsklappe SDR2-M","B=550 H=500 mit Belimo BEN-230",80,1892,{"$f":"G20524*(1-VLOOKUP(F20524,Konditionen!$B:$G,6,0))","v":1892}]
["Entrauchung","SDR2M1","SDR2M15501000","Entrauchungsklappe SDR2-M","B=550 H=1000 mit Belimo BE-230",80,2575,{"$f":"G20532*(1-VLOOKUP(F20532,Konditionen!$B:$G,6,0))","v":2575}]
["Entrauchung","SDR2M1","SDR2M15601000","Entrauchungsklappe SDR2-M","B=560 H=1000 mit Belimo BE-230",80,2585,{"$f":"G20547*(1-VLOOKUP(F20547,Konditionen!$B:$G,6,0))","v":2585}]
["Entrauchung","SDR2M1","SDR2M1630400","Entrauchungsklappe SDR2-M","B=630 H=400 mit Belimo BEN-230",80,1871,{"$f":"G20567*(1-VLOOKUP(F20567,Konditionen!$B:$G,6,0))","v":1871}]
["Entrauchung","SDR2M1","SDR2M1630750","Entrauchungsklappe SDR2-M","B=630 H=750 mit Belimo BEE-230",80,2174,{"$f":"G20574*(1-VLOOKUP(F20574,Konditionen!$B:$G,6,0))","v":2174}]
["Entrauchung","SDR2M1","SDR2M16501000","Entrauchungsklappe SDR2-M","B=650 H=1000 mit Belimo BE-230",80,2684,{"$f":"G20592*(1-VLOOKUP(F20592,Konditionen!$B:$G,6,0))","v":2684}]
["Entrauchung","SDR2M1","SDR2M1700355","Entrauchungsklappe SDR2-M","B=700 H=355 mit Belimo BEN-230",80,1883,{"$f":"G20596*(1-VLOOKUP(F20596,Konditionen!$B:$G,6,0))","v":1883}]
["Entrauchung","SDR2M1","SDR2M1710550","Entrauchungsklappe SDR2-M","B=710 H=550 mit Belimo BEN-230",80,2071,{"$f":"G20615*(1-VLOOKUP(F20615,Konditionen!$B:$G,6,0))","v":2071}]
["Entrauchung","SDR2M1","SDR2M17101000","Entrauchungsklappe SDR2-M","B=710 H=1000 mit Belimo BE-230",80,2751,{"$f":"G20622*(1-VLOOKUP(F20622,Konditionen!$B:$G,6,0))","v":2751}]
["Entrauchung","SDR2M1","SDR2M1800200","Entrauchungsklappe SDR2-M","B=800 H=200 mit Belimo BEN-230",80,1778,{"$f":"G20638*(1-VLOOKUP(F20638,Konditionen!$B:$G,6,0))","v":1778}]
["Entrauchung","SDR2M1","SDR2M1800700","Entrauchungsklappe SDR2-M","B=800 H=700 mit Belimo BEE-230",80,2559,{"$f":"G20648*(1-VLOOKUP(F20648,Konditionen!$B:$G,6,0))","v":2559}]
["Entrauchung","SDR2M1","SDR2M1900550","Entrauchungsklappe SDR2-M","B=900 H=550 mit Belimo BEE-230",80,2277,{"$f":"G20660*(1-VLOOKUP(F20660,Konditionen!$B:$G,6,0))","v":2277}]
["Entrauchung","SDR2M1","SDR2M11000355","Entrauchungsklappe SDR2-M","B=1000 H=355 mit Belimo BEN-230",80,2104,{"$f":"G20671*(1-VLOOKUP(F20671,Konditionen!$B:$G,6,0))","v":2104}]
["Entrauchung","SDR2M1","SDR2M11100355","Entrauchungsklappe SDR2-M","B=1100 H=355 mit Belimo BEN-230",80,2224,{"$f":"G20686*(1-VLOOKUP(F20686,Konditionen!$B:$G,6,0))","v":2224}]
["Entrauchung","SDR2M1","SDR2M11250600","Entrauchungsklappe SDR2-M","B=1250 H=600 mit Belimo BE-230",80,2855,{"$f":"G20706*(1-VLOOKUP(F20706,Konditionen!$B:$G,6,0))","v":2855}]
["Entrauchung","SDR2M1","SDR2M11250700","Entrauchungsklappe SDR2-M","B=1250 H=700 mit Belimo BE-230",80,2978,{"$f":"G20708*(1-VLOOKUP(F20708,Konditionen!$B:$G,6,0))","v":2978}]
["Entrauchung","SDR2M1","SDR2M11500200","Entrauchungsklappe SDR2-M","B=1500 H=200 mit Belimo BEN-230",80,2308,{"$f":"G20728*(1-VLOOKUP(F20728,Konditionen!$B:$G,6,0))","v":2308}]
["Entrauchung","SDR2M1","SDR2M11500750","Entrauchungsklappe SDR2-M","B=1500 H=750 mit Belimo BEN-230",80,3277,{"$f":"G20739*(1-VLOOKUP(F20739,Konditionen!$B:$G,6,0))","v":3277}]
["Entrauchung","SDR2M1","SDR2M11600550","Entrauchungsklappe SDR2-M","B=1600 H=550 mit Belimo BE-230",80,3086,{"$f":"G20750*(1-VLOOKUP(F20750,Konditionen!$B:$G,6,0))","v":3086}]
["Entrauchung","SDR2M2","SDR2M2200400","Entrauchungsklappe SDR2-M","B=200 H=400 mit Belimo BEN-24",80,1412,{"$f":"G20762*(1-VLOOKUP(F20762,Konditionen!$B:$G,6,0))","v":1412}]
["Entrauchung","SDR2M2","SDR2M22001000","Entrauchungsklappe SDR2-M","B=200 H=1000 mit Belimo BEE-24",80,1866,{"$f":"G20772*(1-VLOOKUP(F20772,Konditionen!$B:$G,6,0))","v":1866}]
["Entrauchung","SDR2M2","SDR2M2250400","Entrauchungsklappe SDR2-M","B=250 H=400 mit Belimo BEN-24",80,1450,{"$f":"G20792*(1-VLOOKUP(F20792,Konditionen!$B:$G,6,0))","v":1450}]
["Entrauchung","SDR2M2","SDR2M2280400","Entrauchungsklappe SDR2-M","B=280 H=400 mit Belimo BEN-24",80,1519,{"$f":"G20807*(1-VLOOKUP(F20807,Konditionen!$B:$G,6,0))","v":1519}]
["Entrauchung","SDR2M2","SDR2M2280750","Entrauchungsklappe SDR2-M","B=280 H=750 mit Belimo BEN-24",80,1784,{"$f":"G20814*(1-VLOOKUP(F20814,Konditionen!$B:$G,6,0))","v":1784}]
["Entrauchung","SDR2M2","SDR2M2300800","Entrauchungsklappe SDR2-M","B=300 H=800 mit Belimo BEE-24",80,1838,{"$f":"G20830*(1-VLOOKUP(F20830,Konditionen!$B:$G,6,0))","v":1838}]
["Entrauchung","SDR2M2","SDR2M2315355","Entrauchungsklappe SDR2-M","B=315 H=355 mit Belimo BEN-24",80,1467,{"$f":"G20836*(1-VLOOKUP(F20836,Konditionen!$B:$G,6,0))","v":1467}]
["Entrauchung","SDR2M2","SDR2M2355600","Entrauchungsklappe SDR2-M","B=355 H=600 mit Belimo BEN-24",80,1719,{"$f":"G20856*(1-VLOOKUP(F20856,Konditionen!$B:$G,6,0))","v":1719}]
["Entrauchung","SDR2M2","SDR2M2400200","Entrauchungsklappe SDR2-M","B=400 H=200 mit Belimo BEN-24",80,1418,{"$f":"G20863*(1-VLOOKUP(F20863,Konditionen!$B:$G,6,0))","v":1418}]
["Entrauchung","SDR2M2","SDR2M2450200","Entrauchungsklappe SDR2-M","B=450 H=200 mit Belimo BEN-24",80,1450,{"$f":"G20878*(1-VLOOKUP(F20878,Konditionen!$B:$G,6,0))","v":1450}]
["Entrauchung","SDR2M2","SDR2M2500250","Entrauchungsklappe SDR2-M","B=500 H=250 mit Belimo BEN-24",80,1568,{"$f":"G20894*(1-VLOOKUP(F20894,Konditionen!$B:$G,6,0))","v":1568}]
["Entrauchung","SDR2M2","SDR2M2500550","Entrauchungsklappe SDR2-M","B=500 H=550 mit Belimo BEN-24",80,1838,{"$f":"G20900*(1-VLOOKUP(F20900,Konditionen!$B:$G,6,0))","v":1838}]
["Entrauchung","SDR2M2","SDR2M2550800","Entrauchungsklappe SDR2-M","B=550 H=800 mit Belimo BEE-24",80,2084,{"$f":"G20920*(1-VLOOKUP(F20920,Konditionen!$B:$G,6,0))","v":2084}]
["Entrauchung","SDR2M2","SDR2M2560600","Entrauchungsklappe SDR2-M","B=560 H=600 mit Belimo BEN-24",80,1929,{"$f":"G20931*(1-VLOOKUP(F20931,Konditionen!$B:$G,6,0))","v":1929}]
["Entrauchung","SDR2M2","SDR2M2600400","Entrauchungsklappe SDR2-M","B=600 H=400 mit Belimo BEN-24",80,1762,{"$f":"G20942*(1-VLOOKUP(F20942,Konditionen!$B:$G,6,0))","v":1762}]
["Entrauchung","SDR2M2","SDR2M2600800","Entrauchungsklappe SDR2-M","B=600 H=800 mit Belimo BEE-24",80,2180,{"$f":"G20950*(1-VLOOKUP(F20950,Konditionen!$B:$G,6,0))","v":2180}]
["Entrauchung","SDR2M2","SDR2M2630750","Entrauchungsklappe SDR2-M","B=630 H=750 mit Belimo BEE-24",80,2119,{"$f":"G20964*(1-VLOOKUP(F20964,Konditionen!$B:$G,6,0))","v":2119}]
["Entrauchung","SDR2M2","SDR2M2650450","Entrauchungsklappe SDR2-M","B=650 H=450 mit Belimo BEN-24",80,1874,{"$f":"G20973*(1-VLOOKUP(F20973,Konditionen!$B:$G,6,0))","v":1874}]
["Entrauchung","SDR2M2","SDR2M2700355","Entrauchungsklappe SDR2-M","B=700 H=355 mit Belimo BEN-24",80,1828,{"$f":"G20986*(1-VLOOKUP(F20986,Konditionen!$B:$G,6,0))","v":1828}]
["Entrauchung","SDR2M2","SDR2M2710600","Entrauchungsklappe SDR2-M","B=710 H=600 mit Belimo BEN-24",80,2061,{"$f":"G21006*(1-VLOOKUP(F21006,Konditionen!$B:$G,6,0))","v":2061}]
["Entrauchung","SDR2M2","SDR2M2750450","Entrauchungsklappe SDR2-M","B=750 H=450 mit Belimo BEN-24",80,1953,{"$f":"G21018*(1-VLOOKUP(F21018,Konditionen!$B:$G,6,0))","v":1953}]
["Entrauchung","SDR2M2","SDR2M2800200","Entrauchungsklappe SDR2-M","B=800 H=200 mit Belimo BEN-24",80,1723,{"$f":"G21028*(1-VLOOKUP(F21028,Konditionen!$B:$G,6,0))","v":1723}]
["Entrauchung","SDR2M2","SDR2M2800900","Entrauchungsklappe SDR2-M","B=800 H=900 mit Belimo BE-24",80,2736,{"$f":"G21041*(1-VLOOKUP(F21041,Konditionen!$B:$G,6,0))","v":2736}]
["Entrauchung","SDR2M2","SDR2M2900750","Entrauchungsklappe SDR2-M","B=900 H=750 mit Belimo BE-24",80,2688,{"$f":"G21054*(1-VLOOKUP(F21054,Konditionen!$B:$G,6,0))","v":2688}]
["Entrauchung","SDR2M2","SDR2M21000800","Entrauchungsklappe SDR2-M","B=1000 H=800 mit Belimo BE-24",80,2838,{"$f":"G21070*(1-VLOOKUP(F21070,Konditionen!$B:$G,6,0))","v":2838}]
["Entrauchung","SDR2M2","SDR2M21100250","Entrauchungsklappe SDR2-M","B=1100 H=250 mit Belimo BEN-24",80,2002,{"$f":"G21074*(1-VLOOKUP(F21074,Konditionen!$B:$G,6,0))","v":2002}]
["Entrauchung","SDR2M2","SDR2M21250400","Entrauchungsklappe SDR2-M","B=1250 H=400 mit Belimo BEE-24",80,2334,{"$f":"G21092*(1-VLOOKUP(F21092,Konditionen!$B:$G,6,0))","v":2334}]
["Entrauchung","SDR2M2","SDR2M21400500","Entrauchungsklappe SDR2-M","B=1400 H=500 mit Belimo BEE-24",80,2841,{"$f":"G21109*(1-VLOOKUP(F21109,Konditionen!$B:$G,6,0))","v":2841}]
["Entrauchung","SDR2M2","SDR2M21500200","Entrauchungsklappe SDR2-M","B=1500 H=200 mit Belimo BEN-24",80,2252,{"$f":"G21118*(1-VLOOKUP(F21118,Konditionen!$B:$G,6,0))","v":2252}]
["Entrauchung","SDR2M2","SDR2M21600250","Entrauchungsklappe SDR2-M","B=1600 H=250 mit Belimo BEN-24",80,2383,{"$f":"G21134*(1-VLOOKUP(F21134,Konditionen!$B:$G,6,0))","v":2383}]
["Entrauchung","SDR2M2","SDR2M21600650","Entrauchungsklappe SDR2-M","B=1600 H=650 mit Belimo BE-24",80,3213,{"$f":"G21142*(1-VLOOKUP(F21142,Konditionen!$B:$G,6,0))","v":3213}]
["Entrauchung","BFUFP","BFUFP11245","Bogen Segment   BFUFP   112.45","Lindab FireProtect Rund",80,81.599999999999994,{"$f":"G21160*(1-VLOOKUP(F21160,Konditionen!$B:$G,6,0))","v":81.599999999999994}]
["Entrauchung","BFUFP","BFUFP12545","Bogen Segment   BFUFP   125.45","Lindab FireProtect Rund",80,81.599999999999994,{"$f":"G21165*(1-VLOOKUP(F21165,Konditionen!$B:$G,6,0))","v":81.599999999999994}]
["Entrauchung","BFUFP","BFUFP16090","Bogen Segment   BFUFP   160.90","Lindab FireProtect Rund",80,132.55000000000001,{"$f":"G21182*(1-VLOOKUP(F21182,Konditionen!$B:$G,6,0))","v":132.55000000000001}]
["Entrauchung","BFUFP","BFUFP20015","Bogen Segment   BFUFP   200.15","Lindab FireProtect Rund",80,96.2,{"$f":"G21188*(1-VLOOKUP(F21188,Konditionen!$B:$G,6,0))","v":96.2}]
["Entrauchung","BFUFP","BFUFP28030","Bogen Segment   BFUFP   280.30","Lindab FireProtect Rund",80,156.69999999999999,{"$f":"G21204*(1-VLOOKUP(F21204,Konditionen!$B:$G,6,0))","v":156.69999999999999}]
["Entrauchung","BFUFP","BFUFP40030","Bogen Segment   BFUFP   400.30","Lindab FireProtect Rund",80,200,{"$f":"G21224*(1-VLOOKUP(F21224,Konditionen!$B:$G,6,0))","v":200}]
["Entrauchung","BFUFP","BFUFP50015","Bogen Segment   BFUFP   500.15","Lindab FireProtect Rund",80,286.89999999999998,{"$f":"G21233*(1-VLOOKUP(F21233,Konditionen!$B:$G,6,0))","v":286.89999999999998}]
["Entrauchung","BFUFP","BFUFP60060","Bogen Segment   BFUFP   600.60","Lindab FireProtect Rund",80,594.65,{"$f":"G21246*(1-VLOOKUP(F21246,Konditionen!$B:$G,6,0))","v":594.65}]
["Entrauchung","BFUFP","BFUFP71060","Bogen Segment   BFUFP   710.60","Lindab FireProtect Rund",80,865,{"$f":"G21256*(1-VLOOKUP(F21256,Konditionen!$B:$G,6,0))","v":865}]
["Entrauchung","BSFUFP","BSFUFP100045","Bogen Segment   BSFUFP   1000.45","Lindab FireProtect Rund",80,2380,{"$f":"G21268*(1-VLOOKUP(F21268,Konditionen!$B:$G,6,0))","v":2380}]
["Entrauchung","BSFUFP","BSFUFP11260","Bogen Segment   BSFUFP   112.60","Lindab FireProtect Rund",80,117.55,{"$f":"G21275*(1-VLOOKUP(F21275,Konditionen!$B:$G,6,0))","v":117.55}]
["Entrauchung","BSFUFP","BSFUFP18045","Bogen Segment   BSFUFP   180.45","Lindab FireProtect Rund",80,133.85,{"$f":"G21289*(1-VLOOKUP(F21289,Konditionen!$B:$G,6,0))","v":133.85}]
["Entrauchung","BSFUFP","BSFUFP35545","Bogen Segment   BSFUFP   355.45","Lindab FireProtect Rund",80,246.8,{"$f":"G21310*(1-VLOOKUP(F21310,Konditionen!$B:$G,6,0))","v":246.8}]
["Entrauchung","BSFUFP","BSFUFP50060","Bogen Segment   BSFUFP   500.60","Lindab FireProtect Rund",80,471.4,{"$f":"G21320*(1-VLOOKUP(F21320,Konditionen!$B:$G,6,0))","v":471.4}]
["Entrauchung","BSFUFP","BSFUFP71060","Bogen Segment   BSFUFP   710.60","Lindab FireProtect Rund",80,1097,{"$f":"G21332*(1-VLOOKUP(F21332,Konditionen!$B:$G,6,0))","v":1097}]
["Entrauchung","BSFUFP","BSFUFP90090","Bogen Segment   BSFUFP   900.90","Lindab FireProtect Rund",80,2018,{"$f":"G21339*(1-VLOOKUP(F21339,Konditionen!$B:$G,6,0))","v":2018}]
["Entrauchung","BUFP","BUFP14060","Bogen gepresst   BUFP   140.60","Lindab FireProtect Rund",80,111.85,{"$f":"G21357*(1-VLOOKUP(F21357,Konditionen!$B:$G,6,0))","v":111.85}]
["Entrauchung","BUFP","BUFP20015","Bogen gepresst   BUFP   200.15","Lindab FireProtect Rund",80,98.6,{"$f":"G21374*(1-VLOOKUP(F21374,Konditionen!$B:$G,6,0))","v":98.6}]
["Entrauchung","BUFP","BUFP20045","Bogen gepresst   BUFP   200.45","Lindab FireProtect Rund",80,91.5,{"$f":"G21376*(1-VLOOKUP(F21376,Konditionen!$B:$G,6,0))","v":91.5}]
["Entrauchung","ESUFP","ESUFP200","Enddeckel   ESUFP   200","Lindab FireProtect Rund",80,41.15,{"$f":"G21396*(1-VLOOKUP(F21396,Konditionen!$B:$G,6,0))","v":41.15}]
["Entrauchung","ESUFP","ESUFP400","Enddeckel   ESUFP   400","Lindab FireProtect Rund",80,109.3,{"$f":"G21403*(1-VLOOKUP(F21403,Konditionen!$B:$G,6,0))","v":109.3}]
["Entrauchung","ILUFP","ILUFP224","Bundkragen   ILUFP   224","Lindab FireProtect Rund",80,32.700000000000003,{"$f":"G21421*(1-VLOOKUP(F21421,Konditionen!$B:$G,6,0))","v":32.700000000000003}]
["Entrauchung","L-WSK-C","L-WSK-C250","Weichstoffkompensator L-WSK-C   250","geprüft nach DIN V 18232-6",80,847.9,{"$f":"G21438*(1-VLOOKUP(F21438,Konditionen!$B:$G,6,0))","v":847.9}]
["Entrauchung","L-WSK-C","L-WSK-C450","Weichstoffkompensator L-WSK-C   450","geprüft nach DIN V 18232-6",80,1125,{"$f":"G21444*(1-VLOOKUP(F21444,Konditionen!$B:$G,6,0))","v":1125}]
["Entrauchung","NPUFP","NPUFP250","Nippel   NPUFP   250","Lindab FireProtect Rund",80,43.55,{"$f":"G21460*(1-VLOOKUP(F21460,Konditionen!$B:$G,6,0))","v":43.55}]
["Entrauchung","NPUFP","NPUFP500","Nippel   NPUFP   500","Lindab FireProtect Rund",80,95.85,{"$f":"G21467*(1-VLOOKUP(F21467,Konditionen!$B:$G,6,0))","v":95.85}]
["Entrauchung","RCLUFP","RCLUFP140100","Reduzierung   RCLUFP   140.100","Lindab FireProtect Rund",80,78.7,{"$f":"G21486*(1-VLOOKUP(F21486,Konditionen!$B:$G,6,0))","v":78.7}]
["Entrauchung","RCLUFP","RCLUFP150100","Reduzierung   RCLUFP   150.100","Lindab FireProtect Rund",80,78.7,{"$f":"G21489*(1-VLOOKUP(F21489,Konditionen!$B:$G,6,0))","v":78.7}]
["Entrauchung","RCLUFP","RCLUFP224112","Reduzierung   RCLUFP   224.112","Lindab FireProtect Rund",80,109.3,{"$f":"G21512*(1-VLOOKUP(F21512,Konditionen!$B:$G,6,0))","v":109.3}]
["Entrauchung","RCLUFP","RCLUFP250160","Reduzierung   RCLUFP   250.160","Lindab FireProtect Rund",80,110.8,{"$f":"G21524*(1-VLOOKUP(F21524,Konditionen!$B:$G,6,0))","v":110.8}]
["Entrauchung","RCLUFP","RCLUFP280200","Reduzierung   RCLUFP   280.200","Lindab FireProtect Rund",80,140.35,{"$f":"G21535*(1-VLOOKUP(F21535,Konditionen!$B:$G,6,0))","v":140.35}]
["Entrauchung","RCLUFP","RCLUFP315112","Reduzierung   RCLUFP   315.112","Lindab FireProtect Rund",80,148,{"$f":"G21550*(1-VLOOKUP(F21550,Konditionen!$B:$G,6,0))","v":148}]
["Entrauchung","RCLUFP","RCLUFP315150","Reduzierung   RCLUFP   315.150","Lindab FireProtect Rund",80,148.55000000000001,{"$f":"G21553*(1-VLOOKUP(F21553,Konditionen!$B:$G,6,0))","v":148.55000000000001}]
["Entrauchung","RCLUFP","RCLUFP355300","Reduzierung   RCLUFP   355.300","Lindab FireProtect Rund",80,177.15,{"$f":"G21568*(1-VLOOKUP(F21568,Konditionen!$B:$G,6,0))","v":177.15}]
["Entrauchung","RCLUFP","RCLUFP450200","Reduzierung   RCLUFP   450.200","Lindab FireProtect Rund",80,243,{"$f":"G21579*(1-VLOOKUP(F21579,Konditionen!$B:$G,6,0))","v":243}]
["Entrauchung","RCLUFP","RCLUFP500355","Reduzierung   RCLUFP   500.355","Lindab FireProtect Rund",80,274.5,{"$f":"G21591*(1-VLOOKUP(F21591,Konditionen!$B:$G,6,0))","v":274.5}]
["Entrauchung","RCLUFP","RCLUFP630560","Reduzierung   RCLUFP   630.560","Lindab FireProtect Rund",80,372.55,{"$f":"G21614*(1-VLOOKUP(F21614,Konditionen!$B:$G,6,0))","v":372.55}]
["Entrauchung","RCLUFP","RCLUFP710355","Reduzierung   RCLUFP   710.355","Lindab FireProtect Rund",80,431.05,{"$f":"G21617*(1-VLOOKUP(F21617,Konditionen!$B:$G,6,0))","v":431.05}]
["Entrauchung","RCLUFP","RCLUFP900450","Reduzierung   RCLUFP   900.450","Lindab FireProtect Rund",80,769.7,{"$f":"G21636*(1-VLOOKUP(F21636,Konditionen!$B:$G,6,0))","v":769.7}]
["Entrauchung","RCUFP","RCUFP125100","Reduzierung   RCUFP   125.100","Lindab FireProtect Rund",80,44.15,{"$f":"G21643*(1-VLOOKUP(F21643,Konditionen!$B:$G,6,0))","v":44.15}]
["Entrauchung","SLUFP","SLUFP150900","Schalldämpfer   SLUFP   150.900","Lindab FireProtect Rund",80,150.69999999999999,{"$f":"G21659*(1-VLOOKUP(F21659,Konditionen!$B:$G,6,0))","v":150.69999999999999}]
["Entrauchung","SLUFP","SLUFP280900","Schalldämpfer   SLUFP   280.900","Lindab FireProtect Rund",80,260.14999999999998,{"$f":"G21665*(1-VLOOKUP(F21665,Konditionen!$B:$G,6,0))","v":260.14999999999998}]
["Entrauchung","SRFP","SRFP200","Lindabrohr   SR FP 200        Meter","Lindab FireProtect Rund",80,64.349999999999994,{"$f":"G21682*(1-VLOOKUP(F21682,Konditionen!$B:$G,6,0))","v":64.349999999999994}]
["Entrauchung","TCPUFP","TCPUFP112125","T-Stück   TCPUFP   112.125","Lindab FireProtect Rund",80,84.05,{"$f":"G21700*(1-VLOOKUP(F21700,Konditionen!$B:$G,6,0))","v":84.05}]
["Entrauchung","TCPUFP","TCPUFP140160","T-Stück   TCPUFP   140.160","Lindab FireProtect Rund",80,125.2,{"$f":"G21707*(1-VLOOKUP(F21707,Konditionen!$B:$G,6,0))","v":125.2}]
["Entrauchung","TCPUFP","TCPUFP200140","T-Stück   TCPUFP   200.140","Lindab FireProtect Rund",80,128.55000000000001,{"$f":"G21727*(1-VLOOKUP(F21727,Konditionen!$B:$G,6,0))","v":128.55000000000001}]
["Entrauchung","TCPUFP","TCPUFP200160","T-Stück   TCPUFP   200.160","Lindab FireProtect Rund",80,138.35,{"$f":"G21729*(1-VLOOKUP(F21729,Konditionen!$B:$G,6,0))","v":138.35}]
["Entrauchung","TCPUFP","TCPUFP250250","T-Stück   TCPUFP   250.250","Lindab FireProtect Rund",80,212.35,{"$f":"G21746*(1-VLOOKUP(F21746,Konditionen!$B:$G,6,0))","v":212.35}]
["Entrauchung","TCPUFP","TCPUFP300250","T-Stück   TCPUFP   300.250","Lindab FireProtect Rund",80,232.8,{"$f":"G21764*(1-VLOOKUP(F21764,Konditionen!$B:$G,6,0))","v":232.8}]
["Entrauchung","TCPUFP","TCPUFP315200","T-Stück   TCPUFP   315.200","Lindab FireProtect Rund",80,211.4,{"$f":"G21771*(1-VLOOKUP(F21771,Konditionen!$B:$G,6,0))","v":211.4}]
["Entrauchung","TCPUFP","TCPUFP400125","T-Stück   TCPUFP   400.125","Lindab FireProtect Rund",80,225,{"$f":"G21783*(1-VLOOKUP(F21783,Konditionen!$B:$G,6,0))","v":225}]
["Entrauchung","TCPUFP","TCPUFP450200","T-Stück   TCPUFP   450.200","Lindab FireProtect Rund",80,289.75,{"$f":"G21793*(1-VLOOKUP(F21793,Konditionen!$B:$G,6,0))","v":289.75}]
["Entrauchung","TCPUFP","TCPUFP630400","T-Stück   TCPUFP   630.400","Lindab FireProtect Rund",80,653.6,{"$f":"G21814*(1-VLOOKUP(F21814,Konditionen!$B:$G,6,0))","v":653.6}]
["Entrauchung","TCUFP","TCUFP112160","T-Stück   TCUFP   112.160","Lindab FireProtect Rund",80,123.95,{"$f":"G21828*(1-VLOOKUP(F21828,Konditionen!$B:$G,6,0))","v":123.95}]
["Entrauchung","TCUFP","TCUFP125140","T-Stück   TCUFP   125.140","Lindab FireProtect Rund",80,120.15,{"$f":"G21835*(1-VLOOKUP(F21835,Konditionen!$B:$G,6,0))","v":120.15}]
["Entrauchung","TCUFP","TCUFP12580","T-Stück   TCUFP   125.80","Lindab FireProtect Rund",80,88.5,{"$f":"G21847*(1-VLOOKUP(F21847,Konditionen!$B:$G,6,0))","v":88.5}]
["Entrauchung","TCUFP","TCUFP150200","T-Stück   TCUFP   150.200","Lindab FireProtect Rund",80,175.3,{"$f":"G21857*(1-VLOOKUP(F21857,Konditionen!$B:$G,6,0))","v":175.3}]
["Entrauchung","TCUFP","TCUFP180280","T-Stück   TCUFP   180.280","Lindab FireProtect Rund",80,222.7,{"$f":"G21870*(1-VLOOKUP(F21870,Konditionen!$B:$G,6,0))","v":222.7}]
["Entrauchung","TCUFP","TCUFP224250","T-Stück   TCUFP   224.250","Lindab FireProtect Rund",80,212.35,{"$f":"G21879*(1-VLOOKUP(F21879,Konditionen!$B:$G,6,0))","v":212.35}]
["Entrauchung","TCUFP","TCUFP280300","T-Stück   TCUFP   280.300","Lindab FireProtect Rund",80,277.2,{"$f":"G21893*(1-VLOOKUP(F21893,Konditionen!$B:$G,6,0))","v":277.2}]
["Entrauchung","TCUFP","TCUFP315112","T-Stück   TCUFP   315.112","Lindab FireProtect Rund",80,191.05,{"$f":"G21905*(1-VLOOKUP(F21905,Konditionen!$B:$G,6,0))","v":191.05}]
["Entrauchung","TCUFP","TCUFP355500","T-Stück   TCUFP   355.500","Lindab FireProtect Rund",80,563,{"$f":"G21921*(1-VLOOKUP(F21921,Konditionen!$B:$G,6,0))","v":563}]
["Entrauchung","TCUFP","TCUFP450280","T-Stück   TCUFP   450.280","Lindab FireProtect Rund",80,331.55,{"$f":"G21938*(1-VLOOKUP(F21938,Konditionen!$B:$G,6,0))","v":331.55}]
["Entrauchung","TCUFP","TCUFP450560","T-Stück   TCUFP   450.560","Lindab FireProtect Rund",80,702.1,{"$f":"G21943*(1-VLOOKUP(F21943,Konditionen!$B:$G,6,0))","v":702.1}]
["Entrauchung","TCUFP","TCUFP560224","T-Stück   TCUFP   560.224","Lindab FireProtect Rund",80,397.95,{"$f":"G21961*(1-VLOOKUP(F21961,Konditionen!$B:$G,6,0))","v":397.95}]
["Entrauchung","TCUFP","TCUFP560630","T-Stück   TCUFP   560.630","Lindab FireProtect Rund",80,1095,{"$f":"G21969*(1-VLOOKUP(F21969,Konditionen!$B:$G,6,0))","v":1095}]
["Entrauchung","TCUFP","TCUFP6301000","T-Stück   TCUFP   630.1000","Lindab FireProtect Rund",80,1907,{"$f":"G21985*(1-VLOOKUP(F21985,Konditionen!$B:$G,6,0))","v":1907}]
["Entrauchung","TCUFP","TCUFP630630","T-Stück   TCUFP   630.630","Lindab FireProtect Rund",80,899.6,{"$f":"G21994*(1-VLOOKUP(F21994,Konditionen!$B:$G,6,0))","v":899.6}]
["Entrauchung","WXHU","WXHUAAV160","Entrauchungsklappe WXHU-AA-V-160","für automatische Aktivierung",80,793.7,{"$f":"G22011*(1-VLOOKUP(F22011,Konditionen!$B:$G,6,0))","v":793.7}]
["Entrauchung","WXHU","WXHUMAV355","Entrauchungsklappe WXHU-MA-V-355","für manuelle Aktivierung",80,973.75,{"$f":"G22029*(1-VLOOKUP(F22029,Konditionen!$B:$G,6,0))","v":973.75}]
["Entrauchung","WXHU","WXHUMAV400","Entrauchungsklappe WXHU-MA-V-400","für manuelle Aktivierung",80,987.15,{"$f":"G22033*(1-VLOOKUP(F22033,Konditionen!$B:$G,6,0))","v":987.15}]
["Entrauchung","WXHU","WXHUMAV630","Entrauchungsklappe WXHU-MA-V-630","für manuelle Aktivierung",80,1098,{"$f":"G22049*(1-VLOOKUP(F22049,Konditionen!$B:$G,6,0))","v":1098}]
["Entrauchung","QFPEVS","QFPEVS201565","Weichstoffkompensator           STK","B=201mm x H=565mm",80,851.3,{"$f":"G22062*(1-VLOOKUP(F22062,Konditionen!$B:$G,6,0))","v":851.3}]
["Entrauchung","QFPEVS","QFPEVS252565","Weichstoffkompensator           STK","B=252mm x H=565mm",80,867.55,{"$f":"G22075*(1-VLOOKUP(F22075,Konditionen!$B:$G,6,0))","v":867.55}]
["Entrauchung","QFPEVS","QFPEVS318400","Weichstoffkompensator           STK","B=318mm x H=400mm",80,835.65,{"$f":"G22085*(1-VLOOKUP(F22085,Konditionen!$B:$G,6,0))","v":835.65}]
["Entrauchung","QFPEVS","QFPEVS357357","Weichstoffkompensator           STK","B=357mm x H=357mm",80,834.5,{"$f":"G22097*(1-VLOOKUP(F22097,Konditionen!$B:$G,6,0))","v":834.5}]
["Entrauchung","QFPEVS","QFPEVS400797","Weichstoffkompensator           STK","B=400mm x H=797mm",80,990.25,{"$f":"G22117*(1-VLOOKUP(F22117,Konditionen!$B:$G,6,0))","v":990.25}]
["Entrauchung","QFPEVS","QFPEVS449797","Weichstoffkompensator           STK","B=449mm x H=797mm",80,1006,{"$f":"G22130*(1-VLOOKUP(F22130,Konditionen!$B:$G,6,0))","v":1006}]
["Entrauchung","QFPEVS","QFPEVS503503","Weichstoffkompensator           STK","B=503mm x H=503mm",80,928.6,{"$f":"G22139*(1-VLOOKUP(F22139,Konditionen!$B:$G,6,0))","v":928.6}]
["Entrauchung","QFPEVS","QFPEVS565565","Weichstoffkompensator           STK","B=565mm x H=565mm",80,968.55,{"$f":"G22153*(1-VLOOKUP(F22153,Konditionen!$B:$G,6,0))","v":968.55}]
["Entrauchung","QFPEVS","QFPEVS634318","Weichstoffkompensator           STK","B=634mm x H=318mm",80,911.3,{"$f":"G22161*(1-VLOOKUP(F22161,Konditionen!$B:$G,6,0))","v":911.3}]
["Entrauchung","QFPEVS","QFPEVS711201","Weichstoffkompensator           STK","B=711mm x H=201mm",80,898.35,{"$f":"G22172*(1-VLOOKUP(F22172,Konditionen!$B:$G,6,0))","v":898.35}]
["Entrauchung","QFPEVS","QFPEVS711900","Weichstoffkompensator           STK","B=711mm x H=900mm",80,1124,{"$f":"G22183*(1-VLOOKUP(F22183,Konditionen!$B:$G,6,0))","v":1124}]
["Entrauchung","QFPEVS","QFPEVS894449","Weichstoffkompensator           STK","B=894mm x H=449mm",80,1037,{"$f":"G22203*(1-VLOOKUP(F22203,Konditionen!$B:$G,6,0))","v":1037}]
["Entrauchung","QFPEVS","QFPEVS894900","Weichstoffkompensator           STK","B=894mm x H=900mm",80,1182,{"$f":"G22209*(1-VLOOKUP(F22209,Konditionen!$B:$G,6,0))","v":1182}]
["Entrauchung","QFPEVS","QFPEVS1125252","Weichstoffkompensator           STK","B=1125mm x H=252mm",80,1049,{"$f":"G22225*(1-VLOOKUP(F22225,Konditionen!$B:$G,6,0))","v":1049}]
["Entrauchung","QFPEVS","QFPEVS1262357","Weichstoffkompensator           STK","B=1262mm x H=357mm",80,1126,{"$f":"G22240*(1-VLOOKUP(F22240,Konditionen!$B:$G,6,0))","v":1126}]
["Entrauchung","QFPEVS","QFPEVS1262797","Weichstoffkompensator           STK","B=1262mm x H=797mm",80,1268,{"$f":"G22247*(1-VLOOKUP(F22247,Konditionen!$B:$G,6,0))","v":1268}]
["Brandschutzklappen und Zubehör","BTZ2","BTZ2200","Absperrvorrichtung BTZ-2-EI90SK 200","als Brandschutzventil m. Rahmen KKS",8006,290.64999999999998,{"$f":"G22267*(1-VLOOKUP(F22267,Konditionen!$B:$G,6,0))","v":290.64999999999998}]
["Brandschutzklappen und Zubehör","KRS","KRSM80","KRS-M 80 Kaltrauchsperre","DN 80, Einbaulänge 30 mm",8006,32.549999999999997,{"$f":"G22273*(1-VLOOKUP(F22273,Konditionen!$B:$G,6,0))","v":32.549999999999997}]
["Brandschutzklappen und Zubehör","WH45","TAMPWH45400","Paneele TAMPWH45.400","1 Satz = 4 Teile",8006,112.7,{"$f":"G22289*(1-VLOOKUP(F22289,Konditionen!$B:$G,6,0))","v":112.7}]
["Brandschutzklappen und Zubehör","WHKFCKIT","WHKFCKIT","Endlagenschalter WHKFCKIT","Anzeige geschlossen",8006,25.9,{"$f":"G22296*(1-VLOOKUP(F22296,Konditionen!$B:$G,6,0))","v":25.9}]
["Brandschutzklappen und Zubehör","WH45","WH45BS2800","Brandschutzklappe WH45 800","mit 2 Endlageschaltern, L = 620 mm",8006,511.8,{"$f":"G22311*(1-VLOOKUP(F22311,Konditionen!$B:$G,6,0))","v":511.8}]
["Brandschutzklappen und Zubehör","WK45","WK45BS21000450","Brandschutzklappe WK45 1000x450","Typ: WK45B-S2-M0-1000450 + WKSPAC",8006,470.4,{"$f":"G22331*(1-VLOOKUP(F22331,Konditionen!$B:$G,6,0))","v":470.4}]
["Brandschutzklappen und Zubehör","WK45","WK45BS21050300","Brandschutzklappe WK45 1050x300","Typ: WK45B-S2-M0-1050300 + WKSPAC",8006,429.95,{"$f":"G22341*(1-VLOOKUP(F22341,Konditionen!$B:$G,6,0))","v":429.95}]
["Brandschutzklappen und Zubehör","WK45","WK45BS21100250","Brandschutzklappe WK45 1100x250","Typ: WK45B-S2-M0-1100250 + WKSPAC",8006,421.45,{"$f":"G22353*(1-VLOOKUP(F22353,Konditionen!$B:$G,6,0))","v":421.45}]
["Brandschutzklappen und Zubehör","WK45","WK45BS21100800","Brandschutzklappe WK45 1100x800","Typ: WK45B-S2-M0-1100800 + WKSPAC",8006,609.6,{"$f":"G22364*(1-VLOOKUP(F22364,Konditionen!$B:$G,6,0))","v":609.6}]
["Brandschutzklappen und Zubehör","WK45","WK45BS21150700","Brandschutzklappe WK45 1150x700","Typ: WK45B-S2-M0-1150700 + WKSPAC",8006,589.5,{"$f":"G22375*(1-VLOOKUP(F22375,Konditionen!$B:$G,6,0))","v":589.5}]
["Brandschutzklappen und Zubehör","WK45","WK45BS21200650","Brandschutzklappe WK45 1200x650","Typ: WK45B-S2-M0-1200650 + WKSPAC",8006,582.29999999999995,{"$f":"G22387*(1-VLOOKUP(F22387,Konditionen!$B:$G,6,0))","v":582.29999999999995}]
["Brandschutzklappen und Zubehör","WK45","WK45BS21250700","Brandschutzklappe WK45 1250x700","Typ: WK45B-S2-M0-1250700 + WKSPAC",8006,614.04999999999995,{"$f":"G22401*(1-VLOOKUP(F22401,Konditionen!$B:$G,6,0))","v":614.04999999999995}]
["Brandschutzklappen und Zubehör","WK45","WK45BS21350200","Brandschutzklappe WK45 1350x200","Typ: WK45B-S2-M0-1350200 + WKSPAC",8006,447.05,{"$f":"G22417*(1-VLOOKUP(F22417,Konditionen!$B:$G,6,0))","v":447.05}]
["Brandschutzklappen und Zubehör","WK45","WK45BS21400300","Brandschutzklappe WK45 1400x300","Typ: WK45B-S2-M0-1400300 + WKSPAC",8006,491.2,{"$f":"G22432*(1-VLOOKUP(F22432,Konditionen!$B:$G,6,0))","v":491.2}]
["Brandschutzklappen und Zubehör","WK45","WK45BS21450200","Brandschutzklappe WK45 1450x200","Typ: WK45B-S2-M0-1450200 + WKSPAC",8006,461.95,{"$f":"G22443*(1-VLOOKUP(F22443,Konditionen!$B:$G,6,0))","v":461.95}]
["Brandschutzklappen und Zubehör","WK45","WK45BS21450800","Brandschutzklappe WK45 1450x800","Typ: WK45B-S2-M0-1450800 + WKSPAC",8006,704.95,{"$f":"G22455*(1-VLOOKUP(F22455,Konditionen!$B:$G,6,0))","v":704.95}]
["Brandschutzklappen und Zubehör","WK45","WK45BS21500650","Brandschutzklappe WK45 1500x650","Typ: WK45B-S2-M0-1500650 + WKSPAC",8006,655.65,{"$f":"G22465*(1-VLOOKUP(F22465,Konditionen!$B:$G,6,0))","v":655.65}]
["Brandschutzklappen und Zubehör","WK45","WK45BS2200800","Brandschutzklappe WK45 200x800","Typ: WK45B-S2-M0-0200800 + WKSPAC",8006,357.3,{"$f":"G22481*(1-VLOOKUP(F22481,Konditionen!$B:$G,6,0))","v":357.3}]
["Brandschutzklappen und Zubehör","WK45","WK45BS2250500","Brandschutzklappe WK45 250x500","Typ: WK45B-S2-M0-0250500 + WKSPAC",8006,320.10000000000002,{"$f":"G22488*(1-VLOOKUP(F22488,Konditionen!$B:$G,6,0))","v":320.10000000000002}]
["Brandschutzklappen und Zubehör","WK45","WK45BS2300800","Brandschutzklappe WK45 300x800","Typ: WK45B-S2-M0-0300800 + WKSPAC",8006,383.7,{"$f":"G22507*(1-VLOOKUP(F22507,Konditionen!$B:$G,6,0))","v":383.7}]
["Brandschutzklappen und Zubehör","WK45","WK45BS2350350","Brandschutzklappe WK45 350x350","Typ: WK45B-S2-M0-0350350 + WKSPAC",8006,312.14999999999998,{"$f":"G22511*(1-VLOOKUP(F22511,Konditionen!$B:$G,6,0))","v":312.14999999999998}]
["Brandschutzklappen und Zubehör","WK45","WK45BS2400600","Brandschutzklappe WK45 400x600","Typ: WK45B-S2-M0-0400600 + WKSPAC",8006,372.7,{"$f":"G22529*(1-VLOOKUP(F22529,Konditionen!$B:$G,6,0))","v":372.7}]
["Brandschutzklappen und Zubehör","WK45","WK45BS2450300","Brandschutzklappe WK45 450x300","Typ: WK45B-S2-M0-0450300 + WKSPAC",8006,324.2,{"$f":"G22536*(1-VLOOKUP(F22536,Konditionen!$B:$G,6,0))","v":324.2}]
["Brandschutzklappen und Zubehör","WK45","WK45BS2500650","Brandschutzklappe WK45 500x650","Typ: WK45B-S2-M0-0500650 + WKSPAC",8006,405.7,{"$f":"G22556*(1-VLOOKUP(F22556,Konditionen!$B:$G,6,0))","v":405.7}]
["Brandschutzklappen und Zubehör","WK45","WK45BS2550750","Brandschutzklappe WK45 550x750","Typ: WK45B-S2-M0-0550750 + WKSPAC",8006,447.45,{"$f":"G22571*(1-VLOOKUP(F22571,Konditionen!$B:$G,6,0))","v":447.45}]
["Brandschutzklappen und Zubehör","WK45","WK45BS2600500","Brandschutzklappe WK45 600x500","Typ: WK45B-S2-M0-0600500 + WKSPAC",8006,395.35,{"$f":"G22579*(1-VLOOKUP(F22579,Konditionen!$B:$G,6,0))","v":395.35}]
["Brandschutzklappen und Zubehör","WK45","WK45BS2650550","Brandschutzklappe WK45 650x550","Typ: WK45B-S2-M0-0650550 + WKSPAC",8006,417.3,{"$f":"G22593*(1-VLOOKUP(F22593,Konditionen!$B:$G,6,0))","v":417.3}]
["Brandschutzklappen und Zubehör","WK45","WK45BS2700250","Brandschutzklappe WK45 700x250","Typ: WK45B-S2-M0-0700250 + WKSPAC",8006,354.1,{"$f":"G22600*(1-VLOOKUP(F22600,Konditionen!$B:$G,6,0))","v":354.1}]
["Brandschutzklappen und Zubehör","WK45","WK45BS2750200","Brandschutzklappe WK45 750x200","Typ: WK45B-S2-M0-0750200 + WKSPAC",8006,352.35,{"$f":"G22612*(1-VLOOKUP(F22612,Konditionen!$B:$G,6,0))","v":352.35}]
["Brandschutzklappen und Zubehör","WK45","WK45BS2750700","Brandschutzklappe WK45 750x700","Typ: WK45B-S2-M0-0750700 + WKSPAC",8006,486.75,{"$f":"G22622*(1-VLOOKUP(F22622,Konditionen!$B:$G,6,0))","v":486.75}]
["Brandschutzklappen und Zubehör","WK45","WK45BS2800700","Brandschutzklappe WK45 800x700","Typ: WK45B-S2-M0-0800700 + WKSPAC",8006,501.1,{"$f":"G22635*(1-VLOOKUP(F22635,Konditionen!$B:$G,6,0))","v":501.1}]
["Brandschutzklappen und Zubehör","WK45","WK45BS2900500","Brandschutzklappe WK45 900x500","Typ: WK45B-S2-M0-0900500 + WKSPAC",8006,465.65,{"$f":"G22657*(1-VLOOKUP(F22657,Konditionen!$B:$G,6,0))","v":465.65}]
["Brandschutzklappen und Zubehör","WK45","WK45BS2950300","Brandschutzklappe WK45 950x300","Typ: WK45B-S2-M0-0950300 + WKSPAC",8006,407,{"$f":"G22666*(1-VLOOKUP(F22666,Konditionen!$B:$G,6,0))","v":407}]
["Brandschutzklappen und Zubehör","WK45","WK45B1000300","Brandschutzklappe WK45 1000x300","Typ: WK45B1000300 + WKSPAC",8006,381.6,{"$f":"G22679*(1-VLOOKUP(F22679,Konditionen!$B:$G,6,0))","v":381.6}]
["Brandschutzklappen und Zubehör","WK45","WK45B1000650","Brandschutzklappe WK45 1000x650","Typ: WK45B1000650 + WKSPAC",8006,494.45,{"$f":"G22686*(1-VLOOKUP(F22686,Konditionen!$B:$G,6,0))","v":494.45}]
["Brandschutzklappen und Zubehör","WK45","WK45B1050650","Brandschutzklappe WK45 1050x650","Typ: WK45B1050650 + WKSPAC",8006,507.1,{"$f":"G22699*(1-VLOOKUP(F22699,Konditionen!$B:$G,6,0))","v":507.1}]
["Brandschutzklappen und Zubehör","WK45","WK45B1150450","Brandschutzklappe WK45 1150x450","Typ: WK45B1150450 + WKSPAC",8006,461.35,{"$f":"G22721*(1-VLOOKUP(F22721,Konditionen!$B:$G,6,0))","v":461.35}]
["Brandschutzklappen und Zubehör","WK45","WK45B1200450","Brandschutzklappe WK45 1200x450","Typ: WK45B1200450 + WKSPAC",8006,471.15,{"$f":"G22734*(1-VLOOKUP(F22734,Konditionen!$B:$G,6,0))","v":471.15}]
["Brandschutzklappen und Zubehör","WK45","WK45B1250250","Brandschutzklappe WK45 1250x250","Typ: WK45B1250250 + WKSPAC",8006,406.05,{"$f":"G22743*(1-VLOOKUP(F22743,Konditionen!$B:$G,6,0))","v":406.05}]
["Brandschutzklappen und Zubehör","WK45","WK45B1250600","Brandschutzklappe WK45 1250x600","Typ: WK45B1250600 + WKSPAC",8006,536.54999999999995,{"$f":"G22750*(1-VLOOKUP(F22750,Konditionen!$B:$G,6,0))","v":536.54999999999995}]
["Brandschutzklappen und Zubehör","WK45","WK45B1300800","Brandschutzklappe WK45 1300x800","Typ: WK45B1300800 + WKSPAC",8006,621.95000000000005,{"$f":"G22767*(1-VLOOKUP(F22767,Konditionen!$B:$G,6,0))","v":621.95000000000005}]
["Brandschutzklappen und Zubehör","WK45","WK45B1400400","Brandschutzklappe WK45 1400x400","Typ: WK45B1400400 + WKSPAC",8006,493.8,{"$f":"G22785*(1-VLOOKUP(F22785,Konditionen!$B:$G,6,0))","v":493.8}]
["Brandschutzklappen und Zubehör","WK45","WK45B1400650","Brandschutzklappe WK45 1400x650","Typ: WK45B1400650 + WKSPAC",8006,591.5,{"$f":"G22790*(1-VLOOKUP(F22790,Konditionen!$B:$G,6,0))","v":591.5}]
["Brandschutzklappen und Zubehör","WK45","WK45B1500200","Brandschutzklappe WK45 1500x200","Typ: WK45B1500200 + WKSPAC",8006,430.1,{"$f":"G22807*(1-VLOOKUP(F22807,Konditionen!$B:$G,6,0))","v":430.1}]
["Brandschutzklappen und Zubehör","WK45","WK45B1500550","Brandschutzklappe WK45 1500x550","Typ: WK45B1500550 + WKSPAC",8006,574.4,{"$f":"G22814*(1-VLOOKUP(F22814,Konditionen!$B:$G,6,0))","v":574.4}]
["Brandschutzklappen und Zubehör","WK45","WK45B250500","Brandschutzklappe WK45 250x500","Typ: WK45B250500 + WKSPAC",8006,281.8,{"$f":"G22835*(1-VLOOKUP(F22835,Konditionen!$B:$G,6,0))","v":281.8}]
["Brandschutzklappen und Zubehör","WK45","WK45B250550","Brandschutzklappe WK45 250x550","Typ: WK45B250550 + WKSPAC",8006,289.75,{"$f":"G22836*(1-VLOOKUP(F22836,Konditionen!$B:$G,6,0))","v":289.75}]
["Brandschutzklappen und Zubehör","WK45","WK45B350600","Brandschutzklappe WK45 350x600","Typ: WK45B350600 + WKSPAC",8006,321.5,{"$f":"G22858*(1-VLOOKUP(F22858,Konditionen!$B:$G,6,0))","v":321.5}]
["Brandschutzklappen und Zubehör","WK45","WK45B400250","Brandschutzklappe WK45 400x250","Typ: WK45B400250 + WKSPAC",8006,267.60000000000002,{"$f":"G22862*(1-VLOOKUP(F22862,Konditionen!$B:$G,6,0))","v":267.60000000000002}]
["Brandschutzklappen und Zubehör","WK45","WK45B450550","Brandschutzklappe WK45 450x550","Typ: WK45B450550 + WKSPAC",8006,334.75,{"$f":"G22881*(1-VLOOKUP(F22881,Konditionen!$B:$G,6,0))","v":334.75}]
["Brandschutzklappen und Zubehör","WK45","WK45B500700","Brandschutzklappe WK45 500x700","Typ: WK45B500700 + WKSPAC",8006,379.05,{"$f":"G22897*(1-VLOOKUP(F22897,Konditionen!$B:$G,6,0))","v":379.05}]
["Brandschutzklappen und Zubehör","WK45","WK45B550200","Brandschutzklappe WK45 550x200","Typ: WK45B550200 + WKSPAC",8006,283.55,{"$f":"G22900*(1-VLOOKUP(F22900,Konditionen!$B:$G,6,0))","v":283.55}]
["Brandschutzklappen und Zubehör","WK45","WK45B600250","Brandschutzklappe WK45 600x250","Typ: WK45B600250 + WKSPAC",8006,299.8,{"$f":"G22914*(1-VLOOKUP(F22914,Konditionen!$B:$G,6,0))","v":299.8}]
["Brandschutzklappen und Zubehör","WK45","WK45B650200","Brandschutzklappe WK45 650x200","Typ: WK45B650200 + WKSPAC",8006,298.3,{"$f":"G22926*(1-VLOOKUP(F22926,Konditionen!$B:$G,6,0))","v":298.3}]
["Brandschutzklappen und Zubehör","WK45","WK45B650750","Brandschutzklappe WK45 650x750","Typ: WK45B650750 + WKSPAC",8006,433.75,{"$f":"G22937*(1-VLOOKUP(F22937,Konditionen!$B:$G,6,0))","v":433.75}]
["Brandschutzklappen und Zubehör","WK45","WK45B750650","Brandschutzklappe WK45 750x650","Typ: WK45B750650 + WKSPAC",8006,432.45,{"$f":"G22961*(1-VLOOKUP(F22961,Konditionen!$B:$G,6,0))","v":432.45}]
["Brandschutzklappen und Zubehör","WK45","WK45B800350","Brandschutzklappe WK45 800x350","Typ: WK45B800350 + WKSPAC",8006,358.15,{"$f":"G22968*(1-VLOOKUP(F22968,Konditionen!$B:$G,6,0))","v":358.15}]
["Brandschutzklappen und Zubehör","WK45","WK45B850400","Brandschutzklappe WK45 850x400","Typ: WK45B850400 + WKSPAC",8006,381.4,{"$f":"G22982*(1-VLOOKUP(F22982,Konditionen!$B:$G,6,0))","v":381.4}]
["Brandschutzklappen und Zubehör","WK45","WK45B850800","Brandschutzklappe WK45 850x800","Typ: WK45B850800 + WKSPAC",8006,501.1,{"$f":"G22990*(1-VLOOKUP(F22990,Konditionen!$B:$G,6,0))","v":501.1}]
["Brandschutzklappen und Zubehör","WK45","WK45B950250","Brandschutzklappe WK45 950x250","Typ: WK45B950250 + WKSPAC",8006,352.85,{"$f":"G23005*(1-VLOOKUP(F23005,Konditionen!$B:$G,6,0))","v":352.85}]
["Brandschutzklappen und Zubehör","WK45","WK45B950600","Brandschutzklappe WK45 950x600","Typ: WK45B950600 + WKSPAC",8006,468.15,{"$f":"G23012*(1-VLOOKUP(F23012,Konditionen!$B:$G,6,0))","v":468.15}]
["Brandschutzklappen und Zubehör","WK45","WK45VMBM250350","Brandschutzklappe WK45 250x350","Typ: WK45VMBM250350 + WKSPAC",8006,721.35,{"$f":"G23032*(1-VLOOKUP(F23032,Konditionen!$B:$G,6,0))","v":721.35}]
["Brandschutzklappen und Zubehör","WK45","WK45VMBM250650","Brandschutzklappe WK45 250x650","Typ: WK45VMBM250650 + WKSPAC",8006,770.45,{"$f":"G23038*(1-VLOOKUP(F23038,Konditionen!$B:$G,6,0))","v":770.45}]
["Brandschutzklappen und Zubehör","WK45","WK45VMBM350400","Brandschutzklappe WK45 350x400","Typ: WK45VMBM350400 + WKSPAC",8006,748.35,{"$f":"G23054*(1-VLOOKUP(F23054,Konditionen!$B:$G,6,0))","v":748.35}]
["Brandschutzklappen und Zubehör","WK45","WK45VMBM400800","Brandschutzklappe WK45 400x800","Typ: WK45VMBM400800 + WKSPAC",8006,836.15,{"$f":"G23073*(1-VLOOKUP(F23073,Konditionen!$B:$G,6,0))","v":836.15}]
["Brandschutzklappen und Zubehör","WK45","WK45VMBM450300","Brandschutzklappe WK45 450x300","Typ: WK45VMBM450300 + WKSPAC",8006,746.85,{"$f":"G23076*(1-VLOOKUP(F23076,Konditionen!$B:$G,6,0))","v":746.85}]
["Brandschutzklappen und Zubehör","WK45","WK45VMBM500650","Brandschutzklappe WK45 500x650","Typ: WK45VMBM500650 + WKSPAC",8006,829.85,{"$f":"G23096*(1-VLOOKUP(F23096,Konditionen!$B:$G,6,0))","v":829.85}]
["Brandschutzklappen und Zubehör","WK45","WK45VMBM550500","Brandschutzklappe WK45 550x500","Typ: WK45VMBM550500 + WKSPAC",8006,809.7,{"$f":"G23106*(1-VLOOKUP(F23106,Konditionen!$B:$G,6,0))","v":809.7}]
["Brandschutzklappen und Zubehör","WK45","WK45VMBM600450","Brandschutzklappe WK45 600x450","Typ: WK45VMBM600450 + WKSPAC",8006,806.75,{"$f":"G23118*(1-VLOOKUP(F23118,Konditionen!$B:$G,6,0))","v":806.75}]
["Brandschutzklappen und Zubehör","WK45","WK45VMBM650750","Brandschutzklappe WK45 650x750","Typ: WK45VMBM650750 + WKSPAC",8006,895.55,{"$f":"G23137*(1-VLOOKUP(F23137,Konditionen!$B:$G,6,0))","v":895.55}]
["Brandschutzklappen und Zubehör","WK45","WK45VMBM700250","Brandschutzklappe WK45 700x250","Typ: WK45VMBM700250 + WKSPAC",8006,775.5,{"$f":"G23140*(1-VLOOKUP(F23140,Konditionen!$B:$G,6,0))","v":775.5}]
["Brandschutzklappen und Zubehör","WK45","WK45VMBM750600","Brandschutzklappe WK45 750x600","Typ: WK45VMBM750600 + WKSPAC",8006,881.8,{"$f":"G23160*(1-VLOOKUP(F23160,Konditionen!$B:$G,6,0))","v":881.8}]
["Brandschutzklappen und Zubehör","WK45","WK45VMBM800700","Brandschutzklappe WK45 800x700","Typ: WK45VMBM800700 + WKSPAC",8006,920.8,{"$f":"G23175*(1-VLOOKUP(F23175,Konditionen!$B:$G,6,0))","v":920.8}]
["Brandschutzklappen und Zubehör","WK45","WK45VMBM850400","Brandschutzklappe WK45 850x400","Typ: WK45VMBM850400 + WKSPAC",8006,841.9,{"$f":"G23182*(1-VLOOKUP(F23182,Konditionen!$B:$G,6,0))","v":841.9}]
["Brandschutzklappen und Zubehör","WK45","WK45VMBM900300","Brandschutzklappe WK45 900x300","Typ: WK45VMBM900300 + WKSPAC",8006,821.25,{"$f":"G23193*(1-VLOOKUP(F23193,Konditionen!$B:$G,6,0))","v":821.25}]
["Brandschutzklappen und Zubehör","WK45","WK45VMBM950200","Brandschutzklappe WK45 950x200","Typ: WK45VMBM950200 + WKSPAC",8006,803.75,{"$f":"G23204*(1-VLOOKUP(F23204,Konditionen!$B:$G,6,0))","v":803.75}]
["Brandschutzklappen und Zubehör","WK45","WK45VMBM950800","Brandschutzklappe WK45 950x800","Typ: WK45VMBM950800 + WKSPAC",8006,986.75,{"$f":"G23216*(1-VLOOKUP(F23216,Konditionen!$B:$G,6,0))","v":986.75}]
["Brandschutzklappen und Zubehör","WK45","WK45VMBM1050200","Brandschutzklappe WK45 1050x200","Typ: WK45VMBM1050200 + WKSPAC",8006,818.85,{"$f":"G23230*(1-VLOOKUP(F23230,Konditionen!$B:$G,6,0))","v":818.85}]
["Brandschutzklappen und Zubehör","WK45","WK45VMBM1100350","Brandschutzklappe WK45 1100x350","Typ: WK45VMBM1100350 + WKSPAC",8006,878.3,{"$f":"G23246*(1-VLOOKUP(F23246,Konditionen!$B:$G,6,0))","v":878.3}]
["Brandschutzklappen und Zubehör","WK45","WK45VMBM1150450","Brandschutzklappe WK45 1150x450","Typ: WK45VMBM1150450 + WKSPAC",8006,920.25,{"$f":"G23261*(1-VLOOKUP(F23261,Konditionen!$B:$G,6,0))","v":920.25}]
["Brandschutzklappen und Zubehör","WK45","WK45VGBM1150800","Brandschutzklappe WK45 1150x800","Typ: WK45VGBM1150800 + WKSPAC",8006,1144,{"$f":"G23268*(1-VLOOKUP(F23268,Konditionen!$B:$G,6,0))","v":1144}]
["Brandschutzklappen und Zubehör","WK45","WK45VMBM1250300","Brandschutzklappe WK45 1250x300","Typ: WK45VMBM1250300 + WKSPAC",8006,885.6,{"$f":"G23284*(1-VLOOKUP(F23284,Konditionen!$B:$G,6,0))","v":885.6}]
["Brandschutzklappen und Zubehör","WK45","WK45VGBM1250800","Brandschutzklappe WK45 1250x800","Typ: WK45VGBM1250800 + WKSPAC",8006,1170,{"$f":"G23294*(1-VLOOKUP(F23294,Konditionen!$B:$G,6,0))","v":1170}]
["Brandschutzklappen und Zubehör","WK45","WK45VMBM1350300","Brandschutzklappe WK45 1350x300","Typ: WK45VMBM1350300 + WKSPAC",8006,904.1,{"$f":"G23310*(1-VLOOKUP(F23310,Konditionen!$B:$G,6,0))","v":904.1}]
["Brandschutzklappen und Zubehör","WK45","WK45VGBM1350650","Brandschutzklappe WK45 1350x650","Typ: WK45VGBM1350650 + WKSPAC",8006,1141,{"$f":"G23317*(1-VLOOKUP(F23317,Konditionen!$B:$G,6,0))","v":1141}]
["Brandschutzklappen und Zubehör","WK45","WK45VGBM1400750","Brandschutzklappe WK45 1400x750","Typ: WK45VGBM1400750 + WKSPAC",8006,1193,{"$f":"G23332*(1-VLOOKUP(F23332,Konditionen!$B:$G,6,0))","v":1193}]
["Brandschutzklappen und Zubehör","WK45","WK45VMBM1450500","Brandschutzklappe WK45 1450x500","Typ: WK45VMBM1450500 + WKSPAC",8006,1001,{"$f":"G23340*(1-VLOOKUP(F23340,Konditionen!$B:$G,6,0))","v":1001}]
["Brandschutzklappen und Zubehör","WK45","WK45VGBM1500750","Brandschutzklappe WK45 1500x750","Typ: WK45VGBM1500750 + WKSPAC",8006,1217,{"$f":"G23358*(1-VLOOKUP(F23358,Konditionen!$B:$G,6,0))","v":1217}]
["Brandschutzklappen und Zubehör","WK45","WK45DMBM250500","Brandschutzklappe WK45 250x500","Typ: WK45DMBM250500 + WKSPAC",8006,781.45,{"$f":"G23375*(1-VLOOKUP(F23375,Konditionen!$B:$G,6,0))","v":781.45}]
["Brandschutzklappen und Zubehör","WK45","WK45DMBM300250","Brandschutzklappe WK45 300x250","Typ: WK45DMBM300250 + WKSPAC",8006,746.45,{"$f":"G23380*(1-VLOOKUP(F23380,Konditionen!$B:$G,6,0))","v":746.45}]
["Brandschutzklappen und Zubehör","WK45","WK45DMBM350700","Brandschutzklappe WK45 350x700","Typ: WK45DMBM350700 + WKSPAC",8006,839.45,{"$f":"G23400*(1-VLOOKUP(F23400,Konditionen!$B:$G,6,0))","v":839.45}]
["Brandschutzklappen und Zubehör","WK45","WK45DMBM400550","Brandschutzklappe WK45 400x550","Typ: WK45DMBM400550 + WKSPAC",8006,822.75,{"$f":"G23408*(1-VLOOKUP(F23408,Konditionen!$B:$G,6,0))","v":822.75}]
["Brandschutzklappen und Zubehör","WK45","WK45DMBM450600","Brandschutzklappe WK45 450x600","Typ: WK45DMBM450600 + WKSPAC",8006,843.35,{"$f":"G23422*(1-VLOOKUP(F23422,Konditionen!$B:$G,6,0))","v":843.35}]
["Brandschutzklappen und Zubehör","WK45","WK45DMBM500400","Brandschutzklappe WK45 500x400","Typ: WK45DMBM500400 + WKSPAC",8006,811.6,{"$f":"G23431*(1-VLOOKUP(F23431,Konditionen!$B:$G,6,0))","v":811.6}]
["Brandschutzklappen und Zubehör","WK45","WK45DMBM550400","Brandschutzklappe WK45 550x400","Typ: WK45DMBM550400 + WKSPAC",8006,821.4,{"$f":"G23444*(1-VLOOKUP(F23444,Konditionen!$B:$G,6,0))","v":821.4}]
["Brandschutzklappen und Zubehör","WK45","WK45DMBM600750","Brandschutzklappe WK45 600x750","Typ: WK45DMBM600750 + WKSPAC",8006,917.75,{"$f":"G23464*(1-VLOOKUP(F23464,Konditionen!$B:$G,6,0))","v":917.75}]
["Brandschutzklappen und Zubehör","WK45","WK45DMBM650700","Brandschutzklappe WK45 650x700","Typ: WK45DMBM650700 + WKSPAC",8006,918.75,{"$f":"G23476*(1-VLOOKUP(F23476,Konditionen!$B:$G,6,0))","v":918.75}]
["Brandschutzklappen und Zubehör","WK45","WK45DMBM700550","Brandschutzklappe WK45 700x550","Typ: WK45DMBM700550 + WKSPAC",8006,886.4,{"$f":"G23486*(1-VLOOKUP(F23486,Konditionen!$B:$G,6,0))","v":886.4}]
["Brandschutzklappen und Zubehör","WK45","WK45DMBM750550","Brandschutzklappe WK45 750x550","Typ: WK45DMBM750550 + WKSPAC",8006,903.1,{"$f":"G23499*(1-VLOOKUP(F23499,Konditionen!$B:$G,6,0))","v":903.1}]
["Brandschutzklappen und Zubehör","WK45","WK45DMBM800350","Brandschutzklappe WK45 800x350","Typ: WK45DMBM800350 + WKSPAC",8006,853.85,{"$f":"G23508*(1-VLOOKUP(F23508,Konditionen!$B:$G,6,0))","v":853.85}]
["Brandschutzklappen und Zubehör","WK45","WK45DMBM850700","Brandschutzklappe WK45 850x700","Typ: WK45DMBM850700 + WKSPAC",8006,967.45,{"$f":"G23528*(1-VLOOKUP(F23528,Konditionen!$B:$G,6,0))","v":967.45}]
["Brandschutzklappen und Zubehör","WK45","WK45DMBM900250","Brandschutzklappe WK45 900x250","Typ: WK45DMBM900250 + WKSPAC",8006,841.45,{"$f":"G23532*(1-VLOOKUP(F23532,Konditionen!$B:$G,6,0))","v":841.45}]
["Brandschutzklappen und Zubehör","WK45","WK45DMBM950500","Brandschutzklappe WK45 950x500","Typ: WK45DMBM950500 + WKSPAC",8006,932.35,{"$f":"G23550*(1-VLOOKUP(F23550,Konditionen!$B:$G,6,0))","v":932.35}]
["Brandschutzklappen und Zubehör","WK45","WK45DMBM1000500","Brandschutzklappe WK45 1000x500","Typ: WK45DMBM1000500 + WKSPAC",8006,942.4,{"$f":"G23563*(1-VLOOKUP(F23563,Konditionen!$B:$G,6,0))","v":942.4}]
["Brandschutzklappen und Zubehör","WK45","WK45DMBM1050300","Brandschutzklappe WK45 1050x300","Typ: WK45DMBM1050300 + WKSPAC",8006,887.7,{"$f":"G23572*(1-VLOOKUP(F23572,Konditionen!$B:$G,6,0))","v":887.7}]
["Brandschutzklappen und Zubehör","WK45","WK45DMBM1100350","Brandschutzklappe WK45 1100x350","Typ: WK45DMBM1100350 + WKSPAC",8006,913.05,{"$f":"G23586*(1-VLOOKUP(F23586,Konditionen!$B:$G,6,0))","v":913.05}]
["Brandschutzklappen und Zubehör","WK45","WK45DGBM1100750","Brandschutzklappe WK45 1100x750","Typ: WK45DGBM1100750 + WKSPAC",8006,1193,{"$f":"G23594*(1-VLOOKUP(F23594,Konditionen!$B:$G,6,0))","v":1193}]
["Brandschutzklappen und Zubehör","WK45","WK45DMBM1200450","Brandschutzklappe WK45 1200x450","Typ: WK45DMBM1200450 + WKSPAC",8006,964.5,{"$f":"G23614*(1-VLOOKUP(F23614,Konditionen!$B:$G,6,0))","v":964.5}]
["Brandschutzklappen und Zubehör","WK45","WK45DGBM1200700","Brandschutzklappe WK45 1200x700","Typ: WK45DGBM1200700 + WKSPAC",8006,1201,{"$f":"G23619*(1-VLOOKUP(F23619,Konditionen!$B:$G,6,0))","v":1201}]
["Brandschutzklappen und Zubehör","WK45","WK45DMBM1300250","Brandschutzklappe WK45 1300x250","Typ: WK45DMBM1300250 + WKSPAC",8006,910.05,{"$f":"G23636*(1-VLOOKUP(F23636,Konditionen!$B:$G,6,0))","v":910.05}]
["Brandschutzklappen und Zubehör","WK45","WK45DMBM1300550","Brandschutzklappe WK45 1300x550","Typ: WK45DMBM1300550 + WKSPAC",8006,1021,{"$f":"G23642*(1-VLOOKUP(F23642,Konditionen!$B:$G,6,0))","v":1021}]
["Brandschutzklappen und Zubehör","WK45","WK45DMBM1400250","Brandschutzklappe WK45 1400x250","Typ: WK45DMBM1400250 + WKSPAC",8006,927.45,{"$f":"G23662*(1-VLOOKUP(F23662,Konditionen!$B:$G,6,0))","v":927.45}]
["Brandschutzklappen und Zubehör","WK45","WK45DMBM1450400","Brandschutzklappe WK45 1450x400","Typ: WK45DMBM1450400 + WKSPAC",8006,995.45,{"$f":"G23678*(1-VLOOKUP(F23678,Konditionen!$B:$G,6,0))","v":995.45}]
["Brandschutzklappen und Zubehör","WK45","WK45DMBM1500200","Brandschutzklappe WK45 1500x200","Typ: WK45DMBM1500200 + WKSPAC",8006,925.55,{"$f":"G23687*(1-VLOOKUP(F23687,Konditionen!$B:$G,6,0))","v":925.55}]
["Brandschutzklappen und Zubehör","WK25","WK25VSBM100200","Brandschutzklappe WK25 100x200","Typ: WK25VSBM-100200 + WKSPAC",8006,593.15,{"$f":"G23700*(1-VLOOKUP(F23700,Konditionen!$B:$G,6,0))","v":593.15}]
["Brandschutzklappen und Zubehör","WK25","WK25VSBM150250","Brandschutzklappe WK25 150x250","Typ: WK25VSBM-150250 + WKSPAC",8006,606.04999999999995,{"$f":"G23710*(1-VLOOKUP(F23710,Konditionen!$B:$G,6,0))","v":606.04999999999995}]
["Brandschutzklappen und Zubehör","WK25","WK25VSBM200600","Brandschutzklappe WK25 200x600","Typ: WK25VSBM-200600 + WKSPAC",8006,659.85,{"$f":"G23726*(1-VLOOKUP(F23726,Konditionen!$B:$G,6,0))","v":659.85}]
["Brandschutzklappen und Zubehör","WK25","WK25VSBM300500","Brandschutzklappe WK25 300x500","Typ: WK25VSBM-300500 + WKSPAC",8006,663.65,{"$f":"G23742*(1-VLOOKUP(F23742,Konditionen!$B:$G,6,0))","v":663.65}]
["Brandschutzklappen und Zubehör","WK25","WK25VSBM300550","Brandschutzklappe WK25 300x550","Typ: WK25VSBM-300550 + WKSPAC",8006,670.4,{"$f":"G23743*(1-VLOOKUP(F23743,Konditionen!$B:$G,6,0))","v":670.4}]
["Brandschutzklappen und Zubehör","WK25","WK25VSBM450250","Brandschutzklappe WK25 450x250","Typ: WK25VSBM-450250 + WKSPAC",8006,646.20000000000005,{"$f":"G23764*(1-VLOOKUP(F23764,Konditionen!$B:$G,6,0))","v":646.20000000000005}]
["Brandschutzklappen und Zubehör","WK25","WK25VSBM500500","Brandschutzklappe WK25 500x500","Typ: WK25VSBM-500500 + WKSPAC",8006,698.65,{"$f":"G23778*(1-VLOOKUP(F23778,Konditionen!$B:$G,6,0))","v":698.65}]
["Brandschutzklappen und Zubehör","WK25","WK25VSBM600200","Brandschutzklappe WK25 600x200","Typ: WK25VSBM-600200 + WKSPAC",8006,656.3,{"$f":"G23790*(1-VLOOKUP(F23790,Konditionen!$B:$G,6,0))","v":656.3}]
["Brandschutzklappen und Zubehör","WK25","WK25VSBM600350","Brandschutzklappe WK25 600x350","Typ: WK25VSBM-600350 + WKSPAC",8006,685.6,{"$f":"G23793*(1-VLOOKUP(F23793,Konditionen!$B:$G,6,0))","v":685.6}]
["Brandschutzklappen und Zubehör","WK25","WK25VSBM700350","Brandschutzklappe WK25 700x350","Typ: WK25VSBM-700350 + WKSPAC",8006,699.6,{"$f":"G23811*(1-VLOOKUP(F23811,Konditionen!$B:$G,6,0))","v":699.6}]
["Brandschutzklappen und Zubehör","WK25","WK25VSBM750300","Brandschutzklappe WK25 750x300","Typ: WK25VSBM-750300 + WKSPAC",8006,695.65,{"$f":"G23819*(1-VLOOKUP(F23819,Konditionen!$B:$G,6,0))","v":695.65}]
["Brandschutzklappen und Zubehör","WK25","WK25VSBM800600","Brandschutzklappe WK25 800x600","Typ: WK25VSBM-800600 + WKSPAC",8006,777.1,{"$f":"G23834*(1-VLOOKUP(F23834,Konditionen!$B:$G,6,0))","v":777.1}]
["Brandschutzklappen und Zubehör","WK25","WK25DSBM200250","Brandschutzklappe WK25 200x250","Typ: WK25DSBM-200250 + WKSPAC",8006,644.95000000000005,{"$f":"G23854*(1-VLOOKUP(F23854,Konditionen!$B:$G,6,0))","v":644.95000000000005}]
["Brandschutzklappen und Zubehör","WK25","WK25DSBM200400","Brandschutzklappe WK25 200x400","Typ: WK25DSBM-200400 + WKSPAC",8006,664.85,{"$f":"G23857*(1-VLOOKUP(F23857,Konditionen!$B:$G,6,0))","v":664.85}]
["Brandschutzklappen und Zubehör","WK25","WK25DSBM300450","Brandschutzklappe WK25 300x450","Typ: WK25DSBM-300450 + WKSPAC",8006,686.4,{"$f":"G23876*(1-VLOOKUP(F23876,Konditionen!$B:$G,6,0))","v":686.4}]
["Brandschutzklappen und Zubehör","WK25","WK25DSBM350350","Brandschutzklappe WK25 350x350","Typ: WK25DSBM-350350 + WKSPAC",8006,679.9,{"$f":"G23883*(1-VLOOKUP(F23883,Konditionen!$B:$G,6,0))","v":679.9}]
["Brandschutzklappen und Zubehör","WK25","WK25DSBM450400","Brandschutzklappe WK25 450x400","Typ: WK25DSBM-450400 + WKSPAC",8006,703.85,{"$f":"G23902*(1-VLOOKUP(F23902,Konditionen!$B:$G,6,0))","v":703.85}]
["Brandschutzklappen und Zubehör","WK25","WK25DSBM550300","Brandschutzklappe WK25 550x300","Typ: WK25DSBM-550300 + WKSPAC",8006,699.85,{"$f":"G23918*(1-VLOOKUP(F23918,Konditionen!$B:$G,6,0))","v":699.85}]
["Brandschutzklappen und Zubehör","WK25","WK25DSBM600200","Brandschutzklappe WK25 600x200","Typ: WK25DSBM-600200 + WKSPAC",8006,687.65,{"$f":"G23925*(1-VLOOKUP(F23925,Konditionen!$B:$G,6,0))","v":687.65}]
["Brandschutzklappen und Zubehör","WK25","WK25DSBM650500","Brandschutzklappe WK25 650x500","Typ: WK25DSBM-650500 + WKSPAC",8006,755.45,{"$f":"G23940*(1-VLOOKUP(F23940,Konditionen!$B:$G,6,0))","v":755.45}]
["Brandschutzklappen und Zubehör","WK25","WK25DSBM700400","Brandschutzklappe WK25 700x400","Typ: WK25DSBM-700400 + WKSPAC",8006,741.65,{"$f":"G23947*(1-VLOOKUP(F23947,Konditionen!$B:$G,6,0))","v":741.65}]
["Brandschutzklappen und Zubehör","WK25","WK25DSBM750500","Brandschutzklappe WK25 750x500","Typ: WK25DSBM-750500 + WKSPAC",8006,772.5,{"$f":"G23958*(1-VLOOKUP(F23958,Konditionen!$B:$G,6,0))","v":772.5}]
["Brandschutzklappen und Zubehör","WK25","WK25DSBM800600","Brandschutzklappe WK25 800x600","Typ: WK25DSBM-800600 + WKSPAC",8006,808.5,{"$f":"G23969*(1-VLOOKUP(F23969,Konditionen!$B:$G,6,0))","v":808.5}]
["Brandschutzklappen und Zubehör","WH25","WH25VSBM150","Brandschutzklappe WH25 150  24V","mit Stellantrieb Belimo BFL24T",8006,544.65,{"$f":"G23989*(1-VLOOKUP(F23989,Konditionen!$B:$G,6,0))","v":544.65}]
["Brandschutzklappen und Zubehör","WH45","WH45DMBM300","Brandschutzklappe WH45 300  230V","mit Stellmotor Belimo BFN230T",8006,722.3,{"$f":"G24004*(1-VLOOKUP(F24004,Konditionen!$B:$G,6,0))","v":722.3}]
["Brandschutzklappen und Zubehör","WH45","WH45VMBM600","Brandschutzklappe WH45 600  24V","mit Stellmotor Belimo BFN24T",8006,789.05,{"$f":"G24011*(1-VLOOKUP(F24011,Konditionen!$B:$G,6,0))","v":789.05}]
["Brandschutzklappen und Zubehör","WH25","WH25C200","Brandschutzklappe WH25C 200","L = 350 mm",8006,158.65,{"$f":"G24026*(1-VLOOKUP(F24026,Konditionen!$B:$G,6,0))","v":158.65}]
["Brandschutzklappen und Zubehör","WH25","WH25CS2125","Brandschutzklappe WH25C 125","mit 2 Endlageschaltern, L = 350 mm",8006,175.05,{"$f":"G24033*(1-VLOOKUP(F24033,Konditionen!$B:$G,6,0))","v":175.05}]
["Brandschutzklappen und Zubehör","WK25","WK25C100250","Brandschutzklappe WK25C 100x250","Typ: WK25C-S0-M0-100250",8006,214,{"$f":"G24045*(1-VLOOKUP(F24045,Konditionen!$B:$G,6,0))","v":214}]
["Brandschutzklappen und Zubehör","WK25","WK25C200500","Brandschutzklappe WK25C 200x500","Typ: WK25C-S0-M0-200500 + WKSPAC",8006,264.7,{"$f":"G24068*(1-VLOOKUP(F24068,Konditionen!$B:$G,6,0))","v":264.7}]
["Brandschutzklappen und Zubehör","WK25","WK25C300200","Brandschutzklappe WK25C 300x200","Typ: WK25C-S0-M0-300200 + WKSPAC",8006,234.45,{"$f":"G24080*(1-VLOOKUP(F24080,Konditionen!$B:$G,6,0))","v":234.45}]
["Brandschutzklappen und Zubehör","WK25","WK25C350450","Brandschutzklappe WK25C 350x450","Typ: WK25C-S0-M0-350450 + WKSPAC",8006,281.8,{"$f":"G24094*(1-VLOOKUP(F24094,Konditionen!$B:$G,6,0))","v":281.8}]
["Brandschutzklappen und Zubehör","WK25","WK25C350600","Brandschutzklappe WK25C 350x600","Typ: WK25C-S0-M0-350600 + WKSPAC",8006,307.2,{"$f":"G24097*(1-VLOOKUP(F24097,Konditionen!$B:$G,6,0))","v":307.2}]
["Brandschutzklappen und Zubehör","WK25","WK25C450500","Brandschutzklappe WK25C 450x500","Typ: WK25C-S0-M0-450500 + WKSPAC",8006,310.2,{"$f":"G24113*(1-VLOOKUP(F24113,Konditionen!$B:$G,6,0))","v":310.2}]
["Brandschutzklappen und Zubehör","WK25","WK25C550550","Brandschutzklappe WK25C 550x550","Typ: WK25C-S0-M0-550550 + WKSPAC",8006,337.8,{"$f":"G24132*(1-VLOOKUP(F24132,Konditionen!$B:$G,6,0))","v":337.8}]
["Brandschutzklappen und Zubehör","WK25","WK25C600300","Brandschutzklappe WK25C 600x300","Typ: WK25C-S0-M0-600300 + WKSPAC",8006,294.2,{"$f":"G24136*(1-VLOOKUP(F24136,Konditionen!$B:$G,6,0))","v":294.2}]
["Brandschutzklappen und Zubehör","WK25","WK25C650300","Brandschutzklappe WK25C 650x300","Typ: WK25C-S0-M0-650300 + WKSPAC",8006,301.14999999999998,{"$f":"G24145*(1-VLOOKUP(F24145,Konditionen!$B:$G,6,0))","v":301.14999999999998}]
["Brandschutzklappen und Zubehör","WK25","WK25C750200","Brandschutzklappe WK25C 750x200","Typ: WK25C-S0-M0-750200 + WKSPAC",8006,293.2,{"$f":"G24161*(1-VLOOKUP(F24161,Konditionen!$B:$G,6,0))","v":293.2}]
["Brandschutzklappen und Zubehör","WK25","WK25CS2100300","Brandschutzklappe WK25C 100x300","Typ: WK25C-S2-M0-100300",8006,251.45,{"$f":"G24181*(1-VLOOKUP(F24181,Konditionen!$B:$G,6,0))","v":251.45}]
["Brandschutzklappen und Zubehör","WK25","WK25CS2100400","Brandschutzklappe WK25C 100x400","Typ: WK25C-S2-M0-100400",8006,263.8,{"$f":"G24183*(1-VLOOKUP(F24183,Konditionen!$B:$G,6,0))","v":263.8}]
["Brandschutzklappen und Zubehör","WK25","WK25CS2200550","Brandschutzklappe WK25C 200x550","Typ: WK25C-S2-M0-200550 + WKSPAC",8006,304.89999999999998,{"$f":"G24204*(1-VLOOKUP(F24204,Konditionen!$B:$G,6,0))","v":304.89999999999998}]
["Brandschutzklappen und Zubehör","WK25","WK25CS2250350","Brandschutzklappe WK25C 250x350","Typ: WK25C-S2-M0-250350 + WKSPAC",8006,283.64999999999998,{"$f":"G24209*(1-VLOOKUP(F24209,Konditionen!$B:$G,6,0))","v":283.64999999999998}]
["Brandschutzklappen und Zubehör","WK25","WK25CS2350250","Brandschutzklappe WK25C 350x250","Typ: WK25C-S2-M0-350250 + WKSPAC",8006,282.39999999999998,{"$f":"G24225*(1-VLOOKUP(F24225,Konditionen!$B:$G,6,0))","v":282.39999999999998}]
["Brandschutzklappen und Zubehör","WK25","WK25CS2400400","Brandschutzklappe WK25C 400x400","Typ: WK25C-S2-M0-400400 + WKSPAC",8006,318.2,{"$f":"G24237*(1-VLOOKUP(F24237,Konditionen!$B:$G,6,0))","v":318.2}]
["Brandschutzklappen und Zubehör","WK25","WK25CS2500200","Brandschutzklappe WK25C 500x200","Typ: WK25C-S2-M0-500200 + WKSPAC",8006,294.85000000000002,{"$f":"G24251*(1-VLOOKUP(F24251,Konditionen!$B:$G,6,0))","v":294.85000000000002}]
["Brandschutzklappen und Zubehör","WK25","WK25CS2550200","Brandschutzklappe WK25C 550x200","Typ: WK25C-S2-M0-550200 + WKSPAC",8006,301.89999999999998,{"$f":"G24260*(1-VLOOKUP(F24260,Konditionen!$B:$G,6,0))","v":301.89999999999998}]
["Brandschutzklappen und Zubehör","WK25","WK25CS2600400","Brandschutzklappe WK25C 600x400","Typ: WK25C-S2-M0-600400 + WKSPAC",8006,351.35,{"$f":"G24273*(1-VLOOKUP(F24273,Konditionen!$B:$G,6,0))","v":351.35}]
["Brandschutzklappen und Zubehör","WK25","WK25CS2700300","Brandschutzklappe WK25C 700x300","Typ: WK25C-S2-M0-700300 + WKSPAC",8006,343.55,{"$f":"G24289*(1-VLOOKUP(F24289,Konditionen!$B:$G,6,0))","v":343.55}]
["Brandschutzklappen und Zubehör","WK25","WK25CS2800200","Brandschutzklappe WK25C 800x200","Typ: WK25C-S2-M0-800200 + WKSPAC",8006,334.55,{"$f":"G24305*(1-VLOOKUP(F24305,Konditionen!$B:$G,6,0))","v":334.55}]
["Brandschutzklappen und Zubehör","WK25","WK25CSMB","Konsole WK25CSMB für BFL Motor","inkl. Schrauben",8006,81.849999999999994,{"$f":"G24315*(1-VLOOKUP(F24315,Konditionen!$B:$G,6,0))","v":81.849999999999994}]
["Brandschutzklappen und Zubehör","FLEXBK","FLEXBK355","Flexibler Stutzen für BSK     355","bis 70°, mit 2 Bandschellen",8006,66.95,{"$f":"G24328*(1-VLOOKUP(F24328,Konditionen!$B:$G,6,0))","v":66.95}]
["Brandschutzklappen und Zubehör","QFSTBK","QFSTBK200300","Elast. Verbindung für BSK, L=150mm","200 x 300 mm mit 30mm Rahmen",8006,80.349999999999994,{"$f":"G24337*(1-VLOOKUP(F24337,Konditionen!$B:$G,6,0))","v":80.349999999999994}]
["Brandschutzklappen und Zubehör","QFSTBK","QFSTBK200800","Elast. Verbindung für BSK, L=150mm","200 x 800 mm mit 30mm Rahmen",8006,99.5,{"$f":"G24347*(1-VLOOKUP(F24347,Konditionen!$B:$G,6,0))","v":99.5}]
["Brandschutzklappen und Zubehör","QFSTBK","QFSTBK800200","Elast. Verbindung für BSK, L=150mm","800 x 200 mm mit 30mm Rahmen",8006,99.5,{"$f":"G24359*(1-VLOOKUP(F24359,Konditionen!$B:$G,6,0))","v":99.5}]
["Brandschutzklappen und Zubehör","QFSTBK","QFSTBK250550","Elast. Verbindung für BSK, L=150mm","250 x 550 mm mit 30mm Rahmen",8006,91.9,{"$f":"G24379*(1-VLOOKUP(F24379,Konditionen!$B:$G,6,0))","v":91.9}]
["Brandschutzklappen und Zubehör","QFSTBK","QFSTBK350400","Elast. Verbindung für BSK, L=150mm","350 x 400 mm mit 30mm Rahmen",8006,90,{"$f":"G24396*(1-VLOOKUP(F24396,Konditionen!$B:$G,6,0))","v":90}]
["Brandschutzklappen und Zubehör","QFSTBK","QFSTBK350650","Elast. Verbindung für BSK, L=150mm","350 x 650 mm mit 30mm Rahmen",8006,99.5,{"$f":"G24401*(1-VLOOKUP(F24401,Konditionen!$B:$G,6,0))","v":99.5}]
["Brandschutzklappen und Zubehör","QFSTBK","QFSTBK400800","Elast. Verbindung für BSK, L=150mm","400 x 800 mm mit 30mm Rahmen",8006,107.2,{"$f":"G24415*(1-VLOOKUP(F24415,Konditionen!$B:$G,6,0))","v":107.2}]
["Brandschutzklappen und Zubehör","QFSTBK","QFSTBK450650","Elast. Verbindung für BSK, L=150mm","450 x 650 mm mit 30mm Rahmen",8006,51.3,{"$f":"G24423*(1-VLOOKUP(F24423,Konditionen!$B:$G,6,0))","v":51.3}]
["Brandschutzklappen und Zubehör","QFSTBK","QFSTBK550550","Elast. Verbindung für BSK, L=150mm","550 x 550 mm mit 30mm Rahmen",8006,103.3,{"$f":"G24443*(1-VLOOKUP(F24443,Konditionen!$B:$G,6,0))","v":103.3}]
["Brandschutzklappen und Zubehör","QFSTBK","QFSTBK600450","Elast. Verbindung für BSK, L=150mm","600 x 450 mm mit 30mm Rahmen",8006,101.4,{"$f":"G24452*(1-VLOOKUP(F24452,Konditionen!$B:$G,6,0))","v":101.4}]
["Brandschutzklappen und Zubehör","QFSTBK","QFSTBK1000400","Elast. Verbindung für BSK, L=150mm","1000 x 400 mm mit 30mm Rahmen",8006,114.85,{"$f":"G24465*(1-VLOOKUP(F24465,Konditionen!$B:$G,6,0))","v":114.85}]
["Brandschutzklappen und Zubehör","QFSTBK","QFSTBK700500","Elast. Verbindung für BSK, L=150mm","700 x 500 mm mit 30mm Rahmen",8006,107.2,{"$f":"G24483*(1-VLOOKUP(F24483,Konditionen!$B:$G,6,0))","v":107.2}]
["Brandschutzklappen und Zubehör","QFSTBK","QFSTBK700700","Elast. Verbindung für BSK, L=150mm","700 x 700 mm mit 30mm Rahmen",8006,114.85,{"$f":"G24487*(1-VLOOKUP(F24487,Konditionen!$B:$G,6,0))","v":114.85}]
["Brandschutzklappen und Zubehör","QFSTBK","QFSTBK800650","Elast. Verbindung für BSK, L=150mm","800 x 650 mm mit 30mm Rahmen",8006,116.8,{"$f":"G24507*(1-VLOOKUP(F24507,Konditionen!$B:$G,6,0))","v":116.8}]
["Brandschutzklappen und Zubehör","QFSTBK","QFSTBK1000200","Elast. Verbindung für BSK, L=150mm","1000 x 200 mm mit 30mm Rahmen",8006,107.2,{"$f":"G24516*(1-VLOOKUP(F24516,Konditionen!$B:$G,6,0))","v":107.2}]
["Brandschutzklappen und Zubehör","QFSTBK","QFSTBK900200","Elast. Verbindung für BSK, L=150mm","900 x 200 mm mit 30mm Rahmen",8006,103.3,{"$f":"G24529*(1-VLOOKUP(F24529,Konditionen!$B:$G,6,0))","v":103.3}]
["Brandschutzklappen und Zubehör","QFSTBK","QFSTBK1000750","Elast. Verbindung für BSK, L=150mm","1000 x 750 mm mit 30mm Rahmen",8006,128.30000000000001,{"$f":"G24539*(1-VLOOKUP(F24539,Konditionen!$B:$G,6,0))","v":128.30000000000001}]
["Brandschutzklappen und Zubehör","QFSTBK","QFSTBK1100300","Elast. Verbindung für BSK, L=150mm","1100 x 300 mm mit 30mm Rahmen",8006,101.05,{"$f":"G24551*(1-VLOOKUP(F24551,Konditionen!$B:$G,6,0))","v":101.05}]
["Brandschutzklappen und Zubehör","WHS25","WHS25C180","Brandschutzklappe mit Einbaustein","Typ: WHS25C-S0-M0-180",8006,469.95,{"$f":"G24562*(1-VLOOKUP(F24562,Konditionen!$B:$G,6,0))","v":469.95}]
["Brandschutzklappen und Zubehör","WHS25","WHS25CS2250","Brandschutzklappe mit Einbaustein","Typ: WHS25C-S2-M0-250",8006,604.5,{"$f":"G24577*(1-VLOOKUP(F24577,Konditionen!$B:$G,6,0))","v":604.5}]
["Brandschutzklappen und Zubehör","WHS25","WHS25DSB100","Brandschutzklappe mit Einbaustein","Typ: WHS25DSB-100 / L = 340 mm",8006,818.9,{"$f":"G24593*(1-VLOOKUP(F24593,Konditionen!$B:$G,6,0))","v":818.9}]
["Brandschutzklappen und Zubehör","QFSTBK","QFSTBK1300500","Elast. Verbindung für BSK, L=150mm","1300 x 500 mm mit 30mm Rahmen",8006,147.75,{"$f":"G24607*(1-VLOOKUP(F24607,Konditionen!$B:$G,6,0))","v":147.75}]
["Brandschutzklappen und Zubehör","QFSTBK","QFSTBK1450350","Elast. Verbindung für BSK, L=150mm","1450 x 350 mm mit 30mm Rahmen",8006,147.75,{"$f":"G24615*(1-VLOOKUP(F24615,Konditionen!$B:$G,6,0))","v":147.75}]
["Brandschutzklappen und Zubehör","QFSTBK","QFSTBK1500300","Elast. Verbindung für BSK, L=150mm","1500 x 300 mm mit 30mm Rahmen",8006,147.75,{"$f":"G24630*(1-VLOOKUP(F24630,Konditionen!$B:$G,6,0))","v":147.75}]
["Brandschutzklappen und Zubehör","FBC4S0","FBC4-S0-160","FBC-4 Brandschutzklappe EI 90 S","L = 50 mm, Typ: FBC4-S0-160",8006,77.25,{"$f":"G24641*(1-VLOOKUP(F24641,Konditionen!$B:$G,6,0))","v":77.25}]
["Brandschutzklappen und Zubehör","QFSTBK","QFSTBK850550","Elast. Verbindung für BSK, L=150mm","850 x 550 mm mit 30mm Rahmen",8006,116.1,{"$f":"G24657*(1-VLOOKUP(F24657,Konditionen!$B:$G,6,0))","v":116.1}]
["Dienstleistungen & Zubehör","CSCPS2","CSCPS2","Befestigung für Nockenzange","für SR CUTTER 2            CSCPS 2","Netto",421.95,{"$f":"G24663*(1-VLOOKUP(F24663,Konditionen!$B:$G,6,0))","v":421.95}]
["Dienstleistungen & Zubehör","KAIKLEBE","KAIKLEBER1","Kaiflex Spezialkleber 0,79 Liter","*** Netto-Preis ***","Netto",22.6,{"$f":"G24683*(1-VLOOKUP(F24683,Konditionen!$B:$G,6,0))","v":22.6}]
["Dienstleistungen & Zubehör","MDH","MDH200","M-Form Rohrkonsole          MDH 200","*** Netto-Preis ***","Netto",7.55,{"$f":"G24698*(1-VLOOKUP(F24698,Konditionen!$B:$G,6,0))","v":7.55}]
["Dienstleistungen & Zubehör","MDH","MDH400","M-Form Rohrkonsole          MDH 400","*** Netto-Preis ***","Netto",25.3,{"$f":"G24705*(1-VLOOKUP(F24705,Konditionen!$B:$G,6,0))","v":25.3}]
["Dienstleistungen & Zubehör","PC410","PC410","Druck- und Strömungsmessgerät PC410","im Koffer  DE/EN","Netto",589.79999999999995,{"$f":"G24721*(1-VLOOKUP(F24721,Konditionen!$B:$G,6,0))","v":589.79999999999995}]
["Dienstleistungen & Zubehör","SREC","SKL63","Schutzkappe für SR       SREC   63","aus Kunststoff           * Netto *","Netto",0.55000000000000004,{"$f":"G24731*(1-VLOOKUP(F24731,Konditionen!$B:$G,6,0))","v":0.55000000000000004}]
["Dienstleistungen & Zubehör","GWS","GWS10","Gewindestange GWS10  M10x1000 verz.","*** Netto-Preis ***","Netto",1.05,{"$f":"G24747*(1-VLOOKUP(F24747,Konditionen!$B:$G,6,0))","v":1.05}]
["Dienstleistungen & Zubehör","HKB","HKB288X50","Hammerkopfbefestiger HKB28 8x50","für Schienen 27/18, 28/30","Netto",0.55000000000000004,{"$f":"G24754*(1-VLOOKUP(F24754,Konditionen!$B:$G,6,0))","v":0.55000000000000004}]
["Dienstleistungen & Zubehör","LSK","LSK2718500","Schienenkonsole LSK 27/18","L=500 verz. t=1,25","Netto",4.8499999999999996,{"$f":"G24769*(1-VLOOKUP(F24769,Konditionen!$B:$G,6,0))","v":4.8499999999999996}]
["Dienstleistungen & Zubehör","MSK","MSK2718","Schutzkappe  MSK 27/18    Stück","für Montageschiene 27x18 mm","Netto",0.2,{"$f":"G24785*(1-VLOOKUP(F24785,Konditionen!$B:$G,6,0))","v":0.2}]
["Dienstleistungen & Zubehör","MS","MS27182","Montageschiene MS 27/18","Länge 2000mm","Netto",4.95,{"$f":"G24791*(1-VLOOKUP(F24791,Konditionen!$B:$G,6,0))","v":4.95}]
["Dienstleistungen & Zubehör","SCHM","SCHM3840M8","Schiebemutter SCHM 38/40 M8","für Schienen 38/40, 41/41","Netto",0.35,{"$f":"G24811*(1-VLOOKUP(F24811,Konditionen!$B:$G,6,0))","v":0.35}]
["Dienstleistungen & Zubehör","SSKSUPER","SSKSUPER13","Blechtreibschraube  SSKSUPER 13","m.Bohrsp.4,2X13,St.verz. VPE=1000","Netto",14.7,{"$f":"G24822*(1-VLOOKUP(F24822,Konditionen!$B:$G,6,0))","v":14.7}]
["Dienstleistungen & Zubehör","STOCK","STOCK8X100","Stockschraube m.Holzgewinde 8 X 100","St.verz. VPE=100Stk **Netto-Preis**","Netto",8.6999999999999993,{"$f":"G24833*(1-VLOOKUP(F24833,Konditionen!$B:$G,6,0))","v":8.6999999999999993}]
["Dienstleistungen & Zubehör","TRKR","TRKR2830M6","Trägerkralle  TRKR 28/30 M6","für Schienensystem 27/18 und 28/30","Netto",1.05,{"$f":"G24841*(1-VLOOKUP(F24841,Konditionen!$B:$G,6,0))","v":1.05}]
["Dienstleistungen & Zubehör","ENDENVER","ENDENVERSCHL150","Verschliessen vom Rohr- bzw. Form-","teilende NW 150 mit Folie","Netto",1.1499999999999999,{"$f":"G24855*(1-VLOOKUP(F24855,Konditionen!$B:$G,6,0))","v":1.1499999999999999}]
["Dienstleistungen & Zubehör","ENDENVER","ENDENVERSCHL90","Verschliessen vom Rohr- bzw. Form-","teilende NW  90 mit Folie","Netto",1,{"$f":"G24875*(1-VLOOKUP(F24875,Konditionen!$B:$G,6,0))","v":1}]
["Dienstleistungen & Zubehör","FLMMETU","FLMMETU1120","Montage Metufl.??     FLMMETU  1120","Netto-Preis","Netto",14.55,{"$f":"G24878*(1-VLOOKUP(F24878,Konditionen!$B:$G,6,0))","v":14.55}]
["Dienstleistungen & Zubehör","FLMMETU","FLMMETU900","Montage Metufl.??     FLMMETU  900","Netto-Preis","Netto",11.05,{"$f":"G24897*(1-VLOOKUP(F24897,Konditionen!$B:$G,6,0))","v":11.05}]
["Dienstleistungen & Zubehör","METUNOCK","METUNOCK355","Nocken für Metu-Flansch        355","je Ende                 Netto-Preis","Netto",1.65,{"$f":"G24909*(1-VLOOKUP(F24909,Konditionen!$B:$G,6,0))","v":1.65}]
["Dienstleistungen & Zubehör","MOFA","MOFA100","Bord an Formst.od.LNR    MOFA  100","für ??                  Netto-Preis","Netto",1.2,{"$f":"G24919*(1-VLOOKUP(F24919,Konditionen!$B:$G,6,0))","v":1.2}]
["Dienstleistungen & Zubehör","MOFA","MOFA150","Bord an Formst.od.LNR    MOFA  150","für ??                  Netto-Preis","Netto",1.2,{"$f":"G24926*(1-VLOOKUP(F24926,Konditionen!$B:$G,6,0))","v":1.2}]
["Dienstleistungen & Zubehör","MOFA","MOFA710","Bord an Formst.od.LNR    MOFA  710","für ??                  Netto-Preis","Netto",2.85,{"$f":"G24942*(1-VLOOKUP(F24942,Konditionen!$B:$G,6,0))","v":2.85}]
["Dienstleistungen & Zubehör","MOSFA","MOSFA900","Montage Metuflansch AF  MOSFA  900","Edelstahl               Netto-Preis","Netto",43.8,{"$f":"G24961*(1-VLOOKUP(F24961,Konditionen!$B:$G,6,0))","v":43.8}]
["Dienstleistungen & Zubehör","MUP","MU1120","Formteilmontage    NW 1120mm","Safe mit Selbstbohrschrauben","Netto",40.15,{"$f":"G24965*(1-VLOOKUP(F24965,Konditionen!$B:$G,6,0))","v":40.15}]
["Dienstleistungen & Zubehör","MUP","MU600","Formteilmontage     NW 600mm","Safe mit Selbstbohrschrauben","Netto",18.399999999999999,{"$f":"G24983*(1-VLOOKUP(F24983,Konditionen!$B:$G,6,0))","v":18.399999999999999}]
["Dienstleistungen & Zubehör","MUP","MU800","Formteilmontage     NW 800mm","Safe mit Selbstbohrschrauben","Netto",27.2,{"$f":"G24990*(1-VLOOKUP(F24990,Konditionen!$B:$G,6,0))","v":27.2}]
["Dienstleistungen & Zubehör","SM","SM300","Montagekosten    SM            300","für Sattelstutzen, Netto-Preis","Netto",28.2,{"$f":"G25010*(1-VLOOKUP(F25010,Konditionen!$B:$G,6,0))","v":28.2}]
["Dienstleistungen & Zubehör","SM","SM800","Montagekosten    SM            800","für Sattelstutzen, Netto-Preis","Netto",103.55,{"$f":"G25025*(1-VLOOKUP(F25025,Konditionen!$B:$G,6,0))","v":103.55}]
["Systemair Ventilatoren und  Zubehör","ASFKB","ASF250KB","ASF 250KB Flex. Verb.stutzen","DN 250, Stahlbl. verz. u.","7.SYS",52,{"$f":"G25033*(1-VLOOKUP(F25033,Konditionen!$B:$G,6,0))","v":52}]
["Dienstleistungen & Zubehör","BSV","BSV100","Schutzgitter BSV 100","","Netto",5.2,{"$f":"G25051*(1-VLOOKUP(F25051,Konditionen!$B:$G,6,0))","v":5.2}]
["Dienstleistungen & Zubehör","BSV","BSV250","Schutzgitter BSV 250","","Netto",7.7,{"$f":"G25056*(1-VLOOKUP(F25056,Konditionen!$B:$G,6,0))","v":7.7}]
["Dienstleistungen & Zubehör","CK","CK150B","Rohrventilator CK 150 B1 AC","230V, 50/60Hz","Netto",68.2,{"$f":"G25073*(1-VLOOKUP(F25073,Konditionen!$B:$G,6,0))","v":68.2}]
["Dienstleistungen & Zubehör","CK","CK315CEC","Rohrventilator CK 315 C1 EC","ErP 2018","Netto",395.1,{"$f":"G25089*(1-VLOOKUP(F25089,Konditionen!$B:$G,6,0))","v":395.1}]
["Dienstleistungen & Zubehör","IRB","IRB315B1EC","Rohrventilator IRB 315 B1 EC","schallisoliert, ErP 2018","Netto",1613,{"$f":"G25101*(1-VLOOKUP(F25101,Konditionen!$B:$G,6,0))","v":1613}]
["Dienstleistungen & Zubehör","IRB","IRB315B3","Rohrventilator IRB 315 B3 AC","schallisoliert, ErP 2018, 400 V","Netto",706.85,{"$f":"G25102*(1-VLOOKUP(F25102,Konditionen!$B:$G,6,0))","v":706.85}]
["Systemair Ventilatoren und  Zubehör","KBT","KBR355ECL","KBR 355ECL Thermoventilator","DN 355, 400V/50HZ, EC Motor","7.SYS",2806,{"$f":"G25124*(1-VLOOKUP(F25124,Konditionen!$B:$G,6,0))","v":2806}]
["Dienstleistungen & Zubehör","KVU","KVU1252201000","Elektrolufterh. KVU 230V 1000W 125","*** Netto-Preis ***","Netto",292.25,{"$f":"G25137*(1-VLOOKUP(F25137,Konditionen!$B:$G,6,0))","v":292.25}]
["Dienstleistungen & Zubehör","KVU","KVU125220670","Elektrolufterh. KVU 230V  670W 125","*** Netto-Preis ***","Netto",248.7,{"$f":"G25140*(1-VLOOKUP(F25140,Konditionen!$B:$G,6,0))","v":248.7}]
["Dienstleistungen & Zubehör","LPKBS","LPKBSILENT160B","Rohrventilator LPKBsilent 160 B1 AC","schallisoliert","Netto",150.85,{"$f":"G25157*(1-VLOOKUP(F25157,Konditionen!$B:$G,6,0))","v":150.85}]
["Dienstleistungen & Zubehör","LPKB","LPKB125C1EC","Rohrventilator LPKB 125 C1 EC-v1","","Netto",240.3,{"$f":"G25166*(1-VLOOKUP(F25166,Konditionen!$B:$G,6,0))","v":240.3}]
["Dienstleistungen & Zubehör","MK","MK315","Befestigungsmanschette MK 315","für Rohrventilatoren","Netto",4.8499999999999996,{"$f":"G25180*(1-VLOOKUP(F25180,Konditionen!$B:$G,6,0))","v":4.8499999999999996}]
["Systemair MUB/T, RVK, REE,RTRD,RTRE","RVK","RVK125E2L","RVK 125E2L sileo Rohrventi.","DN 125, 230V/50Hz","7.K",126,{"$f":"G25201*(1-VLOOKUP(F25201,Konditionen!$B:$G,6,0))","v":126}]
["Systemair MUB/T, RVK, REE,RTRD,RTRE","RVK","RVK250E2L","RVK 250E2L sileo Rohrventi.","DN 250, 230V/50Hz","7.K",216,{"$f":"G25208*(1-VLOOKUP(F25208,Konditionen!$B:$G,6,0))","v":216}]
["Dienstleistungen & Zubehör","LPKB","LPKB250E1","Rohrventilator LPKB 250 E1 AC ErP","","Netto",255,{"$f":"G25225*(1-VLOOKUP(F25225,Konditionen!$B:$G,6,0))","v":255}]
["Dienstleistungen & Zubehör","LPKBS","LPKBSILENT250DEC","Rohrventilator LPKBsilent 250 D1 EC","schallisoliert, ErP","Netto",379.1,{"$f":"G25230*(1-VLOOKUP(F25230,Konditionen!$B:$G,6,0))","v":379.1}]
["Dienstleistungen & Zubehör","DH","DH125","Rohrkonsole      DH            125","L = 75 mm      *** Netto-Preis ***","Netto",6.45,{"$f":"G25248*(1-VLOOKUP(F25248,Konditionen!$B:$G,6,0))","v":6.45}]
["Dienstleistungen & Zubehör","DH","DH500100","Rohrkonsole      DH            500","L = 100mm       *** Netto-Preis ***","Netto",21.6,{"$f":"G25265*(1-VLOOKUP(F25265,Konditionen!$B:$G,6,0))","v":21.6}]
["Dienstleistungen & Zubehör","DH","DH600","Rohrkonsole      DH            600","L = 75 mm      *** Netto-Preis ***","Netto",27.1,{"$f":"G25267*(1-VLOOKUP(F25267,Konditionen!$B:$G,6,0))","v":27.1}]
["Dienstleistungen & Zubehör","IN","IN710","Montagebügel     IN            710","für innen, Gewinde M10","Netto",62.4,{"$f":"G25287*(1-VLOOKUP(F25287,Konditionen!$B:$G,6,0))","v":62.4}]
["Dienstleistungen & Zubehör","RK","RK1120","Rohrstütze       RK            1120","*** Netto-Preis ***","Netto",204.85,{"$f":"G25294*(1-VLOOKUP(F25294,Konditionen!$B:$G,6,0))","v":204.85}]
["Dienstleistungen & Zubehör","RK","RK450","Rohrstütze       RK            450","*** Netto-Preis ***","Netto",149.19999999999999,{"$f":"G25304*(1-VLOOKUP(F25304,Konditionen!$B:$G,6,0))","v":149.19999999999999}]
["Dienstleistungen & Zubehör","SBG","SBG150","Dach-Rohrhalterung     SBG 150","*** Netto-Preis ***","Netto",36.799999999999997,{"$f":"G25316*(1-VLOOKUP(F25316,Konditionen!$B:$G,6,0))","v":36.799999999999997}]
["Dienstleistungen & Zubehör","UVHGM","UVHGM250","Rohrschelle 2-teilig   UVHGM   250","*** Netto-Preis ***","Netto",10.85,{"$f":"G25335*(1-VLOOKUP(F25335,Konditionen!$B:$G,6,0))","v":10.85}]
["Dienstleistungen & Zubehör","UVH30","UVH301120","Rohrschelle 2-teilig   UVH30  1120","30 X 3,0 mm  ohne Gummi","Netto",30.6,{"$f":"G25351*(1-VLOOKUP(F25351,Konditionen!$B:$G,6,0))","v":30.6}]
["Dienstleistungen & Zubehör","UVH30","UVH30200","Rohrschelle 2-teilig   UVH30   200","30 X 1,5 mm  ohne Gummi","Netto",3.6,{"$f":"G25358*(1-VLOOKUP(F25358,Konditionen!$B:$G,6,0))","v":3.6}]
["Dienstleistungen & Zubehör","UVH30","UVH30560","Rohrschelle 2-teilig   UVH30   560","30 X 2,0 mm  ohne Gummi","Netto",11.15,{"$f":"G25368*(1-VLOOKUP(F25368,Konditionen!$B:$G,6,0))","v":11.15}]
["Dienstleistungen & Zubehör","UV","UV18025","Montage-Bügel    UV 25          180","*** Netto-Preis ***","Netto",4.1500000000000004,{"$f":"G25380*(1-VLOOKUP(F25380,Konditionen!$B:$G,6,0))","v":4.1500000000000004}]
["Dienstleistungen & Zubehör","ZEPUG","ZEPUG224","Rohrschelle 2-tlg.     ZEPUG   224","Edelstahl V2A m. Gummieinlage","Netto",13.95,{"$f":"G25403*(1-VLOOKUP(F25403,Konditionen!$B:$G,6,0))","v":13.95}]
["Dienstleistungen & Zubehör","ZEPUG","ZEPUG710","Rohrschelle 2-tlg.     ZEPUG   710","Edelstahl V2A m. Gummieinlage","Netto",53.3,{"$f":"G25415*(1-VLOOKUP(F25415,Konditionen!$B:$G,6,0))","v":53.3}]
["Dienstleistungen & Zubehör","RISPEV2A","RISPE150","Spannring m.Di.f.Bord  RISPE   150","Edelstahl W.Nr. 1.4301  Netto-Preis","Netto",41.05,{"$f":"G25422*(1-VLOOKUP(F25422,Konditionen!$B:$G,6,0))","v":41.05}]
["Dienstleistungen & Zubehör","RISPI","RISPI140","Spannring m.Dichtg. RISPI      140","für Bordverbindung      Netto-Preis","Netto",19.5,{"$f":"G25436*(1-VLOOKUP(F25436,Konditionen!$B:$G,6,0))","v":19.5}]
["Dienstleistungen & Zubehör","RISPI","RISPI300","Spannring m.Dichtg. RISPI      300","für Bordverbindung      Netto-Preis","Netto",34.25,{"$f":"G25444*(1-VLOOKUP(F25444,Konditionen!$B:$G,6,0))","v":34.25}]
["Dienstleistungen & Zubehör","RISPID","RISPID280","Spannring m.Dichtmasse RISPI-D 280","für Bordverbindung      Netto-Preis","Netto",19.95,{"$f":"G25459*(1-VLOOKUP(F25459,Konditionen!$B:$G,6,0))","v":19.95}]
["Dienstleistungen & Zubehör","QSKLVZ","QSKLVZ","Kanalklammer verzinkt QSKLVZ","***Netto-Preis***","Netto",0.65,{"$f":"G25470*(1-VLOOKUP(F25470,Konditionen!$B:$G,6,0))","v":0.65}]
["Dienstleistungen & Zubehör","LSD","LSD1250","Rohrschelle 2-teilig    LSD 1250","mit Dämmeinlage u. Mutter M8/M10","Netto",24.65,{"$f":"G25486*(1-VLOOKUP(F25486,Konditionen!$B:$G,6,0))","v":24.65}]
["Dienstleistungen & Zubehör","LSD","LSD710","Rohrschelle 2-teilig     LSD 710","mit Dämmeinlage u. Mutter M8/M10","Netto",11.75,{"$f":"G25504*(1-VLOOKUP(F25504,Konditionen!$B:$G,6,0))","v":11.75}]
["Dienstleistungen & Zubehör","FLRI","FLRI100","Flachflansch     FL Reihe I    100","DIN 24154 JULI1990 Reihe I verzinkt","Netto",5.85,{"$f":"G25508*(1-VLOOKUP(F25508,Konditionen!$B:$G,6,0))","v":5.85}]
["Dienstleistungen & Zubehör","FLRI","FLRI500","Flachflansch     FL Reihe I    500","DIN 24154 JULI1990 Reihe I verzinkt","Netto",20.3,{"$f":"G25527*(1-VLOOKUP(F25527,Konditionen!$B:$G,6,0))","v":20.3}]
["Dienstleistungen & Zubehör","FLRI","FLRI900","Flachflansch     FL Reihe I    900","DIN 24154 JULI1990 Reihe I verzinkt","Netto",39.25,{"$f":"G25534*(1-VLOOKUP(F25534,Konditionen!$B:$G,6,0))","v":39.25}]
["Dienstleistungen & Zubehör","FL","FL250","Flachflansch     FL            250","Gemäß Lindab Werksnorm","Netto",10.25,{"$f":"G25550*(1-VLOOKUP(F25550,Konditionen!$B:$G,6,0))","v":10.25}]
["Dienstleistungen & Zubehör","FL","FL450","Flachflansch     FL            450","Gemäß Lindab Werksnorm","Netto",22.65,{"$f":"G25556*(1-VLOOKUP(F25556,Konditionen!$B:$G,6,0))","v":22.65}]
["Dienstleistungen & Zubehör","AEWT","AEWT200SRVZ","Aussenlufteinheit AEWT 200.315.1250","Ausführung SREN verzinkt","Netto",598.6,{"$f":"G25572*(1-VLOOKUP(F25572,Konditionen!$B:$G,6,0))","v":598.6}]
["Dienstleistungen & Zubehör","AEWT","AEWT400SRLACK","Aussenlufteinheit AEWT 400.560.1870","Ausführung SREN lackiert RAL ????","Netto",1498,{"$f":"G25583*(1-VLOOKUP(F25583,Konditionen!$B:$G,6,0))","v":1498}]
["Dienstleistungen & Zubehör","LTDMS10","LTDMS10","Druckmessschlauch zu LT600","10 m lang     *** Netto-Preis ***","Netto",97.45,{"$f":"G25598*(1-VLOOKUP(F25598,Konditionen!$B:$G,6,0))","v":97.45}]
["Dienstleistungen & Zubehör","PCSRS","PCSRS","Staurohr S","zur Messung von Luftgeschwindigkeit","Netto",249.05,{"$f":"G25606*(1-VLOOKUP(F25606,Konditionen!$B:$G,6,0))","v":249.05}]
["Dienstleistungen & Zubehör","VE200","VE200","Video Endoskop VE 200","*** Netto-Preis ***","Netto",116.75,{"$f":"G25620*(1-VLOOKUP(F25620,Konditionen!$B:$G,6,0))","v":116.75}]
["Dienstleistungen & Zubehör","MHU","MHU1606380","Verteilerkasten MHU 160-63-8-0","d1=160mm / d3=63mm","Netto",95.6,{"$f":"G25640*(1-VLOOKUP(F25640,Konditionen!$B:$G,6,0))","v":95.6}]
["Dienstleistungen & Zubehör","MRU","MRU160120","Verteilerkasten MRU 160-63-12-0","","Netto",166.8,{"$f":"G25651*(1-VLOOKUP(F25651,Konditionen!$B:$G,6,0))","v":166.8}]
["Dienstleistungen & Zubehör","RDR125","RDR12550100","Volumenstrom-Konstanthalter RDR 125","50 - 100 cbm/h einstellbar","Netto",13.75,{"$f":"G25662*(1-VLOOKUP(F25662,Konditionen!$B:$G,6,0))","v":13.75}]
["Dienstleistungen & Zubehör","RSKU","RSKU355","Rückschlagklappe   RSKU        355","*** Netto-Preis ***","Netto",101.5,{"$f":"G25674*(1-VLOOKUP(F25674,Konditionen!$B:$G,6,0))","v":101.5}]
["Dienstleistungen & Zubehör","VERSIO","VERSIO-R-200X100","Übergang Versio R-Kasten  200x100mm","Abgang seitlich 2 x DN100, verzinkt","Netto",37.65,{"$f":"G25684*(1-VLOOKUP(F25684,Konditionen!$B:$G,6,0))","v":37.65}]
["METU System","AFV2A","AFV2A56","Rohrflansch AF   56 V2A 560 mm","","14.MS",39.450000000000003,{"$f":"G25704*(1-VLOOKUP(F25704,Konditionen!$B:$G,6,0))","v":39.450000000000003}]
["METU System","AFV2A","AFV2A71","Rohrflansch AF   71 V2A 710 mm","","14.MS",48.45,{"$f":"G25707*(1-VLOOKUP(F25707,Konditionen!$B:$G,6,0))","v":48.45}]
["METU System","AF","AF56","Rohrflansch AF   56 verz 560 mm","","14.MS",9,{"$f":"G25726*(1-VLOOKUP(F25726,Konditionen!$B:$G,6,0))","v":9}]
["METU System","BF","BF30","Rohrflansch BF 30 verz","für Rohr Di 300 mm geschweißt","14.MS",11.25,{"$f":"G25742*(1-VLOOKUP(F25742,Konditionen!$B:$G,6,0))","v":11.25}]
["METU System","BF","BF56","Rohrflansch BF   56 verz","für Rohr Di 560 mm geschweißt","14.MS",19.45,{"$f":"G25748*(1-VLOOKUP(F25748,Konditionen!$B:$G,6,0))","v":19.45}]
["METU System","KST","KST1/2","Ablaufstutzenkappe KST-1/2\"","","14.MS",4.7,{"$f":"G25761*(1-VLOOKUP(F25761,Konditionen!$B:$G,6,0))","v":4.7}]
["METU System","LF","LF22","Rohrflansch LF   22 verz","für Rohr Di 224 mm","14.MS",2.8,{"$f":"G25770*(1-VLOOKUP(F25770,Konditionen!$B:$G,6,0))","v":2.8}]
["METU System","MU","MU11EPDM","Rohrmuffe MU 11 verz mit EPDM","112 mm","14.MS",10.95,{"$f":"G25790*(1-VLOOKUP(F25790,Konditionen!$B:$G,6,0))","v":10.95}]
["METU System","MU","MU20EPDM","Rohrmuffe MU 20 verz mit EPDM","200 mm","14.MS",13.75,{"$f":"G25806*(1-VLOOKUP(F25806,Konditionen!$B:$G,6,0))","v":13.75}]
["METU System","MU","MU28EPDM","Rohrmuffe MU 28 verz mit EPDM","280 mm","14.MS",16.100000000000001,{"$f":"G25812*(1-VLOOKUP(F25812,Konditionen!$B:$G,6,0))","v":16.100000000000001}]
["METU System","MU","MU60PE","Rohrmuffe MU 60 verz mit PE","600 mm","14.MS",23.4,{"$f":"G25829*(1-VLOOKUP(F25829,Konditionen!$B:$G,6,0))","v":23.4}]
["METU System","MU","MU71EPDM","Rohrmuffe MU 71 verz mit EPDM","710 mm","14.MS",41.6,{"$f":"G25834*(1-VLOOKUP(F25834,Konditionen!$B:$G,6,0))","v":41.6}]
["METU System","RDV2A","RDV2A43","Revi-Deckel RD 43 V2A","400 x 300 mm","14.MS",59.2,{"$f":"G25854*(1-VLOOKUP(F25854,Konditionen!$B:$G,6,0))","v":59.2}]
["METU System","RDV2A","RDV2A65SKK","Revi-Deckel RD 65 V2A m.SKK","600 x 500 mm","14.MS",181.8,{"$f":"G25862*(1-VLOOKUP(F25862,Konditionen!$B:$G,6,0))","v":181.8}]
["METU System","RRDV2A","RRDV2A187SKK","Revi-Deckel RRD 18-7 V2A m.SKK","mit selbstklebenden Kantenschutz","14.MS",42.3,{"$f":"G25876*(1-VLOOKUP(F25876,Konditionen!$B:$G,6,0))","v":42.3}]
["METU System","RRDV2A","RRDV2A212022","Revi-Deckel RRD 21-20+22 V2A","","14.MS",44.35,{"$f":"G25885*(1-VLOOKUP(F25885,Konditionen!$B:$G,6,0))","v":44.35}]
["METU System","RRDV2A","RRDV2A3250SKK","Revi-Deckel RRD 32-50 V2A m.SKK","mit selbstklebenden Kantenschutz","14.MS",61.5,{"$f":"G25902*(1-VLOOKUP(F25902,Konditionen!$B:$G,6,0))","v":61.5}]
["METU System","RRDV2A","RRDV2A4390SKK","Revi-Deckel RRD 43-90 V2A m.SKK","mit selbstklebenden Kantenschutz","14.MS",83.15,{"$f":"G25918*(1-VLOOKUP(F25918,Konditionen!$B:$G,6,0))","v":83.15}]
["METU System","RRDV2A","RRDV2A5456SKK","Revi-Deckel RRD 54-  56 V2A m.SKK","mit selbstklebenden Kantenschutz","14.MS",124.55,{"$f":"G25930*(1-VLOOKUP(F25930,Konditionen!$B:$G,6,0))","v":124.55}]
["METU System","SRINGV2A","SRV2A112PE","Spannring SR 112 V2A mit PE","1120 mm","14.MS",104.95,{"$f":"G25940*(1-VLOOKUP(F25940,Konditionen!$B:$G,6,0))","v":104.95}]
["METU System","SRINGV2A","SRV2A50PE","Spannring SR   50 V2A mit PE","500 mm","14.MS",39.75,{"$f":"G25953*(1-VLOOKUP(F25953,Konditionen!$B:$G,6,0))","v":39.75}]
["METU System","SR","SR20PE","Spannring SR   20 verz mit PE","200 mm","14.MS",6.45,{"$f":"G25966*(1-VLOOKUP(F25966,Konditionen!$B:$G,6,0))","v":6.45}]
["METU System","SR","SR56PE","Spannring SR   56 verz mit PE","560 mm","14.MS",12.3,{"$f":"G25976*(1-VLOOKUP(F25976,Konditionen!$B:$G,6,0))","v":12.3}]
["METU System","STK","STK3/4","Ablaufstutzen ST-K 3/4\"","mit Konusscheibe","14.MS",12.45,{"$f":"G25988*(1-VLOOKUP(F25988,Konditionen!$B:$G,6,0))","v":12.45}]
["METU Revisionsdeckel","RD","RD54SKK","Revi-Deckel RD 54 verz. m.SKK","500 x 400 mm","14.REV",32.85,{"$f":"G26004*(1-VLOOKUP(F26004,Konditionen!$B:$G,6,0))","v":32.85}]
["METU Revisionsdeckel","RD","RD75","Revi-Deckel RD 75 verz.","700 x 500 mm","14.REV",75.650000000000006,{"$f":"G26009*(1-VLOOKUP(F26009,Konditionen!$B:$G,6,0))","v":75.650000000000006}]
["METU Revisionsdeckel","RRD","RRD211618SKK","Revi-Deckel RRD 21-16+18 verz.m.SKK","mit selbstklebenden Kantenschutz","14.REV",12.45,{"$f":"G26030*(1-VLOOKUP(F26030,Konditionen!$B:$G,6,0))","v":12.45}]
["METU Revisionsdeckel","RRD","RRD3240SKK","Revi-Deckel RRD 32-40 verz. m.SKK","mit selbstklebenden Kantenschutz","14.REV",17.8,{"$f":"G26044*(1-VLOOKUP(F26044,Konditionen!$B:$G,6,0))","v":17.8}]
["METU Revisionsdeckel","RRD","RRD4345SKK","Revi-Deckel RRD 43-45 verz. m.SKK","mit selbstklebenden Kantenschutz","14.REV",24.8,{"$f":"G26052*(1-VLOOKUP(F26052,Konditionen!$B:$G,6,0))","v":24.8}]
["METU Revisionsdeckel","RRD","RRD4371","Revi-Deckel RRD 43-71 verz.","","14.REV",24.4,{"$f":"G26059*(1-VLOOKUP(F26059,Konditionen!$B:$G,6,0))","v":24.4}]
["METU Revisionsdeckel","RRD","RRD5463","Revi-Deckel RRD 54-63 verz.","","14.REV",37.9,{"$f":"G26077*(1-VLOOKUP(F26077,Konditionen!$B:$G,6,0))","v":37.9}]
[null,null,null,null,null,null,null,{"$f":"G26094*(1-VLOOKUP(F26094,Konditionen!$B:$G,6,0))","v":{"$error":"#N/A"}}]
[null,null,null,null,null,null,null,{"$f":"G26100*(1-VLOOKUP(F26100,Konditionen!$B:$G,6,0))","v":{"$error":"#N/A"}}]
[null,null,null,null,null,null,null,{"$f":"G26116*(1-VLOOKUP(F26116,Konditionen!$B:$G,6,0))","v":{"$error":"#N/A"}}]
[null,null,null,null,null,null,null,{"$f":"G26123*(1-VLOOKUP(F26123,Konditionen!$B:$G,6,0))","v":{"$error":"#N/A"}}]
[null,null,null,null,null,null,null,{"$f":"G26145*(1-VLOOKUP(F26145,Konditionen!$B:$G,6,0))","v":{"$error":"#N/A"}}]
[null,null,null,null,null,null,null,{"$f":"G26158*(1-VLOOKUP(F26158,Konditionen!$B:$G,6,0))","v":{"$error":"#N/A"}}]
[null,null,null,null,null,null,null,{"$f":"G26164*(1-VLOOKUP(F26164,Konditionen!$B:$G,6,0))","v":{"$error":"#N/A"}}]
[null,null,null,null,null,null,null,{"$f":"G26180*(1-VLOOKUP(F26180,Konditionen!$B:$G,6,0))","v":{"$error":"#N/A"}}]
[null,null,null,null,null,null,null,{"$f":"G26187*(1-VLOOKUP(F26187,Konditionen!$B:$G,6,0))","v":{"$error":"#N/A"}}]
[null,null,null,null,null,null,null,{"$f":"G26201*(1-VLOOKUP(F26201,Konditionen!$B:$G,6,0))","v":{"$error":"#N/A"}}]
[null,null,null,null,null,null,null,{"$f":"G26222*(1-VLOOKUP(F26222,Konditionen!$B:$G,6,0))","v":{"$error":"#N/A"}}]
[null,null,null,null,null,null,null,{"$f":"G26232*(1-VLOOKUP(F26232,Konditionen!$B:$G,6,0))","v":{"$error":"#N/A"}}]
[null,null,null,null,null,null,null,{"$f":"G26244*(1-VLOOKUP(F26244,Konditionen!$B:$G,6,0))","v":{"$error":"#N/A"}}]
[null,null,null,null,null,null,null,{"$f":"G26255*(1-VLOOKUP(F26255,Konditionen!$B:$G,6,0))","v":{"$error":"#N/A"}}]
[null,null,null,null,null,null,null,{"$f":"G26266*(1-VLOOKUP(F26266,Konditionen!$B:$G,6,0))","v":{"$error":"#N/A"}}]
[null,null,null,null,null,null,null,{"$f":"G26273*(1-VLOOKUP(F26273,Konditionen!$B:$G,6,0))","v":{"$error":"#N/A"}}]
[null,null,null,null,null,null,null,{"$f":"G26288*(1-VLOOKUP(F26288,Konditionen!$B:$G,6,0))","v":{"$error":"#N/A"}}]
[null,null,null,null,null,null,null,{"$f":"G26308*(1-VLOOKUP(F26308,Konditionen!$B:$G,6,0))","v":{"$error":"#N/A"}}]
[null,null,null,null,null,null,null,{"$f":"G26311*(1-VLOOKUP(F26311,Konditionen!$B:$G,6,0))","v":{"$error":"#N/A"}}]
[null,null,null,null,null,null,null,{"$f":"G26334*(1-VLOOKUP(F26334,Konditionen!$B:$G,6,0))","v":{"$error":"#N/A"}}]
[null,null,null,null,null,null,null,{"$f":"G26337*(1-VLOOKUP(F26337,Konditionen!$B:$G,6,0))","v":{"$error":"#N/A"}}]
[null,null,null,null,null,null,null,{"$f":"G26356*(1-VLOOKUP(F26356,Konditionen!$B:$G,6,0))","v":{"$error":"#N/A"}}]
[null,null,null,null,null,null,null,{"$f":"G26372*(1-VLOOKUP(F26372,Konditionen!$B:$G,6,0))","v":{"$error":"#N/A"}}]
[null,null,null,null,null,null,null,{"$f":"G26379*(1-VLOOKUP(F26379,Konditionen!$B:$G,6,0))","v":{"$error":"#N/A"}}]
[null,null,null,null,null,null,null,{"$f":"G26398*(1-VLOOKUP(F26398,Konditionen!$B:$G,6,0))","v":{"$error":"#N/A"}}]
[null,null,null,null,null,null,null,{"$f":"G26401*(1-VLOOKUP(F26401,Konditionen!$B:$G,6,0))","v":{"$error":"#N/A"}}]
[null,null,null,null,null,null,null,{"$f":"G26412*(1-VLOOKUP(F26412,Konditionen!$B:$G,6,0))","v":{"$error":"#N/A"}}]
[null,null,null,null,null,null,null,{"$f":"G26436*(1-VLOOKUP(F26436,Konditionen!$B:$G,6,0))","v":{"$error":"#N/A"}}]
[null,null,null,null,null,null,null,{"$f":"G26447*(1-VLOOKUP(F26447,Konditionen!$B:$G,6,0))","v":{"$error":"#N/A"}}]
[null,null,null,null,null,null,null,{"$f":"G26449*(1-VLOOKUP(F26449,Konditionen!$B:$G,6,0))","v":{"$error":"#N/A"}}]
[null,null,null,null,null,null,null,{"$f":"G26470*(1-VLOOKUP(F26470,Konditionen!$B:$G,6,0))","v":{"$error":"#N/A"}}]
[null,null,null,null,null,null,null,{"$f":"G26484*(1-VLOOKUP(F26484,Konditionen!$B:$G,6,0))","v":{"$error":"#N/A"}}]
[null,null,null,null,null,null,null,{"$f":"G26491*(1-VLOOKUP(F26491,Konditionen!$B:$G,6,0))","v":{"$error":"#N/A"}}]
[null,null,null,null,null,null,null,{"$f":"G26503*(1-VLOOKUP(F26503,Konditionen!$B:$G,6,0))","v":{"$error":"#N/A"}}]
[null,null,null,null,null,null,null,{"$f":"G26513*(1-VLOOKUP(F26513,Konditionen!$B:$G,6,0))","v":{"$error":"#N/A"}}]
[null,null,null,null,null,null,null,{"$f":"G26526*(1-VLOOKUP(F26526,Konditionen!$B:$G,6,0))","v":{"$error":"#N/A"}}]
[null,null,null,null,null,null,null,{"$f":"G26548*(1-VLOOKUP(F26548,Konditionen!$B:$G,6,0))","v":{"$error":"#N/A"}}]
[null,null,null,null,null,null,null,{"$f":"G26555*(1-VLOOKUP(F26555,Konditionen!$B:$G,6,0))","v":{"$error":"#N/A"}}]
[null,null,null,null,null,null,null,{"$f":"G26571*(1-VLOOKUP(F26571,Konditionen!$B:$G,6,0))","v":{"$error":"#N/A"}}]
[null,null,null,null,null,null,null,{"$f":"G26577*(1-VLOOKUP(F26577,Konditionen!$B:$G,6,0))","v":{"$error":"#N/A"}}]
[null,null,null,null,null,null,null,{"$f":"G26590*(1-VLOOKUP(F26590,Konditionen!$B:$G,6,0))","v":{"$error":"#N/A"}}]
[null,null,null,null,null,null,null,{"$f":"G26612*(1-VLOOKUP(F26612,Konditionen!$B:$G,6,0))","v":{"$error":"#N/A"}}]
[null,null,null,null,null,null,null,{"$f":"G26619*(1-VLOOKUP(F26619,Konditionen!$B:$G,6,0))","v":{"$error":"#N/A"}}]
[null,null,null,null,null,null,null,{"$f":"G26627*(1-VLOOKUP(F26627,Konditionen!$B:$G,6,0))","v":{"$error":"#N/A"}}]
[null,null,null,null,null,null,null,{"$f":"G26641*(1-VLOOKUP(F26641,Konditionen!$B:$G,6,0))","v":{"$error":"#N/A"}}]
[null,null,null,null,null,null,null,{"$f":"G26658*(1-VLOOKUP(F26658,Konditionen!$B:$G,6,0))","v":{"$error":"#N/A"}}]
[null,null,null,null,null,null,null,{"$f":"G26663*(1-VLOOKUP(F26663,Konditionen!$B:$G,6,0))","v":{"$error":"#N/A"}}]
[null,null,null,null,null,null,null,{"$f":"G26683*(1-VLOOKUP(F26683,Konditionen!$B:$G,6,0))","v":{"$error":"#N/A"}}]
[null,null,null,null,null,null,null,{"$f":"G26695*(1-VLOOKUP(F26695,Konditionen!$B:$G,6,0))","v":{"$error":"#N/A"}}]
[null,null,null,null,null,null,null,{"$f":"G26705*(1-VLOOKUP(F26705,Konditionen!$B:$G,6,0))","v":{"$error":"#N/A"}}]
[null,null,null,null,null,null,null,{"$f":"G26714*(1-VLOOKUP(F26714,Konditionen!$B:$G,6,0))","v":{"$error":"#N/A"}}]
[null,null,null,null,null,null,null,{"$f":"G26727*(1-VLOOKUP(F26727,Konditionen!$B:$G,6,0))","v":{"$error":"#N/A"}}]
[null,null,null,null,null,null,null,{"$f":"G26749*(1-VLOOKUP(F26749,Konditionen!$B:$G,6,0))","v":{"$error":"#N/A"}}]
[null,null,null,null,null,null,null,{"$f":"G26753*(1-VLOOKUP(F26753,Konditionen!$B:$G,6,0))","v":{"$error":"#N/A"}}]
[null,null,null,null,null,null,null,{"$f":"G26769*(1-VLOOKUP(F26769,Konditionen!$B:$G,6,0))","v":{"$error":"#N/A"}}]
[null,null,null,null,null,null,null,{"$f":"G26782*(1-VLOOKUP(F26782,Konditionen!$B:$G,6,0))","v":{"$error":"#N/A"}}]
[null,null,null,null,null,null,null,{"$f":"G26791*(1-VLOOKUP(F26791,Konditionen!$B:$G,6,0))","v":{"$error":"#N/A"}}]
[null,null,null,null,null,null,null,{"$f":"G26805*(1-VLOOKUP(F26805,Konditionen!$B:$G,6,0))","v":{"$error":"#N/A"}}]
[null,null,null,null,null,null,null,{"$f":"G26817*(1-VLOOKUP(F26817,Konditionen!$B:$G,6,0))","v":{"$error":"#N/A"}}]
[null,null,null,null,null,null,null,{"$f":"G26833*(1-VLOOKUP(F26833,Konditionen!$B:$G,6,0))","v":{"$error":"#N/A"}}]
[null,null,null,null,null,null,null,{"$f":"G26850*(1-VLOOKUP(F26850,Konditionen!$B:$G,6,0))","v":{"$error":"#N/A"}}]
[null,null,null,null,null,null,null,{"$f":"G26855*(1-VLOOKUP(F26855,Konditionen!$B:$G,6,0))","v":{"$error":"#N/A"}}]
[null,null,null,null,null,null,null,{"$f":"G26873*(1-VLOOKUP(F26873,Konditionen!$B:$G,6,0))","v":{"$error":"#N/A"}}]
[null,null,null,null,null,null,null,{"$f":"G26881*(1-VLOOKUP(F26881,Konditionen!$B:$G,6,0))","v":{"$error":"#N/A"}}]
[null,null,null,null,null,null,null,{"$f":"G26897*(1-VLOOKUP(F26897,Konditionen!$B:$G,6,0))","v":{"$error":"#N/A"}}]
[null,null,null,null,null,null,null,{"$f":"G26906*(1-VLOOKUP(F26906,Konditionen!$B:$G,6,0))","v":{"$error":"#N/A"}}]
[null,null,null,null,null,null,null,{"$f":"G26923*(1-VLOOKUP(F26923,Konditionen!$B:$G,6,0))","v":{"$error":"#N/A"}}]
[null,null,null,null,null,null,null,{"$f":"G26929*(1-VLOOKUP(F26929,Konditionen!$B:$G,6,0))","v":{"$error":"#N/A"}}]
[null,null,null,null,null,null,null,{"$f":"G26945*(1-VLOOKUP(F26945,Konditionen!$B:$G,6,0))","v":{"$error":"#N/A"}}]
[null,null,null,null,null,null,null,{"$f":"G26964*(1-VLOOKUP(F26964,Konditionen!$B:$G,6,0))","v":{"$error":"#N/A"}}]
[null,null,null,null,null,null,null,{"$f":"G26967*(1-VLOOKUP(F26967,Konditionen!$B:$G,6,0))","v":{"$error":"#N/A"}}]
[null,null,null,null,null,null,null,{"$f":"G26987*(1-VLOOKUP(F26987,Konditionen!$B:$G,6,0))","v":{"$error":"#N/A"}}]
[null,null,null,null,null,null,null,{"$f":"G26997*(1-VLOOKUP(F26997,Konditionen!$B:$G,6,0))","v":{"$error":"#N/A"}}]
[null,null,null,null,null,null,null,{"$f":"G27009*(1-VLOOKUP(F27009,Konditionen!$B:$G,6,0))","v":{"$error":"#N/A"}}]
[null,null,null,null,null,null,null,{"$f":"G27016*(1-VLOOKUP(F27016,Konditionen!$B:$G,6,0))","v":{"$error":"#N/A"}}]
[null,null,null,null,null,null,null,{"$f":"G27031*(1-VLOOKUP(F27031,Konditionen!$B:$G,6,0))","v":{"$error":"#N/A"}}]
[null,null,null,null,null,null,null,{"$f":"G27051*(1-VLOOKUP(F27051,Konditionen!$B:$G,6,0))","v":{"$error":"#N/A"}}]
[null,null,null,null,null,null,null,{"$f":"G27065*(1-VLOOKUP(F27065,Konditionen!$B:$G,6,0))","v":{"$error":"#N/A"}}]
[null,null,null,null,null,null,null,{"$f":"G27073*(1-VLOOKUP(F27073,Konditionen!$B:$G,6,0))","v":{"$error":"#N/A"}}]
[null,null,null,null,null,null,null,{"$f":"G27084*(1-VLOOKUP(F27084,Konditionen!$B:$G,6,0))","v":{"$error":"#N/A"}}]
[null,null,null,null,null,null,null,{"$f":"G27095*(1-VLOOKUP(F27095,Konditionen!$B:$G,6,0))","v":{"$error":"#N/A"}}]
[null,null,null,null,null,null,null,{"$f":"G27115*(1-VLOOKUP(F27115,Konditionen!$B:$G,6,0))","v":{"$error":"#N/A"}}]
[null,null,null,null,null,null,null,{"$f":"G27121*(1-VLOOKUP(F27121,Konditionen!$B:$G,6,0))","v":{"$error":"#N/A"}}]
[null,null,null,null,null,null,null,{"$f":"G27137*(1-VLOOKUP(F27137,Konditionen!$B:$G,6,0))","v":{"$error":"#N/A"}}]
[null,null,null,null,null,null,null,{"$f":"G27152*(1-VLOOKUP(F27152,Konditionen!$B:$G,6,0))","v":{"$error":"#N/A"}}]
[null,null,null,null,null,null,null,{"$f":"G27159*(1-VLOOKUP(F27159,Konditionen!$B:$G,6,0))","v":{"$error":"#N/A"}}]
[null,null,null,null,null,null,null,{"$f":"G27179*(1-VLOOKUP(F27179,Konditionen!$B:$G,6,0))","v":{"$error":"#N/A"}}]
[null,null,null,null,null,null,null,{"$f":"G27180*(1-VLOOKUP(F27180,Konditionen!$B:$G,6,0))","v":{"$error":"#N/A"}}]
[null,null,null,null,null,null,null,{"$f":"G27181*(1-VLOOKUP(F27181,Konditionen!$B:$G,6,0))","v":{"$error":"#N/A"}}]
[null,null,null,null,null,null,null,{"$f":"G27182*(1-VLOOKUP(F27182,Konditionen!$B:$G,6,0))","v":{"$error":"#N/A"}}]
[null,null,null,null,null,null,null,{"$f":"G27183*(1-VLOOKUP(F27183,Konditionen!$B:$G,6,0))","v":{"$error":"#N/A"}}]
[null,null,null,null,null,null,null,{"$f":"G27184*(1-VLOOKUP(F27184,Konditionen!$B:$G,6,0))","v":{"$error":"#N/A"}}]
[null,null,null,null,null,null,null,{"$f":"G27185*(1-VLOOKUP(F27185,Konditionen!$B:$G,6,0))","v":{"$error":"#N/A"}}]
[null,null,null,null,null,null,null,{"$f":"G27186*(1-VLOOKUP(F27186,Konditionen!$B:$G,6,0))","v":{"$error":"#N/A"}}]
[null,null,null,null,null,null,null,{"$f":"G27187*(1-VLOOKUP(F27187,Konditionen!$B:$G,6,0))","v":{"$error":"#N/A"}}]
[null,null,null,null,null,null,null,{"$f":"G27188*(1-VLOOKUP(F27188,Konditionen!$B:$G,6,0))","v":{"$error":"#N/A"}}]
[null,null,null,null,null,null,null,{"$f":"G27189*(1-VLOOKUP(F27189,Konditionen!$B:$G,6,0))","v":{"$error":"#N/A"}}]
[null,null,null,null,null,null,null,{"$f":"G27190*(1-VLOOKUP(F27190,Konditionen!$B:$G,6,0))","v":{"$error":"#N/A"}}]
[null,null,null,null,null,null,null,{"$f":"G27191*(1-VLOOKUP(F27191,Konditionen!$B:$G,6,0))","v":{"$error":"#N/A"}}]
[null,null,null,null,null,null,null,{"$f":"G27192*(1-VLOOKUP(F27192,Konditionen!$B:$G,6,0))","v":{"$error":"#N/A"}}]
[null,null,null,null,null,null,null,{"$f":"G27193*(1-VLOOKUP(F27193,Konditionen!$B:$G,6,0))","v":{"$error":"#N/A"}}]
[null,null,null,null,null,null,null,{"$f":"G27194*(1-VLOOKUP(F27194,Konditionen!$B:$G,6,0))","v":{"$error":"#N/A"}}]
[null,null,null,null,null,null,null,{"$f":"G27195*(1-VLOOKUP(F27195,Konditionen!$B:$G,6,0))","v":{"$error":"#N/A"}}]
[null,null,null,null,null,null,null,{"$f":"G27196*(1-VLOOKUP(F27196,Konditionen!$B:$G,6,0))","v":{"$error":"#N/A"}}]
[null,null,null,null,null,null,null,{"$f":"G27197*(1-VLOOKUP(F27197,Konditionen!$B:$G,6,0))","v":{"$error":"#N/A"}}]
[null,null,null,null,null,null,null,{"$f":"G27198*(1-VLOOKUP(F27198,Konditionen!$B:$G,6,0))","v":{"$error":"#N/A"}}]
[null,null,null,null,null,null,null,{"$f":"G27199*(1-VLOOKUP(F27199,Konditionen!$B:$G,6,0))","v":{"$error":"#N/A"}}]
[null,null,null,null,null,null,null,{"$f":"G27200*(1-VLOOKUP(F27200,Konditionen!$B:$G,6,0))","v":{"$error":"#N/A"}}]
[null,null,null,null,null,null,null,{"$f":"G27201*(1-VLOOKUP(F27201,Konditionen!$B:$G,6,0))","v":{"$error":"#N/A"}}]
[null,null,null,null,null,null,null,{"$f":"G27202*(1-VLOOKUP(F27202,Konditionen!$B:$G,6,0))","v":{"$error":"#N/A"}}]
[null,null,null,null,null,null,null,{"$f":"G27203*(1-VLOOKUP(F27203,Konditionen!$B:$G,6,0))","v":{"$error":"#N/A"}}]
[null,null,null,null,null,null,null,{"$f":"G27204*(1-VLOOKUP(F27204,Konditionen!$B:$G,6,0))","v":{"$error":"#N/A"}}]
[null,null,null,null,null,null,null,{"$f":"G27205*(1-VLOOKUP(F27205,Konditionen!$B:$G,6,0))","v":{"$error":"#N/A"}}]
[null,null,null,null,null,null,null,{"$f":"G27206*(1-VLOOKUP(F27206,Konditionen!$B:$G,6,0))","v":{"$error":"#N/A"}}]
[null,null,null,null,null,null,null,{"$f":"G27207*(1-VLOOKUP(F27207,Konditionen!$B:$G,6,0))","v":{"$error":"#N/A"}}]
[null,null,null,null,null,null,null,{"$f":"G27208*(1-VLOOKUP(F27208,Konditionen!$B:$G,6,0))","v":{"$error":"#N/A"}}]
[null,null,null,null,null,null,null,{"$f":"G27209*(1-VLOOKUP(F27209,Konditionen!$B:$G,6,0))","v":{"$error":"#N/A"}}]
[null,null,null,null,null,null,null,{"$f":"G27210*(1-VLOOKUP(F27210,Konditionen!$B:$G,6,0))","v":{"$error":"#N/A"}}]
[null,null,null,null,null,null,null,{"$f":"G27211*(1-VLOOKUP(F27211,Konditionen!$B:$G,6,0))","v":{"$error":"#N/A"}}]
[null,null,null,null,null,null,null,{"$f":"G27212*(1-VLOOKUP(F27212,Konditionen!$B:$G,6,0))","v":{"$error":"#N/A"}}]
[null,null,null,null,null,null,null,{"$f":"G27213*(1-VLOOKUP(F27213,Konditionen!$B:$G,6,0))","v":{"$error":"#N/A"}}]
[null,null,null,null,null,null,null,{"$f":"G27214*(1-VLOOKUP(F27214,Konditionen!$B:$G,6,0))","v":{"$error":"#N/A"}}]
[null,null,null,null,null,null,null,{"$f":"G27215*(1-VLOOKUP(F27215,Konditionen!$B:$G,6,0))","v":{"$error":"#N/A"}}]
[null,null,null,null,null,null,null,{"$f":"G27216*(1-VLOOKUP(F27216,Konditionen!$B:$G,6,0))","v":{"$error":"#N/A"}}]
[null,null,null,null,null,null,null,{"$f":"G27217*(1-VLOOKUP(F27217,Konditionen!$B:$G,6,0))","v":{"$error":"#N/A"}}]
[null,null,null,null,null,null,null,{"$f":"G27218*(1-VLOOKUP(F27218,Konditionen!$B:$G,6,0))","v":{"$error":"#N/A"}}]
[null,null,null,null,null,null,null,{"$f":"G27219*(1-VLOOKUP(F27219,Konditionen!$B:$G,6,0))","v":{"$error":"#N/A"}}]
[null,null,null,null,null,null,null,{"$f":"G27220*(1-VLOOKUP(F27220,Konditionen!$B:$G,6,0))","v":{"$error":"#N/A"}}]
[null,null,null,null,null,null,null,{"$f":"G27221*(1-VLOOKUP(F27221,Konditionen!$B:$G,6,0))","v":{"$error":"#N/A"}}]
[null,null,null,null,null,null,null,{"$f":"G27222*(1-VLOOKUP(F27222,Konditionen!$B:$G,6,0))","v":{"$error":"#N/A"}}]
[null,null,null,null,null,null,null,{"$f":"G27223*(1-VLOOKUP(F27223,Konditionen!$B:$G,6,0))","v":{"$error":"#N/A"}}]
[null,null,null,null,null,null,null,{"$f":"G27224*(1-VLOOKUP(F27224,Konditionen!$B:$G,6,0))","v":{"$error":"#N/A"}}]
[null,null,null,null,null,null,null,{"$f":"G27225*(1-VLOOKUP(F27225,Konditionen!$B:$G,6,0))","v":{"$error":"#N/A"}}]
[null,null,null,null,null,null,null,{"$f":"G27226*(1-VLOOKUP(F27226,Konditionen!$B:$G,6,0))","v":{"$error":"#N/A"}}]
[null,null,null,null,null,null,null,{"$f":"G27227*(1-VLOOKUP(F27227,Konditionen!$B:$G,6,0))","v":{"$error":"#N/A"}}]
[null,null,null,null,null,null,null,{"$f":"G27228*(1-VLOOKUP(F27228,Konditionen!$B:$G,6,0))","v":{"$error":"#N/A"}}]
[null,null,null,null,null,null,null,{"$f":"G27229*(1-VLOOKUP(F27229,Konditionen!$B:$G,6,0))","v":{"$error":"#N/A"}}]
[null,null,null,null,null,null,null,{"$f":"G27230*(1-VLOOKUP(F27230,Konditionen!$B:$G,6,0))","v":{"$error":"#N/A"}}]
[null,null,null,null,null,null,null,{"$f":"G27231*(1-VLOOKUP(F27231,Konditionen!$B:$G,6,0))","v":{"$error":"#N/A"}}]
[null,null,null,null,null,null,null,{"$f":"G27232*(1-VLOOKUP(F27232,Konditionen!$B:$G,6,0))","v":{"$error":"#N/A"}}]
[null,null,null,null,null,null,null,{"$f":"G27233*(1-VLOOKUP(F27233,Konditionen!$B:$G,6,0))","v":{"$error":"#N/A"}}]
[null,null,null,null,null,null,null,{"$f":"G27234*(1-VLOOKUP(F27234,Konditionen!$B:$G,6,0))","v":{"$error":"#N/A"}}]
[null,null,null,null,null,null,null,{"$f":"G27235*(1-VLOOKUP(F27235,Konditionen!$B:$G,6,0))","v":{"$error":"#N/A"}}]
[null,null,null,null,null,null,null,{"$f":"G27236*(1-VLOOKUP(F27236,Konditionen!$B:$G,6,0))","v":{"$error":"#N/A"}}]
[null,null,null,null,null,null,null,{"$f":"G27237*(1-VLOOKUP(F27237,Konditionen!$B:$G,6,0))","v":{"$error":"#N/A"}}]
[null,null,null,null,null,null,null,{"$f":"G27238*(1-VLOOKUP(F27238,Konditionen!$B:$G,6,0))","v":{"$error":"#N/A"}}]
[null,null,null,null,null,null,null,{"$f":"G27239*(1-VLOOKUP(F27239,Konditionen!$B:$G,6,0))","v":{"$error":"#N/A"}}]
[null,null,null,null,null,null,null,{"$f":"G27240*(1-VLOOKUP(F27240,Konditionen!$B:$G,6,0))","v":{"$error":"#N/A"}}]
[null,null,null,null,null,null,null,{"$f":"G27241*(1-VLOOKUP(F27241,Konditionen!$B:$G,6,0))","v":{"$error":"#N/A"}}]
[null,null,null,null,null,null,null,{"$f":"G27242*(1-VLOOKUP(F27242,Konditionen!$B:$G,6,0))","v":{"$error":"#N/A"}}]
[null,null,null,null,null,null,null,{"$f":"G27243*(1-VLOOKUP(F27243,Konditionen!$B:$G,6,0))","v":{"$error":"#N/A"}}]
[null,null,null,null,null,null,null,{"$f":"G27244*(1-VLOOKUP(F27244,Konditionen!$B:$G,6,0))","v":{"$error":"#N/A"}}]
[null,null,null,null,null,null,null,{"$f":"G27245*(1-VLOOKUP(F27245,Konditionen!$B:$G,6,0))","v":{"$error":"#N/A"}}]
[null,null,null,null,null,null,null,{"$f":"G27246*(1-VLOOKUP(F27246,Konditionen!$B:$G,6,0))","v":{"$error":"#N/A"}}]
[null,null,null,null,null,null,null,{"$f":"G27247*(1-VLOOKUP(F27247,Konditionen!$B:$G,6,0))","v":{"$error":"#N/A"}}]
[null,null,null,null,null,null,null,{"$f":"G27248*(1-VLOOKUP(F27248,Konditionen!$B:$G,6,0))","v":{"$error":"#N/A"}}]
[null,null,null,null,null,null,null,{"$f":"G27249*(1-VLOOKUP(F27249,Konditionen!$B:$G,6,0))","v":{"$error":"#N/A"}}]
[null,null,null,null,null,null,null,{"$f":"G27250*(1-VLOOKUP(F27250,Konditionen!$B:$G,6,0))","v":{"$error":"#N/A"}}]
[null,null,null,null,null,null,null,{"$f":"G27251*(1-VLOOKUP(F27251,Konditionen!$B:$G,6,0))","v":{"$error":"#N/A"}}]
[null,null,null,null,null,null,null,{"$f":"G27252*(1-VLOOKUP(F27252,Konditionen!$B:$G,6,0))","v":{"$error":"#N/A"}}]
[null,null,null,null,null,null,null,{"$f":"G27253*(1-VLOOKUP(F27253,Konditionen!$B:$G,6,0))","v":{"$error":"#N/A"}}]
[null,null,null,null,null,null,null,{"$f":"G27254*(1-VLOOKUP(F27254,Konditionen!$B:$G,6,0))","v":{"$error":"#N/A"}}]
[null,null,null,null,null,null,null,{"$f":"G27255*(1-VLOOKUP(F27255,Konditionen!$B:$G,6,0))","v":{"$error":"#N/A"}}]
[null,null,null,null,null,null,null,{"$f":"G27256*(1-VLOOKUP(F27256,Konditionen!$B:$G,6,0))","v":{"$error":"#N/A"}}]
[null,null,null,null,null,null,null,{"$f":"G27257*(1-VLOOKUP(F27257,Konditionen!$B:$G,6,0))","v":{"$error":"#N/A"}}]
[null,null,null,null,null,null,null,{"$f":"G27258*(1-VLOOKUP(F27258,Konditionen!$B:$G,6,0))","v":{"$error":"#N/A"}}]
[null,null,null,null,null,null,null,{"$f":"G27259*(1-VLOOKUP(F27259,Konditionen!$B:$G,6,0))","v":{"$error":"#N/A"}}]
[null,null,null,null,null,null,null,{"$f":"G27260*(1-VLOOKUP(F27260,Konditionen!$B:$G,6,0))","v":{"$error":"#N/A"}}]
[null,null,null,null,null,null,null,{"$f":"G27261*(1-VLOOKUP(F27261,Konditionen!$B:$G,6,0))","v":{"$error":"#N/A"}}]
[null,null,null,null,null,null,null,{"$f":"G27262*(1-VLOOKUP(F27262,Konditionen!$B:$G,6,0))","v":{"$error":"#N/A"}}]
[null,null,null,null,null,null,null,{"$f":"G27263*(1-VLOOKUP(F27263,Konditionen!$B:$G,6,0))","v":{"$error":"#N/A"}}]
[null,null,null,null,null,null,null,{"$f":"G27264*(1-VLOOKUP(F27264,Konditionen!$B:$G,6,0))","v":{"$error":"#N/A"}}]
[null,null,null,null,null,null,null,{"$f":"G27265*(1-VLOOKUP(F27265,Konditionen!$B:$G,6,0))","v":{"$error":"#N/A"}}]
[null,null,null,null,null,null,null,{"$f":"G27266*(1-VLOOKUP(F27266,Konditionen!$B:$G,6,0))","v":{"$error":"#N/A"}}]
[null,null,null,null,null,null,null,{"$f":"G27267*(1-VLOOKUP(F27267,Konditionen!$B:$G,6,0))","v":{"$error":"#N/A"}}]
[null,null,null,null,null,null,null,{"$f":"G27268*(1-VLOOKUP(F27268,Konditionen!$B:$G,6,0))","v":{"$error":"#N/A"}}]
[null,null,null,null,null,null,null,{"$f":"G27269*(1-VLOOKUP(F27269,Konditionen!$B:$G,6,0))","v":{"$error":"#N/A"}}]
[null,null,null,null,null,null,null,{"$f":"G27270*(1-VLOOKUP(F27270,Konditionen!$B:$G,6,0))","v":{"$error":"#N/A"}}]
[null,null,null,null,null,null,null,{"$f":"G27271*(1-VLOOKUP(F27271,Konditionen!$B:$G,6,0))","v":{"$error":"#N/A"}}]
[null,null,null,null,null,null,null,{"$f":"G27272*(1-VLOOKUP(F27272,Konditionen!$B:$G,6,0))","v":{"$error":"#N/A"}}]
[null,null,null,null,null,null,null,{"$f":"G27273*(1-VLOOKUP(F27273,Konditionen!$B:$G,6,0))","v":{"$error":"#N/A"}}]
[null,null,null,null,null,null,null,{"$f":"G27274*(1-VLOOKUP(F27274,Konditionen!$B:$G,6,0))","v":{"$error":"#N/A"}}]
[null,null,null,null,null,null,null,{"$f":"G27275*(1-VLOOKUP(F27275,Konditionen!$B:$G,6,0))","v":{"$error":"#N/A"}}]
[null,null,null,null,null,null,null,{"$f":"G27276*(1-VLOOKUP(F27276,Konditionen!$B:$G,6,0))","v":{"$error":"#N/A"}}]
[null,null,null,null,null,null,null,{"$f":"G27277*(1-VLOOKUP(F27277,Konditionen!$B:$G,6,0))","v":{"$error":"#N/A"}}]
[null,null,null,null,null,null,null,{"$f":"G27278*(1-VLOOKUP(F27278,Konditionen!$B:$G,6,0))","v":{"$error":"#N/A"}}]
[null,null,null,null,null,null,null,{"$f":"G27279*(1-VLOOKUP(F27279,Konditionen!$B:$G,6,0))","v":{"$error":"#N/A"}}]
[null,null,null,null,null,null,null,{"$f":"G27280*(1-VLOOKUP(F27280,Konditionen!$B:$G,6,0))","v":{"$error":"#N/A"}}]
[null,null,null,null,null,null,null,{"$f":"G27281*(1-VLOOKUP(F27281,Konditionen!$B:$G,6,0))","v":{"$error":"#N/A"}}]
[null,null,null,null,null,null,null,{"$f":"G27282*(1-VLOOKUP(F27282,Konditionen!$B:$G,6,0))","v":{"$error":"#N/A"}}]
[null,null,null,null,null,null,null,{"$f":"G27283*(1-VLOOKUP(F27283,Konditionen!$B:$G,6,0))","v":{"$error":"#N/A"}}]
[null,null,null,null,null,null,null,{"$f":"G27284*(1-VLOOKUP(F27284,Konditionen!$B:$G,6,0))","v":{"$error":"#N/A"}}]
[null,null,null,null,null,null,null,{"$f":"G27285*(1-VLOOKUP(F27285,Konditionen!$B:$G,6,0))","v":{"$error":"#N/A"}}]
[null,null,null,null,null,null,null,{"$f":"G27286*(1-VLOOKUP(F27286,Konditionen!$B:$G,6,0))","v":{"$error":"#N/A"}}]
[null,null,null,null,null,null,null,{"$f":"G27287*(1-VLOOKUP(F27287,Konditionen!$B:$G,6,0))","v":{"$error":"#N/A"}}]
[null,null,null,null,null,null,null,{"$f":"G27288*(1-VLOOKUP(F27288,Konditionen!$B:$G,6,0))","v":{"$error":"#N/A"}}]
[null,null,null,null,null,null,null,{"$f":"G27289*(1-VLOOKUP(F27289,Konditionen!$B:$G,6,0))","v":{"$error":"#N/A"}}]
[null,null,null,null,null,null,null,{"$f":"G27290*(1-VLOOKUP(F27290,Konditionen!$B:$G,6,0))","v":{"$error":"#N/A"}}]
[null,null,null,null,null,null,null,{"$f":"G27291*(1-VLOOKUP(F27291,Konditionen!$B:$G,6,0))","v":{"$error":"#N/A"}}]
[null,null,null,null,null,null,null,{"$f":"G27292*(1-VLOOKUP(F27292,Konditionen!$B:$G,6,0))","v":{"$error":"#N/A"}}]
[null,null,null,null,null,null,null,{"$f":"G27293*(1-VLOOKUP(F27293,Konditionen!$B:$G,6,0))","v":{"$error":"#N/A"}}]
[null,null,null,null,null,null,null,{"$f":"G27294*(1-VLOOKUP(F27294,Konditionen!$B:$G,6,0))","v":{"$error":"#N/A"}}]
[null,null,null,null,null,null,null,{"$f":"G27295*(1-VLOOKUP(F27295,Konditionen!$B:$G,6,0))","v":{"$error":"#N/A"}}]
[null,null,null,null,null,null,null,{"$f":"G27296*(1-VLOOKUP(F27296,Konditionen!$B:$G,6,0))","v":{"$error":"#N/A"}}]
[null,null,null,null,null,null,null,{"$f":"G27297*(1-VLOOKUP(F27297,Konditionen!$B:$G,6,0))","v":{"$error":"#N/A"}}]
[null,null,null,null,null,null,null,{"$f":"G27298*(1-VLOOKUP(F27298,Konditionen!$B:$G,6,0))","v":{"$error":"#N/A"}}]
[null,null,null,null,null,null,null,{"$f":"G27299*(1-VLOOKUP(F27299,Konditionen!$B:$G,6,0))","v":{"$error":"#N/A"}}]
[null,null,null,null,null,null,null,{"$f":"G27300*(1-VLOOKUP(F27300,Konditionen!$B:$G,6,0))","v":{"$error":"#N/A"}}]
[null,null,null,null,null,null,null,{"$f":"G27301*(1-VLOOKUP(F27301,Konditionen!$B:$G,6,0))","v":{"$error":"#N/A"}}]
[null,null,null,null,null,null,null,{"$f":"G27302*(1-VLOOKUP(F27302,Konditionen!$B:$G,6,0))","v":{"$error":"#N/A"}}]
[null,null,null,null,null,null,null,{"$f":"G27303*(1-VLOOKUP(F27303,Konditionen!$B:$G,6,0))","v":{"$error":"#N/A"}}]
[null,null,null,null,null,null,null,{"$f":"G27304*(1-VLOOKUP(F27304,Konditionen!$B:$G,6,0))","v":{"$error":"#N/A"}}]
[null,null,null,null,null,null,null,{"$f":"G27305*(1-VLOOKUP(F27305,Konditionen!$B:$G,6,0))","v":{"$error":"#N/A"}}]
[null,null,null,null,null,null,null,{"$f":"G27306*(1-VLOOKUP(F27306,Konditionen!$B:$G,6,0))","v":{"$error":"#N/A"}}]
[null,null,null,null,null,null,null,{"$f":"G27307*(1-VLOOKUP(F27307,Konditionen!$B:$G,6,0))","v":{"$error":"#N/A"}}]
[null,null,null,null,null,null,null,{"$f":"G27308*(1-VLOOKUP(F27308,Konditionen!$B:$G,6,0))","v":{"$error":"#N/A"}}]
[null,null,null,null,null,null,null,{"$f":"G27309*(1-VLOOKUP(F27309,Konditionen!$B:$G,6,0))","v":{"$error":"#N/A"}}]
[null,null,null,null,null,null,null,{"$f":"G27310*(1-VLOOKUP(F27310,Konditionen!$B:$G,6,0))","v":{"$error":"#N/A"}}]
[null,null,null,null,null,null,null,{"$f":"G27311*(1-VLOOKUP(F27311,Konditionen!$B:$G,6,0))","v":{"$error":"#N/A"}}]
[null,null,null,null,null,null,null,{"$f":"G27312*(1-VLOOKUP(F27312,Konditionen!$B:$G,6,0))","v":{"$error":"#N/A"}}]
[null,null,null,null,null,null,null,{"$f":"G27313*(1-VLOOKUP(F27313,Konditionen!$B:$G,6,0))","v":{"$error":"#N/A"}}]
[null,null,null,null,null,null,null,{"$f":"G27314*(1-VLOOKUP(F27314,Konditionen!$B:$G,6,0))","v":{"$error":"#N/A"}}]
[null,null,null,null,null,null,null,{"$f":"G27315*(1-VLOOKUP(F27315,Konditionen!$B:$G,6,0))","v":{"$error":"#N/A"}}]
[null,null,null,null,null,null,null,{"$f":"G27316*(1-VLOOKUP(F27316,Konditionen!$B:$G,6,0))","v":{"$error":"#N/A"}}]
[null,null,null,null,null,null,null,{"$f":"G27317*(1-VLOOKUP(F27317,Konditionen!$B:$G,6,0))","v":{"$error":"#N/A"}}]
[null,null,null,null,null,null,null,{"$f":"G27318*(1-VLOOKUP(F27318,Konditionen!$B:$G,6,0))","v":{"$error":"#N/A"}}]
[null,null,null,null,null,null,null,{"$f":"G27319*(1-VLOOKUP(F27319,Konditionen!$B:$G,6,0))","v":{"$error":"#N/A"}}]
[null,null,null,null,null,null,null,{"$f":"G27320*(1-VLOOKUP(F27320,Konditionen!$B:$G,6,0))","v":{"$error":"#N/A"}}]
[null,null,null,null,null,null,null,{"$f":"G27321*(1-VLOOKUP(F27321,Konditionen!$B:$G,6,0))","v":{"$error":"#N/A"}}]
[null,null,null,null,null,null,null,{"$f":"G27322*(1-VLOOKUP(F27322,Konditionen!$B:$G,6,0))","v":{"$error":"#N/A"}}]
[null,null,null,null,null,null,null,{"$f":"G27323*(1-VLOOKUP(F27323,Konditionen!$B:$G,6,0))","v":{"$error":"#N/A"}}]
[null,null,null,null,null,null,null,{"$f":"G27324*(1-VLOOKUP(F27324,Konditionen!$B:$G,6,0))","v":{"$error":"#N/A"}}]
[null,null,null,null,null,null,null,{"$f":"G27325*(1-VLOOKUP(F27325,Konditionen!$B:$G,6,0))","v":{"$error":"#N/A"}}]
[null,null,null,null,null,null,null,{"$f":"G27326*(1-VLOOKUP(F27326,Konditionen!$B:$G,6,0))","v":{"$error":"#N/A"}}]
[null,null,null,null,null,null,null,{"$f":"G27327*(1-VLOOKUP(F27327,Konditionen!$B:$G,6,0))","v":{"$error":"#N/A"}}]
[null,null,null,null,null,null,null,{"$f":"G27328*(1-VLOOKUP(F27328,Konditionen!$B:$G,6,0))","v":{"$error":"#N/A"}}]
[null,null,null,null,null,null,null,{"$f":"G27329*(1-VLOOKUP(F27329,Konditionen!$B:$G,6,0))","v":{"$error":"#N/A"}}]
[null,null,null,null,null,null,null,{"$f":"G27330*(1-VLOOKUP(F27330,Konditionen!$B:$G,6,0))","v":{"$error":"#N/A"}}]
[null,null,null,null,null,null,null,{"$f":"G27331*(1-VLOOKUP(F27331,Konditionen!$B:$G,6,0))","v":{"$error":"#N/A"}}]
[null,null,null,null,null,null,null,{"$f":"G27332*(1-VLOOKUP(F27332,Konditionen!$B:$G,6,0))","v":{"$error":"#N/A"}}]
[null,null,null,null,null,null,null,{"$f":"G27333*(1-VLOOKUP(F27333,Konditionen!$B:$G,6,0))","v":{"$error":"#N/A"}}]
[null,null,null,null,null,null,null,{"$f":"G27334*(1-VLOOKUP(F27334,Konditionen!$B:$G,6,0))","v":{"$error":"#N/A"}}]
[null,null,null,null,null,null,null,{"$f":"G27335*(1-VLOOKUP(F27335,Konditionen!$B:$G,6,0))","v":{"$error":"#N/A"}}]
[null,null,null,null,null,null,null,{"$f":"G27336*(1-VLOOKUP(F27336,Konditionen!$B:$G,6,0))","v":{"$error":"#N/A"}}]
[null,null,null,null,null,null,null,{"$f":"G27337*(1-VLOOKUP(F27337,Konditionen!$B:$G,6,0))","v":{"$error":"#N/A"}}]
[null,null,null,null,null,null,null,{"$f":"G27338*(1-VLOOKUP(F27338,Konditionen!$B:$G,6,0))","v":{"$error":"#N/A"}}]
[null,null,null,null,null,null,null,{"$f":"G27339*(1-VLOOKUP(F27339,Konditionen!$B:$G,6,0))","v":{"$error":"#N/A"}}]
[null,null,null,null,null,null,null,{"$f":"G27340*(1-VLOOKUP(F27340,Konditionen!$B:$G,6,0))","v":{"$error":"#N/A"}}]
[null,null,null,null,null,null,null,{"$f":"G27341*(1-VLOOKUP(F27341,Konditionen!$B:$G,6,0))","v":{"$error":"#N/A"}}]
[null,null,null,null,null,null,null,{"$f":"G27342*(1-VLOOKUP(F27342,Konditionen!$B:$G,6,0))","v":{"$error":"#N/A"}}]
[null,null,null,null,null,null,null,{"$f":"G27343*(1-VLOOKUP(F27343,Konditionen!$B:$G,6,0))","v":{"$error":"#N/A"}}]
[null,null,null,null,null,null,null,{"$f":"G27344*(1-VLOOKUP(F27344,Konditionen!$B:$G,6,0))","v":{"$error":"#N/A"}}]
[null,null,null,null,null,null,null,{"$f":"G27345*(1-VLOOKUP(F27345,Konditionen!$B:$G,6,0))","v":{"$error":"#N/A"}}]
[null,null,null,null,null,null,null,{"$f":"G27346*(1-VLOOKUP(F27346,Konditionen!$B:$G,6,0))","v":{"$error":"#N/A"}}]
[null,null,null,null,null,null,null,{"$f":"G27347*(1-VLOOKUP(F27347,Konditionen!$B:$G,6,0))","v":{"$error":"#N/A"}}]
[null,null,null,null,null,null,null,{"$f":"G27348*(1-VLOOKUP(F27348,Konditionen!$B:$G,6,0))","v":{"$error":"#N/A"}}]
[null,null,null,null,null,null,null,{"$f":"G27349*(1-VLOOKUP(F27349,Konditionen!$B:$G,6,0))","v":{"$error":"#N/A"}}]
[null,null,null,null,null,null,null,{"$f":"G27350*(1-VLOOKUP(F27350,Konditionen!$B:$G,6,0))","v":{"$error":"#N/A"}}]
[null,null,null,null,null,null,null,{"$f":"G27351*(1-VLOOKUP(F27351,Konditionen!$B:$G,6,0))","v":{"$error":"#N/A"}}]
[null,null,null,null,null,null,null,{"$f":"G27352*(1-VLOOKUP(F27352,Konditionen!$B:$G,6,0))","v":{"$error":"#N/A"}}]
[null,null,null,null,null,null,null,{"$f":"G27353*(1-VLOOKUP(F27353,Konditionen!$B:$G,6,0))","v":{"$error":"#N/A"}}]
[null,null,null,null,null,null,null,{"$f":"G27354*(1-VLOOKUP(F27354,Konditionen!$B:$G,6,0))","v":{"$error":"#N/A"}}]
[null,null,null,null,null,null,null,{"$f":"G27355*(1-VLOOKUP(F27355,Konditionen!$B:$G,6,0))","v":{"$error":"#N/A"}}]
[null,null,null,null,null,null,null,{"$f":"G27356*(1-VLOOKUP(F27356,Konditionen!$B:$G,6,0))","v":{"$error":"#N/A"}}]
[null,null,null,null,null,null,null,{"$f":"G27357*(1-VLOOKUP(F27357,Konditionen!$B:$G,6,0))","v":{"$error":"#N/A"}}]
[null,null,null,null,null,null,null,{"$f":"G27358*(1-VLOOKUP(F27358,Konditionen!$B:$G,6,0))","v":{"$error":"#N/A"}}]
[null,null,null,null,null,null,null,{"$f":"G27359*(1-VLOOKUP(F27359,Konditionen!$B:$G,6,0))","v":{"$error":"#N/A"}}]
[null,null,null,null,null,null,null,{"$f":"G27360*(1-VLOOKUP(F27360,Konditionen!$B:$G,6,0))","v":{"$error":"#N/A"}}]
[null,null,null,null,null,null,null,{"$f":"G27361*(1-VLOOKUP(F27361,Konditionen!$B:$G,6,0))","v":{"$error":"#N/A"}}]
[null,null,null,null,null,null,null,{"$f":"G27362*(1-VLOOKUP(F27362,Konditionen!$B:$G,6,0))","v":{"$error":"#N/A"}}]
[null,null,null,null,null,null,null,{"$f":"G27363*(1-VLOOKUP(F27363,Konditionen!$B:$G,6,0))","v":{"$error":"#N/A"}}]
[null,null,null,null,null,null,null,{"$f":"G27364*(1-VLOOKUP(F27364,Konditionen!$B:$G,6,0))","v":{"$error":"#N/A"}}]
[null,null,null,null,null,null,null,{"$f":"G27365*(1-VLOOKUP(F27365,Konditionen!$B:$G,6,0))","v":{"$error":"#N/A"}}]
[null,null,null,null,null,null,null,{"$f":"G27366*(1-VLOOKUP(F27366,Konditionen!$B:$G,6,0))","v":{"$error":"#N/A"}}]
[null,null,null,null,null,null,null,{"$f":"G27367*(1-VLOOKUP(F27367,Konditionen!$B:$G,6,0))","v":{"$error":"#N/A"}}]
[null,null,null,null,null,null,null,{"$f":"G27368*(1-VLOOKUP(F27368,Konditionen!$B:$G,6,0))","v":{"$error":"#N/A"}}]
[null,null,null,null,null,null,null,{"$f":"G27369*(1-VLOOKUP(F27369,Konditionen!$B:$G,6,0))","v":{"$error":"#N/A"}}]
[null,null,null,null,null,null,null,{"$f":"G27370*(1-VLOOKUP(F27370,Konditionen!$B:$G,6,0))","v":{"$error":"#N/A"}}]
[null,null,null,null,null,null,null,{"$f":"G27371*(1-VLOOKUP(F27371,Konditionen!$B:$G,6,0))","v":{"$error":"#N/A"}}]
[null,null,null,null,null,null,null,{"$f":"G27372*(1-VLOOKUP(F27372,Konditionen!$B:$G,6,0))","v":{"$error":"#N/A"}}]
[null,null,null,null,null,null,null,{"$f":"G27373*(1-VLOOKUP(F27373,Konditionen!$B:$G,6,0))","v":{"$error":"#N/A"}}]
[null,null,null,null,null,null,null,{"$f":"G27374*(1-VLOOKUP(F27374,Konditionen!$B:$G,6,0))","v":{"$error":"#N/A"}}]
[null,null,null,null,null,null,null,{"$f":"G27375*(1-VLOOKUP(F27375,Konditionen!$B:$G,6,0))","v":{"$error":"#N/A"}}]
[null,null,null,null,null,null,null,{"$f":"G27376*(1-VLOOKUP(F27376,Konditionen!$B:$G,6,0))","v":{"$error":"#N/A"}}]
[null,null,null,null,null,null,null,{"$f":"G27377*(1-VLOOKUP(F27377,Konditionen!$B:$G,6,0))","v":{"$error":"#N/A"}}]
[null,null,null,null,null,null,null,{"$f":"G27378*(1-VLOOKUP(F27378,Konditionen!$B:$G,6,0))","v":{"$error":"#N/A"}}]
[null,null,null,null,null,null,null,{"$f":"G27379*(1-VLOOKUP(F27379,Konditionen!$B:$G,6,0))","v":{"$error":"#N/A"}}]
[null,null,null,null,null,null,null,{"$f":"G27380*(1-VLOOKUP(F27380,Konditionen!$B:$G,6,0))","v":{"$error":"#N/A"}}]
[null,null,null,null,null,null,null,{"$f":"G27381*(1-VLOOKUP(F27381,Konditionen!$B:$G,6,0))","v":{"$error":"#N/A"}}]
[null,null,null,null,null,null,null,{"$f":"G27382*(1-VLOOKUP(F27382,Konditionen!$B:$G,6,0))","v":{"$error":"#N/A"}}]
[null,null,null,null,null,null,null,{"$f":"G27383*(1-VLOOKUP(F27383,Konditionen!$B:$G,6,0))","v":{"$error":"#N/A"}}]
[null,null,null,null,null,null,null,{"$f":"G27384*(1-VLOOKUP(F27384,Konditionen!$B:$G,6,0))","v":{"$error":"#N/A"}}]
[null,null,null,null,null,null,null,{"$f":"G27385*(1-VLOOKUP(F27385,Konditionen!$B:$G,6,0))","v":{"$error":"#N/A"}}]
[null,null,null,null,null,null,null,{"$f":"G27386*(1-VLOOKUP(F27386,Konditionen!$B:$G,6,0))","v":{"$error":"#N/A"}}]
[null,null,null,null,null,null,null,{"$f":"G27387*(1-VLOOKUP(F27387,Konditionen!$B:$G,6,0))","v":{"$error":"#N/A"}}]
[null,null,null,null,null,null,null,{"$f":"G27388*(1-VLOOKUP(F27388,Konditionen!$B:$G,6,0))","v":{"$error":"#N/A"}}]
[null,null,null,null,null,null,null,{"$f":"G27389*(1-VLOOKUP(F27389,Konditionen!$B:$G,6,0))","v":{"$error":"#N/A"}}]
[null,null,null,null,null,null,null,{"$f":"G27390*(1-VLOOKUP(F27390,Konditionen!$B:$G,6,0))","v":{"$error":"#N/A"}}]
[null,null,null,null,null,null,null,{"$f":"G27391*(1-VLOOKUP(F27391,Konditionen!$B:$G,6,0))","v":{"$error":"#N/A"}}]
[null,null,null,null,null,null,null,{"$f":"G27392*(1-VLOOKUP(F27392,Konditionen!$B:$G,6,0))","v":{"$error":"#N/A"}}]
[null,null,null,null,null,null,null,{"$f":"G27393*(1-VLOOKUP(F27393,Konditionen!$B:$G,6,0))","v":{"$error":"#N/A"}}]
[null,null,null,null,null,null,null,{"$f":"G27394*(1-VLOOKUP(F27394,Konditionen!$B:$G,6,0))","v":{"$error":"#N/A"}}]
[null,null,null,null,null,null,null,{"$f":"G27395*(1-VLOOKUP(F27395,Konditionen!$B:$G,6,0))","v":{"$error":"#N/A"}}]
[null,null,null,null,null,null,null,{"$f":"G27396*(1-VLOOKUP(F27396,Konditionen!$B:$G,6,0))","v":{"$error":"#N/A"}}]
[null,null,null,null,null,null,null,{"$f":"G27397*(1-VLOOKUP(F27397,Konditionen!$B:$G,6,0))","v":{"$error":"#N/A"}}]
[null,null,null,null,null,null,null,{"$f":"G27398*(1-VLOOKUP(F27398,Konditionen!$B:$G,6,0))","v":{"$error":"#N/A"}}]
[null,null,null,null,null,null,null,{"$f":"G27399*(1-VLOOKUP(F27399,Konditionen!$B:$G,6,0))","v":{"$error":"#N/A"}}]
[null,null,null,null,null,null,null,{"$f":"G27400*(1-VLOOKUP(F27400,Konditionen!$B:$G,6,0))","v":{"$error":"#N/A"}}]
[null,null,null,null,null,null,null,{"$f":"G27401*(1-VLOOKUP(F27401,Konditionen!$B:$G,6,0))","v":{"$error":"#N/A"}}]
[null,null,null,null,null,null,null,{"$f":"G27402*(1-VLOOKUP(F27402,Konditionen!$B:$G,6,0))","v":{"$error":"#N/A"}}]
[null,null,null,null,null,null,null,{"$f":"G27403*(1-VLOOKUP(F27403,Konditionen!$B:$G,6,0))","v":{"$error":"#N/A"}}]
[null,null,null,null,null,null,null,{"$f":"G27404*(1-VLOOKUP(F27404,Konditionen!$B:$G,6,0))","v":{"$error":"#N/A"}}]
[null,null,null,null,null,null,null,{"$f":"G27405*(1-VLOOKUP(F27405,Konditionen!$B:$G,6,0))","v":{"$error":"#N/A"}}]
[null,null,null,null,null,null,null,{"$f":"G27406*(1-VLOOKUP(F27406,Konditionen!$B:$G,6,0))","v":{"$error":"#N/A"}}]
[null,null,null,null,null,null,null,{"$f":"G27407*(1-VLOOKUP(F27407,Konditionen!$B:$G,6,0))","v":{"$error":"#N/A"}}]
[null,null,null,null,null,null,null,{"$f":"G27408*(1-VLOOKUP(F27408,Konditionen!$B:$G,6,0))","v":{"$error":"#N/A"}}]
[null,null,null,null,null,null,null,{"$f":"G27409*(1-VLOOKUP(F27409,Konditionen!$B:$G,6,0))","v":{"$error":"#N/A"}}]
[null,null,null,null,null,null,null,{"$f":"G27410*(1-VLOOKUP(F27410,Konditionen!$B:$G,6,0))","v":{"$error":"#N/A"}}]
[null,null,null,null,null,null,null,{"$f":"G27411*(1-VLOOKUP(F27411,Konditionen!$B:$G,6,0))","v":{"$error":"#N/A"}}]
[null,null,null,null,null,null,null,{"$f":"G27412*(1-VLOOKUP(F27412,Konditionen!$B:$G,6,0))","v":{"$error":"#N/A"}}]
[null,null,null,null,null,null,null,{"$f":"G27413*(1-VLOOKUP(F27413,Konditionen!$B:$G,6,0))","v":{"$error":"#N/A"}}]
[null,null,null,null,null,null,null,{"$f":"G27414*(1-VLOOKUP(F27414,Konditionen!$B:$G,6,0))","v":{"$error":"#N/A"}}]
[null,null,null,null,null,null,null,{"$f":"G27415*(1-VLOOKUP(F27415,Konditionen!$B:$G,6,0))","v":{"$error":"#N/A"}}]
[null,null,null,null,null,null,null,{"$f":"G27416*(1-VLOOKUP(F27416,Konditionen!$B:$G,6,0))","v":{"$error":"#N/A"}}]
[null,null,null,null,null,null,null,{"$f":"G27417*(1-VLOOKUP(F27417,Konditionen!$B:$G,6,0))","v":{"$error":"#N/A"}}]
[null,null,null,null,null,null,null,{"$f":"G27418*(1-VLOOKUP(F27418,Konditionen!$B:$G,6,0))","v":{"$error":"#N/A"}}]
[null,null,null,null,null,null,null,{"$f":"G27419*(1-VLOOKUP(F27419,Konditionen!$B:$G,6,0))","v":{"$error":"#N/A"}}]
[null,null,null,null,null,null,null,{"$f":"G27420*(1-VLOOKUP(F27420,Konditionen!$B:$G,6,0))","v":{"$error":"#N/A"}}]
[null,null,null,null,null,null,null,{"$f":"G27421*(1-VLOOKUP(F27421,Konditionen!$B:$G,6,0))","v":{"$error":"#N/A"}}]
[null,null,null,null,null,null,null,{"$f":"G27422*(1-VLOOKUP(F27422,Konditionen!$B:$G,6,0))","v":{"$error":"#N/A"}}]
[null,null,null,null,null,null,null,{"$f":"G27423*(1-VLOOKUP(F27423,Konditionen!$B:$G,6,0))","v":{"$error":"#N/A"}}]
[null,null,null,null,null,null,null,{"$f":"G27424*(1-VLOOKUP(F27424,Konditionen!$B:$G,6,0))","v":{"$error":"#N/A"}}]
[null,null,null,null,null,null,null,{"$f":"G27425*(1-VLOOKUP(F27425,Konditionen!$B:$G,6,0))","v":{"$error":"#N/A"}}]
[null,null,null,null,null,null,null,{"$f":"G27426*(1-VLOOKUP(F27426,Konditionen!$B:$G,6,0))","v":{"$error":"#N/A"}}]
[null,null,null,null,null,null,null,{"$f":"G27427*(1-VLOOKUP(F27427,Konditionen!$B:$G,6,0))","v":{"$error":"#N/A"}}]
[null,null,null,null,null,null,null,{"$f":"G27428*(1-VLOOKUP(F27428,Konditionen!$B:$G,6,0))","v":{"$error":"#N/A"}}]
[null,null,null,null,null,null,null,{"$f":"G27429*(1-VLOOKUP(F27429,Konditionen!$B:$G,6,0))","v":{"$error":"#N/A"}}]
[null,null,null,null,null,null,null,{"$f":"G27430*(1-VLOOKUP(F27430,Konditionen!$B:$G,6,0))","v":{"$error":"#N/A"}}]
[null,null,null,null,null,null,null,{"$f":"G27431*(1-VLOOKUP(F27431,Konditionen!$B:$G,6,0))","v":{"$error":"#N/A"}}]
[null,null,null,null,null,null,null,{"$f":"G27432*(1-VLOOKUP(F27432,Konditionen!$B:$G,6,0))","v":{"$error":"#N/A"}}]
[null,null,null,null,null,null,null,{"$f":"G27433*(1-VLOOKUP(F27433,Konditionen!$B:$G,6,0))","v":{"$error":"#N/A"}}]
[null,null,null,null,null,null,null,{"$f":"G27434*(1-VLOOKUP(F27434,Konditionen!$B:$G,6,0))","v":{"$error":"#N/A"}}]
[null,null,null,null,null,null,null,{"$f":"G27435*(1-VLOOKUP(F27435,Konditionen!$B:$G,6,0))","v":{"$error":"#N/A"}}]
[null,null,null,null,null,null,null,{"$f":"G27436*(1-VLOOKUP(F27436,Konditionen!$B:$G,6,0))","v":{"$error":"#N/A"}}]
[null,null,null,null,null,null,null,{"$f":"G27437*(1-VLOOKUP(F27437,Konditionen!$B:$G,6,0))","v":{"$error":"#N/A"}}]
[null,null,null,null,null,null,null,{"$f":"G27438*(1-VLOOKUP(F27438,Konditionen!$B:$G,6,0))","v":{"$error":"#N/A"}}]
[null,null,null,null,null,null,null,{"$f":"G27439*(1-VLOOKUP(F27439,Konditionen!$B:$G,6,0))","v":{"$error":"#N/A"}}]
[null,null,null,null,null,null,null,{"$f":"G27440*(1-VLOOKUP(F27440,Konditionen!$B:$G,6,0))","v":{"$error":"#N/A"}}]
[null,null,null,null,null,null,null,{"$f":"G27441*(1-VLOOKUP(F27441,Konditionen!$B:$G,6,0))","v":{"$error":"#N/A"}}]
[null,null,null,null,null,null,null,{"$f":"G27442*(1-VLOOKUP(F27442,Konditionen!$B:$G,6,0))","v":{"$error":"#N/A"}}]
[null,null,null,null,null,null,null,{"$f":"G27443*(1-VLOOKUP(F27443,Konditionen!$B:$G,6,0))","v":{"$error":"#N/A"}}]
[null,null,null,null,null,null,null,{"$f":"G27444*(1-VLOOKUP(F27444,Konditionen!$B:$G,6,0))","v":{"$error":"#N/A"}}]
[null,null,null,null,null,null,null,{"$f":"G27445*(1-VLOOKUP(F27445,Konditionen!$B:$G,6,0))","v":{"$error":"#N/A"}}]
[null,null,null,null,null,null,null,{"$f":"G27446*(1-VLOOKUP(F27446,Konditionen!$B:$G,6,0))","v":{"$error":"#N/A"}}]
[null,null,null,null,null,null,null,{"$f":"G27447*(1-VLOOKUP(F27447,Konditionen!$B:$G,6,0))","v":{"$error":"#N/A"}}]
[null,null,null,null,null,null,null,{"$f":"G27448*(1-VLOOKUP(F27448,Konditionen!$B:$G,6,0))","v":{"$error":"#N/A"}}]
[null,null,null,null,null,null,null,{"$f":"G27449*(1-VLOOKUP(F27449,Konditionen!$B:$G,6,0))","v":{"$error":"#N/A"}}]
[null,null,null,null,null,null,null,{"$f":"G27450*(1-VLOOKUP(F27450,Konditionen!$B:$G,6,0))","v":{"$error":"#N/A"}}]
[null,null,null,null,null,null,null,{"$f":"G27451*(1-VLOOKUP(F27451,Konditionen!$B:$G,6,0))","v":{"$error":"#N/A"}}]
[null,null,null,null,null,null,null,{"$f":"G27452*(1-VLOOKUP(F27452,Konditionen!$B:$G,6,0))","v":{"$error":"#N/A"}}]
[null,null,null,null,null,null,null,{"$f":"G27453*(1-VLOOKUP(F27453,Konditionen!$B:$G,6,0))","v":{"$error":"#N/A"}}]
[null,null,null,null,null,null,null,{"$f":"G27454*(1-VLOOKUP(F27454,Konditionen!$B:$G,6,0))","v":{"$error":"#N/A"}}]
[null,null,null,null,null,null,null,{"$f":"G27455*(1-VLOOKUP(F27455,Konditionen!$B:$G,6,0))","v":{"$error":"#N/A"}}]
[null,null,null,null,null,null,null,{"$f":"G27456*(1-VLOOKUP(F27456,Konditionen!$B:$G,6,0))","v":{"$error":"#N/A"}}]
[null,null,null,null,null,null,null,{"$f":"G27457*(1-VLOOKUP(F27457,Konditionen!$B:$G,6,0))","v":{"$error":"#N/A"}}]
[null,null,null,null,null,null,null,{"$f":"G27458*(1-VLOOKUP(F27458,Konditionen!$B:$G,6,0))","v":{"$error":"#N/A"}}]
[null,null,null,null,null,null,null,{"$f":"G27459*(1-VLOOKUP(F27459,Konditionen!$B:$G,6,0))","v":{"$error":"#N/A"}}]
[null,null,null,null,null,null,null,{"$f":"G27460*(1-VLOOKUP(F27460,Konditionen!$B:$G,6,0))","v":{"$error":"#N/A"}}]
[null,null,null,null,null,null,null,{"$f":"G27461*(1-VLOOKUP(F27461,Konditionen!$B:$G,6,0))","v":{"$error":"#N/A"}}]
[null,null,null,null,null,null,null,{"$f":"G27462*(1-VLOOKUP(F27462,Konditionen!$B:$G,6,0))","v":{"$error":"#N/A"}}]
[null,null,null,null,null,null,null,{"$f":"G27463*(1-VLOOKUP(F27463,Konditionen!$B:$G,6,0))","v":{"$error":"#N/A"}}]
[null,null,null,null,null,null,null,{"$f":"G27464*(1-VLOOKUP(F27464,Konditionen!$B:$G,6,0))","v":{"$error":"#N/A"}}]
[null,null,null,null,null,null,null,{"$f":"G27465*(1-VLOOKUP(F27465,Konditionen!$B:$G,6,0))","v":{"$error":"#N/A"}}]
[null,null,null,null,null,null,null,{"$f":"G27466*(1-VLOOKUP(F27466,Konditionen!$B:$G,6,0))","v":{"$error":"#N/A"}}]
[null,null,null,null,null,null,null,{"$f":"G27467*(1-VLOOKUP(F27467,Konditionen!$B:$G,6,0))","v":{"$error":"#N/A"}}]
[null,null,null,null,null,null,null,{"$f":"G27468*(1-VLOOKUP(F27468,Konditionen!$B:$G,6,0))","v":{"$error":"#N/A"}}]
[null,null,null,null,null,null,null,{"$f":"G27469*(1-VLOOKUP(F27469,Konditionen!$B:$G,6,0))","v":{"$error":"#N/A"}}]
[null,null,null,null,null,null,null,{"$f":"G27470*(1-VLOOKUP(F27470,Konditionen!$B:$G,6,0))","v":{"$error":"#N/A"}}]
[null,null,null,null,null,null,null,{"$f":"G27471*(1-VLOOKUP(F27471,Konditionen!$B:$G,6,0))","v":{"$error":"#N/A"}}]
[null,null,null,null,null,null,null,{"$f":"G27472*(1-VLOOKUP(F27472,Konditionen!$B:$G,6,0))","v":{"$error":"#N/A"}}]
[null,null,null,null,null,null,null,{"$f":"G27473*(1-VLOOKUP(F27473,Konditionen!$B:$G,6,0))","v":{"$error":"#N/A"}}]
[null,null,null,null,null,null,null,{"$f":"G27474*(1-VLOOKUP(F27474,Konditionen!$B:$G,6,0))","v":{"$error":"#N/A"}}]
[null,null,null,null,null,null,null,{"$f":"G27475*(1-VLOOKUP(F27475,Konditionen!$B:$G,6,0))","v":{"$error":"#N/A"}}]
[null,null,null,null,null,null,null,{"$f":"G27476*(1-VLOOKUP(F27476,Konditionen!$B:$G,6,0))","v":{"$error":"#N/A"}}]
[null,null,null,null,null,null,null,{"$f":"G27477*(1-VLOOKUP(F27477,Konditionen!$B:$G,6,0))","v":{"$error":"#N/A"}}]
[null,null,null,null,null,null,null,{"$f":"G27478*(1-VLOOKUP(F27478,Konditionen!$B:$G,6,0))","v":{"$error":"#N/A"}}]
[null,null,null,null,null,null,null,{"$f":"G27479*(1-VLOOKUP(F27479,Konditionen!$B:$G,6,0))","v":{"$error":"#N/A"}}]
[null,null,null,null,null,null,null,{"$f":"G27480*(1-VLOOKUP(F27480,Konditionen!$B:$G,6,0))","v":{"$error":"#N/A"}}]
[null,null,null,null,null,null,null,{"$f":"G27481*(1-VLOOKUP(F27481,Konditionen!$B:$G,6,0))","v":{"$error":"#N/A"}}]
[null,null,null,null,null,null,null,{"$f":"G27482*(1-VLOOKUP(F27482,Konditionen!$B:$G,6,0))","v":{"$error":"#N/A"}}]
[null,null,null,null,null,null,null,{"$f":"G27483*(1-VLOOKUP(F27483,Konditionen!$B:$G,6,0))","v":{"$error":"#N/A"}}]
[null,null,null,null,null,null,null,{"$f":"G27484*(1-VLOOKUP(F27484,Konditionen!$B:$G,6,0))","v":{"$error":"#N/A"}}]
[null,null,null,null,null,null,null,{"$f":"G27485*(1-VLOOKUP(F27485,Konditionen!$B:$G,6,0))","v":{"$error":"#N/A"}}]
[null,null,null,null,null,null,null,{"$f":"G27486*(1-VLOOKUP(F27486,Konditionen!$B:$G,6,0))","v":{"$error":"#N/A"}}]
[null,null,null,null,null,null,null,{"$f":"G27487*(1-VLOOKUP(F27487,Konditionen!$B:$G,6,0))","v":{"$error":"#N/A"}}]
[null,null,null,null,null,null,null,{"$f":"G27488*(1-VLOOKUP(F27488,Konditionen!$B:$G,6,0))","v":{"$error":"#N/A"}}]
[null,null,null,null,null,null,null,{"$f":"G27489*(1-VLOOKUP(F27489,Konditionen!$B:$G,6,0))","v":{"$error":"#N/A"}}]
[null,null,null,null,null,null,null,{"$f":"G27490*(1-VLOOKUP(F27490,Konditionen!$B:$G,6,0))","v":{"$error":"#N/A"}}]
[null,null,null,null,null,null,null,{"$f":"G27491*(1-VLOOKUP(F27491,Konditionen!$B:$G,6,0))","v":{"$error":"#N/A"}}]
[null,null,null,null,null,null,null,{"$f":"G27492*(1-VLOOKUP(F27492,Konditionen!$B:$G,6,0))","v":{"$error":"#N/A"}}]
[null,null,null,null,null,null,null,{"$f":"G27493*(1-VLOOKUP(F27493,Konditionen!$B:$G,6,0))","v":{"$error":"#N/A"}}]
[null,null,null,null,null,null,null,{"$f":"G27494*(1-VLOOKUP(F27494,Konditionen!$B:$G,6,0))","v":{"$error":"#N/A"}}]
[null,null,null,null,null,null,null,{"$f":"G27495*(1-VLOOKUP(F27495,Konditionen!$B:$G,6,0))","v":{"$error":"#N/A"}}]
[null,null,null,null,null,null,null,{"$f":"G27496*(1-VLOOKUP(F27496,Konditionen!$B:$G,6,0))","v":{"$error":"#N/A"}}]
[null,null,null,null,null,null,null,{"$f":"G27497*(1-VLOOKUP(F27497,Konditionen!$B:$G,6,0))","v":{"$error":"#N/A"}}]
[null,null,null,null,null,null,null,{"$f":"G27498*(1-VLOOKUP(F27498,Konditionen!$B:$G,6,0))","v":{"$error":"#N/A"}}]
[null,null,null,null,null,null,null,{"$f":"G27499*(1-VLOOKUP(F27499,Konditionen!$B:$G,6,0))","v":{"$error":"#N/A"}}]
[null,null,null,null,null,null,null,{"$f":"G27500*(1-VLOOKUP(F27500,Konditionen!$B:$G,6,0))","v":{"$error":"#N/A"}}]
[null,null,null,null,null,null,null,{"$f":"G27501*(1-VLOOKUP(F27501,Konditionen!$B:$G,6,0))","v":{"$error":"#N/A"}}]
[null,null,null,null,null,null,null,{"$f":"G27502*(1-VLOOKUP(F27502,Konditionen!$B:$G,6,0))","v":{"$error":"#N/A"}}]
[null,null,null,null,null,null,null,{"$f":"G27503*(1-VLOOKUP(F27503,Konditionen!$B:$G,6,0))","v":{"$error":"#N/A"}}]
[null,null,null,null,null,null,null,{"$f":"G27504*(1-VLOOKUP(F27504,Konditionen!$B:$G,6,0))","v":{"$error":"#N/A"}}]
[null,null,null,null,null,null,null,{"$f":"G27505*(1-VLOOKUP(F27505,Konditionen!$B:$G,6,0))","v":{"$error":"#N/A"}}]
[null,null,null,null,null,null,null,{"$f":"G27506*(1-VLOOKUP(F27506,Konditionen!$B:$G,6,0))","v":{"$error":"#N/A"}}]
[null,null,null,null,null,null,null,{"$f":"G27507*(1-VLOOKUP(F27507,Konditionen!$B:$G,6,0))","v":{"$error":"#N/A"}}]
[null,null,null,null,null,null,null,{"$f":"G27508*(1-VLOOKUP(F27508,Konditionen!$B:$G,6,0))","v":{"$error":"#N/A"}}]
[null,null,null,null,null,null,null,{"$f":"G27509*(1-VLOOKUP(F27509,Konditionen!$B:$G,6,0))","v":{"$error":"#N/A"}}]
[null,null,null,null,null,null,null,{"$f":"G27510*(1-VLOOKUP(F27510,Konditionen!$B:$G,6,0))","v":{"$error":"#N/A"}}]
[null,null,null,null,null,null,null,{"$f":"G27511*(1-VLOOKUP(F27511,Konditionen!$B:$G,6,0))","v":{"$error":"#N/A"}}]
[null,null,null,null,null,null,null,{"$f":"G27512*(1-VLOOKUP(F27512,Konditionen!$B:$G,6,0))","v":{"$error":"#N/A"}}]
[null,null,null,null,null,null,null,{"$f":"G27513*(1-VLOOKUP(F27513,Konditionen!$B:$G,6,0))","v":{"$error":"#N/A"}}]
[null,null,null,null,null,null,null,{"$f":"G27514*(1-VLOOKUP(F27514,Konditionen!$B:$G,6,0))","v":{"$error":"#N/A"}}]
[null,null,null,null,null,null,null,{"$f":"G27515*(1-VLOOKUP(F27515,Konditionen!$B:$G,6,0))","v":{"$error":"#N/A"}}]
[null,null,null,null,null,null,null,{"$f":"G27516*(1-VLOOKUP(F27516,Konditionen!$B:$G,6,0))","v":{"$error":"#N/A"}}]
[null,null,null,null,null,null,null,{"$f":"G27517*(1-VLOOKUP(F27517,Konditionen!$B:$G,6,0))","v":{"$error":"#N/A"}}]
[null,null,null,null,null,null,null,{"$f":"G27518*(1-VLOOKUP(F27518,Konditionen!$B:$G,6,0))","v":{"$error":"#N/A"}}]
[null,null,null,null,null,null,null,{"$f":"G27519*(1-VLOOKUP(F27519,Konditionen!$B:$G,6,0))","v":{"$error":"#N/A"}}]
[null,null,null,null,null,null,null,{"$f":"G27520*(1-VLOOKUP(F27520,Konditionen!$B:$G,6,0))","v":{"$error":"#N/A"}}]
[null,null,null,null,null,null,null,{"$f":"G27521*(1-VLOOKUP(F27521,Konditionen!$B:$G,6,0))","v":{"$error":"#N/A"}}]
[null,null,null,null,null,null,null,{"$f":"G27522*(1-VLOOKUP(F27522,Konditionen!$B:$G,6,0))","v":{"$error":"#N/A"}}]
[null,null,null,null,null,null,null,{"$f":"G27523*(1-VLOOKUP(F27523,Konditionen!$B:$G,6,0))","v":{"$error":"#N/A"}}]
[null,null,null,null,null,null,null,{"$f":"G27524*(1-VLOOKUP(F27524,Konditionen!$B:$G,6,0))","v":{"$error":"#N/A"}}]
[null,null,null,null,null,null,null,{"$f":"G27525*(1-VLOOKUP(F27525,Konditionen!$B:$G,6,0))","v":{"$error":"#N/A"}}]
[null,null,null,null,null,null,null,{"$f":"G27526*(1-VLOOKUP(F27526,Konditionen!$B:$G,6,0))","v":{"$error":"#N/A"}}]
[null,null,null,null,null,null,null,{"$f":"G27527*(1-VLOOKUP(F27527,Konditionen!$B:$G,6,0))","v":{"$error":"#N/A"}}]
[null,null,null,null,null,null,null,{"$f":"G27528*(1-VLOOKUP(F27528,Konditionen!$B:$G,6,0))","v":{"$error":"#N/A"}}]
[null,null,null,null,null,null,null,{"$f":"G27529*(1-VLOOKUP(F27529,Konditionen!$B:$G,6,0))","v":{"$error":"#N/A"}}]
[null,null,null,null,null,null,null,{"$f":"G27530*(1-VLOOKUP(F27530,Konditionen!$B:$G,6,0))","v":{"$error":"#N/A"}}]
[null,null,null,null,null,null,null,{"$f":"G27531*(1-VLOOKUP(F27531,Konditionen!$B:$G,6,0))","v":{"$error":"#N/A"}}]
[null,null,null,null,null,null,null,{"$f":"G27532*(1-VLOOKUP(F27532,Konditionen!$B:$G,6,0))","v":{"$error":"#N/A"}}]
[null,null,null,null,null,null,null,{"$f":"G27533*(1-VLOOKUP(F27533,Konditionen!$B:$G,6,0))","v":{"$error":"#N/A"}}]
[null,null,null,null,null,null,null,{"$f":"G27534*(1-VLOOKUP(F27534,Konditionen!$B:$G,6,0))","v":{"$error":"#N/A"}}]
[null,null,null,null,null,null,null,{"$f":"G27535*(1-VLOOKUP(F27535,Konditionen!$B:$G,6,0))","v":{"$error":"#N/A"}}]
[null,null,null,null,null,null,null,{"$f":"G27536*(1-VLOOKUP(F27536,Konditionen!$B:$G,6,0))","v":{"$error":"#N/A"}}]
[null,null,null,null,null,null,null,{"$f":"G27537*(1-VLOOKUP(F27537,Konditionen!$B:$G,6,0))","v":{"$error":"#N/A"}}]
[null,null,null,null,null,null,null,{"$f":"G27538*(1-VLOOKUP(F27538,Konditionen!$B:$G,6,0))","v":{"$error":"#N/A"}}]
[null,null,null,null,null,null,null,{"$f":"G27539*(1-VLOOKUP(F27539,Konditionen!$B:$G,6,0))","v":{"$error":"#N/A"}}]
[null,null,null,null,null,null,null,{"$f":"G27540*(1-VLOOKUP(F27540,Konditionen!$B:$G,6,0))","v":{"$error":"#N/A"}}]
[null,null,null,null,null,null,null,{"$f":"G27541*(1-VLOOKUP(F27541,Konditionen!$B:$G,6,0))","v":{"$error":"#N/A"}}]
[null,null,null,null,null,null,null,{"$f":"G27542*(1-VLOOKUP(F27542,Konditionen!$B:$G,6,0))","v":{"$error":"#N/A"}}]
[null,null,null,null,null,null,null,{"$f":"G27543*(1-VLOOKUP(F27543,Konditionen!$B:$G,6,0))","v":{"$error":"#N/A"}}]
[null,null,null,null,null,null,null,{"$f":"G27544*(1-VLOOKUP(F27544,Konditionen!$B:$G,6,0))","v":{"$error":"#N/A"}}]
[null,null,null,null,null,null,null,{"$f":"G27545*(1-VLOOKUP(F27545,Konditionen!$B:$G,6,0))","v":{"$error":"#N/A"}}]
[null,null,null,null,null,null,null,{"$f":"G27546*(1-VLOOKUP(F27546,Konditionen!$B:$G,6,0))","v":{"$error":"#N/A"}}]
[null,null,null,null,null,null,null,{"$f":"G27547*(1-VLOOKUP(F27547,Konditionen!$B:$G,6,0))","v":{"$error":"#N/A"}}]
[null,null,null,null,null,null,null,{"$f":"G27548*(1-VLOOKUP(F27548,Konditionen!$B:$G,6,0))","v":{"$error":"#N/A"}}]
[null,null,null,null,null,null,null,{"$f":"G27549*(1-VLOOKUP(F27549,Konditionen!$B:$G,6,0))","v":{"$error":"#N/A"}}]
[null,null,null,null,null,null,null,{"$f":"G27550*(1-VLOOKUP(F27550,Konditionen!$B:$G,6,0))","v":{"$error":"#N/A"}}]
[null,null,null,null,null,null,null,{"$f":"G27551*(1-VLOOKUP(F27551,Konditionen!$B:$G,6,0))","v":{"$error":"#N/A"}}]
[null,null,null,null,null,null,null,{"$f":"G27552*(1-VLOOKUP(F27552,Konditionen!$B:$G,6,0))","v":{"$error":"#N/A"}}]
[null,null,null,null,null,null,null,{"$f":"G27553*(1-VLOOKUP(F27553,Konditionen!$B:$G,6,0))","v":{"$error":"#N/A"}}]
[null,null,null,null,null,null,null,{"$f":"G27554*(1-VLOOKUP(F27554,Konditionen!$B:$G,6,0))","v":{"$error":"#N/A"}}]
[null,null,null,null,null,null,null,{"$f":"G27555*(1-VLOOKUP(F27555,Konditionen!$B:$G,6,0))","v":{"$error":"#N/A"}}]
[null,null,null,null,null,null,null,{"$f":"G27556*(1-VLOOKUP(F27556,Konditionen!$B:$G,6,0))","v":{"$error":"#N/A"}}]
[null,null,null,null,null,null,null,{"$f":"G27557*(1-VLOOKUP(F27557,Konditionen!$B:$G,6,0))","v":{"$error":"#N/A"}}]
[null,null,null,null,null,null,null,{"$f":"G27558*(1-VLOOKUP(F27558,Konditionen!$B:$G,6,0))","v":{"$error":"#N/A"}}]
[null,null,null,null,null,null,null,{"$f":"G27559*(1-VLOOKUP(F27559,Konditionen!$B:$G,6,0))","v":{"$error":"#N/A"}}]
[null,null,null,null,null,null,null,{"$f":"G27560*(1-VLOOKUP(F27560,Konditionen!$B:$G,6,0))","v":{"$error":"#N/A"}}]
[null,null,null,null,null,null,null,{"$f":"G27561*(1-VLOOKUP(F27561,Konditionen!$B:$G,6,0))","v":{"$error":"#N/A"}}]
[null,null,null,null,null,null,null,{"$f":"G27562*(1-VLOOKUP(F27562,Konditionen!$B:$G,6,0))","v":{"$error":"#N/A"}}]
[null,null,null,null,null,null,null,{"$f":"G27563*(1-VLOOKUP(F27563,Konditionen!$B:$G,6,0))","v":{"$error":"#N/A"}}]
[null,null,null,null,null,null,null,{"$f":"G27564*(1-VLOOKUP(F27564,Konditionen!$B:$G,6,0))","v":{"$error":"#N/A"}}]
[null,null,null,null,null,null,null,{"$f":"G27565*(1-VLOOKUP(F27565,Konditionen!$B:$G,6,0))","v":{"$error":"#N/A"}}]
[null,null,null,null,null,null,null,{"$f":"G27566*(1-VLOOKUP(F27566,Konditionen!$B:$G,6,0))","v":{"$error":"#N/A"}}]
[null,null,null,null,null,null,null,{"$f":"G27567*(1-VLOOKUP(F27567,Konditionen!$B:$G,6,0))","v":{"$error":"#N/A"}}]
[null,null,null,null,null,null,null,{"$f":"G27568*(1-VLOOKUP(F27568,Konditionen!$B:$G,6,0))","v":{"$error":"#N/A"}}]
[null,null,null,null,null,null,null,{"$f":"G27569*(1-VLOOKUP(F27569,Konditionen!$B:$G,6,0))","v":{"$error":"#N/A"}}]
[null,null,null,null,null,null,null,{"$f":"G27570*(1-VLOOKUP(F27570,Konditionen!$B:$G,6,0))","v":{"$error":"#N/A"}}]
[null,null,null,null,null,null,null,{"$f":"G27571*(1-VLOOKUP(F27571,Konditionen!$B:$G,6,0))","v":{"$error":"#N/A"}}]
[null,null,null,null,null,null,null,{"$f":"G27572*(1-VLOOKUP(F27572,Konditionen!$B:$G,6,0))","v":{"$error":"#N/A"}}]
[null,null,null,null,null,null,null,{"$f":"G27573*(1-VLOOKUP(F27573,Konditionen!$B:$G,6,0))","v":{"$error":"#N/A"}}]
[null,null,null,null,null,null,null,{"$f":"G27574*(1-VLOOKUP(F27574,Konditionen!$B:$G,6,0))","v":{"$error":"#N/A"}}]
[null,null,null,null,null,null,null,{"$f":"G27575*(1-VLOOKUP(F27575,Konditionen!$B:$G,6,0))","v":{"$error":"#N/A"}}]
[null,null,null,null,null,null,null,{"$f":"G27576*(1-VLOOKUP(F27576,Konditionen!$B:$G,6,0))","v":{"$error":"#N/A"}}]
[null,null,null,null,null,null,null,{"$f":"G27577*(1-VLOOKUP(F27577,Konditionen!$B:$G,6,0))","v":{"$error":"#N/A"}}]
[null,null,null,null,null,null,null,{"$f":"G27578*(1-VLOOKUP(F27578,Konditionen!$B:$G,6,0))","v":{"$error":"#N/A"}}]
[null,null,null,null,null,null,null,{"$f":"G27579*(1-VLOOKUP(F27579,Konditionen!$B:$G,6,0))","v":{"$error":"#N/A"}}]
[null,null,null,null,null,null,null,{"$f":"G27580*(1-VLOOKUP(F27580,Konditionen!$B:$G,6,0))","v":{"$error":"#N/A"}}]
[null,null,null,null,null,null,null,{"$f":"G27581*(1-VLOOKUP(F27581,Konditionen!$B:$G,6,0))","v":{"$error":"#N/A"}}]
[null,null,null,null,null,null,null,{"$f":"G27582*(1-VLOOKUP(F27582,Konditionen!$B:$G,6,0))","v":{"$error":"#N/A"}}]
[null,null,null,null,null,null,null,{"$f":"G27583*(1-VLOOKUP(F27583,Konditionen!$B:$G,6,0))","v":{"$error":"#N/A"}}]
[null,null,null,null,null,null,null,{"$f":"G27584*(1-VLOOKUP(F27584,Konditionen!$B:$G,6,0))","v":{"$error":"#N/A"}}]
[null,null,null,null,null,null,null,{"$f":"G27585*(1-VLOOKUP(F27585,Konditionen!$B:$G,6,0))","v":{"$error":"#N/A"}}]
[null,null,null,null,null,null,null,{"$f":"G27586*(1-VLOOKUP(F27586,Konditionen!$B:$G,6,0))","v":{"$error":"#N/A"}}]
[null,null,null,null,null,null,null,{"$f":"G27587*(1-VLOOKUP(F27587,Konditionen!$B:$G,6,0))","v":{"$error":"#N/A"}}]
[null,null,null,null,null,null,null,{"$f":"G27588*(1-VLOOKUP(F27588,Konditionen!$B:$G,6,0))","v":{"$error":"#N/A"}}]
[null,null,null,null,null,null,null,{"$f":"G27589*(1-VLOOKUP(F27589,Konditionen!$B:$G,6,0))","v":{"$error":"#N/A"}}]
[null,null,null,null,null,null,null,{"$f":"G27590*(1-VLOOKUP(F27590,Konditionen!$B:$G,6,0))","v":{"$error":"#N/A"}}]
[null,null,null,null,null,null,null,{"$f":"G27591*(1-VLOOKUP(F27591,Konditionen!$B:$G,6,0))","v":{"$error":"#N/A"}}]
[null,null,null,null,null,null,null,{"$f":"G27592*(1-VLOOKUP(F27592,Konditionen!$B:$G,6,0))","v":{"$error":"#N/A"}}]
[null,null,null,null,null,null,null,{"$f":"G27593*(1-VLOOKUP(F27593,Konditionen!$B:$G,6,0))","v":{"$error":"#N/A"}}]
[null,null,null,null,null,null,null,{"$f":"G27594*(1-VLOOKUP(F27594,Konditionen!$B:$G,6,0))","v":{"$error":"#N/A"}}]
[null,null,null,null,null,null,null,{"$f":"G27595*(1-VLOOKUP(F27595,Konditionen!$B:$G,6,0))","v":{"$error":"#N/A"}}]
[null,null,null,null,null,null,null,{"$f":"G27596*(1-VLOOKUP(F27596,Konditionen!$B:$G,6,0))","v":{"$error":"#N/A"}}]
[null,null,null,null,null,null,null,{"$f":"G27597*(1-VLOOKUP(F27597,Konditionen!$B:$G,6,0))","v":{"$error":"#N/A"}}]
[null,null,null,null,null,null,null,{"$f":"G27598*(1-VLOOKUP(F27598,Konditionen!$B:$G,6,0))","v":{"$error":"#N/A"}}]
[null,null,null,null,null,null,null,{"$f":"G27599*(1-VLOOKUP(F27599,Konditionen!$B:$G,6,0))","v":{"$error":"#N/A"}}]
[null,null,null,null,null,null,null,{"$f":"G27600*(1-VLOOKUP(F27600,Konditionen!$B:$G,6,0))","v":{"$error":"#N/A"}}]
[null,null,null,null,null,null,null,{"$f":"G27601*(1-VLOOKUP(F27601,Konditionen!$B:$G,6,0))","v":{"$error":"#N/A"}}]
[null,null,null,null,null,null,null,{"$f":"G27602*(1-VLOOKUP(F27602,Konditionen!$B:$G,6,0))","v":{"$error":"#N/A"}}]
[null,null,null,null,null,null,null,{"$f":"G27603*(1-VLOOKUP(F27603,Konditionen!$B:$G,6,0))","v":{"$error":"#N/A"}}]
[null,null,null,null,null,null,null,{"$f":"G27604*(1-VLOOKUP(F27604,Konditionen!$B:$G,6,0))","v":{"$error":"#N/A"}}]
[null,null,null,null,null,null,null,{"$f":"G27605*(1-VLOOKUP(F27605,Konditionen!$B:$G,6,0))","v":{"$error":"#N/A"}}]
[null,null,null,null,null,null,null,{"$f":"G27606*(1-VLOOKUP(F27606,Konditionen!$B:$G,6,0))","v":{"$error":"#N/A"}}]
[null,null,null,null,null,null,null,{"$f":"G27607*(1-VLOOKUP(F27607,Konditionen!$B:$G,6,0))","v":{"$error":"#N/A"}}]
[null,null,null,null,null,null,null,{"$f":"G27608*(1-VLOOKUP(F27608,Konditionen!$B:$G,6,0))","v":{"$error":"#N/A"}}]
[null,null,null,null,null,null,null,{"$f":"G27609*(1-VLOOKUP(F27609,Konditionen!$B:$G,6,0))","v":{"$error":"#N/A"}}]
[null,null,null,null,null,null,null,{"$f":"G27610*(1-VLOOKUP(F27610,Konditionen!$B:$G,6,0))","v":{"$error":"#N/A"}}]
[null,null,null,null,null,null,null,{"$f":"G27611*(1-VLOOKUP(F27611,Konditionen!$B:$G,6,0))","v":{"$error":"#N/A"}}]
[null,null,null,null,null,null,null,{"$f":"G27612*(1-VLOOKUP(F27612,Konditionen!$B:$G,6,0))","v":{"$error":"#N/A"}}]
[null,null,null,null,null,null,null,{"$f":"G27613*(1-VLOOKUP(F27613,Konditionen!$B:$G,6,0))","v":{"$error":"#N/A"}}]
[null,null,null,null,null,null,null,{"$f":"G27614*(1-VLOOKUP(F27614,Konditionen!$B:$G,6,0))","v":{"$error":"#N/A"}}]
[null,null,null,null,null,null,null,{"$f":"G27615*(1-VLOOKUP(F27615,Konditionen!$B:$G,6,0))","v":{"$error":"#N/A"}}]
[null,null,null,null,null,null,null,{"$f":"G27616*(1-VLOOKUP(F27616,Konditionen!$B:$G,6,0))","v":{"$error":"#N/A"}}]
[null,null,null,null,null,null,null,{"$f":"G27617*(1-VLOOKUP(F27617,Konditionen!$B:$G,6,0))","v":{"$error":"#N/A"}}]
[null,null,null,null,null,null,null,{"$f":"G27618*(1-VLOOKUP(F27618,Konditionen!$B:$G,6,0))","v":{"$error":"#N/A"}}]
[null,null,null,null,null,null,null,{"$f":"G27619*(1-VLOOKUP(F27619,Konditionen!$B:$G,6,0))","v":{"$error":"#N/A"}}]
[null,null,null,null,null,null,null,{"$f":"G27620*(1-VLOOKUP(F27620,Konditionen!$B:$G,6,0))","v":{"$error":"#N/A"}}]
[null,null,null,null,null,null,null,{"$f":"G27621*(1-VLOOKUP(F27621,Konditionen!$B:$G,6,0))","v":{"$error":"#N/A"}}]
[null,null,null,null,null,null,null,{"$f":"G27622*(1-VLOOKUP(F27622,Konditionen!$B:$G,6,0))","v":{"$error":"#N/A"}}]
[null,null,null,null,null,null,null,{"$f":"G27623*(1-VLOOKUP(F27623,Konditionen!$B:$G,6,0))","v":{"$error":"#N/A"}}]
[null,null,null,null,null,null,null,{"$f":"G27624*(1-VLOOKUP(F27624,Konditionen!$B:$G,6,0))","v":{"$error":"#N/A"}}]
[null,null,null,null,null,null,null,{"$f":"G27625*(1-VLOOKUP(F27625,Konditionen!$B:$G,6,0))","v":{"$error":"#N/A"}}]
[null,null,null,null,null,null,null,{"$f":"G27626*(1-VLOOKUP(F27626,Konditionen!$B:$G,6,0))","v":{"$error":"#N/A"}}]
[null,null,null,null,null,null,null,{"$f":"G27627*(1-VLOOKUP(F27627,Konditionen!$B:$G,6,0))","v":{"$error":"#N/A"}}]
[null,null,null,null,null,null,null,{"$f":"G27628*(1-VLOOKUP(F27628,Konditionen!$B:$G,6,0))","v":{"$error":"#N/A"}}]
[null,null,null,null,null,null,null,{"$f":"G27629*(1-VLOOKUP(F27629,Konditionen!$B:$G,6,0))","v":{"$error":"#N/A"}}]
[null,null,null,null,null,null,null,{"$f":"G27630*(1-VLOOKUP(F27630,Konditionen!$B:$G,6,0))","v":{"$error":"#N/A"}}]
[null,null,null,null,null,null,null,{"$f":"G27631*(1-VLOOKUP(F27631,Konditionen!$B:$G,6,0))","v":{"$error":"#N/A"}}]
[null,null,null,null,null,null,null,{"$f":"G27632*(1-VLOOKUP(F27632,Konditionen!$B:$G,6,0))","v":{"$error":"#N/A"}}]
[null,null,null,null,null,null,null,{"$f":"G27633*(1-VLOOKUP(F27633,Konditionen!$B:$G,6,0))","v":{"$error":"#N/A"}}]
[null,null,null,null,null,null,null,{"$f":"G27634*(1-VLOOKUP(F27634,Konditionen!$B:$G,6,0))","v":{"$error":"#N/A"}}]
[null,null,null,null,null,null,null,{"$f":"G27635*(1-VLOOKUP(F27635,Konditionen!$B:$G,6,0))","v":{"$error":"#N/A"}}]
[null,null,null,null,null,null,null,{"$f":"G27636*(1-VLOOKUP(F27636,Konditionen!$B:$G,6,0))","v":{"$error":"#N/A"}}]
[null,null,null,null,null,null,null,{"$f":"G27637*(1-VLOOKUP(F27637,Konditionen!$B:$G,6,0))","v":{"$error":"#N/A"}}]
[null,null,null,null,null,null,null,{"$f":"G27638*(1-VLOOKUP(F27638,Konditionen!$B:$G,6,0))","v":{"$error":"#N/A"}}]
[null,null,null,null,null,null,null,{"$f":"G27639*(1-VLOOKUP(F27639,Konditionen!$B:$G,6,0))","v":{"$error":"#N/A"}}]
[null,null,null,null,null,null,null,{"$f":"G27640*(1-VLOOKUP(F27640,Konditionen!$B:$G,6,0))","v":{"$error":"#N/A"}}]
[null,null,null,null,null,null,null,{"$f":"G27641*(1-VLOOKUP(F27641,Konditionen!$B:$G,6,0))","v":{"$error":"#N/A"}}]
[null,null,null,null,null,null,null,{"$f":"G27642*(1-VLOOKUP(F27642,Konditionen!$B:$G,6,0))","v":{"$error":"#N/A"}}]
[null,null,null,null,null,null,null,{"$f":"G27643*(1-VLOOKUP(F27643,Konditionen!$B:$G,6,0))","v":{"$error":"#N/A"}}]
[null,null,null,null,null,null,null,{"$f":"G27644*(1-VLOOKUP(F27644,Konditionen!$B:$G,6,0))","v":{"$error":"#N/A"}}]
[null,null,null,null,null,null,null,{"$f":"G27645*(1-VLOOKUP(F27645,Konditionen!$B:$G,6,0))","v":{"$error":"#N/A"}}]
[null,null,null,null,null,null,null,{"$f":"G27646*(1-VLOOKUP(F27646,Konditionen!$B:$G,6,0))","v":{"$error":"#N/A"}}]
[null,null,null,null,null,null,null,{"$f":"G27647*(1-VLOOKUP(F27647,Konditionen!$B:$G,6,0))","v":{"$error":"#N/A"}}]
[null,null,null,null,null,null,null,{"$f":"G27648*(1-VLOOKUP(F27648,Konditionen!$B:$G,6,0))","v":{"$error":"#N/A"}}]
[null,null,null,null,null,null,null,{"$f":"G27649*(1-VLOOKUP(F27649,Konditionen!$B:$G,6,0))","v":{"$error":"#N/A"}}]
[null,null,null,null,null,null,null,{"$f":"G27650*(1-VLOOKUP(F27650,Konditionen!$B:$G,6,0))","v":{"$error":"#N/A"}}]
[null,null,null,null,null,null,null,{"$f":"G27651*(1-VLOOKUP(F27651,Konditionen!$B:$G,6,0))","v":{"$error":"#N/A"}}]
[null,null,null,null,null,null,null,{"$f":"G27652*(1-VLOOKUP(F27652,Konditionen!$B:$G,6,0))","v":{"$error":"#N/A"}}]
[null,null,null,null,null,null,null,{"$f":"G27653*(1-VLOOKUP(F27653,Konditionen!$B:$G,6,0))","v":{"$error":"#N/A"}}]
[null,null,null,null,null,null,null,{"$f":"G27654*(1-VLOOKUP(F27654,Konditionen!$B:$G,6,0))","v":{"$error":"#N/A"}}]
[null,null,null,null,null,null,null,{"$f":"G27655*(1-VLOOKUP(F27655,Konditionen!$B:$G,6,0))","v":{"$error":"#N/A"}}]
[null,null,null,null,null,null,null,{"$f":"G27656*(1-VLOOKUP(F27656,Konditionen!$B:$G,6,0))","v":{"$error":"#N/A"}}]
[null,null,null,null,null,null,null,{"$f":"G27657*(1-VLOOKUP(F27657,Konditionen!$B:$G,6,0))","v":{"$error":"#N/A"}}]
[null,null,null,null,null,null,null,{"$f":"G27658*(1-VLOOKUP(F27658,Konditionen!$B:$G,6,0))","v":{"$error":"#N/A"}}]
[null,null,null,null,null,null,null,{"$f":"G27659*(1-VLOOKUP(F27659,Konditionen!$B:$G,6,0))","v":{"$error":"#N/A"}}]
[null,null,null,null,null,null,null,{"$f":"G27660*(1-VLOOKUP(F27660,Konditionen!$B:$G,6,0))","v":{"$error":"#N/A"}}]
[null,null,null,null,null,null,null,{"$f":"G27661*(1-VLOOKUP(F27661,Konditionen!$B:$G,6,0))","v":{"$error":"#N/A"}}]
[null,null,null,null,null,null,null,{"$f":"G27662*(1-VLOOKUP(F27662,Konditionen!$B:$G,6,0))","v":{"$error":"#N/A"}}]
[null,null,null,null,null,null,null,{"$f":"G27663*(1-VLOOKUP(F27663,Konditionen!$B:$G,6,0))","v":{"$error":"#N/A"}}]
[null,null,null,null,null,null,null,{"$f":"G27664*(1-VLOOKUP(F27664,Konditionen!$B:$G,6,0))","v":{"$error":"#N/A"}}]
[null,null,null,null,null,null,null,{"$f":"G27665*(1-VLOOKUP(F27665,Konditionen!$B:$G,6,0))","v":{"$error":"#N/A"}}]
[null,null,null,null,null,null,null,{"$f":"G27666*(1-VLOOKUP(F27666,Konditionen!$B:$G,6,0))","v":{"$error":"#N/A"}}]
[null,null,null,null,null,null,null,{"$f":"G27667*(1-VLOOKUP(F27667,Konditionen!$B:$G,6,0))","v":{"$error":"#N/A"}}]
[null,null,null,null,null,null,null,{"$f":"G27668*(1-VLOOKUP(F27668,Konditionen!$B:$G,6,0))","v":{"$error":"#N/A"}}]
[null,null,null,null,null,null,null,{"$f":"G27669*(1-VLOOKUP(F27669,Konditionen!$B:$G,6,0))","v":{"$error":"#N/A"}}]
[null,null,null,null,null,null,null,{"$f":"G27670*(1-VLOOKUP(F27670,Konditionen!$B:$G,6,0))","v":{"$error":"#N/A"}}]
[null,null,null,null,null,null,null,{"$f":"G27671*(1-VLOOKUP(F27671,Konditionen!$B:$G,6,0))","v":{"$error":"#N/A"}}]
[null,null,null,null,null,null,null,{"$f":"G27672*(1-VLOOKUP(F27672,Konditionen!$B:$G,6,0))","v":{"$error":"#N/A"}}]
[null,null,null,null,null,null,null,{"$f":"G27673*(1-VLOOKUP(F27673,Konditionen!$B:$G,6,0))","v":{"$error":"#N/A"}}]
[null,null,null,null,null,null,null,{"$f":"G27674*(1-VLOOKUP(F27674,Konditionen!$B:$G,6,0))","v":{"$error":"#N/A"}}]
[null,null,null,null,null,null,null,{"$f":"G27675*(1-VLOOKUP(F27675,Konditionen!$B:$G,6,0))","v":{"$error":"#N/A"}}]
[null,null,null,null,null,null,null,{"$f":"G27676*(1-VLOOKUP(F27676,Konditionen!$B:$G,6,0))","v":{"$error":"#N/A"}}]
[null,null,null,null,null,null,null,{"$f":"G27677*(1-VLOOKUP(F27677,Konditionen!$B:$G,6,0))","v":{"$error":"#N/A"}}]
[null,null,null,null,null,null,null,{"$f":"G27678*(1-VLOOKUP(F27678,Konditionen!$B:$G,6,0))","v":{"$error":"#N/A"}}]
[null,null,null,null,null,null,null,{"$f":"G27679*(1-VLOOKUP(F27679,Konditionen!$B:$G,6,0))","v":{"$error":"#N/A"}}]

{"sheet":"Bestellliste","index":3,"n_rows":13,"n_cols":9,"rows_kept":13,"cut":false,"hidden":false,"merged":[]}
[]
[]
[null,null,"Bestellliste L2023/24"]
["Stand: 01.04.2022"]
["Datum;",{"$f":"NOW()","v":"2023-02-07T15:11:17.780"}]
["Firma/Kundennr:",{"$f":"CONCATENATE(Konditionen!D38,\" \",Konditionen!D39)","v":" "},"Lieferadresse:",null,null,"Lindab GmbH "]
["Ansprechpartner:",{"$f":"Konditionen!D40","v":0},null,null,null,"Carl-Benz-Weg 18, 22941 Bargteheide"]
["Str.:",{"$f":"Konditionen!D41","v":0},null,null,null,"Tel. 04532-28590"]
["Ort:",{"$f":"Konditionen!D42","v":0},null,null,null,"Fax: 04532-5666"]
["Tel.:",{"$f":"Konditionen!D43","v":0},null,null,null,"email: sales@lindab.de"]
["Fax:",{"$f":"Konditionen!D44","v":0}]
[]
["Position","Artikelnummer","Beschreibung 1","Beschreibung 2","Preisgruppe","Preis brutto","Preis netto","Stück","gesamt netto"]